{"text_format":"1","workbook":"xlsx","n_sheets":12,"sheets":["صفحه اصلی"," اطلاعات اولیه","تعریف کالا","مشخصات مشتریان","مشخصات فروشندگان","فاکتور فروش ","فاکتور خرید ","کاردکس","ثبت چک","چک پرداختنی","موجودی کالا","دانلود فایل های حسابداری"],"not_rendered":{"charts":0,"images":0,"macros":1,"external_links":0,"defined_names":3,"comments":2,"pivot_tables":0},"unopened":[],"bounds":{"document_bytes":16777216,"sheet_cells":100000,"rows_first":2000,"rows_last":500,"rows_between":2000,"halvings":0,"cell_chars":16384,"cell_head_chars":4096},"cells_cut":0,"cells_raw":0,"read":"whole","date_system":"1900"}

{"sheet":"صفحه اصلی","index":0,"n_rows":16,"n_cols":10,"rows_kept":16,"cut":false,"hidden":false,"merged":[[15,7,18,11],[1,8,1,10],[3,7,3,8],[7,7,7,8],[11,7,11,8],[3,9,3,10],[7,9,7,10],[11,9,11,10]]}
[]
[null,null,null,null,null,null,null,null,"فرم زیر را کامل نمایید"]
[]
[null,null,null,null,null,null,null,"نام فروشگاه"]
[]
[]
[]
[null,null,null,null,null,null,null,"زمینه فعالیت"]
[]
[]
[]
[null,null,null,null,null,null,null,"سال فعالیت",null,1396]
[]
[null,null,null,null,null,null,null,null,null,"ورود"]
[]
[null,null,null,null,null,null,null,"www.irhesabdaran.ir"]

{"sheet":" اطلاعات اولیه","index":1,"n_rows":12,"n_cols":12,"rows_kept":12,"cut":false,"hidden":false,"merged":[]}
[]
[]
[]
[]
[null,null,null,null,null,null,null,"تعریف کالا جدید",null,null,null,"صفحه اصلی"]
[null,null,null,null,null,null,null,null,"تعریف مشتریان"]
[null,null,null,null,null,"ثبت کاردکس ",null,null,null,"تعریف فروشندگان"]
[null,null,null,null,null,null,"ثبت چک",null,null,null,"ثبت فاکتور فروش"]
[null,null,null,null,null,null,null,"ثبت چک پرداختنی",null,null,null,"ثبت فاکتور خرید"]
[null,null,null,null,null,null,null,null,"موجودی کالا"]
[]
[null,null,null,null,null,null,null,null,null,null,"درباره سازنده"]

{"sheet":"تعریف کالا","index":2,"n_rows":204,"n_cols":10,"rows_kept":204,"cut":false,"hidden":false,"merged":[[2,1,2,2],[2,3,2,6]]}
[]
[]
[null,"نام فروشگاه",null,{"$f":"'صفحه اصلی'!J4","v":0},null,null,null,null,null,"صفحه اصلی "]
[null,"ردیف ","کد","نام کالا","گروه بندی","واحد شمارش ","قیمت واحد"]
[null,1,9011120,"سی دی","سخت افزار","حلقه",3000,null,null,"ورود اطلاعات اولیه"]
[null,2,9011121,"دی وی دی","سخت افزار","حلقه",7000]
[null,3,9011122,"نوت بوک","سخت افزار","دستگاه",10000000]
[null,4]
[null,5]
[null,6]
[null,7]
[null,8]
[null,9]
[null,10]
[null,11]
[null,12]
[null,13]
[null,14]
[null,15]
[null,16]
[null,17]
[null,18]
[null,19]
[null,20]
[null,21]
[null,22]
[null,23]
[null,24]
[null,25]
[null,26]
[null,27]
[null,28]
[null,29]
[null,30]
[null,31]
[null,32]
[null,33]
[null,34]
[null,35]
[null,36]
[null,37]
[null,38]
[null,39]
[null,40]
[null,41]
[null,42]
[null,43]
[null,44]
[null,45]
[null,46]
[null,47]
[null,48]
[null,49]
[null,50]
[null,51]
[null,52]
[null,53]
[null,54]
[null,55]
[null,56]
[null,57]
[null,58]
[null,59]
[null,60]
[null,61]
[null,62]
[null,63]
[null,64]
[null,65]
[null,66]
[null,67]
[null,68]
[null,69]
[null,70]
[null,71]
[null,72]
[null,73]
[null,74]
[null,75]
[null,76]
[null,77]
[null,78]
[null,79]
[null,80]
[null,81]
[null,82]
[null,83]
[null,84]
[null,85]
[null,86]
[null,87]
[null,88]
[null,89]
[null,90]
[null,91]
[null,92]
[null,93]
[null,94]
[null,95]
[null,96]
[null,97]
[null,98]
[null,99]
[null,100]
[null,101]
[null,102]
[null,103]
[null,104]
[null,105]
[null,106]
[null,107]
[null,108]
[null,109]
[null,110]
[null,111]
[null,112]
[null,113]
[null,114]
[null,115]
[null,116]
[null,117]
[null,118]
[null,119]
[null,120]
[null,121]
[null,122]
[null,123]
[null,124]
[null,125]
[null,126]
[null,127]
[null,128]
[null,129]
[null,130]
[null,131]
[null,132]
[null,133]
[null,134]
[null,135]
[null,136]
[null,137]
[null,138]
[null,139]
[null,140]
[null,141]
[null,142]
[null,143]
[null,144]
[null,145]
[null,146]
[null,147]
[null,148]
[null,149]
[null,150]
[null,151]
[null,152]
[null,153]
[null,154]
[null,155]
[null,156]
[null,157]
[null,158]
[null,159]
[null,160]
[null,161]
[null,162]
[null,163]
[null,164]
[null,165]
[null,166]
[null,167]
[null,168]
[null,169]
[null,170]
[null,171]
[null,172]
[null,173]
[null,174]
[null,175]
[null,176]
[null,177]
[null,178]
[null,179]
[null,180]
[null,181]
[null,182]
[null,183]
[null,184]
[null,185]
[null,186]
[null,187]
[null,188]
[null,189]
[null,190]
[null,191]
[null,192]
[null,193]
[null,194]
[null,195]
[null,196]
[null,197]
[null,198]
[null,199]
[null,200]

{"sheet":"مشخصات مشتریان","index":3,"n_rows":502,"n_cols":8,"rows_kept":502,"cut":false,"hidden":false,"merged":[]}
[]
[null,"ردیف","نام و نام خانوادگی","آدرس","شماره تماس"]
[null,1,"علی منصوری",null,null,null,null,"صفحه اصلی"]
[null,2,"فردین رضایی"]
[null,3,"خسرو جهانشاهی",null,null,null,null,"ورود اطلاعات اولیه"]
[null,4]
[null,5]
[null,6]
[null,7]
[null,8]
[null,9]
[null,10]
[null,11]
[null,12]
[null,13]
[null,14]
[null,15]
[null,16]
[null,17]
[null,18]
[null,19]
[null,20]
[null,21]
[null,22]
[null,23]
[null,24]
[null,25]
[null,26]
[null,27]
[null,28]
[null,29]
[null,30]
[null,31]
[null,32]
[null,33]
[null,34]
[null,35]
[null,36]
[null,37]
[null,38]
[null,39]
[null,40]
[null,41]
[null,42]
[null,43]
[null,44]
[null,45]
[null,46]
[null,47]
[null,48]
[null,49]
[null,50]
[null,51]
[null,52]
[null,53]
[null,54]
[null,55]
[null,56]
[null,57]
[null,58]
[null,59]
[null,60]
[null,61]
[null,62]
[null,63]
[null,64]
[null,65]
[null,66]
[null,67]
[null,68]
[null,69]
[null,70]
[null,71]
[null,72]
[null,73]
[null,74]
[null,75]
[null,76]
[null,77]
[null,78]
[null,79]
[null,80]
[null,81]
[null,82]
[null,83]
[null,84]
[null,85]
[null,86]
[null,87]
[null,88]
[null,89]
[null,90]
[null,91]
[null,92]
[null,93]
[null,94]
[null,95]
[null,96]
[null,97]
[null,98]
[null,99]
[null,100]
[null,101]
[null,102]
[null,103]
[null,104]
[null,105]
[null,106]
[null,107]
[null,108]
[null,109]
[null,110]
[null,111]
[null,112]
[null,113]
[null,114]
[null,115]
[null,116]
[null,117]
[null,118]
[null,119]
[null,120]
[null,121]
[null,122]
[null,123]
[null,124]
[null,125]
[null,126]
[null,127]
[null,128]
[null,129]
[null,130]
[null,131]
[null,132]
[null,133]
[null,134]
[null,135]
[null,136]
[null,137]
[null,138]
[null,139]
[null,140]
[null,141]
[null,142]
[null,143]
[null,144]
[null,145]
[null,146]
[null,147]
[null,148]
[null,149]
[null,150]
[null,151]
[null,152]
[null,153]
[null,154]
[null,155]
[null,156]
[null,157]
[null,158]
[null,159]
[null,160]
[null,161]
[null,162]
[null,163]
[null,164]
[null,165]
[null,166]
[null,167]
[null,168]
[null,169]
[null,170]
[null,171]
[null,172]
[null,173]
[null,174]
[null,175]
[null,176]
[null,177]
[null,178]
[null,179]
[null,180]
[null,181]
[null,182]
[null,183]
[null,184]
[null,185]
[null,186]
[null,187]
[null,188]
[null,189]
[null,190]
[null,191]
[null,192]
[null,193]
[null,194]
[null,195]
[null,196]
[null,197]
[null,198]
[null,199]
[null,200]
[null,201]
[null,202]
[null,203]
[null,204]
[null,205]
[null,206]
[null,207]
[null,208]
[null,209]
[null,210]
[null,211]
[null,212]
[null,213]
[null,214]
[null,215]
[null,216]
[null,217]
[null,218]
[null,219]
[null,220]
[null,221]
[null,222]
[null,223]
[null,224]
[null,225]
[null,226]
[null,227]
[null,228]
[null,229]
[null,230]
[null,231]
[null,232]
[null,233]
[null,234]
[null,235]
[null,236]
[null,237]
[null,238]
[null,239]
[null,240]
[null,241]
[null,242]
[null,243]
[null,244]
[null,245]
[null,246]
[null,247]
[null,248]
[null,249]
[null,250]
[null,251]
[null,252]
[null,253]
[null,254]
[null,255]
[null,256]
[null,257]
[null,258]
[null,259]
[null,260]
[null,261]
[null,262]
[null,263]
[null,264]
[null,265]
[null,266]
[null,267]
[null,268]
[null,269]
[null,270]
[null,271]
[null,272]
[null,273]
[null,274]
[null,275]
[null,276]
[null,277]
[null,278]
[null,279]
[null,280]
[null,281]
[null,282]
[null,283]
[null,284]
[null,285]
[null,286]
[null,287]
[null,288]
[null,289]
[null,290]
[null,291]
[null,292]
[null,293]
[null,294]
[null,295]
[null,296]
[null,297]
[null,298]
[null,299]
[null,300]
[null,301]
[null,302]
[null,303]
[null,304]
[null,305]
[null,306]
[null,307]
[null,308]
[null,309]
[null,310]
[null,311]
[null,312]
[null,313]
[null,314]
[null,315]
[null,316]
[null,317]
[null,318]
[null,319]
[null,320]
[null,321]
[null,322]
[null,323]
[null,324]
[null,325]
[null,326]
[null,327]
[null,328]
[null,329]
[null,330]
[null,331]
[null,332]
[null,333]
[null,334]
[null,335]
[null,336]
[null,337]
[null,338]
[null,339]
[null,340]
[null,341]
[null,342]
[null,343]
[null,344]
[null,345]
[null,346]
[null,347]
[null,348]
[null,349]
[null,350]
[null,351]
[null,352]
[null,353]
[null,354]
[null,355]
[null,356]
[null,357]
[null,358]
[null,359]
[null,360]
[null,361]
[null,362]
[null,363]
[null,364]
[null,365]
[null,366]
[null,367]
[null,368]
[null,369]
[null,370]
[null,371]
[null,372]
[null,373]
[null,374]
[null,375]
[null,376]
[null,377]
[null,378]
[null,379]
[null,380]
[null,381]
[null,382]
[null,383]
[null,384]
[null,385]
[null,386]
[null,387]
[null,388]
[null,389]
[null,390]
[null,391]
[null,392]
[null,393]
[null,394]
[null,395]
[null,396]
[null,397]
[null,398]
[null,399]
[null,400]
[null,401]
[null,402]
[null,403]
[null,404]
[null,405]
[null,406]
[null,407]
[null,408]
[null,409]
[null,410]
[null,411]
[null,412]
[null,413]
[null,414]
[null,415]
[null,416]
[null,417]
[null,418]
[null,419]
[null,420]
[null,421]
[null,422]
[null,423]
[null,424]
[null,425]
[null,426]
[null,427]
[null,428]
[null,429]
[null,430]
[null,431]
[null,432]
[null,433]
[null,434]
[null,435]
[null,436]
[null,437]
[null,438]
[null,439]
[null,440]
[null,441]
[null,442]
[null,443]
[null,444]
[null,445]
[null,446]
[null,447]
[null,448]
[null,449]
[null,450]
[null,451]
[null,452]
[null,453]
[null,454]
[null,455]
[null,456]
[null,457]
[null,458]
[null,459]
[null,460]
[null,461]
[null,462]
[null,463]
[null,464]
[null,465]
[null,466]
[null,467]
[null,468]
[null,469]
[null,470]
[null,471]
[null,472]
[null,473]
[null,474]
[null,475]
[null,476]
[null,477]
[null,478]
[null,479]
[null,480]
[null,481]
[null,482]
[null,483]
[null,484]
[null,485]
[null,486]
[null,487]
[null,488]
[null,489]
[null,490]
[null,491]
[null,492]
[null,493]
[null,494]
[null,495]
[null,496]
[null,497]
[null,498]
[null,499]
[null,500]

{"sheet":"مشخصات فروشندگان","index":4,"n_rows":502,"n_cols":7,"rows_kept":502,"cut":false,"hidden":false,"merged":[]}
[]
["ردیف","نام و نام خانوادگی","آدرس","شماره تماس"]
[1,"علی منصوری",null,null,null,null,"صفحه اصلی"]
[2,"فردین رضایی"]
[3,"خسرو جهانشاهی",null,null,null,null,"ورود اطلاعات اولیه"]
[4]
[5]
[6]
[7]
[8]
[9]
[10]
[11]
[12]
[13]
[14]
[15]
[16]
[17]
[18]
[19]
[20]
[21]
[22]
[23]
[24]
[25]
[26]
[27]
[28]
[29]
[30]
[31]
[32]
[33]
[34]
[35]
[36]
[37]
[38]
[39]
[40]
[41]
[42]
[43]
[44]
[45]
[46]
[47]
[48]
[49]
[50]
[51]
[52]
[53]
[54]
[55]
[56]
[57]
[58]
[59]
[60]
[61]
[62]
[63]
[64]
[65]
[66]
[67]
[68]
[69]
[70]
[71]
[72]
[73]
[74]
[75]
[76]
[77]
[78]
[79]
[80]
[81]
[82]
[83]
[84]
[85]
[86]
[87]
[88]
[89]
[90]
[91]
[92]
[93]
[94]
[95]
[96]
[97]
[98]
[99]
[100]
[101]
[102]
[103]
[104]
[105]
[106]
[107]
[108]
[109]
[110]
[111]
[112]
[113]
[114]
[115]
[116]
[117]
[118]
[119]
[120]
[121]
[122]
[123]
[124]
[125]
[126]
[127]
[128]
[129]
[130]
[131]
[132]
[133]
[134]
[135]
[136]
[137]
[138]
[139]
[140]
[141]
[142]
[143]
[144]
[145]
[146]
[147]
[148]
[149]
[150]
[151]
[152]
[153]
[154]
[155]
[156]
[157]
[158]
[159]
[160]
[161]
[162]
[163]
[164]
[165]
[166]
[167]
[168]
[169]
[170]
[171]
[172]
[173]
[174]
[175]
[176]
[177]
[178]
[179]
[180]
[181]
[182]
[183]
[184]
[185]
[186]
[187]
[188]
[189]
[190]
[191]
[192]
[193]
[194]
[195]
[196]
[197]
[198]
[199]
[200]
[201]
[202]
[203]
[204]
[205]
[206]
[207]
[208]
[209]
[210]
[211]
[212]
[213]
[214]
[215]
[216]
[217]
[218]
[219]
[220]
[221]
[222]
[223]
[224]
[225]
[226]
[227]
[228]
[229]
[230]
[231]
[232]
[233]
[234]
[235]
[236]
[237]
[238]
[239]
[240]
[241]
[242]
[243]
[244]
[245]
[246]
[247]
[248]
[249]
[250]
[251]
[252]
[253]
[254]
[255]
[256]
[257]
[258]
[259]
[260]
[261]
[262]
[263]
[264]
[265]
[266]
[267]
[268]
[269]
[270]
[271]
[272]
[273]
[274]
[275]
[276]
[277]
[278]
[279]
[280]
[281]
[282]
[283]
[284]
[285]
[286]
[287]
[288]
[289]
[290]
[291]
[292]
[293]
[294]
[295]
[296]
[297]
[298]
[299]
[300]
[301]
[302]
[303]
[304]
[305]
[306]
[307]
[308]
[309]
[310]
[311]
[312]
[313]
[314]
[315]
[316]
[317]
[318]
[319]
[320]
[321]
[322]
[323]
[324]
[325]
[326]
[327]
[328]
[329]
[330]
[331]
[332]
[333]
[334]
[335]
[336]
[337]
[338]
[339]
[340]
[341]
[342]
[343]
[344]
[345]
[346]
[347]
[348]
[349]
[350]
[351]
[352]
[353]
[354]
[355]
[356]
[357]
[358]
[359]
[360]
[361]
[362]
[363]
[364]
[365]
[366]
[367]
[368]
[369]
[370]
[371]
[372]
[373]
[374]
[375]
[376]
[377]
[378]
[379]
[380]
[381]
[382]
[383]
[384]
[385]
[386]
[387]
[388]
[389]
[390]
[391]
[392]
[393]
[394]
[395]
[396]
[397]
[398]
[399]
[400]
[401]
[402]
[403]
[404]
[405]
[406]
[407]
[408]
[409]
[410]
[411]
[412]
[413]
[414]
[415]
[416]
[417]
[418]
[419]
[420]
[421]
[422]
[423]
[424]
[425]
[426]
[427]
[428]
[429]
[430]
[431]
[432]
[433]
[434]
[435]
[436]
[437]
[438]
[439]
[440]
[441]
[442]
[443]
[444]
[445]
[446]
[447]
[448]
[449]
[450]
[451]
[452]
[453]
[454]
[455]
[456]
[457]
[458]
[459]
[460]
[461]
[462]
[463]
[464]
[465]
[466]
[467]
[468]
[469]
[470]
[471]
[472]
[473]
[474]
[475]
[476]
[477]
[478]
[479]
[480]
[481]
[482]
[483]
[484]
[485]
[486]
[487]
[488]
[489]
[490]
[491]
[492]
[493]
[494]
[495]
[496]
[497]
[498]
[499]
[500]

{"sheet":"فاکتور فروش ","index":5,"n_rows":6747,"n_cols":31,"rows_kept":2250,"cut":true,"hidden":false,"merged":[[6743,1,6743,2],[6743,3,6743,7],[6743,8,6743,9],[6743,23,6743,24],[6743,25,6743,30],[6744,1,6744,2],[6744,3,6744,7],[6744,8,6744,9],[6744,23,6744,27],[6528,5,6528,7],[6529,23,6529,24],[6530,26,6530,27],[6536,25,6536,26],[6538,25,6538,29],[6539,4,6539,8],[6540,3,6540,5],[6742,1,6742,2],[6742,3,6742,7],[6742,8,6742,9],[6742,23,6742,24],[6742,25,6742,28],[6742,29,6742,30],[6518,1,6518,2],[6518,3,6518,7],[6518,8,6518,9],[6518,23,6518,24],[6518,25,6518,30],[6519,1,6519,2],[6519,3,6519,7],[6519,8,6519,9],[6519,23,6519,27],[6303,5,6303,7],[6304,23,6304,24],[6305,26,6305,27],[6311,25,6311,26],[6313,25,6313,29],[6314,4,6314,8],[6315,3,6315,5],[6517,1,6517,2],[6517,3,6517,7],[6517,8,6517,9],[6517,23,6517,24],[6517,25,6517,28],[6517,29,6517,30],[6293,1,6293,2],[6293,3,6293,7],[6293,8,6293,9],[6293,23,6293,24],[6293,25,6293,30],[6294,1,6294,2],[6294,3,6294,7],[6294,8,6294,9],[6294,23,6294,27],[6078,5,6078,7],[6079,23,6079,24],[6080,26,6080,27],[6086,25,6086,26],[6088,25,6088,29],[6089,4,6089,8],[6090,3,6090,5],[6292,1,6292,2],[6292,3,6292,7],[6292,8,6292,9],[6292,23,6292,24],[6292,25,6292,28],[6292,29,6292,30],[6068,1,6068,2],[6068,3,6068,7],[6068,8,6068,9],[6068,23,6068,24],[6068,25,6068,30],[6069,1,6069,2],[6069,3,6069,7],[6069,8,6069,9],[6069,23,6069,27],[5853,5,5853,7],[5854,23,5854,24],[5855,26,5855,27],[5861,25,5861,26],[5863,25,5863,29],[5864,4,5864,8],[5865,3,5865,5],[6067,1,6067,2],[6067,3,6067,7],[6067,8,6067,9],[6067,23,6067,24],[6067,25,6067,28],[6067,29,6067,30],[5843,1,5843,2],[5843,3,5843,7],[5843,8,5843,9],[5843,23,5843,24],[5843,25,5843,30],[5844,1,5844,2],[5844,3,5844,7],[5844,8,5844,9],[5844,23,5844,27],[5628,5,5628,7],[5629,23,5629,24],[5630,26,5630,27],[5636,25,5636,26],[5638,25,5638,29],[5639,4,5639,8],[5640,3,5640,5],[5842,1,5842,2],[5842,3,5842,7],[5842,8,5842,9],[5842,23,5842,24],[5842,25,5842,28],[5842,29,5842,30],[5618,1,5618,2],[5618,3,5618,7],[5618,8,5618,9],[5618,23,5618,24],[5618,25,5618,30],[5619,1,5619,2],[5619,3,5619,7],[5619,8,5619,9],[5619,23,5619,27],[5403,5,5403,7],[5404,23,5404,24],[5405,26,5405,27],[5411,25,5411,26],[5413,25,5413,29],[5414,4,5414,8],[5415,3,5415,5],[5617,1,5617,2],[5617,3,5617,7],[5617,8,5617,9],[5617,23,5617,24],[5617,25,5617,28],[5617,29,5617,30],[5393,1,5393,2],[5393,3,5393,7],[5393,8,5393,9],[5393,23,5393,24],[5393,25,5393,30],[5394,1,5394,2],[5394,3,5394,7],[5394,8,5394,9],[5394,23,5394,27],[5178,5,5178,7],[5179,23,5179,24],[5180,26,5180,27],[5186,25,5186,26],[5188,25,5188,29],[5189,4,5189,8],[5190,3,5190,5],[5392,1,5392,2],[5392,3,5392,7],[5392,8,5392,9],[5392,23,5392,24],[5392,25,5392,28],[5392,29,5392,30],[5168,1,5168,2],[5168,3,5168,7],[5168,8,5168,9],[5168,23,5168,24],[5168,25,5168,30],[5169,1,5169,2],[5169,3,5169,7],[5169,8,5169,9],[5169,23,5169,27],[4953,5,4953,7],[4954,23,4954,24],[4955,26,4955,27],[4961,25,4961,26],[4963,25,4963,29],[4964,4,4964,8],[4965,3,4965,5],[5167,1,5167,2],[5167,3,5167,7],[5167,8,5167,9],[5167,23,5167,24],[5167,25,5167,28],[5167,29,5167,30],[4943,1,4943,2],[4943,3,4943,7],[4943,8,4943,9],[4943,23,4943,24],[4943,25,4943,30],[4944,1,4944,2],[4944,3,4944,7],[4944,8,4944,9],[4944,23,4944,27],[4728,5,4728,7],[4729,23,4729,24],[4730,26,4730,27],[4736,25,4736,26],[4738,25,4738,29],[4739,4,4739,8],[4740,3,4740,5],[4942,1,4942,2],[4942,3,4942,7],[4942,8,4942,9],[4942,23,4942,24],[4942,25,4942,28],[4942,29,4942,30],[4718,1,4718,2],[4718,3,4718,7],[4718,8,4718,9],[4718,23,4718,24],[4718,25,4718,30],[4719,1,4719,2],[4719,3,4719,7],[4719,8,4719,9],[4719,23,4719,27],[4503,5,4503,7],[4504,23,4504,24],[4505,26,4505,27],[4511,25,4511,26],[4513,25,4513,29],[4514,4,4514,8],[4515,3,4515,5],[4717,1,4717,2],[4717,3,4717,7],[4717,8,4717,9],[4717,23,4717,24],[4717,25,4717,28],[4717,29,4717,30],[4493,1,4493,2],[4493,3,4493,7],[4493,8,4493,9],[4493,23,4493,24],[4493,25,4493,30],[4494,1,4494,2],[4494,3,4494,7],[4494,8,4494,9],[4494,23,4494,27],[4278,5,4278,7],[4279,23,4279,24],[4280,26,4280,27],[4286,25,4286,26],[4288,25,4288,29],[4289,4,4289,8],[4290,3,4290,5],[4492,1,4492,2],[4492,3,4492,7],[4492,8,4492,9],[4492,23,4492,24],[4492,25,4492,28],[4492,29,4492,30],[4268,1,4268,2],[4268,3,4268,7],[4268,8,4268,9],[4268,23,4268,24],[4268,25,4268,30],[4269,1,4269,2],[4269,3,4269,7],[4269,8,4269,9],[4269,23,4269,27],[4053,5,4053,7],[4054,23,4054,24],[4055,26,4055,27],[4061,25,4061,26],[4063,25,4063,29],[4064,4,4064,8],[4065,3,4065,5],[4267,1,4267,2],[4267,3,4267,7],[4267,8,4267,9],[4267,23,4267,24],[4267,25,4267,28],[4267,29,4267,30],[4043,1,4043,2],[4043,3,4043,7],[4043,8,4043,9],[4043,23,4043,24],[4043,25,4043,30],[4044,1,4044,2],[4044,3,4044,7],[4044,8,4044,9],[4044,23,4044,27],[3828,5,3828,7],[3829,23,3829,24],[3830,26,3830,27],[3836,25,3836,26],[3838,25,3838,29],[3839,4,3839,8],[3840,3,3840,5],[4042,1,4042,2],[4042,3,4042,7],[4042,8,4042,9],[4042,23,4042,24],[4042,25,4042,28],[4042,29,4042,30],[3818,1,3818,2],[3818,3,3818,7],[3818,8,3818,9],[3818,23,3818,24],[3818,25,3818,30],[3819,1,3819,2],[3819,3,3819,7],[3819,8,3819,9],[3819,23,3819,27],[3603,5,3603,7],[3604,23,3604,24],[3605,26,3605,27],[3611,25,3611,26],[3613,25,3613,29],[3614,4,3614,8],[3615,3,3615,5],[3817,1,3817,2],[3817,3,3817,7],[3817,8,3817,9],[3817,23,3817,24],[3817,25,3817,28],[3817,29,3817,30],[3593,1,3593,2],[3593,3,3593,7],[3593,8,3593,9],[3593,23,3593,24],[3593,25,3593,30],[3594,1,3594,2],[3594,3,3594,7],[3594,8,3594,9],[3594,23,3594,27],[3378,5,3378,7],[3379,23,3379,24],[3380,26,3380,27],[3386,25,3386,26],[3388,25,3388,29],[3389,4,3389,8],[3390,3,3390,5],[3592,1,3592,2],[3592,3,3592,7],[3592,8,3592,9],[3592,23,3592,24],[3592,25,3592,28],[3592,29,3592,30],[3368,1,3368,2],[3368,3,3368,7],[3368,8,3368,9],[3368,23,3368,24],[3368,25,3368,30],[3369,1,3369,2],[3369,3,3369,7],[3369,8,3369,9],[3369,23,3369,27],[3153,5,3153,7],[3154,23,3154,24],[3155,26,3155,27],[3161,25,3161,26],[3163,25,3163,29],[3164,4,3164,8],[3165,3,3165,5],[3367,1,3367,2],[3367,3,3367,7],[3367,8,3367,9],[3367,23,3367,24],[3367,25,3367,28],[3367,29,3367,30],[3143,1,3143,2],[3143,3,3143,7],[3143,8,3143,9],[3143,23,3143,24],[3143,25,3143,30],[3144,1,3144,2],[3144,3,3144,7],[3144,8,3144,9],[3144,23,3144,27],[2928,5,2928,7],[2929,23,2929,24],[2930,26,2930,27],[2936,25,2936,26],[2938,25,2938,29],[2939,4,2939,8],[2940,3,2940,5],[3142,1,3142,2],[3142,3,3142,7],[3142,8,3142,9],[3142,23,3142,24],[3142,25,3142,28],[3142,29,3142,30],[2918,1,2918,2],[2918,3,2918,7],[2918,8,2918,9],[2918,23,2918,24],[2918,25,2918,30],[2919,1,2919,2],[2919,3,2919,7],[2919,8,2919,9],[2919,23,2919,27],[2703,5,2703,7],[2704,23,2704,24],[2705,26,2705,27],[2711,25,2711,26],[2713,25,2713,29],[2714,4,2714,8],[2715,3,2715,5],[2917,1,2917,2],[2917,3,2917,7],[2917,8,2917,9],[2917,23,2917,24],[2917,25,2917,28],[2917,29,2917,30],[2693,1,2693,2],[2693,3,2693,7],[2693,8,2693,9],[2693,23,2693,24],[2693,25,2693,30],[2694,1,2694,2],[2694,3,2694,7],[2694,8,2694,9],[2694,23,2694,27],[2478,5,2478,7],[2479,23,2479,24],[2480,26,2480,27],[2486,25,2486,26],[2488,25,2488,29],[2489,4,2489,8],[2490,3,2490,5],[2692,1,2692,2],[2692,3,2692,7],[2692,8,2692,9],[2692,23,2692,24],[2692,25,2692,28],[2692,29,2692,30],[2468,1,2468,2],[2468,3,2468,7],[2468,8,2468,9],[2468,23,2468,24],[2468,25,2468,30],[2469,1,2469,2],[2469,3,2469,7],[2469,8,2469,9],[2469,23,2469,27],[2253,5,2253,7],[2254,23,2254,24],[2255,26,2255,27],[2261,25,2261,26],[2263,25,2263,29],[2264,4,2264,8],[2265,3,2265,5],[2467,1,2467,2],[2467,3,2467,7],[2467,8,2467,9],[2467,23,2467,24],[2467,25,2467,28],[2467,29,2467,30],[2243,1,2243,2],[2243,3,2243,7],[2243,8,2243,9],[2243,23,2243,24],[2243,25,2243,30],[2244,1,2244,2],[2244,3,2244,7],[2244,8,2244,9],[2244,23,2244,27],[2028,5,2028,7],[2029,23,2029,24],[2030,26,2030,27],[2036,25,2036,26],[2038,25,2038,29],[2039,4,2039,8],[2040,3,2040,5],[2242,1,2242,2],[2242,3,2242,7],[2242,8,2242,9],[2242,23,2242,24],[2242,25,2242,28],[2242,29,2242,30],[2018,1,2018,2],[2018,3,2018,7],[2018,8,2018,9],[2018,23,2018,24],[2018,25,2018,30],[2019,1,2019,2],[2019,3,2019,7],[2019,8,2019,9],[2019,23,2019,27],[1803,5,1803,7],[1804,23,1804,24],[1805,26,1805,27],[1811,25,1811,26],[1813,25,1813,29],[1814,4,1814,8],[1815,3,1815,5],[2017,1,2017,2],[2017,3,2017,7],[2017,8,2017,9],[2017,23,2017,24],[2017,25,2017,28],[2017,29,2017,30],[1793,1,1793,2],[1793,3,1793,7],[1793,8,1793,9],[1793,23,1793,24],[1793,25,1793,30],[1794,1,1794,2],[1794,3,1794,7],[1794,8,1794,9],[1794,23,1794,27],[1578,5,1578,7],[1579,23,1579,24],[1580,26,1580,27],[1586,25,1586,26],[1588,25,1588,29],[1589,4,1589,8],[1590,3,1590,5],[1792,1,1792,2],[1792,3,1792,7],[1792,8,1792,9],[1792,23,1792,24],[1792,25,1792,28],[1792,29,1792,30],[1568,1,1568,2],[1568,3,1568,7],[1568,8,1568,9],[1568,23,1568,24],[1568,25,1568,30],[1569,1,1569,2],[1569,3,1569,7],[1569,8,1569,9],[1569,23,1569,27],[1353,5,1353,7],[1354,23,1354,24],[1355,26,1355,27],[1361,25,1361,26],[1363,25,1363,29],[1364,4,1364,8],[1365,3,1365,5],[1567,1,1567,2],[1567,3,1567,7],[1567,8,1567,9],[1567,23,1567,24],[1567,25,1567,28],[1567,29,1567,30],[1343,1,1343,2],[1343,3,1343,7],[1343,8,1343,9],[1343,23,1343,24],[1343,25,1343,30],[1344,1,1344,2],[1344,3,1344,7],[1344,8,1344,9],[1344,23,1344,27],[1128,5,1128,7],[1129,23,1129,24],[1130,26,1130,27],[1136,25,1136,26],[1138,25,1138,29],[1139,4,1139,8],[1140,3,1140,5],[1342,1,1342,2],[1342,3,1342,7],[1342,8,1342,9],[1342,23,1342,24],[1342,25,1342,28],[1342,29,1342,30],[3,5,3,7],[217,8,217,9],[218,8,218,9],[218,3,218,7],[217,3,217,7],[15,3,15,5],[14,4,14,8],[219,23,219,27],[218,1,218,2],[11,25,11,26],[4,23,4,24],[218,25,218,30],[5,26,5,27],[218,23,218,24],[217,23,217,24],[217,25,217,28],[217,29,217,30],[13,25,13,29],[217,1,217,2],[219,1,219,2],[219,8,219,9],[219,3,219,7],[239,4,239,8],[240,3,240,5],[442,1,442,2],[442,3,442,7],[442,8,442,9],[228,5,228,7],[229,23,229,24],[230,26,230,27],[236,25,236,26],[238,25,238,29],[444,1,444,2],[444,3,444,7],[444,8,444,9],[444,23,444,27],[453,5,453,7],[442,23,442,24],[442,25,442,28],[442,29,442,30],[443,1,443,2],[443,3,443,7],[443,8,443,9],[443,23,443,24],[443,25,443,30],[465,3,465,5],[667,1,667,2],[667,3,667,7],[667,8,667,9],[667,23,667,24],[454,23,454,24],[455,26,455,27],[461,25,461,26],[463,25,463,29],[464,4,464,8],[669,1,669,2],[669,3,669,7],[669,8,669,9],[669,23,669,27],[678,5,678,7],[667,25,667,28],[667,29,667,30],[668,1,668,2],[668,3,668,7],[668,8,668,9],[668,23,668,24],[668,25,668,30],[690,3,690,5],[892,1,892,2],[892,3,892,7],[892,8,892,9],[892,23,892,24],[679,23,679,24],[680,26,680,27],[686,25,686,26],[688,25,688,29],[689,4,689,8],[894,1,894,2],[894,3,894,7],[894,8,894,9],[894,23,894,27],[903,5,903,7],[892,25,892,28],[892,29,892,30],[893,1,893,2],[893,3,893,7],[893,8,893,9],[893,23,893,24],[893,25,893,30],[915,3,915,5],[1117,1,1117,2],[1117,3,1117,7],[1117,8,1117,9],[1117,23,1117,24],[904,23,904,24],[905,26,905,27],[911,25,911,26],[913,25,913,29],[914,4,914,8],[1119,1,1119,2],[1119,3,1119,7],[1119,8,1119,9],[1119,23,1119,27],[1117,25,1117,28],[1117,29,1117,30],[1118,1,1118,2],[1118,3,1118,7],[1118,8,1118,9],[1118,23,1118,24],[1118,25,1118,30]],"bounds":{"rows_first":1000,"rows_last":250,"rows_between":1000,"halvings":1}}
[]
[null,null,null,null,"امروز",{"$f":"J_TODAY(1)","v":"1396/10/08"}]
[]
[null,null,"فاکتور فروش"]
[null,null,null,null,null,{"$f":"'صفحه اصلی'!$J$4","v":0},null,null,null,null,null,"فاکتور بعدی",null,"صفحه اصلی",null,null,null,null,null,null,null,null,null,"حواله تحویل کالا"]
[null,"شماره سند ",1,null,null,null,null,null,"تاریخ",null,null,null,null,null,null,null,null,null,null,null,null,null,null,null,null,null,{"$f":"F5","v":0},null,null,"تاریخ",{"$f":"J6","v":0}]
[null,"شماره فاکتور",1,null,null,null,null,null,"انبار",null,null,"مشاهده حواله",null,"ورود اطلاعات اولیه",null,null,null,null,null,null,null,null,null,"شماره حواله",{"$f":"C7","v":1}]
[null,null,null,null,null,null,null,null,null,null,null,null,null,null,null,null,null,null,null,null,null,null,null,"شماره سند",{"$f":"C6","v":1}]
[null,null,null,null,null,"           درصد تخفیف  ",null,null,"تخفیف ",{"$f":"(I218*G9%)","v":0}]
[null,null,"نام خریدار","خسرو جهانشاهی",null,"          کرایه حمل",null,null,"کرایه حمل",{"$f":"G10","v":0}]
[null,null,null,null,null,"          مالیات",null,null,"مالیات",{"$f":"(I218-J9+J10)*G11%","v":0}]
[null,null,"پرداخت نقدی",null,null,null,null,null,"مبلغ قابل پرداخت",{"$f":"I218-J9+J10+J11","v":0},null,null,null,null,null,null,null,null,null,null,null,null,null,null,"خریدار:",{"$f":"D10","v":"خسرو جهانشاهی"}]
[null,null,"پرداخت با چک",null,null,null,null,null,"مانده حساب",{"$f":"J12-D12-D13","v":0}]
[null,null,null,null,null,null,null,null,null,null,null,null,null,null,null,null,null,null,null,null,null,null,null,null,"آدرس :",{"$f":"VLOOKUP(Z12,'مشخصات مشتریان'!$C$2:$D$502,2,FALSE)","v":0}]
[null,null,"ثبت چک","شرح رویداد"]
[]
[null,"شماره کاردکس","کد کالا","نام کالا","گروه بندی","قیمت واحد","درصد تخفیف","واحد شمارش","تعداد","قیمت کل",null,null,null,null,null,null,null,null,null,null,null,null,null,"ردیف","کد کالا","نام کالا","گروه بندی","قیمت واحد","واحد شمارش","تعداد","قیمت کل"]
[null,"کاردکس 1",{"$f":"'تعریف کالا'!$C$5","v":9011120},{"$f":"'تعریف کالا'!$D$5","v":"سی دی"},{"$f":"'تعریف کالا'!$E$5","v":"سخت افزار"},{"$f":"'تعریف کالا'!$G$5","v":3000},null,{"$f":"'تعریف کالا'!$F$5","v":"حلقه"},null,{"$f":"(F18*I18)-(F18*I18*G18%)","v":0},null,null,null,null,null,null,null,null,null,null,null,null,null,null,{"$f":"C18","v":9011120},{"$f":"D18","v":"سی دی"},{"$f":"E18","v":"سخت افزار"},{"$f":"F18","v":3000},{"$f":"H18","v":"حلقه"},{"$f":"I18","v":0},{"$f":"J18","v":0}]
[null,"کاردکس 2",{"$f":"'تعریف کالا'!$C$6","v":9011121},{"$f":"'تعریف کالا'!$D$6","v":"دی وی دی"},{"$f":"'تعریف کالا'!$E$6","v":"سخت افزار"},{"$f":"'تعریف کالا'!$G$6","v":7000},null,{"$f":"'تعریف کالا'!$F$6","v":"حلقه"},null,{"$f":"(F19*I19)-(F19*I19*G19%)","v":0},null,null,null,null,null,null,null,null,null,null,null,null,null,null,{"$f":"C19","v":9011121},{"$f":"D19","v":"دی وی دی"},{"$f":"E19","v":"سخت افزار"},{"$f":"F19","v":7000},{"$f":"H19","v":"حلقه"},{"$f":"I19","v":0},{"$f":"J19","v":0}]
[null,"کاردکس 3",{"$f":"'تعریف کالا'!$C$7","v":9011122},{"$f":"'تعریف کالا'!$D$7","v":"نوت بوک"},{"$f":"'تعریف کالا'!$E$7","v":"سخت افزار"},{"$f":"'تعریف کالا'!$G$7","v":10000000},null,{"$f":"'تعریف کالا'!$F$7","v":"دستگاه"},null,{"$f":"(F20*I20)-(F20*I20*G20%)","v":0},null,null,null,null,null,null,null,null,null,null,null,null,null,null,{"$f":"C20","v":9011122},"نوت بوک","سخت افزار",10000000,"دستگاه",0,0]
[null,"کاردکس 4",{"$f":"'تعریف کالا'!$C$8","v":0},{"$f":"'تعریف کالا'!$D$8","v":0},{"$f":"'تعریف کالا'!$E$8","v":0},{"$f":"'تعریف کالا'!$G$8","v":0},null,{"$f":"'تعریف کالا'!$F$8","v":0},null,0,null,null,null,null,null,null,null,null,null,null,null,null,null,null,0,0,0,0,0,0,0]
[null,"کاردکس 5",{"$f":"'تعریف کالا'!$C$9","v":0},{"$f":"'تعریف کالا'!$D$9","v":0},{"$f":"'تعریف کالا'!$E$9","v":0},{"$f":"'تعریف کالا'!$G$9","v":0},null,{"$f":"'تعریف کالا'!$F$9","v":0},null,0,null,null,null,null,null,null,null,null,null,null,null,null,null,null,0,0,0,0,0,0,0]
[null,"کاردکس 6",{"$f":"'تعریف کالا'!$C$10","v":0},{"$f":"'تعریف کالا'!$D$10","v":0},{"$f":"'تعریف کالا'!$E$10","v":0},{"$f":"'تعریف کالا'!$G$10","v":0},null,{"$f":"'تعریف کالا'!$F$10","v":0},null,0,null,null,null,null,null,null,null,null,null,null,null,null,null,null,0,0,0,0,0,0,0]
[null,"کاردکس 7",{"$f":"'تعریف کالا'!$C$11","v":0},{"$f":"'تعریف کالا'!$D$11","v":0},{"$f":"'تعریف کالا'!$E$11","v":0},{"$f":"'تعریف کالا'!$G$11","v":0},null,{"$f":"'تعریف کالا'!$F$11","v":0},null,0,null,null,null,null,null,null,null,null,null,null,null,null,null,null,0,0,0,0,0,0,0]
[null,"کاردکس 8",{"$f":"'تعریف کالا'!$C$12","v":0},{"$f":"'تعریف کالا'!$D$12","v":0},{"$f":"'تعریف کالا'!$E$12","v":0},{"$f":"'تعریف کالا'!$G$12","v":0},null,{"$f":"'تعریف کالا'!$F$12","v":0},null,0,null,null,null,null,null,null,null,null,null,null,null,null,null,null,0,0,0,0,0,0,0]
[null,"کاردکس 9",{"$f":"'تعریف کالا'!$C$13","v":0},{"$f":"'تعریف کالا'!$D$13","v":0},{"$f":"'تعریف کالا'!$E$13","v":0},{"$f":"'تعریف کالا'!$G$13","v":0},null,{"$f":"'تعریف کالا'!$F$13","v":0},null,0,null,null,null,null,null,null,null,null,null,null,null,null,null,null,0,0,0,0,0,0,0]
[null,"کاردکس 10",{"$f":"'تعریف کالا'!$C$14","v":0},{"$f":"'تعریف کالا'!$D$14","v":0},{"$f":"'تعریف کالا'!$E$14","v":0},{"$f":"'تعریف کالا'!$G$14","v":0},null,{"$f":"'تعریف کالا'!$F$14","v":0},null,0,null,null,null,null,null,null,null,null,null,null,null,null,null,null,0,0,0,0,0,0,0]
[null,"کاردکس 11",{"$f":"'تعریف کالا'!$C$15","v":0},{"$f":"'تعریف کالا'!$D$15","v":0},{"$f":"'تعریف کالا'!$E$15","v":0},{"$f":"'تعریف کالا'!$G$15","v":0},null,{"$f":"'تعریف کالا'!$F$15","v":0},null,0,null,null,null,null,null,null,null,null,null,null,null,null,null,null,0,0,0,0,0,0,0]
[null,"کاردکس 12",{"$f":"'تعریف کالا'!$C$16","v":0},{"$f":"'تعریف کالا'!$D$16","v":0},{"$f":"'تعریف کالا'!$E$16","v":0},{"$f":"'تعریف کالا'!$G$16","v":0},null,{"$f":"'تعریف کالا'!$F$16","v":0},null,0,null,null,null,null,null,null,null,null,null,null,null,null,null,null,0,0,0,0,0,0,0]
[null,"کاردکس 13",{"$f":"'تعریف کالا'!$C$17","v":0},{"$f":"'تعریف کالا'!$D$17","v":0},{"$f":"'تعریف کالا'!$E$17","v":0},{"$f":"'تعریف کالا'!$G$17","v":0},null,{"$f":"'تعریف کالا'!$F$17","v":0},null,0,null,null,null,null,null,null,null,null,null,null,null,null,null,null,0,0,0,0,0,0,0]
[null,"کاردکس 14",{"$f":"'تعریف کالا'!$C$18","v":0},{"$f":"'تعریف کالا'!$D$18","v":0},{"$f":"'تعریف کالا'!$E$18","v":0},{"$f":"'تعریف کالا'!$G$18","v":0},null,{"$f":"'تعریف کالا'!$F$18","v":0},null,0,null,null,null,null,null,null,null,null,null,null,null,null,null,null,0,0,0,0,0,0,0]
[null,"کاردکس 15",{"$f":"'تعریف کالا'!$C$19","v":0},{"$f":"'تعریف کالا'!$D$19","v":0},{"$f":"'تعریف کالا'!$E$19","v":0},{"$f":"'تعریف کالا'!$G$19","v":0},null,{"$f":"'تعریف کالا'!$F$19","v":0},null,0,null,null,null,null,null,null,null,null,null,null,null,null,null,null,0,0,0,0,0,0,0]
[null,"کاردکس 16",{"$f":"'تعریف کالا'!$C$20","v":0},{"$f":"'تعریف کالا'!$D$20","v":0},{"$f":"'تعریف کالا'!$E$20","v":0},{"$f":"'تعریف کالا'!$G$20","v":0},null,{"$f":"'تعریف کالا'!$F$20","v":0},null,0,null,null,null,null,null,null,null,null,null,null,null,null,null,null,0,0,0,0,0,0,0]
[null,"کاردکس 17",{"$f":"'تعریف کالا'!$C$21","v":0},{"$f":"'تعریف کالا'!$D$21","v":0},{"$f":"'تعریف کالا'!$E$21","v":0},{"$f":"'تعریف کالا'!$G$21","v":0},null,{"$f":"'تعریف کالا'!$F$21","v":0},null,0,null,null,null,null,null,null,null,null,null,null,null,null,null,null,0,0,0,0,0,0,0]
[null,"کاردکس 18",{"$f":"'تعریف کالا'!$C$22","v":0},{"$f":"'تعریف کالا'!$D$22","v":0},{"$f":"'تعریف کالا'!$E$22","v":0},{"$f":"'تعریف کالا'!$G$22","v":0},null,{"$f":"'تعریف کالا'!$F$22","v":0},null,0,null,null,null,null,null,null,null,null,null,null,null,null,null,null,0,0,0,0,0,0,0]
[null,"کاردکس 19",{"$f":"'تعریف کالا'!$C$23","v":0},{"$f":"'تعریف کالا'!$D$23","v":0},{"$f":"'تعریف کالا'!$E$23","v":0},{"$f":"'تعریف کالا'!$G$23","v":0},null,{"$f":"'تعریف کالا'!$F$23","v":0},null,0,null,null,null,null,null,null,null,null,null,null,null,null,null,null,0,0,0,0,0,0,0]
[null,"کاردکس 20",{"$f":"'تعریف کالا'!$C$24","v":0},{"$f":"'تعریف کالا'!$D$24","v":0},{"$f":"'تعریف کالا'!$E$24","v":0},{"$f":"'تعریف کالا'!$G$24","v":0},null,{"$f":"'تعریف کالا'!$F$24","v":0},null,0,null,null,null,null,null,null,null,null,null,null,null,null,null,null,0,0,0,0,0,0,0]
[null,"کاردکس 21",{"$f":"'تعریف کالا'!$C$25","v":0},{"$f":"'تعریف کالا'!$D$25","v":0},{"$f":"'تعریف کالا'!$E$25","v":0},{"$f":"'تعریف کالا'!$G$25","v":0},null,{"$f":"'تعریف کالا'!$F$25","v":0},null,0,null,null,null,null,null,null,null,null,null,null,null,null,null,null,0,0,0,0,0,0,0]
[null,"کاردکس 22",{"$f":"'تعریف کالا'!$C$26","v":0},{"$f":"'تعریف کالا'!$D$26","v":0},{"$f":"'تعریف کالا'!$E$26","v":0},{"$f":"'تعریف کالا'!$G$26","v":0},null,{"$f":"'تعریف کالا'!$F$26","v":0},null,0,null,null,null,null,null,null,null,null,null,null,null,null,null,null,0,0,0,0,0,0,0]
[null,"کاردکس 23",{"$f":"'تعریف کالا'!$C$27","v":0},{"$f":"'تعریف کالا'!$D$27","v":0},{"$f":"'تعریف کالا'!$E$27","v":0},{"$f":"'تعریف کالا'!$G$27","v":0},null,{"$f":"'تعریف کالا'!$F$27","v":0},null,0,null,null,null,null,null,null,null,null,null,null,null,null,null,null,0,0,0,0,0,0,0]
[null,"کاردکس 24",{"$f":"'تعریف کالا'!$C$28","v":0},{"$f":"'تعریف کالا'!$D$28","v":0},{"$f":"'تعریف کالا'!$E$28","v":0},{"$f":"'تعریف کالا'!$G$28","v":0},null,{"$f":"'تعریف کالا'!$F$28","v":0},null,0,null,null,null,null,null,null,null,null,null,null,null,null,null,null,0,0,0,0,0,0,0]
[null,"کاردکس 25",{"$f":"'تعریف کالا'!$C$29","v":0},{"$f":"'تعریف کالا'!$D$29","v":0},{"$f":"'تعریف کالا'!$E$29","v":0},{"$f":"'تعریف کالا'!$G$29","v":0},null,{"$f":"'تعریف کالا'!$F$29","v":0},null,0,null,null,null,null,null,null,null,null,null,null,null,null,null,null,0,0,0,0,0,0,0]
[null,"کاردکس 26",{"$f":"'تعریف کالا'!$C$30","v":0},{"$f":"'تعریف کالا'!$D$30","v":0},{"$f":"'تعریف کالا'!$E$30","v":0},{"$f":"'تعریف کالا'!$G$30","v":0},null,{"$f":"'تعریف کالا'!$F$30","v":0},null,0,null,null,null,null,null,null,null,null,null,null,null,null,null,null,0,0,0,0,0,0,0]
[null,"کاردکس 27",{"$f":"'تعریف کالا'!$C$31","v":0},{"$f":"'تعریف کالا'!$D$31","v":0},{"$f":"'تعریف کالا'!$E$31","v":0},{"$f":"'تعریف کالا'!$G$31","v":0},null,{"$f":"'تعریف کالا'!$F$31","v":0},null,0,null,null,null,null,null,null,null,null,null,null,null,null,null,null,0,0,0,0,0,0,0]
[null,"کاردکس 28",{"$f":"'تعریف کالا'!$C$32","v":0},{"$f":"'تعریف کالا'!$D$32","v":0},{"$f":"'تعریف کالا'!$E$32","v":0},{"$f":"'تعریف کالا'!$G$32","v":0},null,{"$f":"'تعریف کالا'!$F$32","v":0},null,0,null,null,null,null,null,null,null,null,null,null,null,null,null,null,0,0,0,0,0,0,0]
[null,"کاردکس 29",{"$f":"'تعریف کالا'!$C$33","v":0},{"$f":"'تعریف کالا'!$D$33","v":0},{"$f":"'تعریف کالا'!$E$33","v":0},{"$f":"'تعریف کالا'!$G$33","v":0},null,{"$f":"'تعریف کالا'!$F$33","v":0},null,0,null,null,null,null,null,null,null,null,null,null,null,null,null,null,0,0,0,0,0,0,0]
[null,"کاردکس 30",{"$f":"'تعریف کالا'!$C$34","v":0},{"$f":"'تعریف کالا'!$D$34","v":0},{"$f":"'تعریف کالا'!$E$34","v":0},{"$f":"'تعریف کالا'!$G$34","v":0},null,{"$f":"'تعریف کالا'!$F$34","v":0},null,0,null,null,null,null,null,null,null,null,null,null,null,null,null,null,0,0,0,0,0,0,0]
[null,"کاردکس 31",{"$f":"'تعریف کالا'!$C$35","v":0},{"$f":"'تعریف کالا'!$D$35","v":0},{"$f":"'تعریف کالا'!$E$35","v":0},{"$f":"'تعریف کالا'!$G$35","v":0},null,{"$f":"'تعریف کالا'!$F$35","v":0},null,0,null,null,null,null,null,null,null,null,null,null,null,null,null,null,0,0,0,0,0,0,0]
[null,"کاردکس 32",{"$f":"'تعریف کالا'!$C$36","v":0},{"$f":"'تعریف کالا'!$D$36","v":0},{"$f":"'تعریف کالا'!$E$36","v":0},{"$f":"'تعریف کالا'!$G$36","v":0},null,{"$f":"'تعریف کالا'!$F$36","v":0},null,0,null,null,null,null,null,null,null,null,null,null,null,null,null,null,0,0,0,0,0,0,0]
[null,"کاردکس 33",{"$f":"'تعریف کالا'!$C$37","v":0},{"$f":"'تعریف کالا'!$D$37","v":0},{"$f":"'تعریف کالا'!$E$37","v":0},{"$f":"'تعریف کالا'!$G$37","v":0},null,{"$f":"'تعریف کالا'!$F$37","v":0},null,0,null,null,null,null,null,null,null,null,null,null,null,null,null,null,0,0,0,0,0,0,0]
[null,"کاردکس 34",{"$f":"'تعریف کالا'!$C$38","v":0},{"$f":"'تعریف کالا'!$D$38","v":0},{"$f":"'تعریف کالا'!$E$38","v":0},{"$f":"'تعریف کالا'!$G$38","v":0},null,{"$f":"'تعریف کالا'!$F$38","v":0},null,0,null,null,null,null,null,null,null,null,null,null,null,null,null,null,0,0,0,0,0,0,0]
[null,"کاردکس 35",{"$f":"'تعریف کالا'!$C$39","v":0},{"$f":"'تعریف کالا'!$D$39","v":0},{"$f":"'تعریف کالا'!$E$39","v":0},{"$f":"'تعریف کالا'!$G$39","v":0},null,{"$f":"'تعریف کالا'!$F$39","v":0},null,0,null,null,null,null,null,null,null,null,null,null,null,null,null,null,0,0,0,0,0,0,0]
[null,"کاردکس 36",{"$f":"'تعریف کالا'!$C$40","v":0},{"$f":"'تعریف کالا'!$D$40","v":0},{"$f":"'تعریف کالا'!$E$40","v":0},{"$f":"'تعریف کالا'!$G$40","v":0},null,{"$f":"'تعریف کالا'!$F$40","v":0},null,0,null,null,null,null,null,null,null,null,null,null,null,null,null,null,0,0,0,0,0,0,0]
[null,"کاردکس 37",{"$f":"'تعریف کالا'!$C$41","v":0},{"$f":"'تعریف کالا'!$D$41","v":0},{"$f":"'تعریف کالا'!$E$41","v":0},{"$f":"'تعریف کالا'!$G$41","v":0},null,{"$f":"'تعریف کالا'!$F$41","v":0},null,0,null,null,null,null,null,null,null,null,null,null,null,null,null,null,0,0,0,0,0,0,0]
[null,"کاردکس 38",{"$f":"'تعریف کالا'!$C$42","v":0},{"$f":"'تعریف کالا'!$D$42","v":0},{"$f":"'تعریف کالا'!$E$42","v":0},{"$f":"'تعریف کالا'!$G$42","v":0},null,{"$f":"'تعریف کالا'!$F$42","v":0},null,0,null,null,null,null,null,null,null,null,null,null,null,null,null,null,0,0,0,0,0,0,0]
[null,"کاردکس 39",{"$f":"'تعریف کالا'!$C$43","v":0},{"$f":"'تعریف کالا'!$D$43","v":0},{"$f":"'تعریف کالا'!$E$43","v":0},{"$f":"'تعریف کالا'!$G$43","v":0},null,{"$f":"'تعریف کالا'!$F$43","v":0},null,0,null,null,null,null,null,null,null,null,null,null,null,null,null,null,0,0,0,0,0,0,0]
[null,"کاردکس 40",{"$f":"'تعریف کالا'!$C$44","v":0},{"$f":"'تعریف کالا'!$D$44","v":0},{"$f":"'تعریف کالا'!$E$44","v":0},{"$f":"'تعریف کالا'!$G$44","v":0},null,{"$f":"'تعریف کالا'!$F$44","v":0},null,0,null,null,null,null,null,null,null,null,null,null,null,null,null,null,0,0,0,0,0,0,0]
[null,"کاردکس 41",{"$f":"'تعریف کالا'!$C$45","v":0},{"$f":"'تعریف کالا'!$D$45","v":0},{"$f":"'تعریف کالا'!$E$45","v":0},{"$f":"'تعریف کالا'!$G$45","v":0},null,{"$f":"'تعریف کالا'!$F$45","v":0},null,0,null,null,null,null,null,null,null,null,null,null,null,null,null,null,0,0,0,0,0,0,0]
[null,"کاردکس 42",{"$f":"'تعریف کالا'!$C$46","v":0},{"$f":"'تعریف کالا'!$D$46","v":0},{"$f":"'تعریف کالا'!$E$46","v":0},{"$f":"'تعریف کالا'!$G$46","v":0},null,{"$f":"'تعریف کالا'!$F$46","v":0},null,0,null,null,null,null,null,null,null,null,null,null,null,null,null,null,0,0,0,0,0,0,0]
[null,"کاردکس 43",{"$f":"'تعریف کالا'!$C$47","v":0},{"$f":"'تعریف کالا'!$D$47","v":0},{"$f":"'تعریف کالا'!$E$47","v":0},{"$f":"'تعریف کالا'!$G$47","v":0},null,{"$f":"'تعریف کالا'!$F$47","v":0},null,0,null,null,null,null,null,null,null,null,null,null,null,null,null,null,0,0,0,0,0,0,0]
[null,"کاردکس 44",{"$f":"'تعریف کالا'!$C$48","v":0},{"$f":"'تعریف کالا'!$D$48","v":0},{"$f":"'تعریف کالا'!$E$48","v":0},{"$f":"'تعریف کالا'!$G$48","v":0},null,{"$f":"'تعریف کالا'!$F$48","v":0},null,0,null,null,null,null,null,null,null,null,null,null,null,null,null,null,0,0,0,0,0,0,0]
[null,"کاردکس 45",{"$f":"'تعریف کالا'!$C$49","v":0},{"$f":"'تعریف کالا'!$D$49","v":0},{"$f":"'تعریف کالا'!$E$49","v":0},{"$f":"'تعریف کالا'!$G$49","v":0},null,{"$f":"'تعریف کالا'!$F$49","v":0},null,0,null,null,null,null,null,null,null,null,null,null,null,null,null,null,0,0,0,0,0,0,0]
[null,"کاردکس 46",{"$f":"'تعریف کالا'!$C$50","v":0},{"$f":"'تعریف کالا'!$D$50","v":0},{"$f":"'تعریف کالا'!$E$50","v":0},{"$f":"'تعریف کالا'!$G$50","v":0},null,{"$f":"'تعریف کالا'!$F$50","v":0},null,0,null,null,null,null,null,null,null,null,null,null,null,null,null,null,0,0,0,0,0,0,0]
[null,"کاردکس 47",{"$f":"'تعریف کالا'!$C$51","v":0},{"$f":"'تعریف کالا'!$D$51","v":0},{"$f":"'تعریف کالا'!$E$51","v":0},{"$f":"'تعریف کالا'!$G$51","v":0},null,{"$f":"'تعریف کالا'!$F$51","v":0},null,0,null,null,null,null,null,null,null,null,null,null,null,null,null,null,0,0,0,0,0,0,0]
[null,"کاردکس 48",{"$f":"'تعریف کالا'!$C$52","v":0},{"$f":"'تعریف کالا'!$D$52","v":0},{"$f":"'تعریف کالا'!$E$52","v":0},{"$f":"'تعریف کالا'!$G$52","v":0},null,{"$f":"'تعریف کالا'!$F$52","v":0},null,0,null,null,null,null,null,null,null,null,null,null,null,null,null,null,0,0,0,0,0,0,0]
[null,"کاردکس 49",{"$f":"'تعریف کالا'!$C$53","v":0},{"$f":"'تعریف کالا'!$D$53","v":0},{"$f":"'تعریف کالا'!$E$53","v":0},{"$f":"'تعریف کالا'!$G$53","v":0},null,{"$f":"'تعریف کالا'!$F$53","v":0},null,0,null,null,null,null,null,null,null,null,null,null,null,null,null,null,0,0,0,0,0,0,0]
[null,"کاردکس 50",{"$f":"'تعریف کالا'!$C$54","v":0},{"$f":"'تعریف کالا'!$D$54","v":0},{"$f":"'تعریف کالا'!$E$54","v":0},{"$f":"'تعریف کالا'!$G$54","v":0},null,{"$f":"'تعریف کالا'!$F$54","v":0},null,0,null,null,null,null,null,null,null,null,null,null,null,null,null,null,0,0,0,0,0,0,0]
[null,"کاردکس 51",{"$f":"'تعریف کالا'!$C$55","v":0},{"$f":"'تعریف کالا'!$D$55","v":0},{"$f":"'تعریف کالا'!$E$55","v":0},{"$f":"'تعریف کالا'!$G$55","v":0},null,{"$f":"'تعریف کالا'!$F$55","v":0},null,0,null,null,null,null,null,null,null,null,null,null,null,null,null,null,0,0,0,0,0,0,0]
[null,"کاردکس 52",{"$f":"'تعریف کالا'!$C$56","v":0},{"$f":"'تعریف کالا'!$D$56","v":0},{"$f":"'تعریف کالا'!$E$56","v":0},{"$f":"'تعریف کالا'!$G$56","v":0},null,{"$f":"'تعریف کالا'!$F$56","v":0},null,0,null,null,null,null,null,null,null,null,null,null,null,null,null,null,0,0,0,0,0,0,0]
[null,"کاردکس 53",{"$f":"'تعریف کالا'!$C$57","v":0},{"$f":"'تعریف کالا'!$D$57","v":0},{"$f":"'تعریف کالا'!$E$57","v":0},{"$f":"'تعریف کالا'!$G$57","v":0},null,{"$f":"'تعریف کالا'!$F$57","v":0},null,0,null,null,null,null,null,null,null,null,null,null,null,null,null,null,0,0,0,0,0,0,0]
[null,"کاردکس 54",{"$f":"'تعریف کالا'!$C$58","v":0},{"$f":"'تعریف کالا'!$D$58","v":0},{"$f":"'تعریف کالا'!$E$58","v":0},{"$f":"'تعریف کالا'!$G$58","v":0},null,{"$f":"'تعریف کالا'!$F$58","v":0},null,0,null,null,null,null,null,null,null,null,null,null,null,null,null,null,0,0,0,0,0,0,0]
[null,"کاردکس 55",{"$f":"'تعریف کالا'!$C$59","v":0},{"$f":"'تعریف کالا'!$D$59","v":0},{"$f":"'تعریف کالا'!$E$59","v":0},{"$f":"'تعریف کالا'!$G$59","v":0},null,{"$f":"'تعریف کالا'!$F$59","v":0},null,0,null,null,null,null,null,null,null,null,null,null,null,null,null,null,0,0,0,0,0,0,0]
[null,"کاردکس 56",{"$f":"'تعریف کالا'!$C$60","v":0},{"$f":"'تعریف کالا'!$D$60","v":0},{"$f":"'تعریف کالا'!$E$60","v":0},{"$f":"'تعریف کالا'!$G$60","v":0},null,{"$f":"'تعریف کالا'!$F$60","v":0},null,0,null,null,null,null,null,null,null,null,null,null,null,null,null,null,0,0,0,0,0,0,0]
[null,"کاردکس 57",{"$f":"'تعریف کالا'!$C$61","v":0},{"$f":"'تعریف کالا'!$D$61","v":0},{"$f":"'تعریف کالا'!$E$61","v":0},{"$f":"'تعریف کالا'!$G$61","v":0},null,{"$f":"'تعریف کالا'!$F$61","v":0},null,0,null,null,null,null,null,null,null,null,null,null,null,null,null,null,0,0,0,0,0,0,0]
[null,"کاردکس 58",{"$f":"'تعریف کالا'!$C$62","v":0},{"$f":"'تعریف کالا'!$D$62","v":0},{"$f":"'تعریف کالا'!$E$62","v":0},{"$f":"'تعریف کالا'!$G$62","v":0},null,{"$f":"'تعریف کالا'!$F$62","v":0},null,0,null,null,null,null,null,null,null,null,null,null,null,null,null,null,0,0,0,0,0,0,0]
[null,"کاردکس 59",{"$f":"'تعریف کالا'!$C$63","v":0},{"$f":"'تعریف کالا'!$D$63","v":0},{"$f":"'تعریف کالا'!$E$63","v":0},{"$f":"'تعریف کالا'!$G$63","v":0},null,{"$f":"'تعریف کالا'!$F$63","v":0},null,0,null,null,null,null,null,null,null,null,null,null,null,null,null,null,0,0,0,0,0,0,0]
[null,"کاردکس 60",{"$f":"'تعریف کالا'!$C$64","v":0},{"$f":"'تعریف کالا'!$D$64","v":0},{"$f":"'تعریف کالا'!$E$64","v":0},{"$f":"'تعریف کالا'!$G$64","v":0},null,{"$f":"'تعریف کالا'!$F$64","v":0},null,0,null,null,null,null,null,null,null,null,null,null,null,null,null,null,0,0,0,0,0,0,0]
[null,"کاردکس 61",{"$f":"'تعریف کالا'!$C$65","v":0},{"$f":"'تعریف کالا'!$D$65","v":0},{"$f":"'تعریف کالا'!$E$65","v":0},{"$f":"'تعریف کالا'!$G$65","v":0},null,{"$f":"'تعریف کالا'!$F$65","v":0},null,0,null,null,null,null,null,null,null,null,null,null,null,null,null,null,0,0,0,0,0,0,0]
[null,"کاردکس 62",{"$f":"'تعریف کالا'!$C$66","v":0},{"$f":"'تعریف کالا'!$D$66","v":0},{"$f":"'تعریف کالا'!$E$66","v":0},{"$f":"'تعریف کالا'!$G$66","v":0},null,{"$f":"'تعریف کالا'!$F$66","v":0},null,0,null,null,null,null,null,null,null,null,null,null,null,null,null,null,0,0,0,0,0,0,0]
[null,"کاردکس 63",{"$f":"'تعریف کالا'!$C$67","v":0},{"$f":"'تعریف کالا'!$D$67","v":0},{"$f":"'تعریف کالا'!$E$67","v":0},{"$f":"'تعریف کالا'!$G$67","v":0},null,{"$f":"'تعریف کالا'!$F$67","v":0},null,0,null,null,null,null,null,null,null,null,null,null,null,null,null,null,0,0,0,0,0,0,0]
[null,"کاردکس 64",{"$f":"'تعریف کالا'!$C$68","v":0},{"$f":"'تعریف کالا'!$D$68","v":0},{"$f":"'تعریف کالا'!$E$68","v":0},{"$f":"'تعریف کالا'!$G$68","v":0},null,{"$f":"'تعریف کالا'!$F$68","v":0},null,0,null,null,null,null,null,null,null,null,null,null,null,null,null,null,0,0,0,0,0,0,0]
[null,"کاردکس 65",{"$f":"'تعریف کالا'!$C$69","v":0},{"$f":"'تعریف کالا'!$D$69","v":0},{"$f":"'تعریف کالا'!$E$69","v":0},{"$f":"'تعریف کالا'!$G$69","v":0},null,{"$f":"'تعریف کالا'!$F$69","v":0},null,0,null,null,null,null,null,null,null,null,null,null,null,null,null,null,0,0,0,0,0,0,0]
[null,"کاردکس 66",{"$f":"'تعریف کالا'!$C$70","v":0},{"$f":"'تعریف کالا'!$D$70","v":0},{"$f":"'تعریف کالا'!$E$70","v":0},{"$f":"'تعریف کالا'!$G$70","v":0},null,{"$f":"'تعریف کالا'!$F$70","v":0},null,0,null,null,null,null,null,null,null,null,null,null,null,null,null,null,0,{"$f":"D83","v":0},{"$f":"E83","v":0},{"$f":"F83","v":0},{"$f":"H83","v":0},{"$f":"I83","v":0},{"$f":"J83","v":0}]
[null,"کاردکس 67",{"$f":"'تعریف کالا'!$C$71","v":0},{"$f":"'تعریف کالا'!$D$71","v":0},{"$f":"'تعریف کالا'!$E$71","v":0},{"$f":"'تعریف کالا'!$G$71","v":0},null,{"$f":"'تعریف کالا'!$F$71","v":0},null,{"$f":"(F84*I84)-(F84*I84*G84%)","v":0},null,null,null,null,null,null,null,null,null,null,null,null,null,null,{"$f":"C84","v":0},0,0,0,0,0,0]
[null,"کاردکس 68",{"$f":"'تعریف کالا'!$C$72","v":0},{"$f":"'تعریف کالا'!$D$72","v":0},{"$f":"'تعریف کالا'!$E$72","v":0},{"$f":"'تعریف کالا'!$G$72","v":0},null,{"$f":"'تعریف کالا'!$F$72","v":0},null,0,null,null,null,null,null,null,null,null,null,null,null,null,null,null,0,0,0,0,0,0,0]
[null,"کاردکس 69",{"$f":"'تعریف کالا'!$C$73","v":0},{"$f":"'تعریف کالا'!$D$73","v":0},{"$f":"'تعریف کالا'!$E$73","v":0},{"$f":"'تعریف کالا'!$G$73","v":0},null,{"$f":"'تعریف کالا'!$F$73","v":0},null,0,null,null,null,null,null,null,null,null,null,null,null,null,null,null,0,0,0,0,0,0,0]
[null,"کاردکس 70",{"$f":"'تعریف کالا'!$C$74","v":0},{"$f":"'تعریف کالا'!$D$74","v":0},{"$f":"'تعریف کالا'!$E$74","v":0},{"$f":"'تعریف کالا'!$G$74","v":0},null,{"$f":"'تعریف کالا'!$F$74","v":0},null,0,null,null,null,null,null,null,null,null,null,null,null,null,null,null,0,0,0,0,0,0,0]
[null,"کاردکس 71",{"$f":"'تعریف کالا'!$C$75","v":0},{"$f":"'تعریف کالا'!$D$75","v":0},{"$f":"'تعریف کالا'!$E$75","v":0},{"$f":"'تعریف کالا'!$G$75","v":0},null,{"$f":"'تعریف کالا'!$F$75","v":0},null,0,null,null,null,null,null,null,null,null,null,null,null,null,null,null,0,0,0,0,0,0,0]
[null,"کاردکس 72",{"$f":"'تعریف کالا'!$C$76","v":0},{"$f":"'تعریف کالا'!$D$76","v":0},{"$f":"'تعریف کالا'!$E$76","v":0},{"$f":"'تعریف کالا'!$G$76","v":0},null,{"$f":"'تعریف کالا'!$F$76","v":0},null,0,null,null,null,null,null,null,null,null,null,null,null,null,null,null,0,0,0,0,0,0,0]
[null,"کاردکس 73",{"$f":"'تعریف کالا'!$C$77","v":0},{"$f":"'تعریف کالا'!$D$77","v":0},{"$f":"'تعریف کالا'!$E$77","v":0},{"$f":"'تعریف کالا'!$G$77","v":0},null,{"$f":"'تعریف کالا'!$F$77","v":0},null,0,null,null,null,null,null,null,null,null,null,null,null,null,null,null,0,0,0,0,0,0,0]
[null,"کاردکس 74",{"$f":"'تعریف کالا'!$C$78","v":0},{"$f":"'تعریف کالا'!$D$78","v":0},{"$f":"'تعریف کالا'!$E$78","v":0},{"$f":"'تعریف کالا'!$G$78","v":0},null,{"$f":"'تعریف کالا'!$F$78","v":0},null,0,null,null,null,null,null,null,null,null,null,null,null,null,null,null,0,0,0,0,0,0,0]
[null,"کاردکس 75",{"$f":"'تعریف کالا'!$C$79","v":0},{"$f":"'تعریف کالا'!$D$79","v":0},{"$f":"'تعریف کالا'!$E$79","v":0},{"$f":"'تعریف کالا'!$G$79","v":0},null,{"$f":"'تعریف کالا'!$F$79","v":0},null,0,null,null,null,null,null,null,null,null,null,null,null,null,null,null,0,0,0,0,0,0,0]
[null,"کاردکس 76",{"$f":"'تعریف کالا'!$C$80","v":0},{"$f":"'تعریف کالا'!$D$80","v":0},{"$f":"'تعریف کالا'!$E$80","v":0},{"$f":"'تعریف کالا'!$G$80","v":0},null,{"$f":"'تعریف کالا'!$F$80","v":0},null,0,null,null,null,null,null,null,null,null,null,null,null,null,null,null,0,0,0,0,0,0,0]
[null,"کاردکس 77",{"$f":"'تعریف کالا'!$C$81","v":0},{"$f":"'تعریف کالا'!$D$81","v":0},{"$f":"'تعریف کالا'!$E$81","v":0},{"$f":"'تعریف کالا'!$G$81","v":0},null,{"$f":"'تعریف کالا'!$F$81","v":0},null,0,null,null,null,null,null,null,null,null,null,null,null,null,null,null,0,0,0,0,0,0,0]
[null,"کاردکس 78",{"$f":"'تعریف کالا'!$C$82","v":0},{"$f":"'تعریف کالا'!$D$82","v":0},{"$f":"'تعریف کالا'!$E$82","v":0},{"$f":"'تعریف کالا'!$G$82","v":0},null,{"$f":"'تعریف کالا'!$F$82","v":0},null,0,null,null,null,null,null,null,null,null,null,null,null,null,null,null,0,0,0,0,0,0,0]
[null,"کاردکس 79",{"$f":"'تعریف کالا'!$C$83","v":0},{"$f":"'تعریف کالا'!$D$83","v":0},{"$f":"'تعریف کالا'!$E$83","v":0},{"$f":"'تعریف کالا'!$G$83","v":0},null,{"$f":"'تعریف کالا'!$F$83","v":0},null,0,null,null,null,null,null,null,null,null,null,null,null,null,null,null,0,0,0,0,0,0,0]
[null,"کاردکس 80",{"$f":"'تعریف کالا'!$C$84","v":0},{"$f":"'تعریف کالا'!$D$84","v":0},{"$f":"'تعریف کالا'!$E$84","v":0},{"$f":"'تعریف کالا'!$G$84","v":0},null,{"$f":"'تعریف کالا'!$F$84","v":0},null,0,null,null,null,null,null,null,null,null,null,null,null,null,null,null,0,0,0,0,0,0,0]
[null,"کاردکس 81",{"$f":"'تعریف کالا'!$C$85","v":0},{"$f":"'تعریف کالا'!$D$85","v":0},{"$f":"'تعریف کالا'!$E$85","v":0},{"$f":"'تعریف کالا'!$G$85","v":0},null,{"$f":"'تعریف کالا'!$F$85","v":0},null,0,null,null,null,null,null,null,null,null,null,null,null,null,null,null,0,0,0,0,0,0,0]
[null,"کاردکس 82",{"$f":"'تعریف کالا'!$C$86","v":0},{"$f":"'تعریف کالا'!$D$86","v":0},{"$f":"'تعریف کالا'!$E$86","v":0},{"$f":"'تعریف کالا'!$G$86","v":0},null,{"$f":"'تعریف کالا'!$F$86","v":0},null,0,null,null,null,null,null,null,null,null,null,null,null,null,null,null,0,0,0,0,0,0,0]
[null,"کاردکس 83",{"$f":"'تعریف کالا'!$C$87","v":0},{"$f":"'تعریف کالا'!$D$87","v":0},{"$f":"'تعریف کالا'!$E$87","v":0},{"$f":"'تعریف کالا'!$G$87","v":0},null,{"$f":"'تعریف کالا'!$F$87","v":0},null,0,null,null,null,null,null,null,null,null,null,null,null,null,null,null,0,0,0,0,0,0,0]
[null,"کاردکس 84",{"$f":"'تعریف کالا'!$C$88","v":0},{"$f":"'تعریف کالا'!$D$88","v":0},{"$f":"'تعریف کالا'!$E$88","v":0},{"$f":"'تعریف کالا'!$G$88","v":0},null,{"$f":"'تعریف کالا'!$F$88","v":0},null,0,null,null,null,null,null,null,null,null,null,null,null,null,null,null,0,0,0,0,0,0,0]
[null,"کاردکس 85",{"$f":"'تعریف کالا'!$C$89","v":0},{"$f":"'تعریف کالا'!$D$89","v":0},{"$f":"'تعریف کالا'!$E$89","v":0},{"$f":"'تعریف کالا'!$G$89","v":0},null,{"$f":"'تعریف کالا'!$F$89","v":0},null,0,null,null,null,null,null,null,null,null,null,null,null,null,null,null,0,0,0,0,0,0,0]
[null,"کاردکس 86",{"$f":"'تعریف کالا'!$C$90","v":0},{"$f":"'تعریف کالا'!$D$90","v":0},{"$f":"'تعریف کالا'!$E$90","v":0},{"$f":"'تعریف کالا'!$G$90","v":0},null,{"$f":"'تعریف کالا'!$F$90","v":0},null,0,null,null,null,null,null,null,null,null,null,null,null,null,null,null,0,0,0,0,0,0,0]
[null,"کاردکس 87",{"$f":"'تعریف کالا'!$C$91","v":0},{"$f":"'تعریف کالا'!$D$91","v":0},{"$f":"'تعریف کالا'!$E$91","v":0},{"$f":"'تعریف کالا'!$G$91","v":0},null,{"$f":"'تعریف کالا'!$F$91","v":0},null,0,null,null,null,null,null,null,null,null,null,null,null,null,null,null,0,0,0,0,0,0,0]
[null,"کاردکس 88",{"$f":"'تعریف کالا'!$C$92","v":0},{"$f":"'تعریف کالا'!$D$92","v":0},{"$f":"'تعریف کالا'!$E$92","v":0},{"$f":"'تعریف کالا'!$G$92","v":0},null,{"$f":"'تعریف کالا'!$F$92","v":0},null,0,null,null,null,null,null,null,null,null,null,null,null,null,null,null,0,0,0,0,0,0,0]
[null,"کاردکس 89",{"$f":"'تعریف کالا'!$C$93","v":0},{"$f":"'تعریف کالا'!$D$93","v":0},{"$f":"'تعریف کالا'!$E$93","v":0},{"$f":"'تعریف کالا'!$G$93","v":0},null,{"$f":"'تعریف کالا'!$F$93","v":0},null,0,null,null,null,null,null,null,null,null,null,null,null,null,null,null,0,0,0,0,0,0,0]
[null,"کاردکس 90",{"$f":"'تعریف کالا'!$C$94","v":0},{"$f":"'تعریف کالا'!$D$94","v":0},{"$f":"'تعریف کالا'!$E$94","v":0},{"$f":"'تعریف کالا'!$G$94","v":0},null,{"$f":"'تعریف کالا'!$F$94","v":0},null,0,null,null,null,null,null,null,null,null,null,null,null,null,null,null,0,0,0,0,0,0,0]
[null,"کاردکس 91",{"$f":"'تعریف کالا'!$C$95","v":0},{"$f":"'تعریف کالا'!$D$95","v":0},{"$f":"'تعریف کالا'!$E$95","v":0},{"$f":"'تعریف کالا'!$G$95","v":0},null,{"$f":"'تعریف کالا'!$F$95","v":0},null,0,null,null,null,null,null,null,null,null,null,null,null,null,null,null,0,0,0,0,0,0,0]
[null,"کاردکس 92",{"$f":"'تعریف کالا'!$C$96","v":0},{"$f":"'تعریف کالا'!$D$96","v":0},{"$f":"'تعریف کالا'!$E$96","v":0},{"$f":"'تعریف کالا'!$G$96","v":0},null,{"$f":"'تعریف کالا'!$F$96","v":0},null,0,null,null,null,null,null,null,null,null,null,null,null,null,null,null,0,0,0,0,0,0,0]
[null,"کاردکس 93",{"$f":"'تعریف کالا'!$C$97","v":0},{"$f":"'تعریف کالا'!$D$97","v":0},{"$f":"'تعریف کالا'!$E$97","v":0},{"$f":"'تعریف کالا'!$G$97","v":0},null,{"$f":"'تعریف کالا'!$F$97","v":0},null,0,null,null,null,null,null,null,null,null,null,null,null,null,null,null,0,0,0,0,0,0,0]
[null,"کاردکس 94",{"$f":"'تعریف کالا'!$C$98","v":0},{"$f":"'تعریف کالا'!$D$98","v":0},{"$f":"'تعریف کالا'!$E$98","v":0},{"$f":"'تعریف کالا'!$G$98","v":0},null,{"$f":"'تعریف کالا'!$F$98","v":0},null,0,null,null,null,null,null,null,null,null,null,null,null,null,null,null,0,0,0,0,0,0,0]
[null,"کاردکس 95",{"$f":"'تعریف کالا'!$C$99","v":0},{"$f":"'تعریف کالا'!$D$99","v":0},{"$f":"'تعریف کالا'!$E$99","v":0},{"$f":"'تعریف کالا'!$G$99","v":0},null,{"$f":"'تعریف کالا'!$F$99","v":0},null,0,null,null,null,null,null,null,null,null,null,null,null,null,null,null,0,0,0,0,0,0,0]
[null,"کاردکس 96",{"$f":"'تعریف کالا'!$C$100","v":0},{"$f":"'تعریف کالا'!$D$100","v":0},{"$f":"'تعریف کالا'!$E$100","v":0},{"$f":"'تعریف کالا'!$G$100","v":0},null,{"$f":"'تعریف کالا'!$F$100","v":0},null,0,null,null,null,null,null,null,null,null,null,null,null,null,null,null,0,0,0,0,0,0,0]
[null,"کاردکس 97",{"$f":"'تعریف کالا'!$C$101","v":0},{"$f":"'تعریف کالا'!$D$101","v":0},{"$f":"'تعریف کالا'!$E$101","v":0},{"$f":"'تعریف کالا'!$G$101","v":0},null,{"$f":"'تعریف کالا'!$F$101","v":0},null,0,null,null,null,null,null,null,null,null,null,null,null,null,null,null,0,0,0,0,0,0,0]
[null,"کاردکس 98",{"$f":"'تعریف کالا'!$C$102","v":0},{"$f":"'تعریف کالا'!$D$102","v":0},{"$f":"'تعریف کالا'!$E$102","v":0},{"$f":"'تعریف کالا'!$G$102","v":0},null,{"$f":"'تعریف کالا'!$F$102","v":0},null,0,null,null,null,null,null,null,null,null,null,null,null,null,null,null,0,0,0,0,0,0,0]
[null,"کاردکس 99",{"$f":"'تعریف کالا'!$C$103","v":0},{"$f":"'تعریف کالا'!$D$103","v":0},{"$f":"'تعریف کالا'!$E$103","v":0},{"$f":"'تعریف کالا'!$G$103","v":0},null,{"$f":"'تعریف کالا'!$F$103","v":0},null,0,null,null,null,null,null,null,null,null,null,null,null,null,null,null,0,0,0,0,0,0,0]
[null,"کاردکس 100",{"$f":"'تعریف کالا'!$C$104","v":0},{"$f":"'تعریف کالا'!$D$104","v":0},{"$f":"'تعریف کالا'!$E$104","v":0},{"$f":"'تعریف کالا'!$G$104","v":0},null,{"$f":"'تعریف کالا'!$F$104","v":0},null,0,null,null,null,null,null,null,null,null,null,null,null,null,null,null,0,0,0,0,0,0,0]
[null,"کاردکس 101",{"$f":"'تعریف کالا'!$C$105","v":0},{"$f":"'تعریف کالا'!$D$105","v":0},{"$f":"'تعریف کالا'!$E$105","v":0},{"$f":"'تعریف کالا'!$G$105","v":0},null,{"$f":"'تعریف کالا'!$F$105","v":0},null,0,null,null,null,null,null,null,null,null,null,null,null,null,null,null,0,0,0,0,0,0,0]
[null,"کاردکس 102",{"$f":"'تعریف کالا'!$C$106","v":0},{"$f":"'تعریف کالا'!$D$106","v":0},{"$f":"'تعریف کالا'!$E$106","v":0},{"$f":"'تعریف کالا'!$G$106","v":0},null,{"$f":"'تعریف کالا'!$F$106","v":0},null,0,null,null,null,null,null,null,null,null,null,null,null,null,null,null,0,0,0,0,0,0,0]
[null,"کاردکس 103",{"$f":"'تعریف کالا'!$C$107","v":0},{"$f":"'تعریف کالا'!$D$107","v":0},{"$f":"'تعریف کالا'!$E$107","v":0},{"$f":"'تعریف کالا'!$G$107","v":0},null,{"$f":"'تعریف کالا'!$F$107","v":0},null,0,null,null,null,null,null,null,null,null,null,null,null,null,null,null,0,0,0,0,0,0,0]
[null,"کاردکس 104",{"$f":"'تعریف کالا'!$C$108","v":0},{"$f":"'تعریف کالا'!$D$108","v":0},{"$f":"'تعریف کالا'!$E$108","v":0},{"$f":"'تعریف کالا'!$G$108","v":0},null,{"$f":"'تعریف کالا'!$F$108","v":0},null,0,null,null,null,null,null,null,null,null,null,null,null,null,null,null,0,0,0,0,0,0,0]
[null,"کاردکس 105",{"$f":"'تعریف کالا'!$C$109","v":0},{"$f":"'تعریف کالا'!$D$109","v":0},{"$f":"'تعریف کالا'!$E$109","v":0},{"$f":"'تعریف کالا'!$G$109","v":0},null,{"$f":"'تعریف کالا'!$F$109","v":0},null,0,null,null,null,null,null,null,null,null,null,null,null,null,null,null,0,0,0,0,0,0,0]
[null,"کاردکس 106",{"$f":"'تعریف کالا'!$C$110","v":0},{"$f":"'تعریف کالا'!$D$110","v":0},{"$f":"'تعریف کالا'!$E$110","v":0},{"$f":"'تعریف کالا'!$G$110","v":0},null,{"$f":"'تعریف کالا'!$F$110","v":0},null,0,null,null,null,null,null,null,null,null,null,null,null,null,null,null,0,0,0,0,0,0,0]
[null,"کاردکس 107",{"$f":"'تعریف کالا'!$C$111","v":0},{"$f":"'تعریف کالا'!$D$111","v":0},{"$f":"'تعریف کالا'!$E$111","v":0},{"$f":"'تعریف کالا'!$G$111","v":0},null,{"$f":"'تعریف کالا'!$F$111","v":0},null,0,null,null,null,null,null,null,null,null,null,null,null,null,null,null,0,0,0,0,0,0,0]
[null,"کاردکس 108",{"$f":"'تعریف کالا'!$C$112","v":0},{"$f":"'تعریف کالا'!$D$112","v":0},{"$f":"'تعریف کالا'!$E$112","v":0},{"$f":"'تعریف کالا'!$G$112","v":0},null,{"$f":"'تعریف کالا'!$F$112","v":0},null,0,null,null,null,null,null,null,null,null,null,null,null,null,null,null,0,0,0,0,0,0,0]
[null,"کاردکس 109",{"$f":"'تعریف کالا'!$C$113","v":0},{"$f":"'تعریف کالا'!$D$113","v":0},{"$f":"'تعریف کالا'!$E$113","v":0},{"$f":"'تعریف کالا'!$G$113","v":0},null,{"$f":"'تعریف کالا'!$F$113","v":0},null,0,null,null,null,null,null,null,null,null,null,null,null,null,null,null,0,0,0,0,0,0,0]
[null,"کاردکس 110",{"$f":"'تعریف کالا'!$C$114","v":0},{"$f":"'تعریف کالا'!$D$114","v":0},{"$f":"'تعریف کالا'!$E$114","v":0},{"$f":"'تعریف کالا'!$G$114","v":0},null,{"$f":"'تعریف کالا'!$F$114","v":0},null,0,null,null,null,null,null,null,null,null,null,null,null,null,null,null,0,0,0,0,0,0,0]
[null,"کاردکس 111",{"$f":"'تعریف کالا'!$C$115","v":0},{"$f":"'تعریف کالا'!$D$115","v":0},{"$f":"'تعریف کالا'!$E$115","v":0},{"$f":"'تعریف کالا'!$G$115","v":0},null,{"$f":"'تعریف کالا'!$F$115","v":0},null,0,null,null,null,null,null,null,null,null,null,null,null,null,null,null,0,0,0,0,0,0,0]
[null,"کاردکس 112",{"$f":"'تعریف کالا'!$C$116","v":0},{"$f":"'تعریف کالا'!$D$116","v":0},{"$f":"'تعریف کالا'!$E$116","v":0},{"$f":"'تعریف کالا'!$G$116","v":0},null,{"$f":"'تعریف کالا'!$F$116","v":0},null,0,null,null,null,null,null,null,null,null,null,null,null,null,null,null,0,0,0,0,0,0,0]
[null,"کاردکس 113",{"$f":"'تعریف کالا'!$C$117","v":0},{"$f":"'تعریف کالا'!$D$117","v":0},{"$f":"'تعریف کالا'!$E$117","v":0},{"$f":"'تعریف کالا'!$G$117","v":0},null,{"$f":"'تعریف کالا'!$F$117","v":0},null,0,null,null,null,null,null,null,null,null,null,null,null,null,null,null,0,0,0,0,0,0,0]
[null,"کاردکس 114",{"$f":"'تعریف کالا'!$C$118","v":0},{"$f":"'تعریف کالا'!$D$118","v":0},{"$f":"'تعریف کالا'!$E$118","v":0},{"$f":"'تعریف کالا'!$G$118","v":0},null,{"$f":"'تعریف کالا'!$F$118","v":0},null,0,null,null,null,null,null,null,null,null,null,null,null,null,null,null,0,0,0,0,0,0,0]
[null,"کاردکس 115",{"$f":"'تعریف کالا'!$C$119","v":0},{"$f":"'تعریف کالا'!$D$119","v":0},{"$f":"'تعریف کالا'!$E$119","v":0},{"$f":"'تعریف کالا'!$G$119","v":0},null,{"$f":"'تعریف کالا'!$F$119","v":0},null,0,null,null,null,null,null,null,null,null,null,null,null,null,null,null,0,0,0,0,0,0,0]
[null,"کاردکس 116",{"$f":"'تعریف کالا'!$C$120","v":0},{"$f":"'تعریف کالا'!$D$120","v":0},{"$f":"'تعریف کالا'!$E$120","v":0},{"$f":"'تعریف کالا'!$G$120","v":0},null,{"$f":"'تعریف کالا'!$F$120","v":0},null,0,null,null,null,null,null,null,null,null,null,null,null,null,null,null,0,0,0,0,0,0,0]
[null,"کاردکس 117",{"$f":"'تعریف کالا'!$C$121","v":0},{"$f":"'تعریف کالا'!$D$121","v":0},{"$f":"'تعریف کالا'!$E$121","v":0},{"$f":"'تعریف کالا'!$G$121","v":0},null,{"$f":"'تعریف کالا'!$F$121","v":0},null,0,null,null,null,null,null,null,null,null,null,null,null,null,null,null,0,0,0,0,0,0,0]
[null,"کاردکس 118",{"$f":"'تعریف کالا'!$C$122","v":0},{"$f":"'تعریف کالا'!$D$122","v":0},{"$f":"'تعریف کالا'!$E$122","v":0},{"$f":"'تعریف کالا'!$G$122","v":0},null,{"$f":"'تعریف کالا'!$F$122","v":0},null,0,null,null,null,null,null,null,null,null,null,null,null,null,null,null,0,0,0,0,0,0,0]
[null,"کاردکس 119",{"$f":"'تعریف کالا'!$C$123","v":0},{"$f":"'تعریف کالا'!$D$123","v":0},{"$f":"'تعریف کالا'!$E$123","v":0},{"$f":"'تعریف کالا'!$G$123","v":0},null,{"$f":"'تعریف کالا'!$F$123","v":0},null,0,null,null,null,null,null,null,null,null,null,null,null,null,null,null,0,0,0,0,0,0,0]
[null,"کاردکس 120",{"$f":"'تعریف کالا'!$C$124","v":0},{"$f":"'تعریف کالا'!$D$124","v":0},{"$f":"'تعریف کالا'!$E$124","v":0},{"$f":"'تعریف کالا'!$G$124","v":0},null,{"$f":"'تعریف کالا'!$F$124","v":0},null,0,null,null,null,null,null,null,null,null,null,null,null,null,null,null,0,0,0,0,0,0,0]
[null,"کاردکس 121",{"$f":"'تعریف کالا'!$C$125","v":0},{"$f":"'تعریف کالا'!$D$125","v":0},{"$f":"'تعریف کالا'!$E$125","v":0},{"$f":"'تعریف کالا'!$G$125","v":0},null,{"$f":"'تعریف کالا'!$F$125","v":0},null,0,null,null,null,null,null,null,null,null,null,null,null,null,null,null,0,0,0,0,0,0,0]
[null,"کاردکس 122",{"$f":"'تعریف کالا'!$C$126","v":0},{"$f":"'تعریف کالا'!$D$126","v":0},{"$f":"'تعریف کالا'!$E$126","v":0},{"$f":"'تعریف کالا'!$G$126","v":0},null,{"$f":"'تعریف کالا'!$F$126","v":0},null,0,null,null,null,null,null,null,null,null,null,null,null,null,null,null,0,0,0,0,0,0,0]
[null,"کاردکس 123",{"$f":"'تعریف کالا'!$C$127","v":0},{"$f":"'تعریف کالا'!$D$127","v":0},{"$f":"'تعریف کالا'!$E$127","v":0},{"$f":"'تعریف کالا'!$G$127","v":0},null,{"$f":"'تعریف کالا'!$F$127","v":0},null,0,null,null,null,null,null,null,null,null,null,null,null,null,null,null,0,0,0,0,0,0,0]
[null,"کاردکس 124",{"$f":"'تعریف کالا'!$C$128","v":0},{"$f":"'تعریف کالا'!$D$128","v":0},{"$f":"'تعریف کالا'!$E$128","v":0},{"$f":"'تعریف کالا'!$G$128","v":0},null,{"$f":"'تعریف کالا'!$F$128","v":0},null,0,null,null,null,null,null,null,null,null,null,null,null,null,null,null,0,0,0,0,0,0,0]
[null,"کاردکس 125",{"$f":"'تعریف کالا'!$C$129","v":0},{"$f":"'تعریف کالا'!$D$129","v":0},{"$f":"'تعریف کالا'!$E$129","v":0},{"$f":"'تعریف کالا'!$G$129","v":0},null,{"$f":"'تعریف کالا'!$F$129","v":0},null,0,null,null,null,null,null,null,null,null,null,null,null,null,null,null,0,0,0,0,0,0,0]
[null,"کاردکس 126",{"$f":"'تعریف کالا'!$C$130","v":0},{"$f":"'تعریف کالا'!$D$130","v":0},{"$f":"'تعریف کالا'!$E$130","v":0},{"$f":"'تعریف کالا'!$G$130","v":0},null,{"$f":"'تعریف کالا'!$F$130","v":0},null,0,null,null,null,null,null,null,null,null,null,null,null,null,null,null,0,0,0,0,0,0,0]
[null,"کاردکس 127",{"$f":"'تعریف کالا'!$C$131","v":0},{"$f":"'تعریف کالا'!$D$131","v":0},{"$f":"'تعریف کالا'!$E$131","v":0},{"$f":"'تعریف کالا'!$G$131","v":0},null,{"$f":"'تعریف کالا'!$F$131","v":0},null,0,null,null,null,null,null,null,null,null,null,null,null,null,null,null,0,0,0,0,0,0,0]
[null,"کاردکس 128",{"$f":"'تعریف کالا'!$C$132","v":0},{"$f":"'تعریف کالا'!$D$132","v":0},{"$f":"'تعریف کالا'!$E$132","v":0},{"$f":"'تعریف کالا'!$G$132","v":0},null,{"$f":"'تعریف کالا'!$F$132","v":0},null,0,null,null,null,null,null,null,null,null,null,null,null,null,null,null,0,0,0,0,0,0,0]
[null,"کاردکس 129",{"$f":"'تعریف کالا'!$C$133","v":0},{"$f":"'تعریف کالا'!$D$133","v":0},{"$f":"'تعریف کالا'!$E$133","v":0},{"$f":"'تعریف کالا'!$G$133","v":0},null,{"$f":"'تعریف کالا'!$F$133","v":0},null,0,null,null,null,null,null,null,null,null,null,null,null,null,null,null,0,0,0,0,0,0,0]
[null,"کاردکس 130",{"$f":"'تعریف کالا'!$C$134","v":0},{"$f":"'تعریف کالا'!$D$134","v":0},{"$f":"'تعریف کالا'!$E$134","v":0},{"$f":"'تعریف کالا'!$G$134","v":0},null,{"$f":"'تعریف کالا'!$F$134","v":0},null,0,null,null,null,null,null,null,null,null,null,null,null,null,null,null,0,{"$f":"D147","v":0},{"$f":"E147","v":0},{"$f":"F147","v":0},{"$f":"H147","v":0},{"$f":"I147","v":0},{"$f":"J147","v":0}]
[null,"کاردکس 131",{"$f":"'تعریف کالا'!$C$135","v":0},{"$f":"'تعریف کالا'!$D$135","v":0},{"$f":"'تعریف کالا'!$E$135","v":0},{"$f":"'تعریف کالا'!$G$135","v":0},null,{"$f":"'تعریف کالا'!$F$135","v":0},null,{"$f":"(F148*I148)-(F148*I148*G148%)","v":0},null,null,null,null,null,null,null,null,null,null,null,null,null,null,{"$f":"C148","v":0},0,0,0,0,0,0]
[null,"کاردکس 132",{"$f":"'تعریف کالا'!$C$136","v":0},{"$f":"'تعریف کالا'!$D$136","v":0},{"$f":"'تعریف کالا'!$E$136","v":0},{"$f":"'تعریف کالا'!$G$136","v":0},null,{"$f":"'تعریف کالا'!$F$136","v":0},null,0,null,null,null,null,null,null,null,null,null,null,null,null,null,null,0,0,0,0,0,0,0]
[null,"کاردکس 133",{"$f":"'تعریف کالا'!$C$137","v":0},{"$f":"'تعریف کالا'!$D$137","v":0},{"$f":"'تعریف کالا'!$E$137","v":0},{"$f":"'تعریف کالا'!$G$137","v":0},null,{"$f":"'تعریف کالا'!$F$137","v":0},null,0,null,null,null,null,null,null,null,null,null,null,null,null,null,null,0,0,0,0,0,0,0]
[null,"کاردکس 134",{"$f":"'تعریف کالا'!$C$138","v":0},{"$f":"'تعریف کالا'!$D$138","v":0},{"$f":"'تعریف کالا'!$E$138","v":0},{"$f":"'تعریف کالا'!$G$138","v":0},null,{"$f":"'تعریف کالا'!$F$138","v":0},null,0,null,null,null,null,null,null,null,null,null,null,null,null,null,null,0,0,0,0,0,0,0]
[null,"کاردکس 135",{"$f":"'تعریف کالا'!$C$139","v":0},{"$f":"'تعریف کالا'!$D$139","v":0},{"$f":"'تعریف کالا'!$E$139","v":0},{"$f":"'تعریف کالا'!$G$139","v":0},null,{"$f":"'تعریف کالا'!$F$139","v":0},null,0,null,null,null,null,null,null,null,null,null,null,null,null,null,null,0,0,0,0,0,0,0]
[null,"کاردکس 136",{"$f":"'تعریف کالا'!$C$140","v":0},{"$f":"'تعریف کالا'!$D$140","v":0},{"$f":"'تعریف کالا'!$E$140","v":0},{"$f":"'تعریف کالا'!$G$140","v":0},null,{"$f":"'تعریف کالا'!$F$140","v":0},null,0,null,null,null,null,null,null,null,null,null,null,null,null,null,null,0,0,0,0,0,0,0]
[null,"کاردکس 137",{"$f":"'تعریف کالا'!$C$141","v":0},{"$f":"'تعریف کالا'!$D$141","v":0},{"$f":"'تعریف کالا'!$E$141","v":0},{"$f":"'تعریف کالا'!$G$141","v":0},null,{"$f":"'تعریف کالا'!$F$141","v":0},null,0,null,null,null,null,null,null,null,null,null,null,null,null,null,null,0,0,0,0,0,0,0]
[null,"کاردکس 138",{"$f":"'تعریف کالا'!$C$142","v":0},{"$f":"'تعریف کالا'!$D$142","v":0},{"$f":"'تعریف کالا'!$E$142","v":0},{"$f":"'تعریف کالا'!$G$142","v":0},null,{"$f":"'تعریف کالا'!$F$142","v":0},null,0,null,null,null,null,null,null,null,null,null,null,null,null,null,null,0,0,0,0,0,0,0]
[null,"کاردکس 139",{"$f":"'تعریف کالا'!$C$143","v":0},{"$f":"'تعریف کالا'!$D$143","v":0},{"$f":"'تعریف کالا'!$E$143","v":0},{"$f":"'تعریف کالا'!$G$143","v":0},null,{"$f":"'تعریف کالا'!$F$143","v":0},null,0,null,null,null,null,null,null,null,null,null,null,null,null,null,null,0,0,0,0,0,0,0]
[null,"کاردکس 140",{"$f":"'تعریف کالا'!$C$144","v":0},{"$f":"'تعریف کالا'!$D$144","v":0},{"$f":"'تعریف کالا'!$E$144","v":0},{"$f":"'تعریف کالا'!$G$144","v":0},null,{"$f":"'تعریف کالا'!$F$144","v":0},null,0,null,null,null,null,null,null,null,null,null,null,null,null,null,null,0,0,0,0,0,0,0]
[null,"کاردکس 141",{"$f":"'تعریف کالا'!$C$145","v":0},{"$f":"'تعریف کالا'!$D$145","v":0},{"$f":"'تعریف کالا'!$E$145","v":0},{"$f":"'تعریف کالا'!$G$145","v":0},null,{"$f":"'تعریف کالا'!$F$145","v":0},null,0,null,null,null,null,null,null,null,null,null,null,null,null,null,null,0,0,0,0,0,0,0]
[null,"کاردکس 142",{"$f":"'تعریف کالا'!$C$146","v":0},{"$f":"'تعریف کالا'!$D$146","v":0},{"$f":"'تعریف کالا'!$E$146","v":0},{"$f":"'تعریف کالا'!$G$146","v":0},null,{"$f":"'تعریف کالا'!$F$146","v":0},null,0,null,null,null,null,null,null,null,null,null,null,null,null,null,null,0,0,0,0,0,0,0]
[null,"کاردکس 143",{"$f":"'تعریف کالا'!$C$147","v":0},{"$f":"'تعریف کالا'!$D$147","v":0},{"$f":"'تعریف کالا'!$E$147","v":0},{"$f":"'تعریف کالا'!$G$147","v":0},null,{"$f":"'تعریف کالا'!$F$147","v":0},null,0,null,null,null,null,null,null,null,null,null,null,null,null,null,null,0,0,0,0,0,0,0]
[null,"کاردکس 144",{"$f":"'تعریف کالا'!$C$148","v":0},{"$f":"'تعریف کالا'!$D$148","v":0},{"$f":"'تعریف کالا'!$E$148","v":0},{"$f":"'تعریف کالا'!$G$148","v":0},null,{"$f":"'تعریف کالا'!$F$148","v":0},null,0,null,null,null,null,null,null,null,null,null,null,null,null,null,null,0,0,0,0,0,0,0]
[null,"کاردکس 145",{"$f":"'تعریف کالا'!$C$149","v":0},{"$f":"'تعریف کالا'!$D$149","v":0},{"$f":"'تعریف کالا'!$E$149","v":0},{"$f":"'تعریف کالا'!$G$149","v":0},null,{"$f":"'تعریف کالا'!$F$149","v":0},null,0,null,null,null,null,null,null,null,null,null,null,null,null,null,null,0,0,0,0,0,0,0]
[null,"کاردکس 146",{"$f":"'تعریف کالا'!$C$150","v":0},{"$f":"'تعریف کالا'!$D$150","v":0},{"$f":"'تعریف کالا'!$E$150","v":0},{"$f":"'تعریف کالا'!$G$150","v":0},null,{"$f":"'تعریف کالا'!$F$150","v":0},null,0,null,null,null,null,null,null,null,null,null,null,null,null,null,null,0,0,0,0,0,0,0]
[null,"کاردکس 147",{"$f":"'تعریف کالا'!$C$151","v":0},{"$f":"'تعریف کالا'!$D$151","v":0},{"$f":"'تعریف کالا'!$E$151","v":0},{"$f":"'تعریف کالا'!$G$151","v":0},null,{"$f":"'تعریف کالا'!$F$151","v":0},null,0,null,null,null,null,null,null,null,null,null,null,null,null,null,null,0,0,0,0,0,0,0]
[null,"کاردکس 148",{"$f":"'تعریف کالا'!$C$152","v":0},{"$f":"'تعریف کالا'!$D$152","v":0},{"$f":"'تعریف کالا'!$E$152","v":0},{"$f":"'تعریف کالا'!$G$152","v":0},null,{"$f":"'تعریف کالا'!$F$152","v":0},null,0,null,null,null,null,null,null,null,null,null,null,null,null,null,null,0,0,0,0,0,0,0]
[null,"کاردکس 149",{"$f":"'تعریف کالا'!$C$153","v":0},{"$f":"'تعریف کالا'!$D$153","v":0},{"$f":"'تعریف کالا'!$E$153","v":0},{"$f":"'تعریف کالا'!$G$153","v":0},null,{"$f":"'تعریف کالا'!$F$153","v":0},null,0,null,null,null,null,null,null,null,null,null,null,null,null,null,null,0,0,0,0,0,0,0]
[null,"کاردکس 150",{"$f":"'تعریف کالا'!$C$154","v":0},{"$f":"'تعریف کالا'!$D$154","v":0},{"$f":"'تعریف کالا'!$E$154","v":0},{"$f":"'تعریف کالا'!$G$154","v":0},null,{"$f":"'تعریف کالا'!$F$154","v":0},null,0,null,null,null,null,null,null,null,null,null,null,null,null,null,null,0,0,0,0,0,0,0]
[null,"کاردکس 151",{"$f":"'تعریف کالا'!$C$155","v":0},{"$f":"'تعریف کالا'!$D$155","v":0},{"$f":"'تعریف کالا'!$E$155","v":0},{"$f":"'تعریف کالا'!$G$155","v":0},null,{"$f":"'تعریف کالا'!$F$155","v":0},null,0,null,null,null,null,null,null,null,null,null,null,null,null,null,null,0,0,0,0,0,0,0]
[null,"کاردکس 152",{"$f":"'تعریف کالا'!$C$156","v":0},{"$f":"'تعریف کالا'!$D$156","v":0},{"$f":"'تعریف کالا'!$E$156","v":0},{"$f":"'تعریف کالا'!$G$156","v":0},null,{"$f":"'تعریف کالا'!$F$156","v":0},null,0,null,null,null,null,null,null,null,null,null,null,null,null,null,null,0,0,0,0,0,0,0]
[null,"کاردکس 153",{"$f":"'تعریف کالا'!$C$157","v":0},{"$f":"'تعریف کالا'!$D$157","v":0},{"$f":"'تعریف کالا'!$E$157","v":0},{"$f":"'تعریف کالا'!$G$157","v":0},null,{"$f":"'تعریف کالا'!$F$157","v":0},null,0,null,null,null,null,null,null,null,null,null,null,null,null,null,null,0,0,0,0,0,0,0]
[null,"کاردکس 154",{"$f":"'تعریف کالا'!$C$158","v":0},{"$f":"'تعریف کالا'!$D$158","v":0},{"$f":"'تعریف کالا'!$E$158","v":0},{"$f":"'تعریف کالا'!$G$158","v":0},null,{"$f":"'تعریف کالا'!$F$158","v":0},null,0,null,null,null,null,null,null,null,null,null,null,null,null,null,null,0,0,0,0,0,0,0]
[null,"کاردکس 155",{"$f":"'تعریف کالا'!$C$159","v":0},{"$f":"'تعریف کالا'!$D$159","v":0},{"$f":"'تعریف کالا'!$E$159","v":0},{"$f":"'تعریف کالا'!$G$159","v":0},null,{"$f":"'تعریف کالا'!$F$159","v":0},null,0,null,null,null,null,null,null,null,null,null,null,null,null,null,null,0,0,0,0,0,0,0]
[null,"کاردکس 156",{"$f":"'تعریف کالا'!$C$160","v":0},{"$f":"'تعریف کالا'!$D$160","v":0},{"$f":"'تعریف کالا'!$E$160","v":0},{"$f":"'تعریف کالا'!$G$160","v":0},null,{"$f":"'تعریف کالا'!$F$160","v":0},null,0,null,null,null,null,null,null,null,null,null,null,null,null,null,null,0,0,0,0,0,0,0]
[null,"کاردکس 157",{"$f":"'تعریف کالا'!$C$161","v":0},{"$f":"'تعریف کالا'!$D$161","v":0},{"$f":"'تعریف کالا'!$E$161","v":0},{"$f":"'تعریف کالا'!$G$161","v":0},null,{"$f":"'تعریف کالا'!$F$161","v":0},null,0,null,null,null,null,null,null,null,null,null,null,null,null,null,null,0,0,0,0,0,0,0]
[null,"کاردکس 158",{"$f":"'تعریف کالا'!$C$162","v":0},{"$f":"'تعریف کالا'!$D$162","v":0},{"$f":"'تعریف کالا'!$E$162","v":0},{"$f":"'تعریف کالا'!$G$162","v":0},null,{"$f":"'تعریف کالا'!$F$162","v":0},null,0,null,null,null,null,null,null,null,null,null,null,null,null,null,null,0,0,0,0,0,0,0]
[null,"کاردکس 159",{"$f":"'تعریف کالا'!$C$163","v":0},{"$f":"'تعریف کالا'!$D$163","v":0},{"$f":"'تعریف کالا'!$E$163","v":0},{"$f":"'تعریف کالا'!$G$163","v":0},null,{"$f":"'تعریف کالا'!$F$163","v":0},null,0,null,null,null,null,null,null,null,null,null,null,null,null,null,null,0,0,0,0,0,0,0]
[null,"کاردکس 160",{"$f":"'تعریف کالا'!$C$164","v":0},{"$f":"'تعریف کالا'!$D$164","v":0},{"$f":"'تعریف کالا'!$E$164","v":0},{"$f":"'تعریف کالا'!$G$164","v":0},null,{"$f":"'تعریف کالا'!$F$164","v":0},null,0,null,null,null,null,null,null,null,null,null,null,null,null,null,null,0,0,0,0,0,0,0]
[null,"کاردکس 161",{"$f":"'تعریف کالا'!$C$165","v":0},{"$f":"'تعریف کالا'!$D$165","v":0},{"$f":"'تعریف کالا'!$E$165","v":0},{"$f":"'تعریف کالا'!$G$165","v":0},null,{"$f":"'تعریف کالا'!$F$165","v":0},null,0,null,null,null,null,null,null,null,null,null,null,null,null,null,null,0,0,0,0,0,0,0]
[null,"کاردکس 162",{"$f":"'تعریف کالا'!$C$166","v":0},{"$f":"'تعریف کالا'!$D$166","v":0},{"$f":"'تعریف کالا'!$E$166","v":0},{"$f":"'تعریف کالا'!$G$166","v":0},null,{"$f":"'تعریف کالا'!$F$166","v":0},null,0,null,null,null,null,null,null,null,null,null,null,null,null,null,null,0,0,0,0,0,0,0]
[null,"کاردکس 163",{"$f":"'تعریف کالا'!$C$167","v":0},{"$f":"'تعریف کالا'!$D$167","v":0},{"$f":"'تعریف کالا'!$E$167","v":0},{"$f":"'تعریف کالا'!$G$167","v":0},null,{"$f":"'تعریف کالا'!$F$167","v":0},null,0,null,null,null,null,null,null,null,null,null,null,null,null,null,null,0,0,0,0,0,0,0]
[null,"کاردکس 164",{"$f":"'تعریف کالا'!$C$168","v":0},{"$f":"'تعریف کالا'!$D$168","v":0},{"$f":"'تعریف کالا'!$E$168","v":0},{"$f":"'تعریف کالا'!$G$168","v":0},null,{"$f":"'تعریف کالا'!$F$168","v":0},null,0,null,null,null,null,null,null,null,null,null,null,null,null,null,null,0,0,0,0,0,0,0]
[null,"کاردکس 165",{"$f":"'تعریف کالا'!$C$169","v":0},{"$f":"'تعریف کالا'!$D$169","v":0},{"$f":"'تعریف کالا'!$E$169","v":0},{"$f":"'تعریف کالا'!$G$169","v":0},null,{"$f":"'تعریف کالا'!$F$169","v":0},null,0,null,null,null,null,null,null,null,null,null,null,null,null,null,null,0,0,0,0,0,0,0]
[null,"کاردکس 166",{"$f":"'تعریف کالا'!$C$170","v":0},{"$f":"'تعریف کالا'!$D$170","v":0},{"$f":"'تعریف کالا'!$E$170","v":0},{"$f":"'تعریف کالا'!$G$170","v":0},null,{"$f":"'تعریف کالا'!$F$170","v":0},null,0,null,null,null,null,null,null,null,null,null,null,null,null,null,null,0,0,0,0,0,0,0]
[null,"کاردکس 167",{"$f":"'تعریف کالا'!$C$171","v":0},{"$f":"'تعریف کالا'!$D$171","v":0},{"$f":"'تعریف کالا'!$E$171","v":0},{"$f":"'تعریف کالا'!$G$171","v":0},null,{"$f":"'تعریف کالا'!$F$171","v":0},null,0,null,null,null,null,null,null,null,null,null,null,null,null,null,null,0,0,0,0,0,0,0]
[null,"کاردکس 168",{"$f":"'تعریف کالا'!$C$172","v":0},{"$f":"'تعریف کالا'!$D$172","v":0},{"$f":"'تعریف کالا'!$E$172","v":0},{"$f":"'تعریف کالا'!$G$172","v":0},null,{"$f":"'تعریف کالا'!$F$172","v":0},null,0,null,null,null,null,null,null,null,null,null,null,null,null,null,null,0,0,0,0,0,0,0]
[null,"کاردکس 169",{"$f":"'تعریف کالا'!$C$173","v":0},{"$f":"'تعریف کالا'!$D$173","v":0},{"$f":"'تعریف کالا'!$E$173","v":0},{"$f":"'تعریف کالا'!$G$173","v":0},null,{"$f":"'تعریف کالا'!$F$173","v":0},null,0,null,null,null,null,null,null,null,null,null,null,null,null,null,null,0,0,0,0,0,0,0]
[null,"کاردکس 170",{"$f":"'تعریف کالا'!$C$174","v":0},{"$f":"'تعریف کالا'!$D$174","v":0},{"$f":"'تعریف کالا'!$E$174","v":0},{"$f":"'تعریف کالا'!$G$174","v":0},null,{"$f":"'تعریف کالا'!$F$174","v":0},null,0,null,null,null,null,null,null,null,null,null,null,null,null,null,null,0,0,0,0,0,0,0]
[null,"کاردکس 171",{"$f":"'تعریف کالا'!$C$175","v":0},{"$f":"'تعریف کالا'!$D$175","v":0},{"$f":"'تعریف کالا'!$E$175","v":0},{"$f":"'تعریف کالا'!$G$175","v":0},null,{"$f":"'تعریف کالا'!$F$175","v":0},null,0,null,null,null,null,null,null,null,null,null,null,null,null,null,null,0,0,0,0,0,0,0]
[null,"کاردکس 172",{"$f":"'تعریف کالا'!$C$176","v":0},{"$f":"'تعریف کالا'!$D$176","v":0},{"$f":"'تعریف کالا'!$E$176","v":0},{"$f":"'تعریف کالا'!$G$176","v":0},null,{"$f":"'تعریف کالا'!$F$176","v":0},null,0,null,null,null,null,null,null,null,null,null,null,null,null,null,null,0,0,0,0,0,0,0]
[null,"کاردکس 173",{"$f":"'تعریف کالا'!$C$177","v":0},{"$f":"'تعریف کالا'!$D$177","v":0},{"$f":"'تعریف کالا'!$E$177","v":0},{"$f":"'تعریف کالا'!$G$177","v":0},null,{"$f":"'تعریف کالا'!$F$177","v":0},null,0,null,null,null,null,null,null,null,null,null,null,null,null,null,null,0,0,0,0,0,0,0]
[null,"کاردکس 174",{"$f":"'تعریف کالا'!$C$178","v":0},{"$f":"'تعریف کالا'!$D$178","v":0},{"$f":"'تعریف کالا'!$E$178","v":0},{"$f":"'تعریف کالا'!$G$178","v":0},null,{"$f":"'تعریف کالا'!$F$178","v":0},null,0,null,null,null,null,null,null,null,null,null,null,null,null,null,null,0,0,0,0,0,0,0]
[null,"کاردکس 175",{"$f":"'تعریف کالا'!$C$179","v":0},{"$f":"'تعریف کالا'!$D$179","v":0},{"$f":"'تعریف کالا'!$E$179","v":0},{"$f":"'تعریف کالا'!$G$179","v":0},null,{"$f":"'تعریف کالا'!$F$179","v":0},null,0,null,null,null,null,null,null,null,null,null,null,null,null,null,null,0,0,0,0,0,0,0]
[null,"کاردکس 176",{"$f":"'تعریف کالا'!$C$180","v":0},{"$f":"'تعریف کالا'!$D$180","v":0},{"$f":"'تعریف کالا'!$E$180","v":0},{"$f":"'تعریف کالا'!$G$180","v":0},null,{"$f":"'تعریف کالا'!$F$180","v":0},null,0,null,null,null,null,null,null,null,null,null,null,null,null,null,null,0,0,0,0,0,0,0]
[null,"کاردکس 177",{"$f":"'تعریف کالا'!$C$181","v":0},{"$f":"'تعریف کالا'!$D$181","v":0},{"$f":"'تعریف کالا'!$E$181","v":0},{"$f":"'تعریف کالا'!$G$181","v":0},null,{"$f":"'تعریف کالا'!$F$181","v":0},null,0,null,null,null,null,null,null,null,null,null,null,null,null,null,null,0,0,0,0,0,0,0]
[null,"کاردکس 178",{"$f":"'تعریف کالا'!$C$182","v":0},{"$f":"'تعریف کالا'!$D$182","v":0},{"$f":"'تعریف کالا'!$E$182","v":0},{"$f":"'تعریف کالا'!$G$182","v":0},null,{"$f":"'تعریف کالا'!$F$182","v":0},null,0,null,null,null,null,null,null,null,null,null,null,null,null,null,null,0,0,0,0,0,0,0]
[null,"کاردکس 179",{"$f":"'تعریف کالا'!$C$183","v":0},{"$f":"'تعریف کالا'!$D$183","v":0},{"$f":"'تعریف کالا'!$E$183","v":0},{"$f":"'تعریف کالا'!$G$183","v":0},null,{"$f":"'تعریف کالا'!$F$183","v":0},null,0,null,null,null,null,null,null,null,null,null,null,null,null,null,null,0,0,0,0,0,0,0]
[null,"کاردکس 180",{"$f":"'تعریف کالا'!$C$184","v":0},{"$f":"'تعریف کالا'!$D$184","v":0},{"$f":"'تعریف کالا'!$E$184","v":0},{"$f":"'تعریف کالا'!$G$184","v":0},null,{"$f":"'تعریف کالا'!$F$184","v":0},null,0,null,null,null,null,null,null,null,null,null,null,null,null,null,null,0,0,0,0,0,0,0]
[null,"کاردکس 181",{"$f":"'تعریف کالا'!$C$185","v":0},{"$f":"'تعریف کالا'!$D$185","v":0},{"$f":"'تعریف کالا'!$E$185","v":0},{"$f":"'تعریف کالا'!$G$185","v":0},null,{"$f":"'تعریف کالا'!$F$185","v":0},null,0,null,null,null,null,null,null,null,null,null,null,null,null,null,null,0,0,0,0,0,0,0]
[null,"کاردکس 182",{"$f":"'تعریف کالا'!$C$186","v":0},{"$f":"'تعریف کالا'!$D$186","v":0},{"$f":"'تعریف کالا'!$E$186","v":0},{"$f":"'تعریف کالا'!$G$186","v":0},null,{"$f":"'تعریف کالا'!$F$186","v":0},null,0,null,null,null,null,null,null,null,null,null,null,null,null,null,null,0,0,0,0,0,0,0]
[null,"کاردکس 183",{"$f":"'تعریف کالا'!$C$187","v":0},{"$f":"'تعریف کالا'!$D$187","v":0},{"$f":"'تعریف کالا'!$E$187","v":0},{"$f":"'تعریف کالا'!$G$187","v":0},null,{"$f":"'تعریف کالا'!$F$187","v":0},null,0,null,null,null,null,null,null,null,null,null,null,null,null,null,null,0,0,0,0,0,0,0]
[null,"کاردکس 184",{"$f":"'تعریف کالا'!$C$18","v":0},{"$f":"'تعریف کالا'!$D$188","v":0},{"$f":"'تعریف کالا'!$E$188","v":0},{"$f":"'تعریف کالا'!$G$188","v":0},null,{"$f":"'تعریف کالا'!$F$188","v":0},null,0,null,null,null,null,null,null,null,null,null,null,null,null,null,null,0,0,0,0,0,0,0]
[null,"کاردکس 185",{"$f":"'تعریف کالا'!$C$189","v":0},{"$f":"'تعریف کالا'!$D$189","v":0},{"$f":"'تعریف کالا'!$E$189","v":0},{"$f":"'تعریف کالا'!$G$189","v":0},null,{"$f":"'تعریف کالا'!$F$189","v":0},null,0,null,null,null,null,null,null,null,null,null,null,null,null,null,null,0,0,0,0,0,0,0]
[null,"کاردکس 186",{"$f":"'تعریف کالا'!$C$190","v":0},{"$f":"'تعریف کالا'!$D$190","v":0},{"$f":"'تعریف کالا'!$E$190","v":0},{"$f":"'تعریف کالا'!$G$190","v":0},null,{"$f":"'تعریف کالا'!$F$190","v":0},null,0,null,null,null,null,null,null,null,null,null,null,null,null,null,null,0,0,0,0,0,0,0]
[null,"کاردکس 187",{"$f":"'تعریف کالا'!$C$191","v":0},{"$f":"'تعریف کالا'!$D$191","v":0},{"$f":"'تعریف کالا'!$E$191","v":0},{"$f":"'تعریف کالا'!$G$191","v":0},null,{"$f":"'تعریف کالا'!$F$191","v":0},null,0,null,null,null,null,null,null,null,null,null,null,null,null,null,null,0,0,0,0,0,0,0]
[null,"کاردکس 188",{"$f":"'تعریف کالا'!$C$192","v":0},{"$f":"'تعریف کالا'!$D$192","v":0},{"$f":"'تعریف کالا'!$E$192","v":0},{"$f":"'تعریف کالا'!$G$192","v":0},null,{"$f":"'تعریف کالا'!$F$192","v":0},null,0,null,null,null,null,null,null,null,null,null,null,null,null,null,null,0,0,0,0,0,0,0]
[null,"کاردکس 189",{"$f":"'تعریف کالا'!$C$193","v":0},{"$f":"'تعریف کالا'!$D$193","v":0},{"$f":"'تعریف کالا'!$E$193","v":0},{"$f":"'تعریف کالا'!$G$193","v":0},null,{"$f":"'تعریف کالا'!$F$193","v":0},null,0,null,null,null,null,null,null,null,null,null,null,null,null,null,null,0,0,0,0,0,0,0]
[null,"کاردکس 190",{"$f":"'تعریف کالا'!$C$194","v":0},{"$f":"'تعریف کالا'!$D$194","v":0},{"$f":"'تعریف کالا'!$E$194","v":0},{"$f":"'تعریف کالا'!$G$194","v":0},null,{"$f":"'تعریف کالا'!$F$194","v":0},null,0,null,null,null,null,null,null,null,null,null,null,null,null,null,null,0,0,0,0,0,0,0]
[null,"کاردکس 191",{"$f":"'تعریف کالا'!$C$195","v":0},{"$f":"'تعریف کالا'!$D$195","v":0},{"$f":"'تعریف کالا'!$E$195","v":0},{"$f":"'تعریف کالا'!$G$195","v":0},null,{"$f":"'تعریف کالا'!$F$195","v":0},null,0,null,null,null,null,null,null,null,null,null,null,null,null,null,null,0,0,0,0,0,0,0]
[null,"کاردکس 192",{"$f":"'تعریف کالا'!$C$196","v":0},{"$f":"'تعریف کالا'!$D$196","v":0},{"$f":"'تعریف کالا'!$E$196","v":0},{"$f":"'تعریف کالا'!$G$196","v":0},null,{"$f":"'تعریف کالا'!$F$196","v":0},null,0,null,null,null,null,null,null,null,null,null,null,null,null,null,null,0,0,0,0,0,0,0]
[null,"کاردکس 193",{"$f":"'تعریف کالا'!$C$197","v":0},{"$f":"'تعریف کالا'!$D$197","v":0},{"$f":"'تعریف کالا'!$E$197","v":0},{"$f":"'تعریف کالا'!$G$197","v":0},null,{"$f":"'تعریف کالا'!$F$197","v":0},null,0,null,null,null,null,null,null,null,null,null,null,null,null,null,null,0,0,0,0,0,0,0]
[null,"کاردکس 194",{"$f":"'تعریف کالا'!$C$198","v":0},{"$f":"'تعریف کالا'!$D$198","v":0},{"$f":"'تعریف کالا'!$E$198","v":0},{"$f":"'تعریف کالا'!$G$198","v":0},null,{"$f":"'تعریف کالا'!$F$198","v":0},null,0,null,null,null,null,null,null,null,null,null,null,null,null,null,null,0,{"$f":"D211","v":0},{"$f":"E211","v":0},{"$f":"F211","v":0},{"$f":"H211","v":0},{"$f":"I211","v":0},{"$f":"J211","v":0}]
[null,"کاردکس 195",{"$f":"'تعریف کالا'!$C$199","v":0},{"$f":"'تعریف کالا'!$D$199","v":0},{"$f":"'تعریف کالا'!$E$199","v":0},{"$f":"'تعریف کالا'!$G$199","v":0},null,{"$f":"'تعریف کالا'!$F$199","v":0},null,{"$f":"(F212*I212)-(F212*I212*G212%)","v":0},null,null,null,null,null,null,null,null,null,null,null,null,null,null,{"$f":"C212","v":0},0,0,0,0,0,0]
[null,"کاردکس 196",{"$f":"'تعریف کالا'!$C$200","v":0},{"$f":"'تعریف کالا'!$D$200","v":0},{"$f":"'تعریف کالا'!$E$200","v":0},{"$f":"'تعریف کالا'!$G$200","v":0},null,{"$f":"'تعریف کالا'!$F$200","v":0},null,0,null,null,null,null,null,null,null,null,null,null,null,null,null,null,0,0,0,0,0,0,0]
[null,"کاردکس 197",{"$f":"'تعریف کالا'!$C$201","v":0},{"$f":"'تعریف کالا'!$D$201","v":0},{"$f":"'تعریف کالا'!$E$201","v":0},{"$f":"'تعریف کالا'!$G$201","v":0},null,{"$f":"'تعریف کالا'!$F$201","v":0},null,0,null,null,null,null,null,null,null,null,null,null,null,null,null,null,0,0,0,0,0,0,0]
[null,"کاردکس 198",{"$f":"'تعریف کالا'!$C$202","v":0},{"$f":"'تعریف کالا'!$D$202","v":0},{"$f":"'تعریف کالا'!$E$202","v":0},{"$f":"'تعریف کالا'!$G$202","v":0},null,{"$f":"'تعریف کالا'!$F$202","v":0},null,0,null,null,null,null,null,null,null,null,null,null,null,null,null,null,0,0,0,0,0,0,0]
[null,"کاردکس 199",{"$f":"'تعریف کالا'!$C$203","v":0},{"$f":"'تعریف کالا'!$D$203","v":0},{"$f":"'تعریف کالا'!$E$203","v":0},{"$f":"'تعریف کالا'!$G$203","v":0},null,{"$f":"'تعریف کالا'!$F$203","v":0},null,0,null,null,null,null,null,null,null,null,null,null,null,null,null,null,0,0,0,0,0,0,0]
[null,"کاردکس 200",{"$f":"'تعریف کالا'!$C$204","v":0},{"$f":"'تعریف کالا'!$D$204","v":0},{"$f":"'تعریف کالا'!$E$204","v":0},{"$f":"'تعریف کالا'!$G$204","v":0},null,{"$f":"'تعریف کالا'!$F$204","v":0},null,0,null,null,null,null,null,null,null,null,null,null,null,null,null,null,0,0,0,0,0,0,0]
[null,"     جمع کل",null,{"$f":"abh(I218)&L214","v":"منفي "},null,null,null,null,{"$f":"SUM(J18:J217)","v":0},null,null,null,null,null,null,null,null,null,null,null,null,null,null,"مانده حساب",null,{"$f":"abh(AD218)& \"ریال\"","v":"منفي ریال"},null,null,null,{"$f":"I220","v":0}]
["    ","                  مبلغ قابل  پرداخت        ",null,{"$f":"abh(I219)&\"ریال\"","v":"منفي ریال"},null,null,null,null,{"$f":"J12","v":0},null,null,null,null,null,null,null,null,null,null,null,null,null,null,"شرح رویداد :",null,{"$f":"E15","v":0}]
[null,"مانده حساب",null,{"$f":"abh(I220)&\"ریال\"","v":"منفي ریال"},null,null,null,null,{"$f":"J13","v":0},null,null,null,null,null,null,null,null,null,null,null,null,null,null,"اقلام این فاکتور سالم تحویل اینجانب  ....................  شد.               "]
[]
[null,null,null,null,null,null,null,null,null,null,null,null,null,null,null,null,null,null,null,null,null,null,null,null,"امضا صادر کننده",null,"امضا فروشنده",null,"امضا مسئول انبار",null,"امضا خریدار"]
[]
[]
[]
[]
[]
[]
[null,null,"فاکتور فروش"]
[null,null,null,null,null,{"$f":"'صفحه اصلی'!$J$4","v":0},null,null,null,null,null,"فاکتور بعدی",null,null,null,null,null,null,null,null,null,null,null,"حواله تحویل کالا"]
[null,"شماره سند ",2,null,null,null,null,null,"تاریخ",null,null,null,null,null,null,null,null,null,null,null,null,null,null,null,null,null,{"$f":"F230","v":0},null,null,"تاریخ",{"$f":"J231","v":0}]
[null,"شماره فاکتور",2,null,null,null,null,null,"انبار",null,null,"مشاهده حواله",null,null,null,null,null,null,null,null,null,null,null,"شماره حواله",{"$f":"C232","v":2}]
[null,null,null,null,null,null,null,null,null,null,null,null,null,null,null,null,null,null,null,null,null,null,null,"شماره سند",{"$f":"C231","v":2}]
[null,null,null,null,null,"           درصد تخفیف  ",null,null,"تخفیف ",{"$f":"(I443*G234%)","v":0}]
[null,null,"نام خریدار","خسرو جهانشاهی",null,"          کرایه حمل",null,null,"کرایه حمل",{"$f":"G235","v":0}]
[null,null,null,null,null,"          مالیات",null,null,"مالیات",{"$f":"(I443-J234+J235)*G236%","v":0}]
[null,null,"پرداخت نقدی",null,null,null,null,null,"مبلغ قابل پرداخت",{"$f":"I443-J234+J235+J236","v":0},null,null,null,null,null,null,null,null,null,null,null,null,null,null,"خریدار:",{"$f":"D235","v":"خسرو جهانشاهی"}]
[null,null,"پرداخت با چک",null,null,null,null,null,"مانده حساب",{"$f":"J237-D237-D238","v":0}]
[null,null,null,null,null,null,null,null,null,null,null,null,null,null,null,null,null,null,null,null,null,null,null,null,"آدرس :",{"$f":"VLOOKUP(Z237,'مشخصات مشتریان'!$C$2:$D$502,2,FALSE)","v":0}]
[null,null,"ثبت چک","شرح رویداد"]
[]
[null,"شماره کاردکس","کد کالا","نام کالا","گروه بندی","قیمت واحد","درصد تخفیف","واحد شمارش","تعداد","قیمت کل",null,null,null,null,null,null,null,null,null,null,null,null,null,"ردیف","کد کالا","نام کالا","گروه بندی","قیمت واحد","واحد شمارش","تعداد","قیمت کل"]
[null,"کاردکس 1",{"$f":"'تعریف کالا'!$C$5","v":9011120},{"$f":"'تعریف کالا'!$D$5","v":"سی دی"},{"$f":"'تعریف کالا'!$E$5","v":"سخت افزار"},{"$f":"'تعریف کالا'!$G$5","v":3000},null,{"$f":"'تعریف کالا'!$F$5","v":"حلقه"},null,{"$f":"(F243*I243)-(F243*I243*G243%)","v":0},null,null,null,null,null,null,null,null,null,null,null,null,null,null,{"$f":"C243","v":9011120},{"$f":"D243","v":"سی دی"},{"$f":"E243","v":"سخت افزار"},{"$f":"F243","v":3000},{"$f":"H243","v":"حلقه"},{"$f":"I243","v":0},{"$f":"J243","v":0}]
[null,"کاردکس 2",{"$f":"'تعریف کالا'!$C$6","v":9011121},{"$f":"'تعریف کالا'!$D$6","v":"دی وی دی"},{"$f":"'تعریف کالا'!$E$6","v":"سخت افزار"},{"$f":"'تعریف کالا'!$G$6","v":7000},null,{"$f":"'تعریف کالا'!$F$6","v":"حلقه"},null,{"$f":"(F244*I244)-(F244*I244*G244%)","v":0},null,null,null,null,null,null,null,null,null,null,null,null,null,null,{"$f":"C244","v":9011121},{"$f":"D244","v":"دی وی دی"},{"$f":"E244","v":"سخت افزار"},{"$f":"F244","v":7000},{"$f":"H244","v":"حلقه"},{"$f":"I244","v":0},{"$f":"J244","v":0}]
[null,"کاردکس 3",{"$f":"'تعریف کالا'!$C$7","v":9011122},{"$f":"'تعریف کالا'!$D$7","v":"نوت بوک"},{"$f":"'تعریف کالا'!$E$7","v":"سخت افزار"},{"$f":"'تعریف کالا'!$G$7","v":10000000},null,{"$f":"'تعریف کالا'!$F$7","v":"دستگاه"},null,{"$f":"(F245*I245)-(F245*I245*G245%)","v":0},null,null,null,null,null,null,null,null,null,null,null,null,null,null,{"$f":"C245","v":9011122},"نوت بوک","سخت افزار",10000000,"دستگاه",0,0]
[null,"کاردکس 4",{"$f":"'تعریف کالا'!$C$8","v":0},{"$f":"'تعریف کالا'!$D$8","v":0},{"$f":"'تعریف کالا'!$E$8","v":0},{"$f":"'تعریف کالا'!$G$8","v":0},null,{"$f":"'تعریف کالا'!$F$8","v":0},null,0,null,null,null,null,null,null,null,null,null,null,null,null,null,null,0,0,0,0,0,0,0]
[null,"کاردکس 5",{"$f":"'تعریف کالا'!$C$9","v":0},{"$f":"'تعریف کالا'!$D$9","v":0},{"$f":"'تعریف کالا'!$E$9","v":0},{"$f":"'تعریف کالا'!$G$9","v":0},null,{"$f":"'تعریف کالا'!$F$9","v":0},null,0,null,null,null,null,null,null,null,null,null,null,null,null,null,null,0,0,0,0,0,0,0]
[null,"کاردکس 6",{"$f":"'تعریف کالا'!$C$10","v":0},{"$f":"'تعریف کالا'!$D$10","v":0},{"$f":"'تعریف کالا'!$E$10","v":0},{"$f":"'تعریف کالا'!$G$10","v":0},null,{"$f":"'تعریف کالا'!$F$10","v":0},null,0,null,null,null,null,null,null,null,null,null,null,null,null,null,null,0,0,0,0,0,0,0]
[null,"کاردکس 7",{"$f":"'تعریف کالا'!$C$11","v":0},{"$f":"'تعریف کالا'!$D$11","v":0},{"$f":"'تعریف کالا'!$E$11","v":0},{"$f":"'تعریف کالا'!$G$11","v":0},null,{"$f":"'تعریف کالا'!$F$11","v":0},null,0,null,null,null,null,null,null,null,null,null,null,null,null,null,null,0,0,0,0,0,0,0]
[null,"کاردکس 8",{"$f":"'تعریف کالا'!$C$12","v":0},{"$f":"'تعریف کالا'!$D$12","v":0},{"$f":"'تعریف کالا'!$E$12","v":0},{"$f":"'تعریف کالا'!$G$12","v":0},null,{"$f":"'تعریف کالا'!$F$12","v":0},null,0,null,null,null,null,null,null,null,null,null,null,null,null,null,null,0,0,0,0,0,0,0]
[null,"کاردکس 9",{"$f":"'تعریف کالا'!$C$13","v":0},{"$f":"'تعریف کالا'!$D$13","v":0},{"$f":"'تعریف کالا'!$E$13","v":0},{"$f":"'تعریف کالا'!$G$13","v":0},null,{"$f":"'تعریف کالا'!$F$13","v":0},null,0,null,null,null,null,null,null,null,null,null,null,null,null,null,null,0,0,0,0,0,0,0]
[null,"کاردکس 10",{"$f":"'تعریف کالا'!$C$14","v":0},{"$f":"'تعریف کالا'!$D$14","v":0},{"$f":"'تعریف کالا'!$E$14","v":0},{"$f":"'تعریف کالا'!$G$14","v":0},null,{"$f":"'تعریف کالا'!$F$14","v":0},null,0,null,null,null,null,null,null,null,null,null,null,null,null,null,null,0,0,0,0,0,0,0]
[null,"کاردکس 11",{"$f":"'تعریف کالا'!$C$15","v":0},{"$f":"'تعریف کالا'!$D$15","v":0},{"$f":"'تعریف کالا'!$E$15","v":0},{"$f":"'تعریف کالا'!$G$15","v":0},null,{"$f":"'تعریف کالا'!$F$15","v":0},null,0,null,null,null,null,null,null,null,null,null,null,null,null,null,null,0,0,0,0,0,0,0]
[null,"کاردکس 12",{"$f":"'تعریف کالا'!$C$16","v":0},{"$f":"'تعریف کالا'!$D$16","v":0},{"$f":"'تعریف کالا'!$E$16","v":0},{"$f":"'تعریف کالا'!$G$16","v":0},null,{"$f":"'تعریف کالا'!$F$16","v":0},null,0,null,null,null,null,null,null,null,null,null,null,null,null,null,null,0,0,0,0,0,0,0]
[null,"کاردکس 13",{"$f":"'تعریف کالا'!$C$17","v":0},{"$f":"'تعریف کالا'!$D$17","v":0},{"$f":"'تعریف کالا'!$E$17","v":0},{"$f":"'تعریف کالا'!$G$17","v":0},null,{"$f":"'تعریف کالا'!$F$17","v":0},null,0,null,null,null,null,null,null,null,null,null,null,null,null,null,null,0,0,0,0,0,0,0]
[null,"کاردکس 14",{"$f":"'تعریف کالا'!$C$18","v":0},{"$f":"'تعریف کالا'!$D$18","v":0},{"$f":"'تعریف کالا'!$E$18","v":0},{"$f":"'تعریف کالا'!$G$18","v":0},null,{"$f":"'تعریف کالا'!$F$18","v":0},null,0,null,null,null,null,null,null,null,null,null,null,null,null,null,null,0,0,0,0,0,0,0]
[null,"کاردکس 15",{"$f":"'تعریف کالا'!$C$19","v":0},{"$f":"'تعریف کالا'!$D$19","v":0},{"$f":"'تعریف کالا'!$E$19","v":0},{"$f":"'تعریف کالا'!$G$19","v":0},null,{"$f":"'تعریف کالا'!$F$19","v":0},null,0,null,null,null,null,null,null,null,null,null,null,null,null,null,null,0,0,0,0,0,0,0]
[null,"کاردکس 16",{"$f":"'تعریف کالا'!$C$20","v":0},{"$f":"'تعریف کالا'!$D$20","v":0},{"$f":"'تعریف کالا'!$E$20","v":0},{"$f":"'تعریف کالا'!$G$20","v":0},null,{"$f":"'تعریف کالا'!$F$20","v":0},null,0,null,null,null,null,null,null,null,null,null,null,null,null,null,null,0,0,0,0,0,0,0]
[null,"کاردکس 17",{"$f":"'تعریف کالا'!$C$21","v":0},{"$f":"'تعریف کالا'!$D$21","v":0},{"$f":"'تعریف کالا'!$E$21","v":0},{"$f":"'تعریف کالا'!$G$21","v":0},null,{"$f":"'تعریف کالا'!$F$21","v":0},null,0,null,null,null,null,null,null,null,null,null,null,null,null,null,null,0,0,0,0,0,0,0]
[null,"کاردکس 18",{"$f":"'تعریف کالا'!$C$22","v":0},{"$f":"'تعریف کالا'!$D$22","v":0},{"$f":"'تعریف کالا'!$E$22","v":0},{"$f":"'تعریف کالا'!$G$22","v":0},null,{"$f":"'تعریف کالا'!$F$22","v":0},null,0,null,null,null,null,null,null,null,null,null,null,null,null,null,null,0,0,0,0,0,0,0]
[null,"کاردکس 19",{"$f":"'تعریف کالا'!$C$23","v":0},{"$f":"'تعریف کالا'!$D$23","v":0},{"$f":"'تعریف کالا'!$E$23","v":0},{"$f":"'تعریف کالا'!$G$23","v":0},null,{"$f":"'تعریف کالا'!$F$23","v":0},null,0,null,null,null,null,null,null,null,null,null,null,null,null,null,null,0,0,0,0,0,0,0]
[null,"کاردکس 20",{"$f":"'تعریف کالا'!$C$24","v":0},{"$f":"'تعریف کالا'!$D$24","v":0},{"$f":"'تعریف کالا'!$E$24","v":0},{"$f":"'تعریف کالا'!$G$24","v":0},null,{"$f":"'تعریف کالا'!$F$24","v":0},null,0,null,null,null,null,null,null,null,null,null,null,null,null,null,null,0,0,0,0,0,0,0]
[null,"کاردکس 21",{"$f":"'تعریف کالا'!$C$25","v":0},{"$f":"'تعریف کالا'!$D$25","v":0},{"$f":"'تعریف کالا'!$E$25","v":0},{"$f":"'تعریف کالا'!$G$25","v":0},null,{"$f":"'تعریف کالا'!$F$25","v":0},null,0,null,null,null,null,null,null,null,null,null,null,null,null,null,null,0,0,0,0,0,0,0]
[null,"کاردکس 22",{"$f":"'تعریف کالا'!$C$26","v":0},{"$f":"'تعریف کالا'!$D$26","v":0},{"$f":"'تعریف کالا'!$E$26","v":0},{"$f":"'تعریف کالا'!$G$26","v":0},null,{"$f":"'تعریف کالا'!$F$26","v":0},null,0,null,null,null,null,null,null,null,null,null,null,null,null,null,null,0,0,0,0,0,0,0]
[null,"کاردکس 23",{"$f":"'تعریف کالا'!$C$27","v":0},{"$f":"'تعریف کالا'!$D$27","v":0},{"$f":"'تعریف کالا'!$E$27","v":0},{"$f":"'تعریف کالا'!$G$27","v":0},null,{"$f":"'تعریف کالا'!$F$27","v":0},null,0,null,null,null,null,null,null,null,null,null,null,null,null,null,null,0,0,0,0,0,0,0]
[null,"کاردکس 24",{"$f":"'تعریف کالا'!$C$28","v":0},{"$f":"'تعریف کالا'!$D$28","v":0},{"$f":"'تعریف کالا'!$E$28","v":0},{"$f":"'تعریف کالا'!$G$28","v":0},null,{"$f":"'تعریف کالا'!$F$28","v":0},null,0,null,null,null,null,null,null,null,null,null,null,null,null,null,null,0,0,0,0,0,0,0]
[null,"کاردکس 25",{"$f":"'تعریف کالا'!$C$29","v":0},{"$f":"'تعریف کالا'!$D$29","v":0},{"$f":"'تعریف کالا'!$E$29","v":0},{"$f":"'تعریف کالا'!$G$29","v":0},null,{"$f":"'تعریف کالا'!$F$29","v":0},null,0,null,null,null,null,null,null,null,null,null,null,null,null,null,null,0,0,0,0,0,0,0]
[null,"کاردکس 26",{"$f":"'تعریف کالا'!$C$30","v":0},{"$f":"'تعریف کالا'!$D$30","v":0},{"$f":"'تعریف کالا'!$E$30","v":0},{"$f":"'تعریف کالا'!$G$30","v":0},null,{"$f":"'تعریف کالا'!$F$30","v":0},null,0,null,null,null,null,null,null,null,null,null,null,null,null,null,null,0,0,0,0,0,0,0]
[null,"کاردکس 27",{"$f":"'تعریف کالا'!$C$31","v":0},{"$f":"'تعریف کالا'!$D$31","v":0},{"$f":"'تعریف کالا'!$E$31","v":0},{"$f":"'تعریف کالا'!$G$31","v":0},null,{"$f":"'تعریف کالا'!$F$31","v":0},null,0,null,null,null,null,null,null,null,null,null,null,null,null,null,null,0,0,0,0,0,0,0]
[null,"کاردکس 28",{"$f":"'تعریف کالا'!$C$32","v":0},{"$f":"'تعریف کالا'!$D$32","v":0},{"$f":"'تعریف کالا'!$E$32","v":0},{"$f":"'تعریف کالا'!$G$32","v":0},null,{"$f":"'تعریف کالا'!$F$32","v":0},null,0,null,null,null,null,null,null,null,null,null,null,null,null,null,null,0,0,0,0,0,0,0]
[null,"کاردکس 29",{"$f":"'تعریف کالا'!$C$33","v":0},{"$f":"'تعریف کالا'!$D$33","v":0},{"$f":"'تعریف کالا'!$E$33","v":0},{"$f":"'تعریف کالا'!$G$33","v":0},null,{"$f":"'تعریف کالا'!$F$33","v":0},null,0,null,null,null,null,null,null,null,null,null,null,null,null,null,null,0,0,0,0,0,0,0]
[null,"کاردکس 30",{"$f":"'تعریف کالا'!$C$34","v":0},{"$f":"'تعریف کالا'!$D$34","v":0},{"$f":"'تعریف کالا'!$E$34","v":0},{"$f":"'تعریف کالا'!$G$34","v":0},null,{"$f":"'تعریف کالا'!$F$34","v":0},null,0,null,null,null,null,null,null,null,null,null,null,null,null,null,null,0,0,0,0,0,0,0]
[null,"کاردکس 31",{"$f":"'تعریف کالا'!$C$35","v":0},{"$f":"'تعریف کالا'!$D$35","v":0},{"$f":"'تعریف کالا'!$E$35","v":0},{"$f":"'تعریف کالا'!$G$35","v":0},null,{"$f":"'تعریف کالا'!$F$35","v":0},null,0,null,null,null,null,null,null,null,null,null,null,null,null,null,null,0,0,0,0,0,0,0]
[null,"کاردکس 32",{"$f":"'تعریف کالا'!$C$36","v":0},{"$f":"'تعریف کالا'!$D$36","v":0},{"$f":"'تعریف کالا'!$E$36","v":0},{"$f":"'تعریف کالا'!$G$36","v":0},null,{"$f":"'تعریف کالا'!$F$36","v":0},null,0,null,null,null,null,null,null,null,null,null,null,null,null,null,null,0,0,0,0,0,0,0]
[null,"کاردکس 33",{"$f":"'تعریف کالا'!$C$37","v":0},{"$f":"'تعریف کالا'!$D$37","v":0},{"$f":"'تعریف کالا'!$E$37","v":0},{"$f":"'تعریف کالا'!$G$37","v":0},null,{"$f":"'تعریف کالا'!$F$37","v":0},null,0,null,null,null,null,null,null,null,null,null,null,null,null,null,null,0,0,0,0,0,0,0]
[null,"کاردکس 34",{"$f":"'تعریف کالا'!$C$38","v":0},{"$f":"'تعریف کالا'!$D$38","v":0},{"$f":"'تعریف کالا'!$E$38","v":0},{"$f":"'تعریف کالا'!$G$38","v":0},null,{"$f":"'تعریف کالا'!$F$38","v":0},null,0,null,null,null,null,null,null,null,null,null,null,null,null,null,null,0,0,0,0,0,0,0]
[null,"کاردکس 35",{"$f":"'تعریف کالا'!$C$39","v":0},{"$f":"'تعریف کالا'!$D$39","v":0},{"$f":"'تعریف کالا'!$E$39","v":0},{"$f":"'تعریف کالا'!$G$39","v":0},null,{"$f":"'تعریف کالا'!$F$39","v":0},null,0,null,null,null,null,null,null,null,null,null,null,null,null,null,null,0,0,0,0,0,0,0]
[null,"کاردکس 36",{"$f":"'تعریف کالا'!$C$40","v":0},{"$f":"'تعریف کالا'!$D$40","v":0},{"$f":"'تعریف کالا'!$E$40","v":0},{"$f":"'تعریف کالا'!$G$40","v":0},null,{"$f":"'تعریف کالا'!$F$40","v":0},null,0,null,null,null,null,null,null,null,null,null,null,null,null,null,null,0,0,0,0,0,0,0]
[null,"کاردکس 37",{"$f":"'تعریف کالا'!$C$41","v":0},{"$f":"'تعریف کالا'!$D$41","v":0},{"$f":"'تعریف کالا'!$E$41","v":0},{"$f":"'تعریف کالا'!$G$41","v":0},null,{"$f":"'تعریف کالا'!$F$41","v":0},null,0,null,null,null,null,null,null,null,null,null,null,null,null,null,null,0,0,0,0,0,0,0]
[null,"کاردکس 38",{"$f":"'تعریف کالا'!$C$42","v":0},{"$f":"'تعریف کالا'!$D$42","v":0},{"$f":"'تعریف کالا'!$E$42","v":0},{"$f":"'تعریف کالا'!$G$42","v":0},null,{"$f":"'تعریف کالا'!$F$42","v":0},null,0,null,null,null,null,null,null,null,null,null,null,null,null,null,null,0,0,0,0,0,0,0]
[null,"کاردکس 39",{"$f":"'تعریف کالا'!$C$43","v":0},{"$f":"'تعریف کالا'!$D$43","v":0},{"$f":"'تعریف کالا'!$E$43","v":0},{"$f":"'تعریف کالا'!$G$43","v":0},null,{"$f":"'تعریف کالا'!$F$43","v":0},null,0,null,null,null,null,null,null,null,null,null,null,null,null,null,null,0,0,0,0,0,0,0]
[null,"کاردکس 40",{"$f":"'تعریف کالا'!$C$44","v":0},{"$f":"'تعریف کالا'!$D$44","v":0},{"$f":"'تعریف کالا'!$E$44","v":0},{"$f":"'تعریف کالا'!$G$44","v":0},null,{"$f":"'تعریف کالا'!$F$44","v":0},null,0,null,null,null,null,null,null,null,null,null,null,null,null,null,null,0,0,0,0,0,0,0]
[null,"کاردکس 41",{"$f":"'تعریف کالا'!$C$45","v":0},{"$f":"'تعریف کالا'!$D$45","v":0},{"$f":"'تعریف کالا'!$E$45","v":0},{"$f":"'تعریف کالا'!$G$45","v":0},null,{"$f":"'تعریف کالا'!$F$45","v":0},null,0,null,null,null,null,null,null,null,null,null,null,null,null,null,null,0,0,0,0,0,0,0]
[null,"کاردکس 42",{"$f":"'تعریف کالا'!$C$46","v":0},{"$f":"'تعریف کالا'!$D$46","v":0},{"$f":"'تعریف کالا'!$E$46","v":0},{"$f":"'تعریف کالا'!$G$46","v":0},null,{"$f":"'تعریف کالا'!$F$46","v":0},null,0,null,null,null,null,null,null,null,null,null,null,null,null,null,null,0,0,0,0,0,0,0]
[null,"کاردکس 43",{"$f":"'تعریف کالا'!$C$47","v":0},{"$f":"'تعریف کالا'!$D$47","v":0},{"$f":"'تعریف کالا'!$E$47","v":0},{"$f":"'تعریف کالا'!$G$47","v":0},null,{"$f":"'تعریف کالا'!$F$47","v":0},null,0,null,null,null,null,null,null,null,null,null,null,null,null,null,null,0,0,0,0,0,0,0]
[null,"کاردکس 44",{"$f":"'تعریف کالا'!$C$48","v":0},{"$f":"'تعریف کالا'!$D$48","v":0},{"$f":"'تعریف کالا'!$E$48","v":0},{"$f":"'تعریف کالا'!$G$48","v":0},null,{"$f":"'تعریف کالا'!$F$48","v":0},null,0,null,null,null,null,null,null,null,null,null,null,null,null,null,null,0,0,0,0,0,0,0]
[null,"کاردکس 45",{"$f":"'تعریف کالا'!$C$49","v":0},{"$f":"'تعریف کالا'!$D$49","v":0},{"$f":"'تعریف کالا'!$E$49","v":0},{"$f":"'تعریف کالا'!$G$49","v":0},null,{"$f":"'تعریف کالا'!$F$49","v":0},null,0,null,null,null,null,null,null,null,null,null,null,null,null,null,null,0,0,0,0,0,0,0]
[null,"کاردکس 46",{"$f":"'تعریف کالا'!$C$50","v":0},{"$f":"'تعریف کالا'!$D$50","v":0},{"$f":"'تعریف کالا'!$E$50","v":0},{"$f":"'تعریف کالا'!$G$50","v":0},null,{"$f":"'تعریف کالا'!$F$50","v":0},null,0,null,null,null,null,null,null,null,null,null,null,null,null,null,null,0,0,0,0,0,0,0]
[null,"کاردکس 47",{"$f":"'تعریف کالا'!$C$51","v":0},{"$f":"'تعریف کالا'!$D$51","v":0},{"$f":"'تعریف کالا'!$E$51","v":0},{"$f":"'تعریف کالا'!$G$51","v":0},null,{"$f":"'تعریف کالا'!$F$51","v":0},null,0,null,null,null,null,null,null,null,null,null,null,null,null,null,null,0,0,0,0,0,0,0]
[null,"کاردکس 48",{"$f":"'تعریف کالا'!$C$52","v":0},{"$f":"'تعریف کالا'!$D$52","v":0},{"$f":"'تعریف کالا'!$E$52","v":0},{"$f":"'تعریف کالا'!$G$52","v":0},null,{"$f":"'تعریف کالا'!$F$52","v":0},null,0,null,null,null,null,null,null,null,null,null,null,null,null,null,null,0,0,0,0,0,0,0]
[null,"کاردکس 49",{"$f":"'تعریف کالا'!$C$53","v":0},{"$f":"'تعریف کالا'!$D$53","v":0},{"$f":"'تعریف کالا'!$E$53","v":0},{"$f":"'تعریف کالا'!$G$53","v":0},null,{"$f":"'تعریف کالا'!$F$53","v":0},null,0,null,null,null,null,null,null,null,null,null,null,null,null,null,null,0,0,0,0,0,0,0]
[null,"کاردکس 50",{"$f":"'تعریف کالا'!$C$54","v":0},{"$f":"'تعریف کالا'!$D$54","v":0},{"$f":"'تعریف کالا'!$E$54","v":0},{"$f":"'تعریف کالا'!$G$54","v":0},null,{"$f":"'تعریف کالا'!$F$54","v":0},null,0,null,null,null,null,null,null,null,null,null,null,null,null,null,null,0,0,0,0,0,0,0]
[null,"کاردکس 51",{"$f":"'تعریف کالا'!$C$55","v":0},{"$f":"'تعریف کالا'!$D$55","v":0},{"$f":"'تعریف کالا'!$E$55","v":0},{"$f":"'تعریف کالا'!$G$55","v":0},null,{"$f":"'تعریف کالا'!$F$55","v":0},null,0,null,null,null,null,null,null,null,null,null,null,null,null,null,null,0,0,0,0,0,0,0]
[null,"کاردکس 52",{"$f":"'تعریف کالا'!$C$56","v":0},{"$f":"'تعریف کالا'!$D$56","v":0},{"$f":"'تعریف کالا'!$E$56","v":0},{"$f":"'تعریف کالا'!$G$56","v":0},null,{"$f":"'تعریف کالا'!$F$56","v":0},null,0,null,null,null,null,null,null,null,null,null,null,null,null,null,null,0,0,0,0,0,0,0]
[null,"کاردکس 53",{"$f":"'تعریف کالا'!$C$57","v":0},{"$f":"'تعریف کالا'!$D$57","v":0},{"$f":"'تعریف کالا'!$E$57","v":0},{"$f":"'تعریف کالا'!$G$57","v":0},null,{"$f":"'تعریف کالا'!$F$57","v":0},null,0,null,null,null,null,null,null,null,null,null,null,null,null,null,null,0,0,0,0,0,0,0]
[null,"کاردکس 54",{"$f":"'تعریف کالا'!$C$58","v":0},{"$f":"'تعریف کالا'!$D$58","v":0},{"$f":"'تعریف کالا'!$E$58","v":0},{"$f":"'تعریف کالا'!$G$58","v":0},null,{"$f":"'تعریف کالا'!$F$58","v":0},null,0,null,null,null,null,null,null,null,null,null,null,null,null,null,null,0,0,0,0,0,0,0]
[null,"کاردکس 55",{"$f":"'تعریف کالا'!$C$59","v":0},{"$f":"'تعریف کالا'!$D$59","v":0},{"$f":"'تعریف کالا'!$E$59","v":0},{"$f":"'تعریف کالا'!$G$59","v":0},null,{"$f":"'تعریف کالا'!$F$59","v":0},null,0,null,null,null,null,null,null,null,null,null,null,null,null,null,null,0,0,0,0,0,0,0]
[null,"کاردکس 56",{"$f":"'تعریف کالا'!$C$60","v":0},{"$f":"'تعریف کالا'!$D$60","v":0},{"$f":"'تعریف کالا'!$E$60","v":0},{"$f":"'تعریف کالا'!$G$60","v":0},null,{"$f":"'تعریف کالا'!$F$60","v":0},null,0,null,null,null,null,null,null,null,null,null,null,null,null,null,null,0,0,0,0,0,0,0]
[null,"کاردکس 57",{"$f":"'تعریف کالا'!$C$61","v":0},{"$f":"'تعریف کالا'!$D$61","v":0},{"$f":"'تعریف کالا'!$E$61","v":0},{"$f":"'تعریف کالا'!$G$61","v":0},null,{"$f":"'تعریف کالا'!$F$61","v":0},null,0,null,null,null,null,null,null,null,null,null,null,null,null,null,null,0,0,0,0,0,0,0]
[null,"کاردکس 58",{"$f":"'تعریف کالا'!$C$62","v":0},{"$f":"'تعریف کالا'!$D$62","v":0},{"$f":"'تعریف کالا'!$E$62","v":0},{"$f":"'تعریف کالا'!$G$62","v":0},null,{"$f":"'تعریف کالا'!$F$62","v":0},null,0,null,null,null,null,null,null,null,null,null,null,null,null,null,null,0,0,0,0,0,0,0]
[null,"کاردکس 59",{"$f":"'تعریف کالا'!$C$63","v":0},{"$f":"'تعریف کالا'!$D$63","v":0},{"$f":"'تعریف کالا'!$E$63","v":0},{"$f":"'تعریف کالا'!$G$63","v":0},null,{"$f":"'تعریف کالا'!$F$63","v":0},null,0,null,null,null,null,null,null,null,null,null,null,null,null,null,null,0,0,0,0,0,0,0]
[null,"کاردکس 60",{"$f":"'تعریف کالا'!$C$64","v":0},{"$f":"'تعریف کالا'!$D$64","v":0},{"$f":"'تعریف کالا'!$E$64","v":0},{"$f":"'تعریف کالا'!$G$64","v":0},null,{"$f":"'تعریف کالا'!$F$64","v":0},null,0,null,null,null,null,null,null,null,null,null,null,null,null,null,null,0,0,0,0,0,0,0]
[null,"کاردکس 61",{"$f":"'تعریف کالا'!$C$65","v":0},{"$f":"'تعریف کالا'!$D$65","v":0},{"$f":"'تعریف کالا'!$E$65","v":0},{"$f":"'تعریف کالا'!$G$65","v":0},null,{"$f":"'تعریف کالا'!$F$65","v":0},null,0,null,null,null,null,null,null,null,null,null,null,null,null,null,null,0,0,0,0,0,0,0]
[null,"کاردکس 62",{"$f":"'تعریف کالا'!$C$66","v":0},{"$f":"'تعریف کالا'!$D$66","v":0},{"$f":"'تعریف کالا'!$E$66","v":0},{"$f":"'تعریف کالا'!$G$66","v":0},null,{"$f":"'تعریف کالا'!$F$66","v":0},null,0,null,null,null,null,null,null,null,null,null,null,null,null,null,null,0,0,0,0,0,0,0]
[null,"کاردکس 63",{"$f":"'تعریف کالا'!$C$67","v":0},{"$f":"'تعریف کالا'!$D$67","v":0},{"$f":"'تعریف کالا'!$E$67","v":0},{"$f":"'تعریف کالا'!$G$67","v":0},null,{"$f":"'تعریف کالا'!$F$67","v":0},null,0,null,null,null,null,null,null,null,null,null,null,null,null,null,null,0,0,0,0,0,0,0]
[null,"کاردکس 64",{"$f":"'تعریف کالا'!$C$68","v":0},{"$f":"'تعریف کالا'!$D$68","v":0},{"$f":"'تعریف کالا'!$E$68","v":0},{"$f":"'تعریف کالا'!$G$68","v":0},null,{"$f":"'تعریف کالا'!$F$68","v":0},null,0,null,null,null,null,null,null,null,null,null,null,null,null,null,null,0,0,0,0,0,0,0]
[null,"کاردکس 65",{"$f":"'تعریف کالا'!$C$69","v":0},{"$f":"'تعریف کالا'!$D$69","v":0},{"$f":"'تعریف کالا'!$E$69","v":0},{"$f":"'تعریف کالا'!$G$69","v":0},null,{"$f":"'تعریف کالا'!$F$69","v":0},null,0,null,null,null,null,null,null,null,null,null,null,null,null,null,null,0,0,0,0,0,0,0]
[null,"کاردکس 66",{"$f":"'تعریف کالا'!$C$70","v":0},{"$f":"'تعریف کالا'!$D$70","v":0},{"$f":"'تعریف کالا'!$E$70","v":0},{"$f":"'تعریف کالا'!$G$70","v":0},null,{"$f":"'تعریف کالا'!$F$70","v":0},null,0,null,null,null,null,null,null,null,null,null,null,null,null,null,null,0,{"$f":"D308","v":0},{"$f":"E308","v":0},{"$f":"F308","v":0},{"$f":"H308","v":0},{"$f":"I308","v":0},{"$f":"J308","v":0}]
[null,"کاردکس 67",{"$f":"'تعریف کالا'!$C$71","v":0},{"$f":"'تعریف کالا'!$D$71","v":0},{"$f":"'تعریف کالا'!$E$71","v":0},{"$f":"'تعریف کالا'!$G$71","v":0},null,{"$f":"'تعریف کالا'!$F$71","v":0},null,{"$f":"(F309*I309)-(F309*I309*G309%)","v":0},null,null,null,null,null,null,null,null,null,null,null,null,null,null,{"$f":"C309","v":0},0,0,0,0,0,0]
[null,"کاردکس 68",{"$f":"'تعریف کالا'!$C$72","v":0},{"$f":"'تعریف کالا'!$D$72","v":0},{"$f":"'تعریف کالا'!$E$72","v":0},{"$f":"'تعریف کالا'!$G$72","v":0},null,{"$f":"'تعریف کالا'!$F$72","v":0},null,0,null,null,null,null,null,null,null,null,null,null,null,null,null,null,0,0,0,0,0,0,0]
[null,"کاردکس 69",{"$f":"'تعریف کالا'!$C$73","v":0},{"$f":"'تعریف کالا'!$D$73","v":0},{"$f":"'تعریف کالا'!$E$73","v":0},{"$f":"'تعریف کالا'!$G$73","v":0},null,{"$f":"'تعریف کالا'!$F$73","v":0},null,0,null,null,null,null,null,null,null,null,null,null,null,null,null,null,0,0,0,0,0,0,0]
[null,"کاردکس 70",{"$f":"'تعریف کالا'!$C$74","v":0},{"$f":"'تعریف کالا'!$D$74","v":0},{"$f":"'تعریف کالا'!$E$74","v":0},{"$f":"'تعریف کالا'!$G$74","v":0},null,{"$f":"'تعریف کالا'!$F$74","v":0},null,0,null,null,null,null,null,null,null,null,null,null,null,null,null,null,0,0,0,0,0,0,0]
[null,"کاردکس 71",{"$f":"'تعریف کالا'!$C$75","v":0},{"$f":"'تعریف کالا'!$D$75","v":0},{"$f":"'تعریف کالا'!$E$75","v":0},{"$f":"'تعریف کالا'!$G$75","v":0},null,{"$f":"'تعریف کالا'!$F$75","v":0},null,0,null,null,null,null,null,null,null,null,null,null,null,null,null,null,0,0,0,0,0,0,0]
[null,"کاردکس 72",{"$f":"'تعریف کالا'!$C$76","v":0},{"$f":"'تعریف کالا'!$D$76","v":0},{"$f":"'تعریف کالا'!$E$76","v":0},{"$f":"'تعریف کالا'!$G$76","v":0},null,{"$f":"'تعریف کالا'!$F$76","v":0},null,0,null,null,null,null,null,null,null,null,null,null,null,null,null,null,0,0,0,0,0,0,0]
[null,"کاردکس 73",{"$f":"'تعریف کالا'!$C$77","v":0},{"$f":"'تعریف کالا'!$D$77","v":0},{"$f":"'تعریف کالا'!$E$77","v":0},{"$f":"'تعریف کالا'!$G$77","v":0},null,{"$f":"'تعریف کالا'!$F$77","v":0},null,0,null,null,null,null,null,null,null,null,null,null,null,null,null,null,0,0,0,0,0,0,0]
[null,"کاردکس 74",{"$f":"'تعریف کالا'!$C$78","v":0},{"$f":"'تعریف کالا'!$D$78","v":0},{"$f":"'تعریف کالا'!$E$78","v":0},{"$f":"'تعریف کالا'!$G$78","v":0},null,{"$f":"'تعریف کالا'!$F$78","v":0},null,0,null,null,null,null,null,null,null,null,null,null,null,null,null,null,0,0,0,0,0,0,0]
[null,"کاردکس 75",{"$f":"'تعریف کالا'!$C$79","v":0},{"$f":"'تعریف کالا'!$D$79","v":0},{"$f":"'تعریف کالا'!$E$79","v":0},{"$f":"'تعریف کالا'!$G$79","v":0},null,{"$f":"'تعریف کالا'!$F$79","v":0},null,0,null,null,null,null,null,null,null,null,null,null,null,null,null,null,0,0,0,0,0,0,0]
[null,"کاردکس 76",{"$f":"'تعریف کالا'!$C$80","v":0},{"$f":"'تعریف کالا'!$D$80","v":0},{"$f":"'تعریف کالا'!$E$80","v":0},{"$f":"'تعریف کالا'!$G$80","v":0},null,{"$f":"'تعریف کالا'!$F$80","v":0},null,0,null,null,null,null,null,null,null,null,null,null,null,null,null,null,0,0,0,0,0,0,0]
[null,"کاردکس 77",{"$f":"'تعریف کالا'!$C$81","v":0},{"$f":"'تعریف کالا'!$D$81","v":0},{"$f":"'تعریف کالا'!$E$81","v":0},{"$f":"'تعریف کالا'!$G$81","v":0},null,{"$f":"'تعریف کالا'!$F$81","v":0},null,0,null,null,null,null,null,null,null,null,null,null,null,null,null,null,0,0,0,0,0,0,0]
[null,"کاردکس 78",{"$f":"'تعریف کالا'!$C$82","v":0},{"$f":"'تعریف کالا'!$D$82","v":0},{"$f":"'تعریف کالا'!$E$82","v":0},{"$f":"'تعریف کالا'!$G$82","v":0},null,{"$f":"'تعریف کالا'!$F$82","v":0},null,0,null,null,null,null,null,null,null,null,null,null,null,null,null,null,0,0,0,0,0,0,0]
[null,"کاردکس 79",{"$f":"'تعریف کالا'!$C$83","v":0},{"$f":"'تعریف کالا'!$D$83","v":0},{"$f":"'تعریف کالا'!$E$83","v":0},{"$f":"'تعریف کالا'!$G$83","v":0},null,{"$f":"'تعریف کالا'!$F$83","v":0},null,0,null,null,null,null,null,null,null,null,null,null,null,null,null,null,0,0,0,0,0,0,0]
[null,"کاردکس 80",{"$f":"'تعریف کالا'!$C$84","v":0},{"$f":"'تعریف کالا'!$D$84","v":0},{"$f":"'تعریف کالا'!$E$84","v":0},{"$f":"'تعریف کالا'!$G$84","v":0},null,{"$f":"'تعریف کالا'!$F$84","v":0},null,0,null,null,null,null,null,null,null,null,null,null,null,null,null,null,0,0,0,0,0,0,0]
[null,"کاردکس 81",{"$f":"'تعریف کالا'!$C$85","v":0},{"$f":"'تعریف کالا'!$D$85","v":0},{"$f":"'تعریف کالا'!$E$85","v":0},{"$f":"'تعریف کالا'!$G$85","v":0},null,{"$f":"'تعریف کالا'!$F$85","v":0},null,0,null,null,null,null,null,null,null,null,null,null,null,null,null,null,0,0,0,0,0,0,0]
[null,"کاردکس 82",{"$f":"'تعریف کالا'!$C$86","v":0},{"$f":"'تعریف کالا'!$D$86","v":0},{"$f":"'تعریف کالا'!$E$86","v":0},{"$f":"'تعریف کالا'!$G$86","v":0},null,{"$f":"'تعریف کالا'!$F$86","v":0},null,0,null,null,null,null,null,null,null,null,null,null,null,null,null,null,0,0,0,0,0,0,0]
[null,"کاردکس 83",{"$f":"'تعریف کالا'!$C$87","v":0},{"$f":"'تعریف کالا'!$D$87","v":0},{"$f":"'تعریف کالا'!$E$87","v":0},{"$f":"'تعریف کالا'!$G$87","v":0},null,{"$f":"'تعریف کالا'!$F$87","v":0},null,0,null,null,null,null,null,null,null,null,null,null,null,null,null,null,0,0,0,0,0,0,0]
[null,"کاردکس 84",{"$f":"'تعریف کالا'!$C$88","v":0},{"$f":"'تعریف کالا'!$D$88","v":0},{"$f":"'تعریف کالا'!$E$88","v":0},{"$f":"'تعریف کالا'!$G$88","v":0},null,{"$f":"'تعریف کالا'!$F$88","v":0},null,0,null,null,null,null,null,null,null,null,null,null,null,null,null,null,0,0,0,0,0,0,0]
[null,"کاردکس 85",{"$f":"'تعریف کالا'!$C$89","v":0},{"$f":"'تعریف کالا'!$D$89","v":0},{"$f":"'تعریف کالا'!$E$89","v":0},{"$f":"'تعریف کالا'!$G$89","v":0},null,{"$f":"'تعریف کالا'!$F$89","v":0},null,0,null,null,null,null,null,null,null,null,null,null,null,null,null,null,0,0,0,0,0,0,0]
[null,"کاردکس 86",{"$f":"'تعریف کالا'!$C$90","v":0},{"$f":"'تعریف کالا'!$D$90","v":0},{"$f":"'تعریف کالا'!$E$90","v":0},{"$f":"'تعریف کالا'!$G$90","v":0},null,{"$f":"'تعریف کالا'!$F$90","v":0},null,0,null,null,null,null,null,null,null,null,null,null,null,null,null,null,0,0,0,0,0,0,0]
[null,"کاردکس 87",{"$f":"'تعریف کالا'!$C$91","v":0},{"$f":"'تعریف کالا'!$D$91","v":0},{"$f":"'تعریف کالا'!$E$91","v":0},{"$f":"'تعریف کالا'!$G$91","v":0},null,{"$f":"'تعریف کالا'!$F$91","v":0},null,0,null,null,null,null,null,null,null,null,null,null,null,null,null,null,0,0,0,0,0,0,0]
[null,"کاردکس 88",{"$f":"'تعریف کالا'!$C$92","v":0},{"$f":"'تعریف کالا'!$D$92","v":0},{"$f":"'تعریف کالا'!$E$92","v":0},{"$f":"'تعریف کالا'!$G$92","v":0},null,{"$f":"'تعریف کالا'!$F$92","v":0},null,0,null,null,null,null,null,null,null,null,null,null,null,null,null,null,0,0,0,0,0,0,0]
[null,"کاردکس 89",{"$f":"'تعریف کالا'!$C$93","v":0},{"$f":"'تعریف کالا'!$D$93","v":0},{"$f":"'تعریف کالا'!$E$93","v":0},{"$f":"'تعریف کالا'!$G$93","v":0},null,{"$f":"'تعریف کالا'!$F$93","v":0},null,0,null,null,null,null,null,null,null,null,null,null,null,null,null,null,0,0,0,0,0,0,0]
[null,"کاردکس 90",{"$f":"'تعریف کالا'!$C$94","v":0},{"$f":"'تعریف کالا'!$D$94","v":0},{"$f":"'تعریف کالا'!$E$94","v":0},{"$f":"'تعریف کالا'!$G$94","v":0},null,{"$f":"'تعریف کالا'!$F$94","v":0},null,0,null,null,null,null,null,null,null,null,null,null,null,null,null,null,0,0,0,0,0,0,0]
[null,"کاردکس 91",{"$f":"'تعریف کالا'!$C$95","v":0},{"$f":"'تعریف کالا'!$D$95","v":0},{"$f":"'تعریف کالا'!$E$95","v":0},{"$f":"'تعریف کالا'!$G$95","v":0},null,{"$f":"'تعریف کالا'!$F$95","v":0},null,0,null,null,null,null,null,null,null,null,null,null,null,null,null,null,0,0,0,0,0,0,0]
[null,"کاردکس 92",{"$f":"'تعریف کالا'!$C$96","v":0},{"$f":"'تعریف کالا'!$D$96","v":0},{"$f":"'تعریف کالا'!$E$96","v":0},{"$f":"'تعریف کالا'!$G$96","v":0},null,{"$f":"'تعریف کالا'!$F$96","v":0},null,0,null,null,null,null,null,null,null,null,null,null,null,null,null,null,0,0,0,0,0,0,0]
[null,"کاردکس 93",{"$f":"'تعریف کالا'!$C$97","v":0},{"$f":"'تعریف کالا'!$D$97","v":0},{"$f":"'تعریف کالا'!$E$97","v":0},{"$f":"'تعریف کالا'!$G$97","v":0},null,{"$f":"'تعریف کالا'!$F$97","v":0},null,0,null,null,null,null,null,null,null,null,null,null,null,null,null,null,0,0,0,0,0,0,0]
[null,"کاردکس 94",{"$f":"'تعریف کالا'!$C$98","v":0},{"$f":"'تعریف کالا'!$D$98","v":0},{"$f":"'تعریف کالا'!$E$98","v":0},{"$f":"'تعریف کالا'!$G$98","v":0},null,{"$f":"'تعریف کالا'!$F$98","v":0},null,0,null,null,null,null,null,null,null,null,null,null,null,null,null,null,0,0,0,0,0,0,0]
[null,"کاردکس 95",{"$f":"'تعریف کالا'!$C$99","v":0},{"$f":"'تعریف کالا'!$D$99","v":0},{"$f":"'تعریف کالا'!$E$99","v":0},{"$f":"'تعریف کالا'!$G$99","v":0},null,{"$f":"'تعریف کالا'!$F$99","v":0},null,0,null,null,null,null,null,null,null,null,null,null,null,null,null,null,0,0,0,0,0,0,0]
[null,"کاردکس 96",{"$f":"'تعریف کالا'!$C$100","v":0},{"$f":"'تعریف کالا'!$D$100","v":0},{"$f":"'تعریف کالا'!$E$100","v":0},{"$f":"'تعریف کالا'!$G$100","v":0},null,{"$f":"'تعریف کالا'!$F$100","v":0},null,0,null,null,null,null,null,null,null,null,null,null,null,null,null,null,0,0,0,0,0,0,0]
[null,"کاردکس 97",{"$f":"'تعریف کالا'!$C$101","v":0},{"$f":"'تعریف کالا'!$D$101","v":0},{"$f":"'تعریف کالا'!$E$101","v":0},{"$f":"'تعریف کالا'!$G$101","v":0},null,{"$f":"'تعریف کالا'!$F$101","v":0},null,0,null,null,null,null,null,null,null,null,null,null,null,null,null,null,0,0,0,0,0,0,0]
[null,"کاردکس 98",{"$f":"'تعریف کالا'!$C$102","v":0},{"$f":"'تعریف کالا'!$D$102","v":0},{"$f":"'تعریف کالا'!$E$102","v":0},{"$f":"'تعریف کالا'!$G$102","v":0},null,{"$f":"'تعریف کالا'!$F$102","v":0},null,0,null,null,null,null,null,null,null,null,null,null,null,null,null,null,0,0,0,0,0,0,0]
[null,"کاردکس 99",{"$f":"'تعریف کالا'!$C$103","v":0},{"$f":"'تعریف کالا'!$D$103","v":0},{"$f":"'تعریف کالا'!$E$103","v":0},{"$f":"'تعریف کالا'!$G$103","v":0},null,{"$f":"'تعریف کالا'!$F$103","v":0},null,0,null,null,null,null,null,null,null,null,null,null,null,null,null,null,0,0,0,0,0,0,0]
[null,"کاردکس 100",{"$f":"'تعریف کالا'!$C$104","v":0},{"$f":"'تعریف کالا'!$D$104","v":0},{"$f":"'تعریف کالا'!$E$104","v":0},{"$f":"'تعریف کالا'!$G$104","v":0},null,{"$f":"'تعریف کالا'!$F$104","v":0},null,0,null,null,null,null,null,null,null,null,null,null,null,null,null,null,0,0,0,0,0,0,0]
[null,"کاردکس 101",{"$f":"'تعریف کالا'!$C$105","v":0},{"$f":"'تعریف کالا'!$D$105","v":0},{"$f":"'تعریف کالا'!$E$105","v":0},{"$f":"'تعریف کالا'!$G$105","v":0},null,{"$f":"'تعریف کالا'!$F$105","v":0},null,0,null,null,null,null,null,null,null,null,null,null,null,null,null,null,0,0,0,0,0,0,0]
[null,"کاردکس 102",{"$f":"'تعریف کالا'!$C$106","v":0},{"$f":"'تعریف کالا'!$D$106","v":0},{"$f":"'تعریف کالا'!$E$106","v":0},{"$f":"'تعریف کالا'!$G$106","v":0},null,{"$f":"'تعریف کالا'!$F$106","v":0},null,0,null,null,null,null,null,null,null,null,null,null,null,null,null,null,0,0,0,0,0,0,0]
[null,"کاردکس 103",{"$f":"'تعریف کالا'!$C$107","v":0},{"$f":"'تعریف کالا'!$D$107","v":0},{"$f":"'تعریف کالا'!$E$107","v":0},{"$f":"'تعریف کالا'!$G$107","v":0},null,{"$f":"'تعریف کالا'!$F$107","v":0},null,0,null,null,null,null,null,null,null,null,null,null,null,null,null,null,0,0,0,0,0,0,0]
[null,"کاردکس 104",{"$f":"'تعریف کالا'!$C$108","v":0},{"$f":"'تعریف کالا'!$D$108","v":0},{"$f":"'تعریف کالا'!$E$108","v":0},{"$f":"'تعریف کالا'!$G$108","v":0},null,{"$f":"'تعریف کالا'!$F$108","v":0},null,0,null,null,null,null,null,null,null,null,null,null,null,null,null,null,0,0,0,0,0,0,0]
[null,"کاردکس 105",{"$f":"'تعریف کالا'!$C$109","v":0},{"$f":"'تعریف کالا'!$D$109","v":0},{"$f":"'تعریف کالا'!$E$109","v":0},{"$f":"'تعریف کالا'!$G$109","v":0},null,{"$f":"'تعریف کالا'!$F$109","v":0},null,0,null,null,null,null,null,null,null,null,null,null,null,null,null,null,0,0,0,0,0,0,0]
[null,"کاردکس 106",{"$f":"'تعریف کالا'!$C$110","v":0},{"$f":"'تعریف کالا'!$D$110","v":0},{"$f":"'تعریف کالا'!$E$110","v":0},{"$f":"'تعریف کالا'!$G$110","v":0},null,{"$f":"'تعریف کالا'!$F$110","v":0},null,0,null,null,null,null,null,null,null,null,null,null,null,null,null,null,0,0,0,0,0,0,0]
[null,"کاردکس 107",{"$f":"'تعریف کالا'!$C$111","v":0},{"$f":"'تعریف کالا'!$D$111","v":0},{"$f":"'تعریف کالا'!$E$111","v":0},{"$f":"'تعریف کالا'!$G$111","v":0},null,{"$f":"'تعریف کالا'!$F$111","v":0},null,0,null,null,null,null,null,null,null,null,null,null,null,null,null,null,0,0,0,0,0,0,0]
[null,"کاردکس 108",{"$f":"'تعریف کالا'!$C$112","v":0},{"$f":"'تعریف کالا'!$D$112","v":0},{"$f":"'تعریف کالا'!$E$112","v":0},{"$f":"'تعریف کالا'!$G$112","v":0},null,{"$f":"'تعریف کالا'!$F$112","v":0},null,0,null,null,null,null,null,null,null,null,null,null,null,null,null,null,0,0,0,0,0,0,0]
[null,"کاردکس 109",{"$f":"'تعریف کالا'!$C$113","v":0},{"$f":"'تعریف کالا'!$D$113","v":0},{"$f":"'تعریف کالا'!$E$113","v":0},{"$f":"'تعریف کالا'!$G$113","v":0},null,{"$f":"'تعریف کالا'!$F$113","v":0},null,0,null,null,null,null,null,null,null,null,null,null,null,null,null,null,0,0,0,0,0,0,0]
[null,"کاردکس 110",{"$f":"'تعریف کالا'!$C$114","v":0},{"$f":"'تعریف کالا'!$D$114","v":0},{"$f":"'تعریف کالا'!$E$114","v":0},{"$f":"'تعریف کالا'!$G$114","v":0},null,{"$f":"'تعریف کالا'!$F$114","v":0},null,0,null,null,null,null,null,null,null,null,null,null,null,null,null,null,0,0,0,0,0,0,0]
[null,"کاردکس 111",{"$f":"'تعریف کالا'!$C$115","v":0},{"$f":"'تعریف کالا'!$D$115","v":0},{"$f":"'تعریف کالا'!$E$115","v":0},{"$f":"'تعریف کالا'!$G$115","v":0},null,{"$f":"'تعریف کالا'!$F$115","v":0},null,0,null,null,null,null,null,null,null,null,null,null,null,null,null,null,0,0,0,0,0,0,0]
[null,"کاردکس 112",{"$f":"'تعریف کالا'!$C$116","v":0},{"$f":"'تعریف کالا'!$D$116","v":0},{"$f":"'تعریف کالا'!$E$116","v":0},{"$f":"'تعریف کالا'!$G$116","v":0},null,{"$f":"'تعریف کالا'!$F$116","v":0},null,0,null,null,null,null,null,null,null,null,null,null,null,null,null,null,0,0,0,0,0,0,0]
[null,"کاردکس 113",{"$f":"'تعریف کالا'!$C$117","v":0},{"$f":"'تعریف کالا'!$D$117","v":0},{"$f":"'تعریف کالا'!$E$117","v":0},{"$f":"'تعریف کالا'!$G$117","v":0},null,{"$f":"'تعریف کالا'!$F$117","v":0},null,0,null,null,null,null,null,null,null,null,null,null,null,null,null,null,0,0,0,0,0,0,0]
[null,"کاردکس 114",{"$f":"'تعریف کالا'!$C$118","v":0},{"$f":"'تعریف کالا'!$D$118","v":0},{"$f":"'تعریف کالا'!$E$118","v":0},{"$f":"'تعریف کالا'!$G$118","v":0},null,{"$f":"'تعریف کالا'!$F$118","v":0},null,0,null,null,null,null,null,null,null,null,null,null,null,null,null,null,0,0,0,0,0,0,0]
[null,"کاردکس 115",{"$f":"'تعریف کالا'!$C$119","v":0},{"$f":"'تعریف کالا'!$D$119","v":0},{"$f":"'تعریف کالا'!$E$119","v":0},{"$f":"'تعریف کالا'!$G$119","v":0},null,{"$f":"'تعریف کالا'!$F$119","v":0},null,0,null,null,null,null,null,null,null,null,null,null,null,null,null,null,0,0,0,0,0,0,0]
[null,"کاردکس 116",{"$f":"'تعریف کالا'!$C$120","v":0},{"$f":"'تعریف کالا'!$D$120","v":0},{"$f":"'تعریف کالا'!$E$120","v":0},{"$f":"'تعریف کالا'!$G$120","v":0},null,{"$f":"'تعریف کالا'!$F$120","v":0},null,0,null,null,null,null,null,null,null,null,null,null,null,null,null,null,0,0,0,0,0,0,0]
[null,"کاردکس 117",{"$f":"'تعریف کالا'!$C$121","v":0},{"$f":"'تعریف کالا'!$D$121","v":0},{"$f":"'تعریف کالا'!$E$121","v":0},{"$f":"'تعریف کالا'!$G$121","v":0},null,{"$f":"'تعریف کالا'!$F$121","v":0},null,0,null,null,null,null,null,null,null,null,null,null,null,null,null,null,0,0,0,0,0,0,0]
[null,"کاردکس 118",{"$f":"'تعریف کالا'!$C$122","v":0},{"$f":"'تعریف کالا'!$D$122","v":0},{"$f":"'تعریف کالا'!$E$122","v":0},{"$f":"'تعریف کالا'!$G$122","v":0},null,{"$f":"'تعریف کالا'!$F$122","v":0},null,0,null,null,null,null,null,null,null,null,null,null,null,null,null,null,0,0,0,0,0,0,0]
[null,"کاردکس 119",{"$f":"'تعریف کالا'!$C$123","v":0},{"$f":"'تعریف کالا'!$D$123","v":0},{"$f":"'تعریف کالا'!$E$123","v":0},{"$f":"'تعریف کالا'!$G$123","v":0},null,{"$f":"'تعریف کالا'!$F$123","v":0},null,0,null,null,null,null,null,null,null,null,null,null,null,null,null,null,0,0,0,0,0,0,0]
[null,"کاردکس 120",{"$f":"'تعریف کالا'!$C$124","v":0},{"$f":"'تعریف کالا'!$D$124","v":0},{"$f":"'تعریف کالا'!$E$124","v":0},{"$f":"'تعریف کالا'!$G$124","v":0},null,{"$f":"'تعریف کالا'!$F$124","v":0},null,0,null,null,null,null,null,null,null,null,null,null,null,null,null,null,0,0,0,0,0,0,0]
[null,"کاردکس 121",{"$f":"'تعریف کالا'!$C$125","v":0},{"$f":"'تعریف کالا'!$D$125","v":0},{"$f":"'تعریف کالا'!$E$125","v":0},{"$f":"'تعریف کالا'!$G$125","v":0},null,{"$f":"'تعریف کالا'!$F$125","v":0},null,0,null,null,null,null,null,null,null,null,null,null,null,null,null,null,0,0,0,0,0,0,0]
[null,"کاردکس 122",{"$f":"'تعریف کالا'!$C$126","v":0},{"$f":"'تعریف کالا'!$D$126","v":0},{"$f":"'تعریف کالا'!$E$126","v":0},{"$f":"'تعریف کالا'!$G$126","v":0},null,{"$f":"'تعریف کالا'!$F$126","v":0},null,0,null,null,null,null,null,null,null,null,null,null,null,null,null,null,0,0,0,0,0,0,0]
[null,"کاردکس 123",{"$f":"'تعریف کالا'!$C$127","v":0},{"$f":"'تعریف کالا'!$D$127","v":0},{"$f":"'تعریف کالا'!$E$127","v":0},{"$f":"'تعریف کالا'!$G$127","v":0},null,{"$f":"'تعریف کالا'!$F$127","v":0},null,0,null,null,null,null,null,null,null,null,null,null,null,null,null,null,0,0,0,0,0,0,0]
[null,"کاردکس 124",{"$f":"'تعریف کالا'!$C$128","v":0},{"$f":"'تعریف کالا'!$D$128","v":0},{"$f":"'تعریف کالا'!$E$128","v":0},{"$f":"'تعریف کالا'!$G$128","v":0},null,{"$f":"'تعریف کالا'!$F$128","v":0},null,0,null,null,null,null,null,null,null,null,null,null,null,null,null,null,0,0,0,0,0,0,0]
[null,"کاردکس 125",{"$f":"'تعریف کالا'!$C$129","v":0},{"$f":"'تعریف کالا'!$D$129","v":0},{"$f":"'تعریف کالا'!$E$129","v":0},{"$f":"'تعریف کالا'!$G$129","v":0},null,{"$f":"'تعریف کالا'!$F$129","v":0},null,0,null,null,null,null,null,null,null,null,null,null,null,null,null,null,0,0,0,0,0,0,0]
[null,"کاردکس 126",{"$f":"'تعریف کالا'!$C$130","v":0},{"$f":"'تعریف کالا'!$D$130","v":0},{"$f":"'تعریف کالا'!$E$130","v":0},{"$f":"'تعریف کالا'!$G$130","v":0},null,{"$f":"'تعریف کالا'!$F$130","v":0},null,0,null,null,null,null,null,null,null,null,null,null,null,null,null,null,0,0,0,0,0,0,0]
[null,"کاردکس 127",{"$f":"'تعریف کالا'!$C$131","v":0},{"$f":"'تعریف کالا'!$D$131","v":0},{"$f":"'تعریف کالا'!$E$131","v":0},{"$f":"'تعریف کالا'!$G$131","v":0},null,{"$f":"'تعریف کالا'!$F$131","v":0},null,0,null,null,null,null,null,null,null,null,null,null,null,null,null,null,0,0,0,0,0,0,0]
[null,"کاردکس 128",{"$f":"'تعریف کالا'!$C$132","v":0},{"$f":"'تعریف کالا'!$D$132","v":0},{"$f":"'تعریف کالا'!$E$132","v":0},{"$f":"'تعریف کالا'!$G$132","v":0},null,{"$f":"'تعریف کالا'!$F$132","v":0},null,0,null,null,null,null,null,null,null,null,null,null,null,null,null,null,0,0,0,0,0,0,0]
[null,"کاردکس 129",{"$f":"'تعریف کالا'!$C$133","v":0},{"$f":"'تعریف کالا'!$D$133","v":0},{"$f":"'تعریف کالا'!$E$133","v":0},{"$f":"'تعریف کالا'!$G$133","v":0},null,{"$f":"'تعریف کالا'!$F$133","v":0},null,0,null,null,null,null,null,null,null,null,null,null,null,null,null,null,0,0,0,0,0,0,0]
[null,"کاردکس 130",{"$f":"'تعریف کالا'!$C$134","v":0},{"$f":"'تعریف کالا'!$D$134","v":0},{"$f":"'تعریف کالا'!$E$134","v":0},{"$f":"'تعریف کالا'!$G$134","v":0},null,{"$f":"'تعریف کالا'!$F$134","v":0},null,0,null,null,null,null,null,null,null,null,null,null,null,null,null,null,0,{"$f":"D372","v":0},{"$f":"E372","v":0},{"$f":"F372","v":0},{"$f":"H372","v":0},{"$f":"I372","v":0},{"$f":"J372","v":0}]
[null,"کاردکس 131",{"$f":"'تعریف کالا'!$C$135","v":0},{"$f":"'تعریف کالا'!$D$135","v":0},{"$f":"'تعریف کالا'!$E$135","v":0},{"$f":"'تعریف کالا'!$G$135","v":0},null,{"$f":"'تعریف کالا'!$F$135","v":0},null,{"$f":"(F373*I373)-(F373*I373*G373%)","v":0},null,null,null,null,null,null,null,null,null,null,null,null,null,null,{"$f":"C373","v":0},0,0,0,0,0,0]
[null,"کاردکس 132",{"$f":"'تعریف کالا'!$C$136","v":0},{"$f":"'تعریف کالا'!$D$136","v":0},{"$f":"'تعریف کالا'!$E$136","v":0},{"$f":"'تعریف کالا'!$G$136","v":0},null,{"$f":"'تعریف کالا'!$F$136","v":0},null,0,null,null,null,null,null,null,null,null,null,null,null,null,null,null,0,0,0,0,0,0,0]
[null,"کاردکس 133",{"$f":"'تعریف کالا'!$C$137","v":0},{"$f":"'تعریف کالا'!$D$137","v":0},{"$f":"'تعریف کالا'!$E$137","v":0},{"$f":"'تعریف کالا'!$G$137","v":0},null,{"$f":"'تعریف کالا'!$F$137","v":0},null,0,null,null,null,null,null,null,null,null,null,null,null,null,null,null,0,0,0,0,0,0,0]
[null,"کاردکس 134",{"$f":"'تعریف کالا'!$C$138","v":0},{"$f":"'تعریف کالا'!$D$138","v":0},{"$f":"'تعریف کالا'!$E$138","v":0},{"$f":"'تعریف کالا'!$G$138","v":0},null,{"$f":"'تعریف کالا'!$F$138","v":0},null,0,null,null,null,null,null,null,null,null,null,null,null,null,null,null,0,0,0,0,0,0,0]
[null,"کاردکس 135",{"$f":"'تعریف کالا'!$C$139","v":0},{"$f":"'تعریف کالا'!$D$139","v":0},{"$f":"'تعریف کالا'!$E$139","v":0},{"$f":"'تعریف کالا'!$G$139","v":0},null,{"$f":"'تعریف کالا'!$F$139","v":0},null,0,null,null,null,null,null,null,null,null,null,null,null,null,null,null,0,0,0,0,0,0,0]
[null,"کاردکس 136",{"$f":"'تعریف کالا'!$C$140","v":0},{"$f":"'تعریف کالا'!$D$140","v":0},{"$f":"'تعریف کالا'!$E$140","v":0},{"$f":"'تعریف کالا'!$G$140","v":0},null,{"$f":"'تعریف کالا'!$F$140","v":0},null,0,null,null,null,null,null,null,null,null,null,null,null,null,null,null,0,0,0,0,0,0,0]
[null,"کاردکس 137",{"$f":"'تعریف کالا'!$C$141","v":0},{"$f":"'تعریف کالا'!$D$141","v":0},{"$f":"'تعریف کالا'!$E$141","v":0},{"$f":"'تعریف کالا'!$G$141","v":0},null,{"$f":"'تعریف کالا'!$F$141","v":0},null,0,null,null,null,null,null,null,null,null,null,null,null,null,null,null,0,0,0,0,0,0,0]
[null,"کاردکس 138",{"$f":"'تعریف کالا'!$C$142","v":0},{"$f":"'تعریف کالا'!$D$142","v":0},{"$f":"'تعریف کالا'!$E$142","v":0},{"$f":"'تعریف کالا'!$G$142","v":0},null,{"$f":"'تعریف کالا'!$F$142","v":0},null,0,null,null,null,null,null,null,null,null,null,null,null,null,null,null,0,0,0,0,0,0,0]
[null,"کاردکس 139",{"$f":"'تعریف کالا'!$C$143","v":0},{"$f":"'تعریف کالا'!$D$143","v":0},{"$f":"'تعریف کالا'!$E$143","v":0},{"$f":"'تعریف کالا'!$G$143","v":0},null,{"$f":"'تعریف کالا'!$F$143","v":0},null,0,null,null,null,null,null,null,null,null,null,null,null,null,null,null,0,0,0,0,0,0,0]
[null,"کاردکس 140",{"$f":"'تعریف کالا'!$C$144","v":0},{"$f":"'تعریف کالا'!$D$144","v":0},{"$f":"'تعریف کالا'!$E$144","v":0},{"$f":"'تعریف کالا'!$G$144","v":0},null,{"$f":"'تعریف کالا'!$F$144","v":0},null,0,null,null,null,null,null,null,null,null,null,null,null,null,null,null,0,0,0,0,0,0,0]
[null,"کاردکس 141",{"$f":"'تعریف کالا'!$C$145","v":0},{"$f":"'تعریف کالا'!$D$145","v":0},{"$f":"'تعریف کالا'!$E$145","v":0},{"$f":"'تعریف کالا'!$G$145","v":0},null,{"$f":"'تعریف کالا'!$F$145","v":0},null,0,null,null,null,null,null,null,null,null,null,null,null,null,null,null,0,0,0,0,0,0,0]
[null,"کاردکس 142",{"$f":"'تعریف کالا'!$C$146","v":0},{"$f":"'تعریف کالا'!$D$146","v":0},{"$f":"'تعریف کالا'!$E$146","v":0},{"$f":"'تعریف کالا'!$G$146","v":0},null,{"$f":"'تعریف کالا'!$F$146","v":0},null,0,null,null,null,null,null,null,null,null,null,null,null,null,null,null,0,0,0,0,0,0,0]
[null,"کاردکس 143",{"$f":"'تعریف کالا'!$C$147","v":0},{"$f":"'تعریف کالا'!$D$147","v":0},{"$f":"'تعریف کالا'!$E$147","v":0},{"$f":"'تعریف کالا'!$G$147","v":0},null,{"$f":"'تعریف کالا'!$F$147","v":0},null,0,null,null,null,null,null,null,null,null,null,null,null,null,null,null,0,0,0,0,0,0,0]
[null,"کاردکس 144",{"$f":"'تعریف کالا'!$C$148","v":0},{"$f":"'تعریف کالا'!$D$148","v":0},{"$f":"'تعریف کالا'!$E$148","v":0},{"$f":"'تعریف کالا'!$G$148","v":0},null,{"$f":"'تعریف کالا'!$F$148","v":0},null,0,null,null,null,null,null,null,null,null,null,null,null,null,null,null,0,0,0,0,0,0,0]
[null,"کاردکس 145",{"$f":"'تعریف کالا'!$C$149","v":0},{"$f":"'تعریف کالا'!$D$149","v":0},{"$f":"'تعریف کالا'!$E$149","v":0},{"$f":"'تعریف کالا'!$G$149","v":0},null,{"$f":"'تعریف کالا'!$F$149","v":0},null,0,null,null,null,null,null,null,null,null,null,null,null,null,null,null,0,0,0,0,0,0,0]
[null,"کاردکس 146",{"$f":"'تعریف کالا'!$C$150","v":0},{"$f":"'تعریف کالا'!$D$150","v":0},{"$f":"'تعریف کالا'!$E$150","v":0},{"$f":"'تعریف کالا'!$G$150","v":0},null,{"$f":"'تعریف کالا'!$F$150","v":0},null,0,null,null,null,null,null,null,null,null,null,null,null,null,null,null,0,0,0,0,0,0,0]
[null,"کاردکس 147",{"$f":"'تعریف کالا'!$C$151","v":0},{"$f":"'تعریف کالا'!$D$151","v":0},{"$f":"'تعریف کالا'!$E$151","v":0},{"$f":"'تعریف کالا'!$G$151","v":0},null,{"$f":"'تعریف کالا'!$F$151","v":0},null,0,null,null,null,null,null,null,null,null,null,null,null,null,null,null,0,0,0,0,0,0,0]
[null,"کاردکس 148",{"$f":"'تعریف کالا'!$C$152","v":0},{"$f":"'تعریف کالا'!$D$152","v":0},{"$f":"'تعریف کالا'!$E$152","v":0},{"$f":"'تعریف کالا'!$G$152","v":0},null,{"$f":"'تعریف کالا'!$F$152","v":0},null,0,null,null,null,null,null,null,null,null,null,null,null,null,null,null,0,0,0,0,0,0,0]
[null,"کاردکس 149",{"$f":"'تعریف کالا'!$C$153","v":0},{"$f":"'تعریف کالا'!$D$153","v":0},{"$f":"'تعریف کالا'!$E$153","v":0},{"$f":"'تعریف کالا'!$G$153","v":0},null,{"$f":"'تعریف کالا'!$F$153","v":0},null,0,null,null,null,null,null,null,null,null,null,null,null,null,null,null,0,0,0,0,0,0,0]
[null,"کاردکس 150",{"$f":"'تعریف کالا'!$C$154","v":0},{"$f":"'تعریف کالا'!$D$154","v":0},{"$f":"'تعریف کالا'!$E$154","v":0},{"$f":"'تعریف کالا'!$G$154","v":0},null,{"$f":"'تعریف کالا'!$F$154","v":0},null,0,null,null,null,null,null,null,null,null,null,null,null,null,null,null,0,0,0,0,0,0,0]
[null,"کاردکس 151",{"$f":"'تعریف کالا'!$C$155","v":0},{"$f":"'تعریف کالا'!$D$155","v":0},{"$f":"'تعریف کالا'!$E$155","v":0},{"$f":"'تعریف کالا'!$G$155","v":0},null,{"$f":"'تعریف کالا'!$F$155","v":0},null,0,null,null,null,null,null,null,null,null,null,null,null,null,null,null,0,0,0,0,0,0,0]
[null,"کاردکس 152",{"$f":"'تعریف کالا'!$C$156","v":0},{"$f":"'تعریف کالا'!$D$156","v":0},{"$f":"'تعریف کالا'!$E$156","v":0},{"$f":"'تعریف کالا'!$G$156","v":0},null,{"$f":"'تعریف کالا'!$F$156","v":0},null,0,null,null,null,null,null,null,null,null,null,null,null,null,null,null,0,0,0,0,0,0,0]
[null,"کاردکس 153",{"$f":"'تعریف کالا'!$C$157","v":0},{"$f":"'تعریف کالا'!$D$157","v":0},{"$f":"'تعریف کالا'!$E$157","v":0},{"$f":"'تعریف کالا'!$G$157","v":0},null,{"$f":"'تعریف کالا'!$F$157","v":0},null,0,null,null,null,null,null,null,null,null,null,null,null,null,null,null,0,0,0,0,0,0,0]
[null,"کاردکس 154",{"$f":"'تعریف کالا'!$C$158","v":0},{"$f":"'تعریف کالا'!$D$158","v":0},{"$f":"'تعریف کالا'!$E$158","v":0},{"$f":"'تعریف کالا'!$G$158","v":0},null,{"$f":"'تعریف کالا'!$F$158","v":0},null,0,null,null,null,null,null,null,null,null,null,null,null,null,null,null,0,0,0,0,0,0,0]
[null,"کاردکس 155",{"$f":"'تعریف کالا'!$C$159","v":0},{"$f":"'تعریف کالا'!$D$159","v":0},{"$f":"'تعریف کالا'!$E$159","v":0},{"$f":"'تعریف کالا'!$G$159","v":0},null,{"$f":"'تعریف کالا'!$F$159","v":0},null,0,null,null,null,null,null,null,null,null,null,null,null,null,null,null,0,0,0,0,0,0,0]
[null,"کاردکس 156",{"$f":"'تعریف کالا'!$C$160","v":0},{"$f":"'تعریف کالا'!$D$160","v":0},{"$f":"'تعریف کالا'!$E$160","v":0},{"$f":"'تعریف کالا'!$G$160","v":0},null,{"$f":"'تعریف کالا'!$F$160","v":0},null,0,null,null,null,null,null,null,null,null,null,null,null,null,null,null,0,0,0,0,0,0,0]
[null,"کاردکس 157",{"$f":"'تعریف کالا'!$C$161","v":0},{"$f":"'تعریف کالا'!$D$161","v":0},{"$f":"'تعریف کالا'!$E$161","v":0},{"$f":"'تعریف کالا'!$G$161","v":0},null,{"$f":"'تعریف کالا'!$F$161","v":0},null,0,null,null,null,null,null,null,null,null,null,null,null,null,null,null,0,0,0,0,0,0,0]
[null,"کاردکس 158",{"$f":"'تعریف کالا'!$C$162","v":0},{"$f":"'تعریف کالا'!$D$162","v":0},{"$f":"'تعریف کالا'!$E$162","v":0},{"$f":"'تعریف کالا'!$G$162","v":0},null,{"$f":"'تعریف کالا'!$F$162","v":0},null,0,null,null,null,null,null,null,null,null,null,null,null,null,null,null,0,0,0,0,0,0,0]
[null,"کاردکس 159",{"$f":"'تعریف کالا'!$C$163","v":0},{"$f":"'تعریف کالا'!$D$163","v":0},{"$f":"'تعریف کالا'!$E$163","v":0},{"$f":"'تعریف کالا'!$G$163","v":0},null,{"$f":"'تعریف کالا'!$F$163","v":0},null,0,null,null,null,null,null,null,null,null,null,null,null,null,null,null,0,0,0,0,0,0,0]
[null,"کاردکس 160",{"$f":"'تعریف کالا'!$C$164","v":0},{"$f":"'تعریف کالا'!$D$164","v":0},{"$f":"'تعریف کالا'!$E$164","v":0},{"$f":"'تعریف کالا'!$G$164","v":0},null,{"$f":"'تعریف کالا'!$F$164","v":0},null,0,null,null,null,null,null,null,null,null,null,null,null,null,null,null,0,0,0,0,0,0,0]
[null,"کاردکس 161",{"$f":"'تعریف کالا'!$C$165","v":0},{"$f":"'تعریف کالا'!$D$165","v":0},{"$f":"'تعریف کالا'!$E$165","v":0},{"$f":"'تعریف کالا'!$G$165","v":0},null,{"$f":"'تعریف کالا'!$F$165","v":0},null,0,null,null,null,null,null,null,null,null,null,null,null,null,null,null,0,0,0,0,0,0,0]
[null,"کاردکس 162",{"$f":"'تعریف کالا'!$C$166","v":0},{"$f":"'تعریف کالا'!$D$166","v":0},{"$f":"'تعریف کالا'!$E$166","v":0},{"$f":"'تعریف کالا'!$G$166","v":0},null,{"$f":"'تعریف کالا'!$F$166","v":0},null,0,null,null,null,null,null,null,null,null,null,null,null,null,null,null,0,0,0,0,0,0,0]
[null,"کاردکس 163",{"$f":"'تعریف کالا'!$C$167","v":0},{"$f":"'تعریف کالا'!$D$167","v":0},{"$f":"'تعریف کالا'!$E$167","v":0},{"$f":"'تعریف کالا'!$G$167","v":0},null,{"$f":"'تعریف کالا'!$F$167","v":0},null,0,null,null,null,null,null,null,null,null,null,null,null,null,null,null,0,0,0,0,0,0,0]
[null,"کاردکس 164",{"$f":"'تعریف کالا'!$C$168","v":0},{"$f":"'تعریف کالا'!$D$168","v":0},{"$f":"'تعریف کالا'!$E$168","v":0},{"$f":"'تعریف کالا'!$G$168","v":0},null,{"$f":"'تعریف کالا'!$F$168","v":0},null,0,null,null,null,null,null,null,null,null,null,null,null,null,null,null,0,0,0,0,0,0,0]
[null,"کاردکس 165",{"$f":"'تعریف کالا'!$C$169","v":0},{"$f":"'تعریف کالا'!$D$169","v":0},{"$f":"'تعریف کالا'!$E$169","v":0},{"$f":"'تعریف کالا'!$G$169","v":0},null,{"$f":"'تعریف کالا'!$F$169","v":0},null,0,null,null,null,null,null,null,null,null,null,null,null,null,null,null,0,0,0,0,0,0,0]
[null,"کاردکس 166",{"$f":"'تعریف کالا'!$C$170","v":0},{"$f":"'تعریف کالا'!$D$170","v":0},{"$f":"'تعریف کالا'!$E$170","v":0},{"$f":"'تعریف کالا'!$G$170","v":0},null,{"$f":"'تعریف کالا'!$F$170","v":0},null,0,null,null,null,null,null,null,null,null,null,null,null,null,null,null,0,0,0,0,0,0,0]
[null,"کاردکس 167",{"$f":"'تعریف کالا'!$C$171","v":0},{"$f":"'تعریف کالا'!$D$171","v":0},{"$f":"'تعریف کالا'!$E$171","v":0},{"$f":"'تعریف کالا'!$G$171","v":0},null,{"$f":"'تعریف کالا'!$F$171","v":0},null,0,null,null,null,null,null,null,null,null,null,null,null,null,null,null,0,0,0,0,0,0,0]
[null,"کاردکس 168",{"$f":"'تعریف کالا'!$C$172","v":0},{"$f":"'تعریف کالا'!$D$172","v":0},{"$f":"'تعریف کالا'!$E$172","v":0},{"$f":"'تعریف کالا'!$G$172","v":0},null,{"$f":"'تعریف کالا'!$F$172","v":0},null,0,null,null,null,null,null,null,null,null,null,null,null,null,null,null,0,0,0,0,0,0,0]
[null,"کاردکس 169",{"$f":"'تعریف کالا'!$C$173","v":0},{"$f":"'تعریف کالا'!$D$173","v":0},{"$f":"'تعریف کالا'!$E$173","v":0},{"$f":"'تعریف کالا'!$G$173","v":0},null,{"$f":"'تعریف کالا'!$F$173","v":0},null,0,null,null,null,null,null,null,null,null,null,null,null,null,null,null,0,0,0,0,0,0,0]
[null,"کاردکس 170",{"$f":"'تعریف کالا'!$C$174","v":0},{"$f":"'تعریف کالا'!$D$174","v":0},{"$f":"'تعریف کالا'!$E$174","v":0},{"$f":"'تعریف کالا'!$G$174","v":0},null,{"$f":"'تعریف کالا'!$F$174","v":0},null,0,null,null,null,null,null,null,null,null,null,null,null,null,null,null,0,0,0,0,0,0,0]
[null,"کاردکس 171",{"$f":"'تعریف کالا'!$C$175","v":0},{"$f":"'تعریف کالا'!$D$175","v":0},{"$f":"'تعریف کالا'!$E$175","v":0},{"$f":"'تعریف کالا'!$G$175","v":0},null,{"$f":"'تعریف کالا'!$F$175","v":0},null,0,null,null,null,null,null,null,null,null,null,null,null,null,null,null,0,0,0,0,0,0,0]
[null,"کاردکس 172",{"$f":"'تعریف کالا'!$C$176","v":0},{"$f":"'تعریف کالا'!$D$176","v":0},{"$f":"'تعریف کالا'!$E$176","v":0},{"$f":"'تعریف کالا'!$G$176","v":0},null,{"$f":"'تعریف کالا'!$F$176","v":0},null,0,null,null,null,null,null,null,null,null,null,null,null,null,null,null,0,0,0,0,0,0,0]
[null,"کاردکس 173",{"$f":"'تعریف کالا'!$C$177","v":0},{"$f":"'تعریف کالا'!$D$177","v":0},{"$f":"'تعریف کالا'!$E$177","v":0},{"$f":"'تعریف کالا'!$G$177","v":0},null,{"$f":"'تعریف کالا'!$F$177","v":0},null,0,null,null,null,null,null,null,null,null,null,null,null,null,null,null,0,0,0,0,0,0,0]
[null,"کاردکس 174",{"$f":"'تعریف کالا'!$C$178","v":0},{"$f":"'تعریف کالا'!$D$178","v":0},{"$f":"'تعریف کالا'!$E$178","v":0},{"$f":"'تعریف کالا'!$G$178","v":0},null,{"$f":"'تعریف کالا'!$F$178","v":0},null,0,null,null,null,null,null,null,null,null,null,null,null,null,null,null,0,0,0,0,0,0,0]
[null,"کاردکس 175",{"$f":"'تعریف کالا'!$C$179","v":0},{"$f":"'تعریف کالا'!$D$179","v":0},{"$f":"'تعریف کالا'!$E$179","v":0},{"$f":"'تعریف کالا'!$G$179","v":0},null,{"$f":"'تعریف کالا'!$F$179","v":0},null,0,null,null,null,null,null,null,null,null,null,null,null,null,null,null,0,0,0,0,0,0,0]
[null,"کاردکس 176",{"$f":"'تعریف کالا'!$C$180","v":0},{"$f":"'تعریف کالا'!$D$180","v":0},{"$f":"'تعریف کالا'!$E$180","v":0},{"$f":"'تعریف کالا'!$G$180","v":0},null,{"$f":"'تعریف کالا'!$F$180","v":0},null,0,null,null,null,null,null,null,null,null,null,null,null,null,null,null,0,0,0,0,0,0,0]
[null,"کاردکس 177",{"$f":"'تعریف کالا'!$C$181","v":0},{"$f":"'تعریف کالا'!$D$181","v":0},{"$f":"'تعریف کالا'!$E$181","v":0},{"$f":"'تعریف کالا'!$G$181","v":0},null,{"$f":"'تعریف کالا'!$F$181","v":0},null,0,null,null,null,null,null,null,null,null,null,null,null,null,null,null,0,0,0,0,0,0,0]
[null,"کاردکس 178",{"$f":"'تعریف کالا'!$C$182","v":0},{"$f":"'تعریف کالا'!$D$182","v":0},{"$f":"'تعریف کالا'!$E$182","v":0},{"$f":"'تعریف کالا'!$G$182","v":0},null,{"$f":"'تعریف کالا'!$F$182","v":0},null,0,null,null,null,null,null,null,null,null,null,null,null,null,null,null,0,0,0,0,0,0,0]
[null,"کاردکس 179",{"$f":"'تعریف کالا'!$C$183","v":0},{"$f":"'تعریف کالا'!$D$183","v":0},{"$f":"'تعریف کالا'!$E$183","v":0},{"$f":"'تعریف کالا'!$G$183","v":0},null,{"$f":"'تعریف کالا'!$F$183","v":0},null,0,null,null,null,null,null,null,null,null,null,null,null,null,null,null,0,0,0,0,0,0,0]
[null,"کاردکس 180",{"$f":"'تعریف کالا'!$C$184","v":0},{"$f":"'تعریف کالا'!$D$184","v":0},{"$f":"'تعریف کالا'!$E$184","v":0},{"$f":"'تعریف کالا'!$G$184","v":0},null,{"$f":"'تعریف کالا'!$F$184","v":0},null,0,null,null,null,null,null,null,null,null,null,null,null,null,null,null,0,0,0,0,0,0,0]
[null,"کاردکس 181",{"$f":"'تعریف کالا'!$C$185","v":0},{"$f":"'تعریف کالا'!$D$185","v":0},{"$f":"'تعریف کالا'!$E$185","v":0},{"$f":"'تعریف کالا'!$G$185","v":0},null,{"$f":"'تعریف کالا'!$F$185","v":0},null,0,null,null,null,null,null,null,null,null,null,null,null,null,null,null,0,0,0,0,0,0,0]
[null,"کاردکس 182",{"$f":"'تعریف کالا'!$C$186","v":0},{"$f":"'تعریف کالا'!$D$186","v":0},{"$f":"'تعریف کالا'!$E$186","v":0},{"$f":"'تعریف کالا'!$G$186","v":0},null,{"$f":"'تعریف کالا'!$F$186","v":0},null,0,null,null,null,null,null,null,null,null,null,null,null,null,null,null,0,0,0,0,0,0,0]
[null,"کاردکس 183",{"$f":"'تعریف کالا'!$C$187","v":0},{"$f":"'تعریف کالا'!$D$187","v":0},{"$f":"'تعریف کالا'!$E$187","v":0},{"$f":"'تعریف کالا'!$G$187","v":0},null,{"$f":"'تعریف کالا'!$F$187","v":0},null,0,null,null,null,null,null,null,null,null,null,null,null,null,null,null,0,0,0,0,0,0,0]
[null,"کاردکس 184",{"$f":"'تعریف کالا'!$C$18","v":0},{"$f":"'تعریف کالا'!$D$188","v":0},{"$f":"'تعریف کالا'!$E$188","v":0},{"$f":"'تعریف کالا'!$G$188","v":0},null,{"$f":"'تعریف کالا'!$F$188","v":0},null,0,null,null,null,null,null,null,null,null,null,null,null,null,null,null,0,0,0,0,0,0,0]
[null,"کاردکس 185",{"$f":"'تعریف کالا'!$C$189","v":0},{"$f":"'تعریف کالا'!$D$189","v":0},{"$f":"'تعریف کالا'!$E$189","v":0},{"$f":"'تعریف کالا'!$G$189","v":0},null,{"$f":"'تعریف کالا'!$F$189","v":0},null,0,null,null,null,null,null,null,null,null,null,null,null,null,null,null,0,0,0,0,0,0,0]
[null,"کاردکس 186",{"$f":"'تعریف کالا'!$C$190","v":0},{"$f":"'تعریف کالا'!$D$190","v":0},{"$f":"'تعریف کالا'!$E$190","v":0},{"$f":"'تعریف کالا'!$G$190","v":0},null,{"$f":"'تعریف کالا'!$F$190","v":0},null,0,null,null,null,null,null,null,null,null,null,null,null,null,null,null,0,0,0,0,0,0,0]
[null,"کاردکس 187",{"$f":"'تعریف کالا'!$C$191","v":0},{"$f":"'تعریف کالا'!$D$191","v":0},{"$f":"'تعریف کالا'!$E$191","v":0},{"$f":"'تعریف کالا'!$G$191","v":0},null,{"$f":"'تعریف کالا'!$F$191","v":0},null,0,null,null,null,null,null,null,null,null,null,null,null,null,null,null,0,0,0,0,0,0,0]
[null,"کاردکس 188",{"$f":"'تعریف کالا'!$C$192","v":0},{"$f":"'تعریف کالا'!$D$192","v":0},{"$f":"'تعریف کالا'!$E$192","v":0},{"$f":"'تعریف کالا'!$G$192","v":0},null,{"$f":"'تعریف کالا'!$F$192","v":0},null,0,null,null,null,null,null,null,null,null,null,null,null,null,null,null,0,0,0,0,0,0,0]
[null,"کاردکس 189",{"$f":"'تعریف کالا'!$C$193","v":0},{"$f":"'تعریف کالا'!$D$193","v":0},{"$f":"'تعریف کالا'!$E$193","v":0},{"$f":"'تعریف کالا'!$G$193","v":0},null,{"$f":"'تعریف کالا'!$F$193","v":0},null,0,null,null,null,null,null,null,null,null,null,null,null,null,null,null,0,0,0,0,0,0,0]
[null,"کاردکس 190",{"$f":"'تعریف کالا'!$C$194","v":0},{"$f":"'تعریف کالا'!$D$194","v":0},{"$f":"'تعریف کالا'!$E$194","v":0},{"$f":"'تعریف کالا'!$G$194","v":0},null,{"$f":"'تعریف کالا'!$F$194","v":0},null,0,null,null,null,null,null,null,null,null,null,null,null,null,null,null,0,0,0,0,0,0,0]
[null,"کاردکس 191",{"$f":"'تعریف کالا'!$C$195","v":0},{"$f":"'تعریف کالا'!$D$195","v":0},{"$f":"'تعریف کالا'!$E$195","v":0},{"$f":"'تعریف کالا'!$G$195","v":0},null,{"$f":"'تعریف کالا'!$F$195","v":0},null,0,null,null,null,null,null,null,null,null,null,null,null,null,null,null,0,0,0,0,0,0,0]
[null,"کاردکس 192",{"$f":"'تعریف کالا'!$C$196","v":0},{"$f":"'تعریف کالا'!$D$196","v":0},{"$f":"'تعریف کالا'!$E$196","v":0},{"$f":"'تعریف کالا'!$G$196","v":0},null,{"$f":"'تعریف کالا'!$F$196","v":0},null,0,null,null,null,null,null,null,null,null,null,null,null,null,null,null,0,0,0,0,0,0,0]
[null,"کاردکس 193",{"$f":"'تعریف کالا'!$C$197","v":0},{"$f":"'تعریف کالا'!$D$197","v":0},{"$f":"'تعریف کالا'!$E$197","v":0},{"$f":"'تعریف کالا'!$G$197","v":0},null,{"$f":"'تعریف کالا'!$F$197","v":0},null,0,null,null,null,null,null,null,null,null,null,null,null,null,null,null,0,0,0,0,0,0,0]
[null,"کاردکس 194",{"$f":"'تعریف کالا'!$C$198","v":0},{"$f":"'تعریف کالا'!$D$198","v":0},{"$f":"'تعریف کالا'!$E$198","v":0},{"$f":"'تعریف کالا'!$G$198","v":0},null,{"$f":"'تعریف کالا'!$F$198","v":0},null,0,null,null,null,null,null,null,null,null,null,null,null,null,null,null,0,{"$f":"D436","v":0},{"$f":"E436","v":0},{"$f":"F436","v":0},{"$f":"H436","v":0},{"$f":"I436","v":0},{"$f":"J436","v":0}]
[null,"کاردکس 195",{"$f":"'تعریف کالا'!$C$199","v":0},{"$f":"'تعریف کالا'!$D$199","v":0},{"$f":"'تعریف کالا'!$E$199","v":0},{"$f":"'تعریف کالا'!$G$199","v":0},null,{"$f":"'تعریف کالا'!$F$199","v":0},null,{"$f":"(F437*I437)-(F437*I437*G437%)","v":0},null,null,null,null,null,null,null,null,null,null,null,null,null,null,{"$f":"C437","v":0},0,0,0,0,0,0]
[null,"کاردکس 196",{"$f":"'تعریف کالا'!$C$200","v":0},{"$f":"'تعریف کالا'!$D$200","v":0},{"$f":"'تعریف کالا'!$E$200","v":0},{"$f":"'تعریف کالا'!$G$200","v":0},null,{"$f":"'تعریف کالا'!$F$200","v":0},null,0,null,null,null,null,null,null,null,null,null,null,null,null,null,null,0,0,0,0,0,0,0]
[null,"کاردکس 197",{"$f":"'تعریف کالا'!$C$201","v":0},{"$f":"'تعریف کالا'!$D$201","v":0},{"$f":"'تعریف کالا'!$E$201","v":0},{"$f":"'تعریف کالا'!$G$201","v":0},null,{"$f":"'تعریف کالا'!$F$201","v":0},null,0,null,null,null,null,null,null,null,null,null,null,null,null,null,null,0,0,0,0,0,0,0]
[null,"کاردکس 198",{"$f":"'تعریف کالا'!$C$202","v":0},{"$f":"'تعریف کالا'!$D$202","v":0},{"$f":"'تعریف کالا'!$E$202","v":0},{"$f":"'تعریف کالا'!$G$202","v":0},null,{"$f":"'تعریف کالا'!$F$202","v":0},null,0,null,null,null,null,null,null,null,null,null,null,null,null,null,null,0,0,0,0,0,0,0]
[null,"کاردکس 199",{"$f":"'تعریف کالا'!$C$203","v":0},{"$f":"'تعریف کالا'!$D$203","v":0},{"$f":"'تعریف کالا'!$E$203","v":0},{"$f":"'تعریف کالا'!$G$203","v":0},null,{"$f":"'تعریف کالا'!$F$203","v":0},null,0,null,null,null,null,null,null,null,null,null,null,null,null,null,null,0,0,0,0,0,0,0]
[null,"کاردکس 200",{"$f":"'تعریف کالا'!$C$204","v":0},{"$f":"'تعریف کالا'!$D$204","v":0},{"$f":"'تعریف کالا'!$E$204","v":0},{"$f":"'تعریف کالا'!$G$204","v":0},null,{"$f":"'تعریف کالا'!$F$204","v":0},null,0,null,null,null,null,null,null,null,null,null,null,null,null,null,null,0,0,0,0,0,0,0]
[null,"     جمع کل",null,{"$f":"abh(I443)&L439","v":"منفي "},null,null,null,null,{"$f":"SUM(J243:J442)","v":0},null,null,null,null,null,null,null,null,null,null,null,null,null,null,"مانده حساب",null,{"$f":"abh(AD443)& \"ریال\"","v":"منفي ریال"},null,null,null,{"$f":"I445","v":0}]
[null,"                  مبلغ قابل  پرداخت        ",null,{"$f":"abh(I444)&\"ریال\"","v":"منفي ریال"},null,null,null,null,{"$f":"J237","v":0},null,null,null,null,null,null,null,null,null,null,null,null,null,null,"شرح رویداد :",null,{"$f":"E240","v":0}]
[null,"مانده حساب",null,{"$f":"abh(I445)&\"ریال\"","v":"منفي ریال"},null,null,null,null,{"$f":"J238","v":0},null,null,null,null,null,null,null,null,null,null,null,null,null,null,"اقلام این فاکتور سالم تحویل اینجانب  ....................  شد.               "]
[]
[null,null,null,null,null,null,null,null,null,null,null,null,null,null,null,null,null,null,null,null,null,null,null,null,"امضا صادر کننده",null,"امضا فروشنده",null,"امضا مسئول انبار",null,"امضا خریدار"]
[]
[]
[]
[]
[]
[]
[null,null,"فاکتور فروش"]
[null,null,null,null,null,{"$f":"'صفحه اصلی'!$J$4","v":0},null,null,null,null,null,"فاکتور بعدی",null,null,null,null,null,null,null,null,null,null,null,"حواله تحویل کالا"]
[null,"شماره سند ",3,null,null,null,null,null,"تاریخ",null,null,null,null,null,null,null,null,null,null,null,null,null,null,null,null,null,{"$f":"F455","v":0},null,null,"تاریخ",{"$f":"J456","v":0}]
[null,"شماره فاکتور",3,null,null,null,null,null,"انبار",null,null,"مشاهده حواله",null,null,null,null,null,null,null,null,null,null,null,"شماره حواله",{"$f":"C457","v":3}]
[null,null,null,null,null,null,null,null,null,null,null,null,null,null,null,null,null,null,null,null,null,null,null,"شماره سند",{"$f":"C456","v":3}]
[null,null,null,null,null,"           درصد تخفیف  ",null,null,"تخفیف ",{"$f":"(I668*G459%)","v":0}]
[null,null,"نام خریدار","خسرو جهانشاهی",null,"          کرایه حمل",null,null,"کرایه حمل",{"$f":"G460","v":0}]
[null,null,null,null,null,"          مالیات",null,null,"مالیات",{"$f":"(I668-J459+J460)*G461%","v":0}]
[null,null,"پرداخت نقدی",null,null,null,null,null,"مبلغ قابل پرداخت",{"$f":"I668-J459+J460+J461","v":0},null,null,null,null,null,null,null,null,null,null,null,null,null,null,"خریدار:",{"$f":"D460","v":"خسرو جهانشاهی"}]
[null,null,"پرداخت با چک",null,null,null,null,null,"مانده حساب",{"$f":"J462-D462-D463","v":0}]
[null,null,null,null,null,null,null,null,null,null,null,null,null,null,null,null,null,null,null,null,null,null,null,null,"آدرس :",{"$f":"VLOOKUP(Z462,'مشخصات مشتریان'!$C$2:$D$502,2,FALSE)","v":0}]
[null,null,"ثبت چک","شرح رویداد"]
[]
[null,"شماره کاردکس","کد کالا","نام کالا","گروه بندی","قیمت واحد","درصد تخفیف","واحد شمارش","تعداد","قیمت کل",null,null,null,null,null,null,null,null,null,null,null,null,null,"ردیف","کد کالا","نام کالا","گروه بندی","قیمت واحد","واحد شمارش","تعداد","قیمت کل"]
[null,"کاردکس 1",{"$f":"'تعریف کالا'!$C$5","v":9011120},{"$f":"'تعریف کالا'!$D$5","v":"سی دی"},{"$f":"'تعریف کالا'!$E$5","v":"سخت افزار"},{"$f":"'تعریف کالا'!$G$5","v":3000},null,{"$f":"'تعریف کالا'!$F$5","v":"حلقه"},null,{"$f":"(F468*I468)-(F468*I468*G468%)","v":0},null,null,null,null,null,null,null,null,null,null,null,null,null,null,{"$f":"C468","v":9011120},{"$f":"D468","v":"سی دی"},{"$f":"E468","v":"سخت افزار"},{"$f":"F468","v":3000},{"$f":"H468","v":"حلقه"},{"$f":"I468","v":0},{"$f":"J468","v":0}]
[null,"کاردکس 2",{"$f":"'تعریف کالا'!$C$6","v":9011121},{"$f":"'تعریف کالا'!$D$6","v":"دی وی دی"},{"$f":"'تعریف کالا'!$E$6","v":"سخت افزار"},{"$f":"'تعریف کالا'!$G$6","v":7000},null,{"$f":"'تعریف کالا'!$F$6","v":"حلقه"},null,{"$f":"(F469*I469)-(F469*I469*G469%)","v":0},null,null,null,null,null,null,null,null,null,null,null,null,null,null,{"$f":"C469","v":9011121},{"$f":"D469","v":"دی وی دی"},{"$f":"E469","v":"سخت افزار"},{"$f":"F469","v":7000},{"$f":"H469","v":"حلقه"},{"$f":"I469","v":0},{"$f":"J469","v":0}]
[null,"کاردکس 3",{"$f":"'تعریف کالا'!$C$7","v":9011122},{"$f":"'تعریف کالا'!$D$7","v":"نوت بوک"},{"$f":"'تعریف کالا'!$E$7","v":"سخت افزار"},{"$f":"'تعریف کالا'!$G$7","v":10000000},null,{"$f":"'تعریف کالا'!$F$7","v":"دستگاه"},null,{"$f":"(F470*I470)-(F470*I470*G470%)","v":0},null,null,null,null,null,null,null,null,null,null,null,null,null,null,{"$f":"C470","v":9011122},"نوت بوک","سخت افزار",10000000,"دستگاه",0,0]
[null,"کاردکس 4",{"$f":"'تعریف کالا'!$C$8","v":0},{"$f":"'تعریف کالا'!$D$8","v":0},{"$f":"'تعریف کالا'!$E$8","v":0},{"$f":"'تعریف کالا'!$G$8","v":0},null,{"$f":"'تعریف کالا'!$F$8","v":0},null,0,null,null,null,null,null,null,null,null,null,null,null,null,null,null,0,0,0,0,0,0,0]
[null,"کاردکس 5",{"$f":"'تعریف کالا'!$C$9","v":0},{"$f":"'تعریف کالا'!$D$9","v":0},{"$f":"'تعریف کالا'!$E$9","v":0},{"$f":"'تعریف کالا'!$G$9","v":0},null,{"$f":"'تعریف کالا'!$F$9","v":0},null,0,null,null,null,null,null,null,null,null,null,null,null,null,null,null,0,0,0,0,0,0,0]
[null,"کاردکس 6",{"$f":"'تعریف کالا'!$C$10","v":0},{"$f":"'تعریف کالا'!$D$10","v":0},{"$f":"'تعریف کالا'!$E$10","v":0},{"$f":"'تعریف کالا'!$G$10","v":0},null,{"$f":"'تعریف کالا'!$F$10","v":0},null,0,null,null,null,null,null,null,null,null,null,null,null,null,null,null,0,0,0,0,0,0,0]
[null,"کاردکس 7",{"$f":"'تعریف کالا'!$C$11","v":0},{"$f":"'تعریف کالا'!$D$11","v":0},{"$f":"'تعریف کالا'!$E$11","v":0},{"$f":"'تعریف کالا'!$G$11","v":0},null,{"$f":"'تعریف کالا'!$F$11","v":0},null,0,null,null,null,null,null,null,null,null,null,null,null,null,null,null,0,0,0,0,0,0,0]
[null,"کاردکس 8",{"$f":"'تعریف کالا'!$C$12","v":0},{"$f":"'تعریف کالا'!$D$12","v":0},{"$f":"'تعریف کالا'!$E$12","v":0},{"$f":"'تعریف کالا'!$G$12","v":0},null,{"$f":"'تعریف کالا'!$F$12","v":0},null,0,null,null,null,null,null,null,null,null,null,null,null,null,null,null,0,0,0,0,0,0,0]
[null,"کاردکس 9",{"$f":"'تعریف کالا'!$C$13","v":0},{"$f":"'تعریف کالا'!$D$13","v":0},{"$f":"'تعریف کالا'!$E$13","v":0},{"$f":"'تعریف کالا'!$G$13","v":0},null,{"$f":"'تعریف کالا'!$F$13","v":0},null,0,null,null,null,null,null,null,null,null,null,null,null,null,null,null,0,0,0,0,0,0,0]
[null,"کاردکس 10",{"$f":"'تعریف کالا'!$C$14","v":0},{"$f":"'تعریف کالا'!$D$14","v":0},{"$f":"'تعریف کالا'!$E$14","v":0},{"$f":"'تعریف کالا'!$G$14","v":0},null,{"$f":"'تعریف کالا'!$F$14","v":0},null,0,null,null,null,null,null,null,null,null,null,null,null,null,null,null,0,0,0,0,0,0,0]
[null,"کاردکس 11",{"$f":"'تعریف کالا'!$C$15","v":0},{"$f":"'تعریف کالا'!$D$15","v":0},{"$f":"'تعریف کالا'!$E$15","v":0},{"$f":"'تعریف کالا'!$G$15","v":0},null,{"$f":"'تعریف کالا'!$F$15","v":0},null,0,null,null,null,null,null,null,null,null,null,null,null,null,null,null,0,0,0,0,0,0,0]
[null,"کاردکس 12",{"$f":"'تعریف کالا'!$C$16","v":0},{"$f":"'تعریف کالا'!$D$16","v":0},{"$f":"'تعریف کالا'!$E$16","v":0},{"$f":"'تعریف کالا'!$G$16","v":0},null,{"$f":"'تعریف کالا'!$F$16","v":0},null,0,null,null,null,null,null,null,null,null,null,null,null,null,null,null,0,0,0,0,0,0,0]
[null,"کاردکس 13",{"$f":"'تعریف کالا'!$C$17","v":0},{"$f":"'تعریف کالا'!$D$17","v":0},{"$f":"'تعریف کالا'!$E$17","v":0},{"$f":"'تعریف کالا'!$G$17","v":0},null,{"$f":"'تعریف کالا'!$F$17","v":0},null,0,null,null,null,null,null,null,null,null,null,null,null,null,null,null,0,0,0,0,0,0,0]
[null,"کاردکس 14",{"$f":"'تعریف کالا'!$C$18","v":0},{"$f":"'تعریف کالا'!$D$18","v":0},{"$f":"'تعریف کالا'!$E$18","v":0},{"$f":"'تعریف کالا'!$G$18","v":0},null,{"$f":"'تعریف کالا'!$F$18","v":0},null,0,null,null,null,null,null,null,null,null,null,null,null,null,null,null,0,0,0,0,0,0,0]
[null,"کاردکس 15",{"$f":"'تعریف کالا'!$C$19","v":0},{"$f":"'تعریف کالا'!$D$19","v":0},{"$f":"'تعریف کالا'!$E$19","v":0},{"$f":"'تعریف کالا'!$G$19","v":0},null,{"$f":"'تعریف کالا'!$F$19","v":0},null,0,null,null,null,null,null,null,null,null,null,null,null,null,null,null,0,0,0,0,0,0,0]
[null,"کاردکس 16",{"$f":"'تعریف کالا'!$C$20","v":0},{"$f":"'تعریف کالا'!$D$20","v":0},{"$f":"'تعریف کالا'!$E$20","v":0},{"$f":"'تعریف کالا'!$G$20","v":0},null,{"$f":"'تعریف کالا'!$F$20","v":0},null,0,null,null,null,null,null,null,null,null,null,null,null,null,null,null,0,0,0,0,0,0,0]
[null,"کاردکس 17",{"$f":"'تعریف کالا'!$C$21","v":0},{"$f":"'تعریف کالا'!$D$21","v":0},{"$f":"'تعریف کالا'!$E$21","v":0},{"$f":"'تعریف کالا'!$G$21","v":0},null,{"$f":"'تعریف کالا'!$F$21","v":0},null,0,null,null,null,null,null,null,null,null,null,null,null,null,null,null,0,0,0,0,0,0,0]
[null,"کاردکس 18",{"$f":"'تعریف کالا'!$C$22","v":0},{"$f":"'تعریف کالا'!$D$22","v":0},{"$f":"'تعریف کالا'!$E$22","v":0},{"$f":"'تعریف کالا'!$G$22","v":0},null,{"$f":"'تعریف کالا'!$F$22","v":0},null,0,null,null,null,null,null,null,null,null,null,null,null,null,null,null,0,0,0,0,0,0,0]
[null,"کاردکس 19",{"$f":"'تعریف کالا'!$C$23","v":0},{"$f":"'تعریف کالا'!$D$23","v":0},{"$f":"'تعریف کالا'!$E$23","v":0},{"$f":"'تعریف کالا'!$G$23","v":0},null,{"$f":"'تعریف کالا'!$F$23","v":0},null,0,null,null,null,null,null,null,null,null,null,null,null,null,null,null,0,0,0,0,0,0,0]
[null,"کاردکس 20",{"$f":"'تعریف کالا'!$C$24","v":0},{"$f":"'تعریف کالا'!$D$24","v":0},{"$f":"'تعریف کالا'!$E$24","v":0},{"$f":"'تعریف کالا'!$G$24","v":0},null,{"$f":"'تعریف کالا'!$F$24","v":0},null,0,null,null,null,null,null,null,null,null,null,null,null,null,null,null,0,0,0,0,0,0,0]
[null,"کاردکس 21",{"$f":"'تعریف کالا'!$C$25","v":0},{"$f":"'تعریف کالا'!$D$25","v":0},{"$f":"'تعریف کالا'!$E$25","v":0},{"$f":"'تعریف کالا'!$G$25","v":0},null,{"$f":"'تعریف کالا'!$F$25","v":0},null,0,null,null,null,null,null,null,null,null,null,null,null,null,null,null,0,0,0,0,0,0,0]
[null,"کاردکس 22",{"$f":"'تعریف کالا'!$C$26","v":0},{"$f":"'تعریف کالا'!$D$26","v":0},{"$f":"'تعریف کالا'!$E$26","v":0},{"$f":"'تعریف کالا'!$G$26","v":0},null,{"$f":"'تعریف کالا'!$F$26","v":0},null,0,null,null,null,null,null,null,null,null,null,null,null,null,null,null,0,0,0,0,0,0,0]
[null,"کاردکس 23",{"$f":"'تعریف کالا'!$C$27","v":0},{"$f":"'تعریف کالا'!$D$27","v":0},{"$f":"'تعریف کالا'!$E$27","v":0},{"$f":"'تعریف کالا'!$G$27","v":0},null,{"$f":"'تعریف کالا'!$F$27","v":0},null,0,null,null,null,null,null,null,null,null,null,null,null,null,null,null,0,0,0,0,0,0,0]
[null,"کاردکس 24",{"$f":"'تعریف کالا'!$C$28","v":0},{"$f":"'تعریف کالا'!$D$28","v":0},{"$f":"'تعریف کالا'!$E$28","v":0},{"$f":"'تعریف کالا'!$G$28","v":0},null,{"$f":"'تعریف کالا'!$F$28","v":0},null,0,null,null,null,null,null,null,null,null,null,null,null,null,null,null,0,0,0,0,0,0,0]
[null,"کاردکس 25",{"$f":"'تعریف کالا'!$C$29","v":0},{"$f":"'تعریف کالا'!$D$29","v":0},{"$f":"'تعریف کالا'!$E$29","v":0},{"$f":"'تعریف کالا'!$G$29","v":0},null,{"$f":"'تعریف کالا'!$F$29","v":0},null,0,null,null,null,null,null,null,null,null,null,null,null,null,null,null,0,0,0,0,0,0,0]
[null,"کاردکس 26",{"$f":"'تعریف کالا'!$C$30","v":0},{"$f":"'تعریف کالا'!$D$30","v":0},{"$f":"'تعریف کالا'!$E$30","v":0},{"$f":"'تعریف کالا'!$G$30","v":0},null,{"$f":"'تعریف کالا'!$F$30","v":0},null,0,null,null,null,null,null,null,null,null,null,null,null,null,null,null,0,0,0,0,0,0,0]
[null,"کاردکس 27",{"$f":"'تعریف کالا'!$C$31","v":0},{"$f":"'تعریف کالا'!$D$31","v":0},{"$f":"'تعریف کالا'!$E$31","v":0},{"$f":"'تعریف کالا'!$G$31","v":0},null,{"$f":"'تعریف کالا'!$F$31","v":0},null,0,null,null,null,null,null,null,null,null,null,null,null,null,null,null,0,0,0,0,0,0,0]
[null,"کاردکس 28",{"$f":"'تعریف کالا'!$C$32","v":0},{"$f":"'تعریف کالا'!$D$32","v":0},{"$f":"'تعریف کالا'!$E$32","v":0},{"$f":"'تعریف کالا'!$G$32","v":0},null,{"$f":"'تعریف کالا'!$F$32","v":0},null,0,null,null,null,null,null,null,null,null,null,null,null,null,null,null,0,0,0,0,0,0,0]
[null,"کاردکس 29",{"$f":"'تعریف کالا'!$C$33","v":0},{"$f":"'تعریف کالا'!$D$33","v":0},{"$f":"'تعریف کالا'!$E$33","v":0},{"$f":"'تعریف کالا'!$G$33","v":0},null,{"$f":"'تعریف کالا'!$F$33","v":0},null,0,null,null,null,null,null,null,null,null,null,null,null,null,null,null,0,0,0,0,0,0,0]
[null,"کاردکس 30",{"$f":"'تعریف کالا'!$C$34","v":0},{"$f":"'تعریف کالا'!$D$34","v":0},{"$f":"'تعریف کالا'!$E$34","v":0},{"$f":"'تعریف کالا'!$G$34","v":0},null,{"$f":"'تعریف کالا'!$F$34","v":0},null,0,null,null,null,null,null,null,null,null,null,null,null,null,null,null,0,0,0,0,0,0,0]
[null,"کاردکس 31",{"$f":"'تعریف کالا'!$C$35","v":0},{"$f":"'تعریف کالا'!$D$35","v":0},{"$f":"'تعریف کالا'!$E$35","v":0},{"$f":"'تعریف کالا'!$G$35","v":0},null,{"$f":"'تعریف کالا'!$F$35","v":0},null,0,null,null,null,null,null,null,null,null,null,null,null,null,null,null,0,0,0,0,0,0,0]
[null,"کاردکس 32",{"$f":"'تعریف کالا'!$C$36","v":0},{"$f":"'تعریف کالا'!$D$36","v":0},{"$f":"'تعریف کالا'!$E$36","v":0},{"$f":"'تعریف کالا'!$G$36","v":0},null,{"$f":"'تعریف کالا'!$F$36","v":0},null,0,null,null,null,null,null,null,null,null,null,null,null,null,null,null,0,0,0,0,0,0,0]
[null,"کاردکس 33",{"$f":"'تعریف کالا'!$C$37","v":0},{"$f":"'تعریف کالا'!$D$37","v":0},{"$f":"'تعریف کالا'!$E$37","v":0},{"$f":"'تعریف کالا'!$G$37","v":0},null,{"$f":"'تعریف کالا'!$F$37","v":0},null,0,null,null,null,null,null,null,null,null,null,null,null,null,null,null,0,0,0,0,0,0,0]
[null,"کاردکس 34",{"$f":"'تعریف کالا'!$C$38","v":0},{"$f":"'تعریف کالا'!$D$38","v":0},{"$f":"'تعریف کالا'!$E$38","v":0},{"$f":"'تعریف کالا'!$G$38","v":0},null,{"$f":"'تعریف کالا'!$F$38","v":0},null,0,null,null,null,null,null,null,null,null,null,null,null,null,null,null,0,0,0,0,0,0,0]
[null,"کاردکس 35",{"$f":"'تعریف کالا'!$C$39","v":0},{"$f":"'تعریف کالا'!$D$39","v":0},{"$f":"'تعریف کالا'!$E$39","v":0},{"$f":"'تعریف کالا'!$G$39","v":0},null,{"$f":"'تعریف کالا'!$F$39","v":0},null,0,null,null,null,null,null,null,null,null,null,null,null,null,null,null,0,0,0,0,0,0,0]
[null,"کاردکس 36",{"$f":"'تعریف کالا'!$C$40","v":0},{"$f":"'تعریف کالا'!$D$40","v":0},{"$f":"'تعریف کالا'!$E$40","v":0},{"$f":"'تعریف کالا'!$G$40","v":0},null,{"$f":"'تعریف کالا'!$F$40","v":0},null,0,null,null,null,null,null,null,null,null,null,null,null,null,null,null,0,0,0,0,0,0,0]
[null,"کاردکس 37",{"$f":"'تعریف کالا'!$C$41","v":0},{"$f":"'تعریف کالا'!$D$41","v":0},{"$f":"'تعریف کالا'!$E$41","v":0},{"$f":"'تعریف کالا'!$G$41","v":0},null,{"$f":"'تعریف کالا'!$F$41","v":0},null,0,null,null,null,null,null,null,null,null,null,null,null,null,null,null,0,0,0,0,0,0,0]
[null,"کاردکس 38",{"$f":"'تعریف کالا'!$C$42","v":0},{"$f":"'تعریف کالا'!$D$42","v":0},{"$f":"'تعریف کالا'!$E$42","v":0},{"$f":"'تعریف کالا'!$G$42","v":0},null,{"$f":"'تعریف کالا'!$F$42","v":0},null,0,null,null,null,null,null,null,null,null,null,null,null,null,null,null,0,0,0,0,0,0,0]
[null,"کاردکس 39",{"$f":"'تعریف کالا'!$C$43","v":0},{"$f":"'تعریف کالا'!$D$43","v":0},{"$f":"'تعریف کالا'!$E$43","v":0},{"$f":"'تعریف کالا'!$G$43","v":0},null,{"$f":"'تعریف کالا'!$F$43","v":0},null,0,null,null,null,null,null,null,null,null,null,null,null,null,null,null,0,0,0,0,0,0,0]
[null,"کاردکس 40",{"$f":"'تعریف کالا'!$C$44","v":0},{"$f":"'تعریف کالا'!$D$44","v":0},{"$f":"'تعریف کالا'!$E$44","v":0},{"$f":"'تعریف کالا'!$G$44","v":0},null,{"$f":"'تعریف کالا'!$F$44","v":0},null,0,null,null,null,null,null,null,null,null,null,null,null,null,null,null,0,0,0,0,0,0,0]
[null,"کاردکس 41",{"$f":"'تعریف کالا'!$C$45","v":0},{"$f":"'تعریف کالا'!$D$45","v":0},{"$f":"'تعریف کالا'!$E$45","v":0},{"$f":"'تعریف کالا'!$G$45","v":0},null,{"$f":"'تعریف کالا'!$F$45","v":0},null,0,null,null,null,null,null,null,null,null,null,null,null,null,null,null,0,0,0,0,0,0,0]
[null,"کاردکس 42",{"$f":"'تعریف کالا'!$C$46","v":0},{"$f":"'تعریف کالا'!$D$46","v":0},{"$f":"'تعریف کالا'!$E$46","v":0},{"$f":"'تعریف کالا'!$G$46","v":0},null,{"$f":"'تعریف کالا'!$F$46","v":0},null,0,null,null,null,null,null,null,null,null,null,null,null,null,null,null,0,0,0,0,0,0,0]
[null,"کاردکس 43",{"$f":"'تعریف کالا'!$C$47","v":0},{"$f":"'تعریف کالا'!$D$47","v":0},{"$f":"'تعریف کالا'!$E$47","v":0},{"$f":"'تعریف کالا'!$G$47","v":0},null,{"$f":"'تعریف کالا'!$F$47","v":0},null,0,null,null,null,null,null,null,null,null,null,null,null,null,null,null,0,0,0,0,0,0,0]
[null,"کاردکس 44",{"$f":"'تعریف کالا'!$C$48","v":0},{"$f":"'تعریف کالا'!$D$48","v":0},{"$f":"'تعریف کالا'!$E$48","v":0},{"$f":"'تعریف کالا'!$G$48","v":0},null,{"$f":"'تعریف کالا'!$F$48","v":0},null,0,null,null,null,null,null,null,null,null,null,null,null,null,null,null,0,0,0,0,0,0,0]
[null,"کاردکس 45",{"$f":"'تعریف کالا'!$C$49","v":0},{"$f":"'تعریف کالا'!$D$49","v":0},{"$f":"'تعریف کالا'!$E$49","v":0},{"$f":"'تعریف کالا'!$G$49","v":0},null,{"$f":"'تعریف کالا'!$F$49","v":0},null,0,null,null,null,null,null,null,null,null,null,null,null,null,null,null,0,0,0,0,0,0,0]
[null,"کاردکس 46",{"$f":"'تعریف کالا'!$C$50","v":0},{"$f":"'تعریف کالا'!$D$50","v":0},{"$f":"'تعریف کالا'!$E$50","v":0},{"$f":"'تعریف کالا'!$G$50","v":0},null,{"$f":"'تعریف کالا'!$F$50","v":0},null,0,null,null,null,null,null,null,null,null,null,null,null,null,null,null,0,0,0,0,0,0,0]
[null,"کاردکس 47",{"$f":"'تعریف کالا'!$C$51","v":0},{"$f":"'تعریف کالا'!$D$51","v":0},{"$f":"'تعریف کالا'!$E$51","v":0},{"$f":"'تعریف کالا'!$G$51","v":0},null,{"$f":"'تعریف کالا'!$F$51","v":0},null,0,null,null,null,null,null,null,null,null,null,null,null,null,null,null,0,0,0,0,0,0,0]
[null,"کاردکس 48",{"$f":"'تعریف کالا'!$C$52","v":0},{"$f":"'تعریف کالا'!$D$52","v":0},{"$f":"'تعریف کالا'!$E$52","v":0},{"$f":"'تعریف کالا'!$G$52","v":0},null,{"$f":"'تعریف کالا'!$F$52","v":0},null,0,null,null,null,null,null,null,null,null,null,null,null,null,null,null,0,0,0,0,0,0,0]
[null,"کاردکس 49",{"$f":"'تعریف کالا'!$C$53","v":0},{"$f":"'تعریف کالا'!$D$53","v":0},{"$f":"'تعریف کالا'!$E$53","v":0},{"$f":"'تعریف کالا'!$G$53","v":0},null,{"$f":"'تعریف کالا'!$F$53","v":0},null,0,null,null,null,null,null,null,null,null,null,null,null,null,null,null,0,0,0,0,0,0,0]
[null,"کاردکس 50",{"$f":"'تعریف کالا'!$C$54","v":0},{"$f":"'تعریف کالا'!$D$54","v":0},{"$f":"'تعریف کالا'!$E$54","v":0},{"$f":"'تعریف کالا'!$G$54","v":0},null,{"$f":"'تعریف کالا'!$F$54","v":0},null,0,null,null,null,null,null,null,null,null,null,null,null,null,null,null,0,0,0,0,0,0,0]
[null,"کاردکس 51",{"$f":"'تعریف کالا'!$C$55","v":0},{"$f":"'تعریف کالا'!$D$55","v":0},{"$f":"'تعریف کالا'!$E$55","v":0},{"$f":"'تعریف کالا'!$G$55","v":0},null,{"$f":"'تعریف کالا'!$F$55","v":0},null,0,null,null,null,null,null,null,null,null,null,null,null,null,null,null,0,0,0,0,0,0,0]
[null,"کاردکس 52",{"$f":"'تعریف کالا'!$C$56","v":0},{"$f":"'تعریف کالا'!$D$56","v":0},{"$f":"'تعریف کالا'!$E$56","v":0},{"$f":"'تعریف کالا'!$G$56","v":0},null,{"$f":"'تعریف کالا'!$F$56","v":0},null,0,null,null,null,null,null,null,null,null,null,null,null,null,null,null,0,0,0,0,0,0,0]
[null,"کاردکس 53",{"$f":"'تعریف کالا'!$C$57","v":0},{"$f":"'تعریف کالا'!$D$57","v":0},{"$f":"'تعریف کالا'!$E$57","v":0},{"$f":"'تعریف کالا'!$G$57","v":0},null,{"$f":"'تعریف کالا'!$F$57","v":0},null,0,null,null,null,null,null,null,null,null,null,null,null,null,null,null,0,0,0,0,0,0,0]
[null,"کاردکس 54",{"$f":"'تعریف کالا'!$C$58","v":0},{"$f":"'تعریف کالا'!$D$58","v":0},{"$f":"'تعریف کالا'!$E$58","v":0},{"$f":"'تعریف کالا'!$G$58","v":0},null,{"$f":"'تعریف کالا'!$F$58","v":0},null,0,null,null,null,null,null,null,null,null,null,null,null,null,null,null,0,0,0,0,0,0,0]
[null,"کاردکس 55",{"$f":"'تعریف کالا'!$C$59","v":0},{"$f":"'تعریف کالا'!$D$59","v":0},{"$f":"'تعریف کالا'!$E$59","v":0},{"$f":"'تعریف کالا'!$G$59","v":0},null,{"$f":"'تعریف کالا'!$F$59","v":0},null,0,null,null,null,null,null,null,null,null,null,null,null,null,null,null,0,0,0,0,0,0,0]
[null,"کاردکس 56",{"$f":"'تعریف کالا'!$C$60","v":0},{"$f":"'تعریف کالا'!$D$60","v":0},{"$f":"'تعریف کالا'!$E$60","v":0},{"$f":"'تعریف کالا'!$G$60","v":0},null,{"$f":"'تعریف کالا'!$F$60","v":0},null,0,null,null,null,null,null,null,null,null,null,null,null,null,null,null,0,0,0,0,0,0,0]
[null,"کاردکس 57",{"$f":"'تعریف کالا'!$C$61","v":0},{"$f":"'تعریف کالا'!$D$61","v":0},{"$f":"'تعریف کالا'!$E$61","v":0},{"$f":"'تعریف کالا'!$G$61","v":0},null,{"$f":"'تعریف کالا'!$F$61","v":0},null,0,null,null,null,null,null,null,null,null,null,null,null,null,null,null,0,0,0,0,0,0,0]
[null,"کاردکس 58",{"$f":"'تعریف کالا'!$C$62","v":0},{"$f":"'تعریف کالا'!$D$62","v":0},{"$f":"'تعریف کالا'!$E$62","v":0},{"$f":"'تعریف کالا'!$G$62","v":0},null,{"$f":"'تعریف کالا'!$F$62","v":0},null,0,null,null,null,null,null,null,null,null,null,null,null,null,null,null,0,0,0,0,0,0,0]
[null,"کاردکس 59",{"$f":"'تعریف کالا'!$C$63","v":0},{"$f":"'تعریف کالا'!$D$63","v":0},{"$f":"'تعریف کالا'!$E$63","v":0},{"$f":"'تعریف کالا'!$G$63","v":0},null,{"$f":"'تعریف کالا'!$F$63","v":0},null,0,null,null,null,null,null,null,null,null,null,null,null,null,null,null,0,0,0,0,0,0,0]
[null,"کاردکس 60",{"$f":"'تعریف کالا'!$C$64","v":0},{"$f":"'تعریف کالا'!$D$64","v":0},{"$f":"'تعریف کالا'!$E$64","v":0},{"$f":"'تعریف کالا'!$G$64","v":0},null,{"$f":"'تعریف کالا'!$F$64","v":0},null,0,null,null,null,null,null,null,null,null,null,null,null,null,null,null,0,0,0,0,0,0,0]
[null,"کاردکس 61",{"$f":"'تعریف کالا'!$C$65","v":0},{"$f":"'تعریف کالا'!$D$65","v":0},{"$f":"'تعریف کالا'!$E$65","v":0},{"$f":"'تعریف کالا'!$G$65","v":0},null,{"$f":"'تعریف کالا'!$F$65","v":0},null,0,null,null,null,null,null,null,null,null,null,null,null,null,null,null,0,0,0,0,0,0,0]
[null,"کاردکس 62",{"$f":"'تعریف کالا'!$C$66","v":0},{"$f":"'تعریف کالا'!$D$66","v":0},{"$f":"'تعریف کالا'!$E$66","v":0},{"$f":"'تعریف کالا'!$G$66","v":0},null,{"$f":"'تعریف کالا'!$F$66","v":0},null,0,null,null,null,null,null,null,null,null,null,null,null,null,null,null,0,0,0,0,0,0,0]
[null,"کاردکس 63",{"$f":"'تعریف کالا'!$C$67","v":0},{"$f":"'تعریف کالا'!$D$67","v":0},{"$f":"'تعریف کالا'!$E$67","v":0},{"$f":"'تعریف کالا'!$G$67","v":0},null,{"$f":"'تعریف کالا'!$F$67","v":0},null,0,null,null,null,null,null,null,null,null,null,null,null,null,null,null,0,0,0,0,0,0,0]
[null,"کاردکس 64",{"$f":"'تعریف کالا'!$C$68","v":0},{"$f":"'تعریف کالا'!$D$68","v":0},{"$f":"'تعریف کالا'!$E$68","v":0},{"$f":"'تعریف کالا'!$G$68","v":0},null,{"$f":"'تعریف کالا'!$F$68","v":0},null,0,null,null,null,null,null,null,null,null,null,null,null,null,null,null,0,0,0,0,0,0,0]
[null,"کاردکس 65",{"$f":"'تعریف کالا'!$C$69","v":0},{"$f":"'تعریف کالا'!$D$69","v":0},{"$f":"'تعریف کالا'!$E$69","v":0},{"$f":"'تعریف کالا'!$G$69","v":0},null,{"$f":"'تعریف کالا'!$F$69","v":0},null,0,null,null,null,null,null,null,null,null,null,null,null,null,null,null,0,0,0,0,0,0,0]
[null,"کاردکس 66",{"$f":"'تعریف کالا'!$C$70","v":0},{"$f":"'تعریف کالا'!$D$70","v":0},{"$f":"'تعریف کالا'!$E$70","v":0},{"$f":"'تعریف کالا'!$G$70","v":0},null,{"$f":"'تعریف کالا'!$F$70","v":0},null,0,null,null,null,null,null,null,null,null,null,null,null,null,null,null,0,{"$f":"D533","v":0},{"$f":"E533","v":0},{"$f":"F533","v":0},{"$f":"H533","v":0},{"$f":"I533","v":0},{"$f":"J533","v":0}]
[null,"کاردکس 67",{"$f":"'تعریف کالا'!$C$71","v":0},{"$f":"'تعریف کالا'!$D$71","v":0},{"$f":"'تعریف کالا'!$E$71","v":0},{"$f":"'تعریف کالا'!$G$71","v":0},null,{"$f":"'تعریف کالا'!$F$71","v":0},null,{"$f":"(F534*I534)-(F534*I534*G534%)","v":0},null,null,null,null,null,null,null,null,null,null,null,null,null,null,{"$f":"C534","v":0},0,0,0,0,0,0]
[null,"کاردکس 68",{"$f":"'تعریف کالا'!$C$72","v":0},{"$f":"'تعریف کالا'!$D$72","v":0},{"$f":"'تعریف کالا'!$E$72","v":0},{"$f":"'تعریف کالا'!$G$72","v":0},null,{"$f":"'تعریف کالا'!$F$72","v":0},null,0,null,null,null,null,null,null,null,null,null,null,null,null,null,null,0,0,0,0,0,0,0]
[null,"کاردکس 69",{"$f":"'تعریف کالا'!$C$73","v":0},{"$f":"'تعریف کالا'!$D$73","v":0},{"$f":"'تعریف کالا'!$E$73","v":0},{"$f":"'تعریف کالا'!$G$73","v":0},null,{"$f":"'تعریف کالا'!$F$73","v":0},null,0,null,null,null,null,null,null,null,null,null,null,null,null,null,null,0,0,0,0,0,0,0]
[null,"کاردکس 70",{"$f":"'تعریف کالا'!$C$74","v":0},{"$f":"'تعریف کالا'!$D$74","v":0},{"$f":"'تعریف کالا'!$E$74","v":0},{"$f":"'تعریف کالا'!$G$74","v":0},null,{"$f":"'تعریف کالا'!$F$74","v":0},null,0,null,null,null,null,null,null,null,null,null,null,null,null,null,null,0,0,0,0,0,0,0]
[null,"کاردکس 71",{"$f":"'تعریف کالا'!$C$75","v":0},{"$f":"'تعریف کالا'!$D$75","v":0},{"$f":"'تعریف کالا'!$E$75","v":0},{"$f":"'تعریف کالا'!$G$75","v":0},null,{"$f":"'تعریف کالا'!$F$75","v":0},null,0,null,null,null,null,null,null,null,null,null,null,null,null,null,null,0,0,0,0,0,0,0]
[null,"کاردکس 72",{"$f":"'تعریف کالا'!$C$76","v":0},{"$f":"'تعریف کالا'!$D$76","v":0},{"$f":"'تعریف کالا'!$E$76","v":0},{"$f":"'تعریف کالا'!$G$76","v":0},null,{"$f":"'تعریف کالا'!$F$76","v":0},null,0,null,null,null,null,null,null,null,null,null,null,null,null,null,null,0,0,0,0,0,0,0]
[null,"کاردکس 73",{"$f":"'تعریف کالا'!$C$77","v":0},{"$f":"'تعریف کالا'!$D$77","v":0},{"$f":"'تعریف کالا'!$E$77","v":0},{"$f":"'تعریف کالا'!$G$77","v":0},null,{"$f":"'تعریف کالا'!$F$77","v":0},null,0,null,null,null,null,null,null,null,null,null,null,null,null,null,null,0,0,0,0,0,0,0]
[null,"کاردکس 74",{"$f":"'تعریف کالا'!$C$78","v":0},{"$f":"'تعریف کالا'!$D$78","v":0},{"$f":"'تعریف کالا'!$E$78","v":0},{"$f":"'تعریف کالا'!$G$78","v":0},null,{"$f":"'تعریف کالا'!$F$78","v":0},null,0,null,null,null,null,null,null,null,null,null,null,null,null,null,null,0,0,0,0,0,0,0]
[null,"کاردکس 75",{"$f":"'تعریف کالا'!$C$79","v":0},{"$f":"'تعریف کالا'!$D$79","v":0},{"$f":"'تعریف کالا'!$E$79","v":0},{"$f":"'تعریف کالا'!$G$79","v":0},null,{"$f":"'تعریف کالا'!$F$79","v":0},null,0,null,null,null,null,null,null,null,null,null,null,null,null,null,null,0,0,0,0,0,0,0]
[null,"کاردکس 76",{"$f":"'تعریف کالا'!$C$80","v":0},{"$f":"'تعریف کالا'!$D$80","v":0},{"$f":"'تعریف کالا'!$E$80","v":0},{"$f":"'تعریف کالا'!$G$80","v":0},null,{"$f":"'تعریف کالا'!$F$80","v":0},null,0,null,null,null,null,null,null,null,null,null,null,null,null,null,null,0,0,0,0,0,0,0]
[null,"کاردکس 77",{"$f":"'تعریف کالا'!$C$81","v":0},{"$f":"'تعریف کالا'!$D$81","v":0},{"$f":"'تعریف کالا'!$E$81","v":0},{"$f":"'تعریف کالا'!$G$81","v":0},null,{"$f":"'تعریف کالا'!$F$81","v":0},null,0,null,null,null,null,null,null,null,null,null,null,null,null,null,null,0,0,0,0,0,0,0]
[null,"کاردکس 78",{"$f":"'تعریف کالا'!$C$82","v":0},{"$f":"'تعریف کالا'!$D$82","v":0},{"$f":"'تعریف کالا'!$E$82","v":0},{"$f":"'تعریف کالا'!$G$82","v":0},null,{"$f":"'تعریف کالا'!$F$82","v":0},null,0,null,null,null,null,null,null,null,null,null,null,null,null,null,null,0,0,0,0,0,0,0]
[null,"کاردکس 79",{"$f":"'تعریف کالا'!$C$83","v":0},{"$f":"'تعریف کالا'!$D$83","v":0},{"$f":"'تعریف کالا'!$E$83","v":0},{"$f":"'تعریف کالا'!$G$83","v":0},null,{"$f":"'تعریف کالا'!$F$83","v":0},null,0,null,null,null,null,null,null,null,null,null,null,null,null,null,null,0,0,0,0,0,0,0]
[null,"کاردکس 80",{"$f":"'تعریف کالا'!$C$84","v":0},{"$f":"'تعریف کالا'!$D$84","v":0},{"$f":"'تعریف کالا'!$E$84","v":0},{"$f":"'تعریف کالا'!$G$84","v":0},null,{"$f":"'تعریف کالا'!$F$84","v":0},null,0,null,null,null,null,null,null,null,null,null,null,null,null,null,null,0,0,0,0,0,0,0]
[null,"کاردکس 81",{"$f":"'تعریف کالا'!$C$85","v":0},{"$f":"'تعریف کالا'!$D$85","v":0},{"$f":"'تعریف کالا'!$E$85","v":0},{"$f":"'تعریف کالا'!$G$85","v":0},null,{"$f":"'تعریف کالا'!$F$85","v":0},null,0,null,null,null,null,null,null,null,null,null,null,null,null,null,null,0,0,0,0,0,0,0]
[null,"کاردکس 82",{"$f":"'تعریف کالا'!$C$86","v":0},{"$f":"'تعریف کالا'!$D$86","v":0},{"$f":"'تعریف کالا'!$E$86","v":0},{"$f":"'تعریف کالا'!$G$86","v":0},null,{"$f":"'تعریف کالا'!$F$86","v":0},null,0,null,null,null,null,null,null,null,null,null,null,null,null,null,null,0,0,0,0,0,0,0]
[null,"کاردکس 83",{"$f":"'تعریف کالا'!$C$87","v":0},{"$f":"'تعریف کالا'!$D$87","v":0},{"$f":"'تعریف کالا'!$E$87","v":0},{"$f":"'تعریف کالا'!$G$87","v":0},null,{"$f":"'تعریف کالا'!$F$87","v":0},null,0,null,null,null,null,null,null,null,null,null,null,null,null,null,null,0,0,0,0,0,0,0]
[null,"کاردکس 84",{"$f":"'تعریف کالا'!$C$88","v":0},{"$f":"'تعریف کالا'!$D$88","v":0},{"$f":"'تعریف کالا'!$E$88","v":0},{"$f":"'تعریف کالا'!$G$88","v":0},null,{"$f":"'تعریف کالا'!$F$88","v":0},null,0,null,null,null,null,null,null,null,null,null,null,null,null,null,null,0,0,0,0,0,0,0]
[null,"کاردکس 85",{"$f":"'تعریف کالا'!$C$89","v":0},{"$f":"'تعریف کالا'!$D$89","v":0},{"$f":"'تعریف کالا'!$E$89","v":0},{"$f":"'تعریف کالا'!$G$89","v":0},null,{"$f":"'تعریف کالا'!$F$89","v":0},null,0,null,null,null,null,null,null,null,null,null,null,null,null,null,null,0,0,0,0,0,0,0]
[null,"کاردکس 86",{"$f":"'تعریف کالا'!$C$90","v":0},{"$f":"'تعریف کالا'!$D$90","v":0},{"$f":"'تعریف کالا'!$E$90","v":0},{"$f":"'تعریف کالا'!$G$90","v":0},null,{"$f":"'تعریف کالا'!$F$90","v":0},null,0,null,null,null,null,null,null,null,null,null,null,null,null,null,null,0,0,0,0,0,0,0]
[null,"کاردکس 87",{"$f":"'تعریف کالا'!$C$91","v":0},{"$f":"'تعریف کالا'!$D$91","v":0},{"$f":"'تعریف کالا'!$E$91","v":0},{"$f":"'تعریف کالا'!$G$91","v":0},null,{"$f":"'تعریف کالا'!$F$91","v":0},null,0,null,null,null,null,null,null,null,null,null,null,null,null,null,null,0,0,0,0,0,0,0]
[null,"کاردکس 88",{"$f":"'تعریف کالا'!$C$92","v":0},{"$f":"'تعریف کالا'!$D$92","v":0},{"$f":"'تعریف کالا'!$E$92","v":0},{"$f":"'تعریف کالا'!$G$92","v":0},null,{"$f":"'تعریف کالا'!$F$92","v":0},null,0,null,null,null,null,null,null,null,null,null,null,null,null,null,null,0,0,0,0,0,0,0]
[null,"کاردکس 89",{"$f":"'تعریف کالا'!$C$93","v":0},{"$f":"'تعریف کالا'!$D$93","v":0},{"$f":"'تعریف کالا'!$E$93","v":0},{"$f":"'تعریف کالا'!$G$93","v":0},null,{"$f":"'تعریف کالا'!$F$93","v":0},null,0,null,null,null,null,null,null,null,null,null,null,null,null,null,null,0,0,0,0,0,0,0]
[null,"کاردکس 90",{"$f":"'تعریف کالا'!$C$94","v":0},{"$f":"'تعریف کالا'!$D$94","v":0},{"$f":"'تعریف کالا'!$E$94","v":0},{"$f":"'تعریف کالا'!$G$94","v":0},null,{"$f":"'تعریف کالا'!$F$94","v":0},null,0,null,null,null,null,null,null,null,null,null,null,null,null,null,null,0,0,0,0,0,0,0]
[null,"کاردکس 91",{"$f":"'تعریف کالا'!$C$95","v":0},{"$f":"'تعریف کالا'!$D$95","v":0},{"$f":"'تعریف کالا'!$E$95","v":0},{"$f":"'تعریف کالا'!$G$95","v":0},null,{"$f":"'تعریف کالا'!$F$95","v":0},null,0,null,null,null,null,null,null,null,null,null,null,null,null,null,null,0,0,0,0,0,0,0]
[null,"کاردکس 92",{"$f":"'تعریف کالا'!$C$96","v":0},{"$f":"'تعریف کالا'!$D$96","v":0},{"$f":"'تعریف کالا'!$E$96","v":0},{"$f":"'تعریف کالا'!$G$96","v":0},null,{"$f":"'تعریف کالا'!$F$96","v":0},null,0,null,null,null,null,null,null,null,null,null,null,null,null,null,null,0,0,0,0,0,0,0]
[null,"کاردکس 93",{"$f":"'تعریف کالا'!$C$97","v":0},{"$f":"'تعریف کالا'!$D$97","v":0},{"$f":"'تعریف کالا'!$E$97","v":0},{"$f":"'تعریف کالا'!$G$97","v":0},null,{"$f":"'تعریف کالا'!$F$97","v":0},null,0,null,null,null,null,null,null,null,null,null,null,null,null,null,null,0,0,0,0,0,0,0]
[null,"کاردکس 94",{"$f":"'تعریف کالا'!$C$98","v":0},{"$f":"'تعریف کالا'!$D$98","v":0},{"$f":"'تعریف کالا'!$E$98","v":0},{"$f":"'تعریف کالا'!$G$98","v":0},null,{"$f":"'تعریف کالا'!$F$98","v":0},null,0,null,null,null,null,null,null,null,null,null,null,null,null,null,null,0,0,0,0,0,0,0]
[null,"کاردکس 95",{"$f":"'تعریف کالا'!$C$99","v":0},{"$f":"'تعریف کالا'!$D$99","v":0},{"$f":"'تعریف کالا'!$E$99","v":0},{"$f":"'تعریف کالا'!$G$99","v":0},null,{"$f":"'تعریف کالا'!$F$99","v":0},null,0,null,null,null,null,null,null,null,null,null,null,null,null,null,null,0,0,0,0,0,0,0]
[null,"کاردکس 96",{"$f":"'تعریف کالا'!$C$100","v":0},{"$f":"'تعریف کالا'!$D$100","v":0},{"$f":"'تعریف کالا'!$E$100","v":0},{"$f":"'تعریف کالا'!$G$100","v":0},null,{"$f":"'تعریف کالا'!$F$100","v":0},null,0,null,null,null,null,null,null,null,null,null,null,null,null,null,null,0,0,0,0,0,0,0]
[null,"کاردکس 97",{"$f":"'تعریف کالا'!$C$101","v":0},{"$f":"'تعریف کالا'!$D$101","v":0},{"$f":"'تعریف کالا'!$E$101","v":0},{"$f":"'تعریف کالا'!$G$101","v":0},null,{"$f":"'تعریف کالا'!$F$101","v":0},null,0,null,null,null,null,null,null,null,null,null,null,null,null,null,null,0,0,0,0,0,0,0]
[null,"کاردکس 98",{"$f":"'تعریف کالا'!$C$102","v":0},{"$f":"'تعریف کالا'!$D$102","v":0},{"$f":"'تعریف کالا'!$E$102","v":0},{"$f":"'تعریف کالا'!$G$102","v":0},null,{"$f":"'تعریف کالا'!$F$102","v":0},null,0,null,null,null,null,null,null,null,null,null,null,null,null,null,null,0,0,0,0,0,0,0]
[null,"کاردکس 99",{"$f":"'تعریف کالا'!$C$103","v":0},{"$f":"'تعریف کالا'!$D$103","v":0},{"$f":"'تعریف کالا'!$E$103","v":0},{"$f":"'تعریف کالا'!$G$103","v":0},null,{"$f":"'تعریف کالا'!$F$103","v":0},null,0,null,null,null,null,null,null,null,null,null,null,null,null,null,null,0,0,0,0,0,0,0]
[null,"کاردکس 100",{"$f":"'تعریف کالا'!$C$104","v":0},{"$f":"'تعریف کالا'!$D$104","v":0},{"$f":"'تعریف کالا'!$E$104","v":0},{"$f":"'تعریف کالا'!$G$104","v":0},null,{"$f":"'تعریف کالا'!$F$104","v":0},null,0,null,null,null,null,null,null,null,null,null,null,null,null,null,null,0,0,0,0,0,0,0]
[null,"کاردکس 101",{"$f":"'تعریف کالا'!$C$105","v":0},{"$f":"'تعریف کالا'!$D$105","v":0},{"$f":"'تعریف کالا'!$E$105","v":0},{"$f":"'تعریف کالا'!$G$105","v":0},null,{"$f":"'تعریف کالا'!$F$105","v":0},null,0,null,null,null,null,null,null,null,null,null,null,null,null,null,null,0,0,0,0,0,0,0]
[null,"کاردکس 102",{"$f":"'تعریف کالا'!$C$106","v":0},{"$f":"'تعریف کالا'!$D$106","v":0},{"$f":"'تعریف کالا'!$E$106","v":0},{"$f":"'تعریف کالا'!$G$106","v":0},null,{"$f":"'تعریف کالا'!$F$106","v":0},null,0,null,null,null,null,null,null,null,null,null,null,null,null,null,null,0,0,0,0,0,0,0]
[null,"کاردکس 103",{"$f":"'تعریف کالا'!$C$107","v":0},{"$f":"'تعریف کالا'!$D$107","v":0},{"$f":"'تعریف کالا'!$E$107","v":0},{"$f":"'تعریف کالا'!$G$107","v":0},null,{"$f":"'تعریف کالا'!$F$107","v":0},null,0,null,null,null,null,null,null,null,null,null,null,null,null,null,null,0,0,0,0,0,0,0]
[null,"کاردکس 104",{"$f":"'تعریف کالا'!$C$108","v":0},{"$f":"'تعریف کالا'!$D$108","v":0},{"$f":"'تعریف کالا'!$E$108","v":0},{"$f":"'تعریف کالا'!$G$108","v":0},null,{"$f":"'تعریف کالا'!$F$108","v":0},null,0,null,null,null,null,null,null,null,null,null,null,null,null,null,null,0,0,0,0,0,0,0]
[null,"کاردکس 105",{"$f":"'تعریف کالا'!$C$109","v":0},{"$f":"'تعریف کالا'!$D$109","v":0},{"$f":"'تعریف کالا'!$E$109","v":0},{"$f":"'تعریف کالا'!$G$109","v":0},null,{"$f":"'تعریف کالا'!$F$109","v":0},null,0,null,null,null,null,null,null,null,null,null,null,null,null,null,null,0,0,0,0,0,0,0]
[null,"کاردکس 106",{"$f":"'تعریف کالا'!$C$110","v":0},{"$f":"'تعریف کالا'!$D$110","v":0},{"$f":"'تعریف کالا'!$E$110","v":0},{"$f":"'تعریف کالا'!$G$110","v":0},null,{"$f":"'تعریف کالا'!$F$110","v":0},null,0,null,null,null,null,null,null,null,null,null,null,null,null,null,null,0,0,0,0,0,0,0]
[null,"کاردکس 107",{"$f":"'تعریف کالا'!$C$111","v":0},{"$f":"'تعریف کالا'!$D$111","v":0},{"$f":"'تعریف کالا'!$E$111","v":0},{"$f":"'تعریف کالا'!$G$111","v":0},null,{"$f":"'تعریف کالا'!$F$111","v":0},null,0,null,null,null,null,null,null,null,null,null,null,null,null,null,null,0,0,0,0,0,0,0]
[null,"کاردکس 108",{"$f":"'تعریف کالا'!$C$112","v":0},{"$f":"'تعریف کالا'!$D$112","v":0},{"$f":"'تعریف کالا'!$E$112","v":0},{"$f":"'تعریف کالا'!$G$112","v":0},null,{"$f":"'تعریف کالا'!$F$112","v":0},null,0,null,null,null,null,null,null,null,null,null,null,null,null,null,null,0,0,0,0,0,0,0]
[null,"کاردکس 109",{"$f":"'تعریف کالا'!$C$113","v":0},{"$f":"'تعریف کالا'!$D$113","v":0},{"$f":"'تعریف کالا'!$E$113","v":0},{"$f":"'تعریف کالا'!$G$113","v":0},null,{"$f":"'تعریف کالا'!$F$113","v":0},null,0,null,null,null,null,null,null,null,null,null,null,null,null,null,null,0,0,0,0,0,0,0]
[null,"کاردکس 110",{"$f":"'تعریف کالا'!$C$114","v":0},{"$f":"'تعریف کالا'!$D$114","v":0},{"$f":"'تعریف کالا'!$E$114","v":0},{"$f":"'تعریف کالا'!$G$114","v":0},null,{"$f":"'تعریف کالا'!$F$114","v":0},null,0,null,null,null,null,null,null,null,null,null,null,null,null,null,null,0,0,0,0,0,0,0]
[null,"کاردکس 111",{"$f":"'تعریف کالا'!$C$115","v":0},{"$f":"'تعریف کالا'!$D$115","v":0},{"$f":"'تعریف کالا'!$E$115","v":0},{"$f":"'تعریف کالا'!$G$115","v":0},null,{"$f":"'تعریف کالا'!$F$115","v":0},null,0,null,null,null,null,null,null,null,null,null,null,null,null,null,null,0,0,0,0,0,0,0]
[null,"کاردکس 112",{"$f":"'تعریف کالا'!$C$116","v":0},{"$f":"'تعریف کالا'!$D$116","v":0},{"$f":"'تعریف کالا'!$E$116","v":0},{"$f":"'تعریف کالا'!$G$116","v":0},null,{"$f":"'تعریف کالا'!$F$116","v":0},null,0,null,null,null,null,null,null,null,null,null,null,null,null,null,null,0,0,0,0,0,0,0]
[null,"کاردکس 113",{"$f":"'تعریف کالا'!$C$117","v":0},{"$f":"'تعریف کالا'!$D$117","v":0},{"$f":"'تعریف کالا'!$E$117","v":0},{"$f":"'تعریف کالا'!$G$117","v":0},null,{"$f":"'تعریف کالا'!$F$117","v":0},null,0,null,null,null,null,null,null,null,null,null,null,null,null,null,null,0,0,0,0,0,0,0]
[null,"کاردکس 114",{"$f":"'تعریف کالا'!$C$118","v":0},{"$f":"'تعریف کالا'!$D$118","v":0},{"$f":"'تعریف کالا'!$E$118","v":0},{"$f":"'تعریف کالا'!$G$118","v":0},null,{"$f":"'تعریف کالا'!$F$118","v":0},null,0,null,null,null,null,null,null,null,null,null,null,null,null,null,null,0,0,0,0,0,0,0]
[null,"کاردکس 115",{"$f":"'تعریف کالا'!$C$119","v":0},{"$f":"'تعریف کالا'!$D$119","v":0},{"$f":"'تعریف کالا'!$E$119","v":0},{"$f":"'تعریف کالا'!$G$119","v":0},null,{"$f":"'تعریف کالا'!$F$119","v":0},null,0,null,null,null,null,null,null,null,null,null,null,null,null,null,null,0,0,0,0,0,0,0]
[null,"کاردکس 116",{"$f":"'تعریف کالا'!$C$120","v":0},{"$f":"'تعریف کالا'!$D$120","v":0},{"$f":"'تعریف کالا'!$E$120","v":0},{"$f":"'تعریف کالا'!$G$120","v":0},null,{"$f":"'تعریف کالا'!$F$120","v":0},null,0,null,null,null,null,null,null,null,null,null,null,null,null,null,null,0,0,0,0,0,0,0]
[null,"کاردکس 117",{"$f":"'تعریف کالا'!$C$121","v":0},{"$f":"'تعریف کالا'!$D$121","v":0},{"$f":"'تعریف کالا'!$E$121","v":0},{"$f":"'تعریف کالا'!$G$121","v":0},null,{"$f":"'تعریف کالا'!$F$121","v":0},null,0,null,null,null,null,null,null,null,null,null,null,null,null,null,null,0,0,0,0,0,0,0]
[null,"کاردکس 118",{"$f":"'تعریف کالا'!$C$122","v":0},{"$f":"'تعریف کالا'!$D$122","v":0},{"$f":"'تعریف کالا'!$E$122","v":0},{"$f":"'تعریف کالا'!$G$122","v":0},null,{"$f":"'تعریف کالا'!$F$122","v":0},null,0,null,null,null,null,null,null,null,null,null,null,null,null,null,null,0,0,0,0,0,0,0]
[null,"کاردکس 119",{"$f":"'تعریف کالا'!$C$123","v":0},{"$f":"'تعریف کالا'!$D$123","v":0},{"$f":"'تعریف کالا'!$E$123","v":0},{"$f":"'تعریف کالا'!$G$123","v":0},null,{"$f":"'تعریف کالا'!$F$123","v":0},null,0,null,null,null,null,null,null,null,null,null,null,null,null,null,null,0,0,0,0,0,0,0]
[null,"کاردکس 120",{"$f":"'تعریف کالا'!$C$124","v":0},{"$f":"'تعریف کالا'!$D$124","v":0},{"$f":"'تعریف کالا'!$E$124","v":0},{"$f":"'تعریف کالا'!$G$124","v":0},null,{"$f":"'تعریف کالا'!$F$124","v":0},null,0,null,null,null,null,null,null,null,null,null,null,null,null,null,null,0,0,0,0,0,0,0]
[null,"کاردکس 121",{"$f":"'تعریف کالا'!$C$125","v":0},{"$f":"'تعریف کالا'!$D$125","v":0},{"$f":"'تعریف کالا'!$E$125","v":0},{"$f":"'تعریف کالا'!$G$125","v":0},null,{"$f":"'تعریف کالا'!$F$125","v":0},null,0,null,null,null,null,null,null,null,null,null,null,null,null,null,null,0,0,0,0,0,0,0]
[null,"کاردکس 122",{"$f":"'تعریف کالا'!$C$126","v":0},{"$f":"'تعریف کالا'!$D$126","v":0},{"$f":"'تعریف کالا'!$E$126","v":0},{"$f":"'تعریف کالا'!$G$126","v":0},null,{"$f":"'تعریف کالا'!$F$126","v":0},null,0,null,null,null,null,null,null,null,null,null,null,null,null,null,null,0,0,0,0,0,0,0]
[null,"کاردکس 123",{"$f":"'تعریف کالا'!$C$127","v":0},{"$f":"'تعریف کالا'!$D$127","v":0},{"$f":"'تعریف کالا'!$E$127","v":0},{"$f":"'تعریف کالا'!$G$127","v":0},null,{"$f":"'تعریف کالا'!$F$127","v":0},null,0,null,null,null,null,null,null,null,null,null,null,null,null,null,null,0,0,0,0,0,0,0]
[null,"کاردکس 124",{"$f":"'تعریف کالا'!$C$128","v":0},{"$f":"'تعریف کالا'!$D$128","v":0},{"$f":"'تعریف کالا'!$E$128","v":0},{"$f":"'تعریف کالا'!$G$128","v":0},null,{"$f":"'تعریف کالا'!$F$128","v":0},null,0,null,null,null,null,null,null,null,null,null,null,null,null,null,null,0,0,0,0,0,0,0]
[null,"کاردکس 125",{"$f":"'تعریف کالا'!$C$129","v":0},{"$f":"'تعریف کالا'!$D$129","v":0},{"$f":"'تعریف کالا'!$E$129","v":0},{"$f":"'تعریف کالا'!$G$129","v":0},null,{"$f":"'تعریف کالا'!$F$129","v":0},null,0,null,null,null,null,null,null,null,null,null,null,null,null,null,null,0,0,0,0,0,0,0]
[null,"کاردکس 126",{"$f":"'تعریف کالا'!$C$130","v":0},{"$f":"'تعریف کالا'!$D$130","v":0},{"$f":"'تعریف کالا'!$E$130","v":0},{"$f":"'تعریف کالا'!$G$130","v":0},null,{"$f":"'تعریف کالا'!$F$130","v":0},null,0,null,null,null,null,null,null,null,null,null,null,null,null,null,null,0,0,0,0,0,0,0]
[null,"کاردکس 127",{"$f":"'تعریف کالا'!$C$131","v":0},{"$f":"'تعریف کالا'!$D$131","v":0},{"$f":"'تعریف کالا'!$E$131","v":0},{"$f":"'تعریف کالا'!$G$131","v":0},null,{"$f":"'تعریف کالا'!$F$131","v":0},null,0,null,null,null,null,null,null,null,null,null,null,null,null,null,null,0,0,0,0,0,0,0]
[null,"کاردکس 128",{"$f":"'تعریف کالا'!$C$132","v":0},{"$f":"'تعریف کالا'!$D$132","v":0},{"$f":"'تعریف کالا'!$E$132","v":0},{"$f":"'تعریف کالا'!$G$132","v":0},null,{"$f":"'تعریف کالا'!$F$132","v":0},null,0,null,null,null,null,null,null,null,null,null,null,null,null,null,null,0,0,0,0,0,0,0]
[null,"کاردکس 129",{"$f":"'تعریف کالا'!$C$133","v":0},{"$f":"'تعریف کالا'!$D$133","v":0},{"$f":"'تعریف کالا'!$E$133","v":0},{"$f":"'تعریف کالا'!$G$133","v":0},null,{"$f":"'تعریف کالا'!$F$133","v":0},null,0,null,null,null,null,null,null,null,null,null,null,null,null,null,null,0,0,0,0,0,0,0]
[null,"کاردکس 130",{"$f":"'تعریف کالا'!$C$134","v":0},{"$f":"'تعریف کالا'!$D$134","v":0},{"$f":"'تعریف کالا'!$E$134","v":0},{"$f":"'تعریف کالا'!$G$134","v":0},null,{"$f":"'تعریف کالا'!$F$134","v":0},null,0,null,null,null,null,null,null,null,null,null,null,null,null,null,null,0,{"$f":"D597","v":0},{"$f":"E597","v":0},{"$f":"F597","v":0},{"$f":"H597","v":0},{"$f":"I597","v":0},{"$f":"J597","v":0}]
[null,"کاردکس 131",{"$f":"'تعریف کالا'!$C$135","v":0},{"$f":"'تعریف کالا'!$D$135","v":0},{"$f":"'تعریف کالا'!$E$135","v":0},{"$f":"'تعریف کالا'!$G$135","v":0},null,{"$f":"'تعریف کالا'!$F$135","v":0},null,{"$f":"(F598*I598)-(F598*I598*G598%)","v":0},null,null,null,null,null,null,null,null,null,null,null,null,null,null,{"$f":"C598","v":0},0,0,0,0,0,0]
[null,"کاردکس 132",{"$f":"'تعریف کالا'!$C$136","v":0},{"$f":"'تعریف کالا'!$D$136","v":0},{"$f":"'تعریف کالا'!$E$136","v":0},{"$f":"'تعریف کالا'!$G$136","v":0},null,{"$f":"'تعریف کالا'!$F$136","v":0},null,0,null,null,null,null,null,null,null,null,null,null,null,null,null,null,0,0,0,0,0,0,0]
[null,"کاردکس 133",{"$f":"'تعریف کالا'!$C$137","v":0},{"$f":"'تعریف کالا'!$D$137","v":0},{"$f":"'تعریف کالا'!$E$137","v":0},{"$f":"'تعریف کالا'!$G$137","v":0},null,{"$f":"'تعریف کالا'!$F$137","v":0},null,0,null,null,null,null,null,null,null,null,null,null,null,null,null,null,0,0,0,0,0,0,0]
[null,"کاردکس 134",{"$f":"'تعریف کالا'!$C$138","v":0},{"$f":"'تعریف کالا'!$D$138","v":0},{"$f":"'تعریف کالا'!$E$138","v":0},{"$f":"'تعریف کالا'!$G$138","v":0},null,{"$f":"'تعریف کالا'!$F$138","v":0},null,0,null,null,null,null,null,null,null,null,null,null,null,null,null,null,0,0,0,0,0,0,0]
[null,"کاردکس 135",{"$f":"'تعریف کالا'!$C$139","v":0},{"$f":"'تعریف کالا'!$D$139","v":0},{"$f":"'تعریف کالا'!$E$139","v":0},{"$f":"'تعریف کالا'!$G$139","v":0},null,{"$f":"'تعریف کالا'!$F$139","v":0},null,0,null,null,null,null,null,null,null,null,null,null,null,null,null,null,0,0,0,0,0,0,0]
[null,"کاردکس 136",{"$f":"'تعریف کالا'!$C$140","v":0},{"$f":"'تعریف کالا'!$D$140","v":0},{"$f":"'تعریف کالا'!$E$140","v":0},{"$f":"'تعریف کالا'!$G$140","v":0},null,{"$f":"'تعریف کالا'!$F$140","v":0},null,0,null,null,null,null,null,null,null,null,null,null,null,null,null,null,0,0,0,0,0,0,0]
[null,"کاردکس 137",{"$f":"'تعریف کالا'!$C$141","v":0},{"$f":"'تعریف کالا'!$D$141","v":0},{"$f":"'تعریف کالا'!$E$141","v":0},{"$f":"'تعریف کالا'!$G$141","v":0},null,{"$f":"'تعریف کالا'!$F$141","v":0},null,0,null,null,null,null,null,null,null,null,null,null,null,null,null,null,0,0,0,0,0,0,0]
[null,"کاردکس 138",{"$f":"'تعریف کالا'!$C$142","v":0},{"$f":"'تعریف کالا'!$D$142","v":0},{"$f":"'تعریف کالا'!$E$142","v":0},{"$f":"'تعریف کالا'!$G$142","v":0},null,{"$f":"'تعریف کالا'!$F$142","v":0},null,0,null,null,null,null,null,null,null,null,null,null,null,null,null,null,0,0,0,0,0,0,0]
[null,"کاردکس 139",{"$f":"'تعریف کالا'!$C$143","v":0},{"$f":"'تعریف کالا'!$D$143","v":0},{"$f":"'تعریف کالا'!$E$143","v":0},{"$f":"'تعریف کالا'!$G$143","v":0},null,{"$f":"'تعریف کالا'!$F$143","v":0},null,0,null,null,null,null,null,null,null,null,null,null,null,null,null,null,0,0,0,0,0,0,0]
[null,"کاردکس 140",{"$f":"'تعریف کالا'!$C$144","v":0},{"$f":"'تعریف کالا'!$D$144","v":0},{"$f":"'تعریف کالا'!$E$144","v":0},{"$f":"'تعریف کالا'!$G$144","v":0},null,{"$f":"'تعریف کالا'!$F$144","v":0},null,0,null,null,null,null,null,null,null,null,null,null,null,null,null,null,0,0,0,0,0,0,0]
[null,"کاردکس 141",{"$f":"'تعریف کالا'!$C$145","v":0},{"$f":"'تعریف کالا'!$D$145","v":0},{"$f":"'تعریف کالا'!$E$145","v":0},{"$f":"'تعریف کالا'!$G$145","v":0},null,{"$f":"'تعریف کالا'!$F$145","v":0},null,0,null,null,null,null,null,null,null,null,null,null,null,null,null,null,0,0,0,0,0,0,0]
[null,"کاردکس 142",{"$f":"'تعریف کالا'!$C$146","v":0},{"$f":"'تعریف کالا'!$D$146","v":0},{"$f":"'تعریف کالا'!$E$146","v":0},{"$f":"'تعریف کالا'!$G$146","v":0},null,{"$f":"'تعریف کالا'!$F$146","v":0},null,0,null,null,null,null,null,null,null,null,null,null,null,null,null,null,0,0,0,0,0,0,0]
[null,"کاردکس 143",{"$f":"'تعریف کالا'!$C$147","v":0},{"$f":"'تعریف کالا'!$D$147","v":0},{"$f":"'تعریف کالا'!$E$147","v":0},{"$f":"'تعریف کالا'!$G$147","v":0},null,{"$f":"'تعریف کالا'!$F$147","v":0},null,0,null,null,null,null,null,null,null,null,null,null,null,null,null,null,0,0,0,0,0,0,0]
[null,"کاردکس 144",{"$f":"'تعریف کالا'!$C$148","v":0},{"$f":"'تعریف کالا'!$D$148","v":0},{"$f":"'تعریف کالا'!$E$148","v":0},{"$f":"'تعریف کالا'!$G$148","v":0},null,{"$f":"'تعریف کالا'!$F$148","v":0},null,0,null,null,null,null,null,null,null,null,null,null,null,null,null,null,0,0,0,0,0,0,0]
[null,"کاردکس 145",{"$f":"'تعریف کالا'!$C$149","v":0},{"$f":"'تعریف کالا'!$D$149","v":0},{"$f":"'تعریف کالا'!$E$149","v":0},{"$f":"'تعریف کالا'!$G$149","v":0},null,{"$f":"'تعریف کالا'!$F$149","v":0},null,0,null,null,null,null,null,null,null,null,null,null,null,null,null,null,0,0,0,0,0,0,0]
[null,"کاردکس 146",{"$f":"'تعریف کالا'!$C$150","v":0},{"$f":"'تعریف کالا'!$D$150","v":0},{"$f":"'تعریف کالا'!$E$150","v":0},{"$f":"'تعریف کالا'!$G$150","v":0},null,{"$f":"'تعریف کالا'!$F$150","v":0},null,0,null,null,null,null,null,null,null,null,null,null,null,null,null,null,0,0,0,0,0,0,0]
[null,"کاردکس 147",{"$f":"'تعریف کالا'!$C$151","v":0},{"$f":"'تعریف کالا'!$D$151","v":0},{"$f":"'تعریف کالا'!$E$151","v":0},{"$f":"'تعریف کالا'!$G$151","v":0},null,{"$f":"'تعریف کالا'!$F$151","v":0},null,0,null,null,null,null,null,null,null,null,null,null,null,null,null,null,0,0,0,0,0,0,0]
[null,"کاردکس 148",{"$f":"'تعریف کالا'!$C$152","v":0},{"$f":"'تعریف کالا'!$D$152","v":0},{"$f":"'تعریف کالا'!$E$152","v":0},{"$f":"'تعریف کالا'!$G$152","v":0},null,{"$f":"'تعریف کالا'!$F$152","v":0},null,0,null,null,null,null,null,null,null,null,null,null,null,null,null,null,0,0,0,0,0,0,0]
[null,"کاردکس 149",{"$f":"'تعریف کالا'!$C$153","v":0},{"$f":"'تعریف کالا'!$D$153","v":0},{"$f":"'تعریف کالا'!$E$153","v":0},{"$f":"'تعریف کالا'!$G$153","v":0},null,{"$f":"'تعریف کالا'!$F$153","v":0},null,0,null,null,null,null,null,null,null,null,null,null,null,null,null,null,0,0,0,0,0,0,0]
[null,"کاردکس 150",{"$f":"'تعریف کالا'!$C$154","v":0},{"$f":"'تعریف کالا'!$D$154","v":0},{"$f":"'تعریف کالا'!$E$154","v":0},{"$f":"'تعریف کالا'!$G$154","v":0},null,{"$f":"'تعریف کالا'!$F$154","v":0},null,0,null,null,null,null,null,null,null,null,null,null,null,null,null,null,0,0,0,0,0,0,0]
[null,"کاردکس 151",{"$f":"'تعریف کالا'!$C$155","v":0},{"$f":"'تعریف کالا'!$D$155","v":0},{"$f":"'تعریف کالا'!$E$155","v":0},{"$f":"'تعریف کالا'!$G$155","v":0},null,{"$f":"'تعریف کالا'!$F$155","v":0},null,0,null,null,null,null,null,null,null,null,null,null,null,null,null,null,0,0,0,0,0,0,0]
[null,"کاردکس 152",{"$f":"'تعریف کالا'!$C$156","v":0},{"$f":"'تعریف کالا'!$D$156","v":0},{"$f":"'تعریف کالا'!$E$156","v":0},{"$f":"'تعریف کالا'!$G$156","v":0},null,{"$f":"'تعریف کالا'!$F$156","v":0},null,0,null,null,null,null,null,null,null,null,null,null,null,null,null,null,0,0,0,0,0,0,0]
[null,"کاردکس 153",{"$f":"'تعریف کالا'!$C$157","v":0},{"$f":"'تعریف کالا'!$D$157","v":0},{"$f":"'تعریف کالا'!$E$157","v":0},{"$f":"'تعریف کالا'!$G$157","v":0},null,{"$f":"'تعریف کالا'!$F$157","v":0},null,0,null,null,null,null,null,null,null,null,null,null,null,null,null,null,0,0,0,0,0,0,0]
[null,"کاردکس 154",{"$f":"'تعریف کالا'!$C$158","v":0},{"$f":"'تعریف کالا'!$D$158","v":0},{"$f":"'تعریف کالا'!$E$158","v":0},{"$f":"'تعریف کالا'!$G$158","v":0},null,{"$f":"'تعریف کالا'!$F$158","v":0},null,0,null,null,null,null,null,null,null,null,null,null,null,null,null,null,0,0,0,0,0,0,0]
[null,"کاردکس 155",{"$f":"'تعریف کالا'!$C$159","v":0},{"$f":"'تعریف کالا'!$D$159","v":0},{"$f":"'تعریف کالا'!$E$159","v":0},{"$f":"'تعریف کالا'!$G$159","v":0},null,{"$f":"'تعریف کالا'!$F$159","v":0},null,0,null,null,null,null,null,null,null,null,null,null,null,null,null,null,0,0,0,0,0,0,0]
[null,"کاردکس 156",{"$f":"'تعریف کالا'!$C$160","v":0},{"$f":"'تعریف کالا'!$D$160","v":0},{"$f":"'تعریف کالا'!$E$160","v":0},{"$f":"'تعریف کالا'!$G$160","v":0},null,{"$f":"'تعریف کالا'!$F$160","v":0},null,0,null,null,null,null,null,null,null,null,null,null,null,null,null,null,0,0,0,0,0,0,0]
[null,"کاردکس 157",{"$f":"'تعریف کالا'!$C$161","v":0},{"$f":"'تعریف کالا'!$D$161","v":0},{"$f":"'تعریف کالا'!$E$161","v":0},{"$f":"'تعریف کالا'!$G$161","v":0},null,{"$f":"'تعریف کالا'!$F$161","v":0},null,0,null,null,null,null,null,null,null,null,null,null,null,null,null,null,0,0,0,0,0,0,0]
[null,"کاردکس 158",{"$f":"'تعریف کالا'!$C$162","v":0},{"$f":"'تعریف کالا'!$D$162","v":0},{"$f":"'تعریف کالا'!$E$162","v":0},{"$f":"'تعریف کالا'!$G$162","v":0},null,{"$f":"'تعریف کالا'!$F$162","v":0},null,0,null,null,null,null,null,null,null,null,null,null,null,null,null,null,0,0,0,0,0,0,0]
[null,"کاردکس 159",{"$f":"'تعریف کالا'!$C$163","v":0},{"$f":"'تعریف کالا'!$D$163","v":0},{"$f":"'تعریف کالا'!$E$163","v":0},{"$f":"'تعریف کالا'!$G$163","v":0},null,{"$f":"'تعریف کالا'!$F$163","v":0},null,0,null,null,null,null,null,null,null,null,null,null,null,null,null,null,0,0,0,0,0,0,0]
[null,"کاردکس 160",{"$f":"'تعریف کالا'!$C$164","v":0},{"$f":"'تعریف کالا'!$D$164","v":0},{"$f":"'تعریف کالا'!$E$164","v":0},{"$f":"'تعریف کالا'!$G$164","v":0},null,{"$f":"'تعریف کالا'!$F$164","v":0},null,0,null,null,null,null,null,null,null,null,null,null,null,null,null,null,0,0,0,0,0,0,0]
[null,"کاردکس 161",{"$f":"'تعریف کالا'!$C$165","v":0},{"$f":"'تعریف کالا'!$D$165","v":0},{"$f":"'تعریف کالا'!$E$165","v":0},{"$f":"'تعریف کالا'!$G$165","v":0},null,{"$f":"'تعریف کالا'!$F$165","v":0},null,0,null,null,null,null,null,null,null,null,null,null,null,null,null,null,0,0,0,0,0,0,0]
[null,"کاردکس 162",{"$f":"'تعریف کالا'!$C$166","v":0},{"$f":"'تعریف کالا'!$D$166","v":0},{"$f":"'تعریف کالا'!$E$166","v":0},{"$f":"'تعریف کالا'!$G$166","v":0},null,{"$f":"'تعریف کالا'!$F$166","v":0},null,0,null,null,null,null,null,null,null,null,null,null,null,null,null,null,0,0,0,0,0,0,0]
[null,"کاردکس 163",{"$f":"'تعریف کالا'!$C$167","v":0},{"$f":"'تعریف کالا'!$D$167","v":0},{"$f":"'تعریف کالا'!$E$167","v":0},{"$f":"'تعریف کالا'!$G$167","v":0},null,{"$f":"'تعریف کالا'!$F$167","v":0},null,0,null,null,null,null,null,null,null,null,null,null,null,null,null,null,0,0,0,0,0,0,0]
[null,"کاردکس 164",{"$f":"'تعریف کالا'!$C$168","v":0},{"$f":"'تعریف کالا'!$D$168","v":0},{"$f":"'تعریف کالا'!$E$168","v":0},{"$f":"'تعریف کالا'!$G$168","v":0},null,{"$f":"'تعریف کالا'!$F$168","v":0},null,0,null,null,null,null,null,null,null,null,null,null,null,null,null,null,0,0,0,0,0,0,0]
[null,"کاردکس 165",{"$f":"'تعریف کالا'!$C$169","v":0},{"$f":"'تعریف کالا'!$D$169","v":0},{"$f":"'تعریف کالا'!$E$169","v":0},{"$f":"'تعریف کالا'!$G$169","v":0},null,{"$f":"'تعریف کالا'!$F$169","v":0},null,0,null,null,null,null,null,null,null,null,null,null,null,null,null,null,0,0,0,0,0,0,0]
[null,"کاردکس 166",{"$f":"'تعریف کالا'!$C$170","v":0},{"$f":"'تعریف کالا'!$D$170","v":0},{"$f":"'تعریف کالا'!$E$170","v":0},{"$f":"'تعریف کالا'!$G$170","v":0},null,{"$f":"'تعریف کالا'!$F$170","v":0},null,0,null,null,null,null,null,null,null,null,null,null,null,null,null,null,0,0,0,0,0,0,0]
[null,"کاردکس 167",{"$f":"'تعریف کالا'!$C$171","v":0},{"$f":"'تعریف کالا'!$D$171","v":0},{"$f":"'تعریف کالا'!$E$171","v":0},{"$f":"'تعریف کالا'!$G$171","v":0},null,{"$f":"'تعریف کالا'!$F$171","v":0},null,0,null,null,null,null,null,null,null,null,null,null,null,null,null,null,0,0,0,0,0,0,0]
[null,"کاردکس 168",{"$f":"'تعریف کالا'!$C$172","v":0},{"$f":"'تعریف کالا'!$D$172","v":0},{"$f":"'تعریف کالا'!$E$172","v":0},{"$f":"'تعریف کالا'!$G$172","v":0},null,{"$f":"'تعریف کالا'!$F$172","v":0},null,0,null,null,null,null,null,null,null,null,null,null,null,null,null,null,0,0,0,0,0,0,0]
[null,"کاردکس 169",{"$f":"'تعریف کالا'!$C$173","v":0},{"$f":"'تعریف کالا'!$D$173","v":0},{"$f":"'تعریف کالا'!$E$173","v":0},{"$f":"'تعریف کالا'!$G$173","v":0},null,{"$f":"'تعریف کالا'!$F$173","v":0},null,0,null,null,null,null,null,null,null,null,null,null,null,null,null,null,0,0,0,0,0,0,0]
[null,"کاردکس 170",{"$f":"'تعریف کالا'!$C$174","v":0},{"$f":"'تعریف کالا'!$D$174","v":0},{"$f":"'تعریف کالا'!$E$174","v":0},{"$f":"'تعریف کالا'!$G$174","v":0},null,{"$f":"'تعریف کالا'!$F$174","v":0},null,0,null,null,null,null,null,null,null,null,null,null,null,null,null,null,0,0,0,0,0,0,0]
[null,"کاردکس 171",{"$f":"'تعریف کالا'!$C$175","v":0},{"$f":"'تعریف کالا'!$D$175","v":0},{"$f":"'تعریف کالا'!$E$175","v":0},{"$f":"'تعریف کالا'!$G$175","v":0},null,{"$f":"'تعریف کالا'!$F$175","v":0},null,0,null,null,null,null,null,null,null,null,null,null,null,null,null,null,0,0,0,0,0,0,0]
[null,"کاردکس 172",{"$f":"'تعریف کالا'!$C$176","v":0},{"$f":"'تعریف کالا'!$D$176","v":0},{"$f":"'تعریف کالا'!$E$176","v":0},{"$f":"'تعریف کالا'!$G$176","v":0},null,{"$f":"'تعریف کالا'!$F$176","v":0},null,0,null,null,null,null,null,null,null,null,null,null,null,null,null,null,0,0,0,0,0,0,0]
[null,"کاردکس 173",{"$f":"'تعریف کالا'!$C$177","v":0},{"$f":"'تعریف کالا'!$D$177","v":0},{"$f":"'تعریف کالا'!$E$177","v":0},{"$f":"'تعریف کالا'!$G$177","v":0},null,{"$f":"'تعریف کالا'!$F$177","v":0},null,0,null,null,null,null,null,null,null,null,null,null,null,null,null,null,0,0,0,0,0,0,0]
[null,"کاردکس 174",{"$f":"'تعریف کالا'!$C$178","v":0},{"$f":"'تعریف کالا'!$D$178","v":0},{"$f":"'تعریف کالا'!$E$178","v":0},{"$f":"'تعریف کالا'!$G$178","v":0},null,{"$f":"'تعریف کالا'!$F$178","v":0},null,0,null,null,null,null,null,null,null,null,null,null,null,null,null,null,0,0,0,0,0,0,0]
[null,"کاردکس 175",{"$f":"'تعریف کالا'!$C$179","v":0},{"$f":"'تعریف کالا'!$D$179","v":0},{"$f":"'تعریف کالا'!$E$179","v":0},{"$f":"'تعریف کالا'!$G$179","v":0},null,{"$f":"'تعریف کالا'!$F$179","v":0},null,0,null,null,null,null,null,null,null,null,null,null,null,null,null,null,0,0,0,0,0,0,0]
[null,"کاردکس 176",{"$f":"'تعریف کالا'!$C$180","v":0},{"$f":"'تعریف کالا'!$D$180","v":0},{"$f":"'تعریف کالا'!$E$180","v":0},{"$f":"'تعریف کالا'!$G$180","v":0},null,{"$f":"'تعریف کالا'!$F$180","v":0},null,0,null,null,null,null,null,null,null,null,null,null,null,null,null,null,0,0,0,0,0,0,0]
[null,"کاردکس 177",{"$f":"'تعریف کالا'!$C$181","v":0},{"$f":"'تعریف کالا'!$D$181","v":0},{"$f":"'تعریف کالا'!$E$181","v":0},{"$f":"'تعریف کالا'!$G$181","v":0},null,{"$f":"'تعریف کالا'!$F$181","v":0},null,0,null,null,null,null,null,null,null,null,null,null,null,null,null,null,0,0,0,0,0,0,0]
[null,"کاردکس 178",{"$f":"'تعریف کالا'!$C$182","v":0},{"$f":"'تعریف کالا'!$D$182","v":0},{"$f":"'تعریف کالا'!$E$182","v":0},{"$f":"'تعریف کالا'!$G$182","v":0},null,{"$f":"'تعریف کالا'!$F$182","v":0},null,0,null,null,null,null,null,null,null,null,null,null,null,null,null,null,0,0,0,0,0,0,0]
[null,"کاردکس 179",{"$f":"'تعریف کالا'!$C$183","v":0},{"$f":"'تعریف کالا'!$D$183","v":0},{"$f":"'تعریف کالا'!$E$183","v":0},{"$f":"'تعریف کالا'!$G$183","v":0},null,{"$f":"'تعریف کالا'!$F$183","v":0},null,0,null,null,null,null,null,null,null,null,null,null,null,null,null,null,0,0,0,0,0,0,0]
[null,"کاردکس 180",{"$f":"'تعریف کالا'!$C$184","v":0},{"$f":"'تعریف کالا'!$D$184","v":0},{"$f":"'تعریف کالا'!$E$184","v":0},{"$f":"'تعریف کالا'!$G$184","v":0},null,{"$f":"'تعریف کالا'!$F$184","v":0},null,0,null,null,null,null,null,null,null,null,null,null,null,null,null,null,0,0,0,0,0,0,0]
[null,"کاردکس 181",{"$f":"'تعریف کالا'!$C$185","v":0},{"$f":"'تعریف کالا'!$D$185","v":0},{"$f":"'تعریف کالا'!$E$185","v":0},{"$f":"'تعریف کالا'!$G$185","v":0},null,{"$f":"'تعریف کالا'!$F$185","v":0},null,0,null,null,null,null,null,null,null,null,null,null,null,null,null,null,0,0,0,0,0,0,0]
[null,"کاردکس 182",{"$f":"'تعریف کالا'!$C$186","v":0},{"$f":"'تعریف کالا'!$D$186","v":0},{"$f":"'تعریف کالا'!$E$186","v":0},{"$f":"'تعریف کالا'!$G$186","v":0},null,{"$f":"'تعریف کالا'!$F$186","v":0},null,0,null,null,null,null,null,null,null,null,null,null,null,null,null,null,0,0,0,0,0,0,0]
[null,"کاردکس 183",{"$f":"'تعریف کالا'!$C$187","v":0},{"$f":"'تعریف کالا'!$D$187","v":0},{"$f":"'تعریف کالا'!$E$187","v":0},{"$f":"'تعریف کالا'!$G$187","v":0},null,{"$f":"'تعریف کالا'!$F$187","v":0},null,0,null,null,null,null,null,null,null,null,null,null,null,null,null,null,0,0,0,0,0,0,0]
[null,"کاردکس 184",{"$f":"'تعریف کالا'!$C$18","v":0},{"$f":"'تعریف کالا'!$D$188","v":0},{"$f":"'تعریف کالا'!$E$188","v":0},{"$f":"'تعریف کالا'!$G$188","v":0},null,{"$f":"'تعریف کالا'!$F$188","v":0},null,0,null,null,null,null,null,null,null,null,null,null,null,null,null,null,0,0,0,0,0,0,0]
[null,"کاردکس 185",{"$f":"'تعریف کالا'!$C$189","v":0},{"$f":"'تعریف کالا'!$D$189","v":0},{"$f":"'تعریف کالا'!$E$189","v":0},{"$f":"'تعریف کالا'!$G$189","v":0},null,{"$f":"'تعریف کالا'!$F$189","v":0},null,0,null,null,null,null,null,null,null,null,null,null,null,null,null,null,0,0,0,0,0,0,0]
[null,"کاردکس 186",{"$f":"'تعریف کالا'!$C$190","v":0},{"$f":"'تعریف کالا'!$D$190","v":0},{"$f":"'تعریف کالا'!$E$190","v":0},{"$f":"'تعریف کالا'!$G$190","v":0},null,{"$f":"'تعریف کالا'!$F$190","v":0},null,0,null,null,null,null,null,null,null,null,null,null,null,null,null,null,0,0,0,0,0,0,0]
[null,"کاردکس 187",{"$f":"'تعریف کالا'!$C$191","v":0},{"$f":"'تعریف کالا'!$D$191","v":0},{"$f":"'تعریف کالا'!$E$191","v":0},{"$f":"'تعریف کالا'!$G$191","v":0},null,{"$f":"'تعریف کالا'!$F$191","v":0},null,0,null,null,null,null,null,null,null,null,null,null,null,null,null,null,0,0,0,0,0,0,0]
[null,"کاردکس 188",{"$f":"'تعریف کالا'!$C$192","v":0},{"$f":"'تعریف کالا'!$D$192","v":0},{"$f":"'تعریف کالا'!$E$192","v":0},{"$f":"'تعریف کالا'!$G$192","v":0},null,{"$f":"'تعریف کالا'!$F$192","v":0},null,0,null,null,null,null,null,null,null,null,null,null,null,null,null,null,0,0,0,0,0,0,0]
[null,"کاردکس 189",{"$f":"'تعریف کالا'!$C$193","v":0},{"$f":"'تعریف کالا'!$D$193","v":0},{"$f":"'تعریف کالا'!$E$193","v":0},{"$f":"'تعریف کالا'!$G$193","v":0},null,{"$f":"'تعریف کالا'!$F$193","v":0},null,0,null,null,null,null,null,null,null,null,null,null,null,null,null,null,0,0,0,0,0,0,0]
[null,"کاردکس 190",{"$f":"'تعریف کالا'!$C$194","v":0},{"$f":"'تعریف کالا'!$D$194","v":0},{"$f":"'تعریف کالا'!$E$194","v":0},{"$f":"'تعریف کالا'!$G$194","v":0},null,{"$f":"'تعریف کالا'!$F$194","v":0},null,0,null,null,null,null,null,null,null,null,null,null,null,null,null,null,0,0,0,0,0,0,0]
[null,"کاردکس 191",{"$f":"'تعریف کالا'!$C$195","v":0},{"$f":"'تعریف کالا'!$D$195","v":0},{"$f":"'تعریف کالا'!$E$195","v":0},{"$f":"'تعریف کالا'!$G$195","v":0},null,{"$f":"'تعریف کالا'!$F$195","v":0},null,0,null,null,null,null,null,null,null,null,null,null,null,null,null,null,0,0,0,0,0,0,0]
[null,"کاردکس 192",{"$f":"'تعریف کالا'!$C$196","v":0},{"$f":"'تعریف کالا'!$D$196","v":0},{"$f":"'تعریف کالا'!$E$196","v":0},{"$f":"'تعریف کالا'!$G$196","v":0},null,{"$f":"'تعریف کالا'!$F$196","v":0},null,0,null,null,null,null,null,null,null,null,null,null,null,null,null,null,0,0,0,0,0,0,0]
[null,"کاردکس 193",{"$f":"'تعریف کالا'!$C$197","v":0},{"$f":"'تعریف کالا'!$D$197","v":0},{"$f":"'تعریف کالا'!$E$197","v":0},{"$f":"'تعریف کالا'!$G$197","v":0},null,{"$f":"'تعریف کالا'!$F$197","v":0},null,0,null,null,null,null,null,null,null,null,null,null,null,null,null,null,0,0,0,0,0,0,0]
[null,"کاردکس 194",{"$f":"'تعریف کالا'!$C$198","v":0},{"$f":"'تعریف کالا'!$D$198","v":0},{"$f":"'تعریف کالا'!$E$198","v":0},{"$f":"'تعریف کالا'!$G$198","v":0},null,{"$f":"'تعریف کالا'!$F$198","v":0},null,0,null,null,null,null,null,null,null,null,null,null,null,null,null,null,0,{"$f":"D661","v":0},{"$f":"E661","v":0},{"$f":"F661","v":0},{"$f":"H661","v":0},{"$f":"I661","v":0},{"$f":"J661","v":0}]
[null,"کاردکس 195",{"$f":"'تعریف کالا'!$C$199","v":0},{"$f":"'تعریف کالا'!$D$199","v":0},{"$f":"'تعریف کالا'!$E$199","v":0},{"$f":"'تعریف کالا'!$G$199","v":0},null,{"$f":"'تعریف کالا'!$F$199","v":0},null,{"$f":"(F662*I662)-(F662*I662*G662%)","v":0},null,null,null,null,null,null,null,null,null,null,null,null,null,null,{"$f":"C662","v":0},0,0,0,0,0,0]
[null,"کاردکس 196",{"$f":"'تعریف کالا'!$C$200","v":0},{"$f":"'تعریف کالا'!$D$200","v":0},{"$f":"'تعریف کالا'!$E$200","v":0},{"$f":"'تعریف کالا'!$G$200","v":0},null,{"$f":"'تعریف کالا'!$F$200","v":0},null,0,null,null,null,null,null,null,null,null,null,null,null,null,null,null,0,0,0,0,0,0,0]
[null,"کاردکس 197",{"$f":"'تعریف کالا'!$C$201","v":0},{"$f":"'تعریف کالا'!$D$201","v":0},{"$f":"'تعریف کالا'!$E$201","v":0},{"$f":"'تعریف کالا'!$G$201","v":0},null,{"$f":"'تعریف کالا'!$F$201","v":0},null,0,null,null,null,null,null,null,null,null,null,null,null,null,null,null,0,0,0,0,0,0,0]
[null,"کاردکس 198",{"$f":"'تعریف کالا'!$C$202","v":0},{"$f":"'تعریف کالا'!$D$202","v":0},{"$f":"'تعریف کالا'!$E$202","v":0},{"$f":"'تعریف کالا'!$G$202","v":0},null,{"$f":"'تعریف کالا'!$F$202","v":0},null,0,null,null,null,null,null,null,null,null,null,null,null,null,null,null,0,0,0,0,0,0,0]
[null,"کاردکس 199",{"$f":"'تعریف کالا'!$C$203","v":0},{"$f":"'تعریف کالا'!$D$203","v":0},{"$f":"'تعریف کالا'!$E$203","v":0},{"$f":"'تعریف کالا'!$G$203","v":0},null,{"$f":"'تعریف کالا'!$F$203","v":0},null,0,null,null,null,null,null,null,null,null,null,null,null,null,null,null,0,0,0,0,0,0,0]
[null,"کاردکس 200",{"$f":"'تعریف کالا'!$C$204","v":0},{"$f":"'تعریف کالا'!$D$204","v":0},{"$f":"'تعریف کالا'!$E$204","v":0},{"$f":"'تعریف کالا'!$G$204","v":0},null,{"$f":"'تعریف کالا'!$F$204","v":0},null,0,null,null,null,null,null,null,null,null,null,null,null,null,null,null,0,0,0,0,0,0,0]
[null,"     جمع کل",null,{"$f":"abh(I668)&L664","v":"منفي "},null,null,null,null,{"$f":"SUM(J468:J667)","v":0},null,null,null,null,null,null,null,null,null,null,null,null,null,null,"مانده حساب",null,{"$f":"abh(AD668)& \"ریال\"","v":"منفي ریال"},null,null,null,{"$f":"I670","v":0}]
[null,"                  مبلغ قابل  پرداخت        ",null,{"$f":"abh(I669)&\"ریال\"","v":"منفي ریال"},null,null,null,null,{"$f":"J462","v":0},null,null,null,null,null,null,null,null,null,null,null,null,null,null,"شرح رویداد :",null,{"$f":"E465","v":0}]
[null,"مانده حساب",null,{"$f":"abh(I670)&\"ریال\"","v":"منفي ریال"},null,null,null,null,{"$f":"J463","v":0},null,null,null,null,null,null,null,null,null,null,null,null,null,null,"اقلام این فاکتور سالم تحویل اینجانب  ....................  شد.               "]
[]
[null,null,null,null,null,null,null,null,null,null,null,null,null,null,null,null,null,null,null,null,null,null,null,null,"امضا صادر کننده",null,"امضا فروشنده",null,"امضا مسئول انبار",null,"امضا خریدار"]
[]
[]
[]
[]
[]
[]
[null,null,"فاکتور فروش"]
[null,null,null,null,null,{"$f":"'صفحه اصلی'!$J$4","v":0},null,null,null,null,null,"فاکتور بعدی",null,null,null,null,null,null,null,null,null,null,null,"حواله تحویل کالا"]
[null,"شماره سند ",4,null,null,null,null,null,"تاریخ",null,null,null,null,null,null,null,null,null,null,null,null,null,null,null,null,null,{"$f":"F680","v":0},null,null,"تاریخ",{"$f":"J681","v":0}]
[null,"شماره فاکتور",4,null,null,null,null,null,"انبار",null,null,"مشاهده حواله",null,null,null,null,null,null,null,null,null,null,null,"شماره حواله",{"$f":"C682","v":4}]
[null,null,null,null,null,null,null,null,null,null,null,null,null,null,null,null,null,null,null,null,null,null,null,"شماره سند",{"$f":"C681","v":4}]
[null,null,null,null,null,"           درصد تخفیف  ",null,null,"تخفیف ",{"$f":"(I893*G684%)","v":0}]
[null,null,"نام خریدار","خسرو جهانشاهی",null,"          کرایه حمل",null,null,"کرایه حمل",{"$f":"G685","v":0}]
[null,null,null,null,null,"          مالیات",null,null,"مالیات",{"$f":"(I893-J684+J685)*G686%","v":0}]
[null,null,"پرداخت نقدی",null,null,null,null,null,"مبلغ قابل پرداخت",{"$f":"I893-J684+J685+J686","v":0},null,null,null,null,null,null,null,null,null,null,null,null,null,null,"خریدار:",{"$f":"D685","v":"خسرو جهانشاهی"}]
[null,null,"پرداخت با چک",null,null,null,null,null,"مانده حساب",{"$f":"J687-D687-D688","v":0}]
[null,null,null,null,null,null,null,null,null,null,null,null,null,null,null,null,null,null,null,null,null,null,null,null,"آدرس :",{"$f":"VLOOKUP(Z687,'مشخصات مشتریان'!$C$2:$D$502,2,FALSE)","v":0}]
[null,null,"ثبت چک","شرح رویداد"]
[]
[null,"شماره کاردکس","کد کالا","نام کالا","گروه بندی","قیمت واحد","درصد تخفیف","واحد شمارش","تعداد","قیمت کل",null,null,null,null,null,null,null,null,null,null,null,null,null,"ردیف","کد کالا","نام کالا","گروه بندی","قیمت واحد","واحد شمارش","تعداد","قیمت کل"]
[null,"کاردکس 1",{"$f":"'تعریف کالا'!$C$5","v":9011120},{"$f":"'تعریف کالا'!$D$5","v":"سی دی"},{"$f":"'تعریف کالا'!$E$5","v":"سخت افزار"},{"$f":"'تعریف کالا'!$G$5","v":3000},null,{"$f":"'تعریف کالا'!$F$5","v":"حلقه"},null,{"$f":"(F693*I693)-(F693*I693*G693%)","v":0},null,null,null,null,null,null,null,null,null,null,null,null,null,null,{"$f":"C693","v":9011120},{"$f":"D693","v":"سی دی"},{"$f":"E693","v":"سخت افزار"},{"$f":"F693","v":3000},{"$f":"H693","v":"حلقه"},{"$f":"I693","v":0},{"$f":"J693","v":0}]
[null,"کاردکس 2",{"$f":"'تعریف کالا'!$C$6","v":9011121},{"$f":"'تعریف کالا'!$D$6","v":"دی وی دی"},{"$f":"'تعریف کالا'!$E$6","v":"سخت افزار"},{"$f":"'تعریف کالا'!$G$6","v":7000},null,{"$f":"'تعریف کالا'!$F$6","v":"حلقه"},null,{"$f":"(F694*I694)-(F694*I694*G694%)","v":0},null,null,null,null,null,null,null,null,null,null,null,null,null,null,{"$f":"C694","v":9011121},{"$f":"D694","v":"دی وی دی"},{"$f":"E694","v":"سخت افزار"},{"$f":"F694","v":7000},{"$f":"H694","v":"حلقه"},{"$f":"I694","v":0},{"$f":"J694","v":0}]
[null,"کاردکس 3",{"$f":"'تعریف کالا'!$C$7","v":9011122},{"$f":"'تعریف کالا'!$D$7","v":"نوت بوک"},{"$f":"'تعریف کالا'!$E$7","v":"سخت افزار"},{"$f":"'تعریف کالا'!$G$7","v":10000000},null,{"$f":"'تعریف کالا'!$F$7","v":"دستگاه"},null,{"$f":"(F695*I695)-(F695*I695*G695%)","v":0},null,null,null,null,null,null,null,null,null,null,null,null,null,null,{"$f":"C695","v":9011122},"نوت بوک","سخت افزار",10000000,"دستگاه",0,0]
[null,"کاردکس 4",{"$f":"'تعریف کالا'!$C$8","v":0},{"$f":"'تعریف کالا'!$D$8","v":0},{"$f":"'تعریف کالا'!$E$8","v":0},{"$f":"'تعریف کالا'!$G$8","v":0},null,{"$f":"'تعریف کالا'!$F$8","v":0},null,0,null,null,null,null,null,null,null,null,null,null,null,null,null,null,0,0,0,0,0,0,0]
[null,"کاردکس 5",{"$f":"'تعریف کالا'!$C$9","v":0},{"$f":"'تعریف کالا'!$D$9","v":0},{"$f":"'تعریف کالا'!$E$9","v":0},{"$f":"'تعریف کالا'!$G$9","v":0},null,{"$f":"'تعریف کالا'!$F$9","v":0},null,0,null,null,null,null,null,null,null,null,null,null,null,null,null,null,0,0,0,0,0,0,0]
[null,"کاردکس 6",{"$f":"'تعریف کالا'!$C$10","v":0},{"$f":"'تعریف کالا'!$D$10","v":0},{"$f":"'تعریف کالا'!$E$10","v":0},{"$f":"'تعریف کالا'!$G$10","v":0},null,{"$f":"'تعریف کالا'!$F$10","v":0},null,0,null,null,null,null,null,null,null,null,null,null,null,null,null,null,0,0,0,0,0,0,0]
[null,"کاردکس 7",{"$f":"'تعریف کالا'!$C$11","v":0},{"$f":"'تعریف کالا'!$D$11","v":0},{"$f":"'تعریف کالا'!$E$11","v":0},{"$f":"'تعریف کالا'!$G$11","v":0},null,{"$f":"'تعریف کالا'!$F$11","v":0},null,0,null,null,null,null,null,null,null,null,null,null,null,null,null,null,0,0,0,0,0,0,0]
[null,"کاردکس 8",{"$f":"'تعریف کالا'!$C$12","v":0},{"$f":"'تعریف کالا'!$D$12","v":0},{"$f":"'تعریف کالا'!$E$12","v":0},{"$f":"'تعریف کالا'!$G$12","v":0},null,{"$f":"'تعریف کالا'!$F$12","v":0},null,0,null,null,null,null,null,null,null,null,null,null,null,null,null,null,0,0,0,0,0,0,0]
[null,"کاردکس 9",{"$f":"'تعریف کالا'!$C$13","v":0},{"$f":"'تعریف کالا'!$D$13","v":0},{"$f":"'تعریف کالا'!$E$13","v":0},{"$f":"'تعریف کالا'!$G$13","v":0},null,{"$f":"'تعریف کالا'!$F$13","v":0},null,0,null,null,null,null,null,null,null,null,null,null,null,null,null,null,0,0,0,0,0,0,0]
[null,"کاردکس 10",{"$f":"'تعریف کالا'!$C$14","v":0},{"$f":"'تعریف کالا'!$D$14","v":0},{"$f":"'تعریف کالا'!$E$14","v":0},{"$f":"'تعریف کالا'!$G$14","v":0},null,{"$f":"'تعریف کالا'!$F$14","v":0},null,0,null,null,null,null,null,null,null,null,null,null,null,null,null,null,0,0,0,0,0,0,0]
[null,"کاردکس 11",{"$f":"'تعریف کالا'!$C$15","v":0},{"$f":"'تعریف کالا'!$D$15","v":0},{"$f":"'تعریف کالا'!$E$15","v":0},{"$f":"'تعریف کالا'!$G$15","v":0},null,{"$f":"'تعریف کالا'!$F$15","v":0},null,0,null,null,null,null,null,null,null,null,null,null,null,null,null,null,0,0,0,0,0,0,0]
[null,"کاردکس 12",{"$f":"'تعریف کالا'!$C$16","v":0},{"$f":"'تعریف کالا'!$D$16","v":0},{"$f":"'تعریف کالا'!$E$16","v":0},{"$f":"'تعریف کالا'!$G$16","v":0},null,{"$f":"'تعریف کالا'!$F$16","v":0},null,0,null,null,null,null,null,null,null,null,null,null,null,null,null,null,0,0,0,0,0,0,0]
[null,"کاردکس 13",{"$f":"'تعریف کالا'!$C$17","v":0},{"$f":"'تعریف کالا'!$D$17","v":0},{"$f":"'تعریف کالا'!$E$17","v":0},{"$f":"'تعریف کالا'!$G$17","v":0},null,{"$f":"'تعریف کالا'!$F$17","v":0},null,0,null,null,null,null,null,null,null,null,null,null,null,null,null,null,0,0,0,0,0,0,0]
[null,"کاردکس 14",{"$f":"'تعریف کالا'!$C$18","v":0},{"$f":"'تعریف کالا'!$D$18","v":0},{"$f":"'تعریف کالا'!$E$18","v":0},{"$f":"'تعریف کالا'!$G$18","v":0},null,{"$f":"'تعریف کالا'!$F$18","v":0},null,0,null,null,null,null,null,null,null,null,null,null,null,null,null,null,0,0,0,0,0,0,0]
[null,"کاردکس 15",{"$f":"'تعریف کالا'!$C$19","v":0},{"$f":"'تعریف کالا'!$D$19","v":0},{"$f":"'تعریف کالا'!$E$19","v":0},{"$f":"'تعریف کالا'!$G$19","v":0},null,{"$f":"'تعریف کالا'!$F$19","v":0},null,0,null,null,null,null,null,null,null,null,null,null,null,null,null,null,0,0,0,0,0,0,0]
[null,"کاردکس 16",{"$f":"'تعریف کالا'!$C$20","v":0},{"$f":"'تعریف کالا'!$D$20","v":0},{"$f":"'تعریف کالا'!$E$20","v":0},{"$f":"'تعریف کالا'!$G$20","v":0},null,{"$f":"'تعریف کالا'!$F$20","v":0},null,0,null,null,null,null,null,null,null,null,null,null,null,null,null,null,0,0,0,0,0,0,0]
[null,"کاردکس 17",{"$f":"'تعریف کالا'!$C$21","v":0},{"$f":"'تعریف کالا'!$D$21","v":0},{"$f":"'تعریف کالا'!$E$21","v":0},{"$f":"'تعریف کالا'!$G$21","v":0},null,{"$f":"'تعریف کالا'!$F$21","v":0},null,0,null,null,null,null,null,null,null,null,null,null,null,null,null,null,0,0,0,0,0,0,0]
[null,"کاردکس 18",{"$f":"'تعریف کالا'!$C$22","v":0},{"$f":"'تعریف کالا'!$D$22","v":0},{"$f":"'تعریف کالا'!$E$22","v":0},{"$f":"'تعریف کالا'!$G$22","v":0},null,{"$f":"'تعریف کالا'!$F$22","v":0},null,0,null,null,null,null,null,null,null,null,null,null,null,null,null,null,0,0,0,0,0,0,0]
[null,"کاردکس 19",{"$f":"'تعریف کالا'!$C$23","v":0},{"$f":"'تعریف کالا'!$D$23","v":0},{"$f":"'تعریف کالا'!$E$23","v":0},{"$f":"'تعریف کالا'!$G$23","v":0},null,{"$f":"'تعریف کالا'!$F$23","v":0},null,0,null,null,null,null,null,null,null,null,null,null,null,null,null,null,0,0,0,0,0,0,0]
[null,"کاردکس 20",{"$f":"'تعریف کالا'!$C$24","v":0},{"$f":"'تعریف کالا'!$D$24","v":0},{"$f":"'تعریف کالا'!$E$24","v":0},{"$f":"'تعریف کالا'!$G$24","v":0},null,{"$f":"'تعریف کالا'!$F$24","v":0},null,0,null,null,null,null,null,null,null,null,null,null,null,null,null,null,0,0,0,0,0,0,0]
[null,"کاردکس 21",{"$f":"'تعریف کالا'!$C$25","v":0},{"$f":"'تعریف کالا'!$D$25","v":0},{"$f":"'تعریف کالا'!$E$25","v":0},{"$f":"'تعریف کالا'!$G$25","v":0},null,{"$f":"'تعریف کالا'!$F$25","v":0},null,0,null,null,null,null,null,null,null,null,null,null,null,null,null,null,0,0,0,0,0,0,0]
[null,"کاردکس 22",{"$f":"'تعریف کالا'!$C$26","v":0},{"$f":"'تعریف کالا'!$D$26","v":0},{"$f":"'تعریف کالا'!$E$26","v":0},{"$f":"'تعریف کالا'!$G$26","v":0},null,{"$f":"'تعریف کالا'!$F$26","v":0},null,0,null,null,null,null,null,null,null,null,null,null,null,null,null,null,0,0,0,0,0,0,0]
[null,"کاردکس 23",{"$f":"'تعریف کالا'!$C$27","v":0},{"$f":"'تعریف کالا'!$D$27","v":0},{"$f":"'تعریف کالا'!$E$27","v":0},{"$f":"'تعریف کالا'!$G$27","v":0},null,{"$f":"'تعریف کالا'!$F$27","v":0},null,0,null,null,null,null,null,null,null,null,null,null,null,null,null,null,0,0,0,0,0,0,0]
[null,"کاردکس 24",{"$f":"'تعریف کالا'!$C$28","v":0},{"$f":"'تعریف کالا'!$D$28","v":0},{"$f":"'تعریف کالا'!$E$28","v":0},{"$f":"'تعریف کالا'!$G$28","v":0},null,{"$f":"'تعریف کالا'!$F$28","v":0},null,0,null,null,null,null,null,null,null,null,null,null,null,null,null,null,0,0,0,0,0,0,0]
[null,"کاردکس 25",{"$f":"'تعریف کالا'!$C$29","v":0},{"$f":"'تعریف کالا'!$D$29","v":0},{"$f":"'تعریف کالا'!$E$29","v":0},{"$f":"'تعریف کالا'!$G$29","v":0},null,{"$f":"'تعریف کالا'!$F$29","v":0},null,0,null,null,null,null,null,null,null,null,null,null,null,null,null,null,0,0,0,0,0,0,0]
[null,"کاردکس 26",{"$f":"'تعریف کالا'!$C$30","v":0},{"$f":"'تعریف کالا'!$D$30","v":0},{"$f":"'تعریف کالا'!$E$30","v":0},{"$f":"'تعریف کالا'!$G$30","v":0},null,{"$f":"'تعریف کالا'!$F$30","v":0},null,0,null,null,null,null,null,null,null,null,null,null,null,null,null,null,0,0,0,0,0,0,0]
[null,"کاردکس 27",{"$f":"'تعریف کالا'!$C$31","v":0},{"$f":"'تعریف کالا'!$D$31","v":0},{"$f":"'تعریف کالا'!$E$31","v":0},{"$f":"'تعریف کالا'!$G$31","v":0},null,{"$f":"'تعریف کالا'!$F$31","v":0},null,0,null,null,null,null,null,null,null,null,null,null,null,null,null,null,0,0,0,0,0,0,0]
[null,"کاردکس 28",{"$f":"'تعریف کالا'!$C$32","v":0},{"$f":"'تعریف کالا'!$D$32","v":0},{"$f":"'تعریف کالا'!$E$32","v":0},{"$f":"'تعریف کالا'!$G$32","v":0},null,{"$f":"'تعریف کالا'!$F$32","v":0},null,0,null,null,null,null,null,null,null,null,null,null,null,null,null,null,0,0,0,0,0,0,0]
[null,"کاردکس 29",{"$f":"'تعریف کالا'!$C$33","v":0},{"$f":"'تعریف کالا'!$D$33","v":0},{"$f":"'تعریف کالا'!$E$33","v":0},{"$f":"'تعریف کالا'!$G$33","v":0},null,{"$f":"'تعریف کالا'!$F$33","v":0},null,0,null,null,null,null,null,null,null,null,null,null,null,null,null,null,0,0,0,0,0,0,0]
[null,"کاردکس 30",{"$f":"'تعریف کالا'!$C$34","v":0},{"$f":"'تعریف کالا'!$D$34","v":0},{"$f":"'تعریف کالا'!$E$34","v":0},{"$f":"'تعریف کالا'!$G$34","v":0},null,{"$f":"'تعریف کالا'!$F$34","v":0},null,0,null,null,null,null,null,null,null,null,null,null,null,null,null,null,0,0,0,0,0,0,0]
[null,"کاردکس 31",{"$f":"'تعریف کالا'!$C$35","v":0},{"$f":"'تعریف کالا'!$D$35","v":0},{"$f":"'تعریف کالا'!$E$35","v":0},{"$f":"'تعریف کالا'!$G$35","v":0},null,{"$f":"'تعریف کالا'!$F$35","v":0},null,0,null,null,null,null,null,null,null,null,null,null,null,null,null,null,0,0,0,0,0,0,0]
[null,"کاردکس 32",{"$f":"'تعریف کالا'!$C$36","v":0},{"$f":"'تعریف کالا'!$D$36","v":0},{"$f":"'تعریف کالا'!$E$36","v":0},{"$f":"'تعریف کالا'!$G$36","v":0},null,{"$f":"'تعریف کالا'!$F$36","v":0},null,0,null,null,null,null,null,null,null,null,null,null,null,null,null,null,0,0,0,0,0,0,0]
[null,"کاردکس 33",{"$f":"'تعریف کالا'!$C$37","v":0},{"$f":"'تعریف کالا'!$D$37","v":0},{"$f":"'تعریف کالا'!$E$37","v":0},{"$f":"'تعریف کالا'!$G$37","v":0},null,{"$f":"'تعریف کالا'!$F$37","v":0},null,0,null,null,null,null,null,null,null,null,null,null,null,null,null,null,0,0,0,0,0,0,0]
[null,"کاردکس 34",{"$f":"'تعریف کالا'!$C$38","v":0},{"$f":"'تعریف کالا'!$D$38","v":0},{"$f":"'تعریف کالا'!$E$38","v":0},{"$f":"'تعریف کالا'!$G$38","v":0},null,{"$f":"'تعریف کالا'!$F$38","v":0},null,0,null,null,null,null,null,null,null,null,null,null,null,null,null,null,0,0,0,0,0,0,0]
[null,"کاردکس 35",{"$f":"'تعریف کالا'!$C$39","v":0},{"$f":"'تعریف کالا'!$D$39","v":0},{"$f":"'تعریف کالا'!$E$39","v":0},{"$f":"'تعریف کالا'!$G$39","v":0},null,{"$f":"'تعریف کالا'!$F$39","v":0},null,0,null,null,null,null,null,null,null,null,null,null,null,null,null,null,0,0,0,0,0,0,0]
[null,"کاردکس 36",{"$f":"'تعریف کالا'!$C$40","v":0},{"$f":"'تعریف کالا'!$D$40","v":0},{"$f":"'تعریف کالا'!$E$40","v":0},{"$f":"'تعریف کالا'!$G$40","v":0},null,{"$f":"'تعریف کالا'!$F$40","v":0},null,0,null,null,null,null,null,null,null,null,null,null,null,null,null,null,0,0,0,0,0,0,0]
[null,"کاردکس 37",{"$f":"'تعریف کالا'!$C$41","v":0},{"$f":"'تعریف کالا'!$D$41","v":0},{"$f":"'تعریف کالا'!$E$41","v":0},{"$f":"'تعریف کالا'!$G$41","v":0},null,{"$f":"'تعریف کالا'!$F$41","v":0},null,0,null,null,null,null,null,null,null,null,null,null,null,null,null,null,0,0,0,0,0,0,0]
[null,"کاردکس 38",{"$f":"'تعریف کالا'!$C$42","v":0},{"$f":"'تعریف کالا'!$D$42","v":0},{"$f":"'تعریف کالا'!$E$42","v":0},{"$f":"'تعریف کالا'!$G$42","v":0},null,{"$f":"'تعریف کالا'!$F$42","v":0},null,0,null,null,null,null,null,null,null,null,null,null,null,null,null,null,0,0,0,0,0,0,0]
[null,"کاردکس 39",{"$f":"'تعریف کالا'!$C$43","v":0},{"$f":"'تعریف کالا'!$D$43","v":0},{"$f":"'تعریف کالا'!$E$43","v":0},{"$f":"'تعریف کالا'!$G$43","v":0},null,{"$f":"'تعریف کالا'!$F$43","v":0},null,0,null,null,null,null,null,null,null,null,null,null,null,null,null,null,0,0,0,0,0,0,0]
[null,"کاردکس 40",{"$f":"'تعریف کالا'!$C$44","v":0},{"$f":"'تعریف کالا'!$D$44","v":0},{"$f":"'تعریف کالا'!$E$44","v":0},{"$f":"'تعریف کالا'!$G$44","v":0},null,{"$f":"'تعریف کالا'!$F$44","v":0},null,0,null,null,null,null,null,null,null,null,null,null,null,null,null,null,0,0,0,0,0,0,0]
[null,"کاردکس 41",{"$f":"'تعریف کالا'!$C$45","v":0},{"$f":"'تعریف کالا'!$D$45","v":0},{"$f":"'تعریف کالا'!$E$45","v":0},{"$f":"'تعریف کالا'!$G$45","v":0},null,{"$f":"'تعریف کالا'!$F$45","v":0},null,0,null,null,null,null,null,null,null,null,null,null,null,null,null,null,0,0,0,0,0,0,0]
[null,"کاردکس 42",{"$f":"'تعریف کالا'!$C$46","v":0},{"$f":"'تعریف کالا'!$D$46","v":0},{"$f":"'تعریف کالا'!$E$46","v":0},{"$f":"'تعریف کالا'!$G$46","v":0},null,{"$f":"'تعریف کالا'!$F$46","v":0},null,0,null,null,null,null,null,null,null,null,null,null,null,null,null,null,0,0,0,0,0,0,0]
[null,"کاردکس 43",{"$f":"'تعریف کالا'!$C$47","v":0},{"$f":"'تعریف کالا'!$D$47","v":0},{"$f":"'تعریف کالا'!$E$47","v":0},{"$f":"'تعریف کالا'!$G$47","v":0},null,{"$f":"'تعریف کالا'!$F$47","v":0},null,0,null,null,null,null,null,null,null,null,null,null,null,null,null,null,0,0,0,0,0,0,0]
[null,"کاردکس 44",{"$f":"'تعریف کالا'!$C$48","v":0},{"$f":"'تعریف کالا'!$D$48","v":0},{"$f":"'تعریف کالا'!$E$48","v":0},{"$f":"'تعریف کالا'!$G$48","v":0},null,{"$f":"'تعریف کالا'!$F$48","v":0},null,0,null,null,null,null,null,null,null,null,null,null,null,null,null,null,0,0,0,0,0,0,0]
[null,"کاردکس 45",{"$f":"'تعریف کالا'!$C$49","v":0},{"$f":"'تعریف کالا'!$D$49","v":0},{"$f":"'تعریف کالا'!$E$49","v":0},{"$f":"'تعریف کالا'!$G$49","v":0},null,{"$f":"'تعریف کالا'!$F$49","v":0},null,0,null,null,null,null,null,null,null,null,null,null,null,null,null,null,0,0,0,0,0,0,0]
[null,"کاردکس 46",{"$f":"'تعریف کالا'!$C$50","v":0},{"$f":"'تعریف کالا'!$D$50","v":0},{"$f":"'تعریف کالا'!$E$50","v":0},{"$f":"'تعریف کالا'!$G$50","v":0},null,{"$f":"'تعریف کالا'!$F$50","v":0},null,0,null,null,null,null,null,null,null,null,null,null,null,null,null,null,0,0,0,0,0,0,0]
[null,"کاردکس 47",{"$f":"'تعریف کالا'!$C$51","v":0},{"$f":"'تعریف کالا'!$D$51","v":0},{"$f":"'تعریف کالا'!$E$51","v":0},{"$f":"'تعریف کالا'!$G$51","v":0},null,{"$f":"'تعریف کالا'!$F$51","v":0},null,0,null,null,null,null,null,null,null,null,null,null,null,null,null,null,0,0,0,0,0,0,0]
[null,"کاردکس 48",{"$f":"'تعریف کالا'!$C$52","v":0},{"$f":"'تعریف کالا'!$D$52","v":0},{"$f":"'تعریف کالا'!$E$52","v":0},{"$f":"'تعریف کالا'!$G$52","v":0},null,{"$f":"'تعریف کالا'!$F$52","v":0},null,0,null,null,null,null,null,null,null,null,null,null,null,null,null,null,0,0,0,0,0,0,0]
[null,"کاردکس 49",{"$f":"'تعریف کالا'!$C$53","v":0},{"$f":"'تعریف کالا'!$D$53","v":0},{"$f":"'تعریف کالا'!$E$53","v":0},{"$f":"'تعریف کالا'!$G$53","v":0},null,{"$f":"'تعریف کالا'!$F$53","v":0},null,0,null,null,null,null,null,null,null,null,null,null,null,null,null,null,0,0,0,0,0,0,0]
[null,"کاردکس 50",{"$f":"'تعریف کالا'!$C$54","v":0},{"$f":"'تعریف کالا'!$D$54","v":0},{"$f":"'تعریف کالا'!$E$54","v":0},{"$f":"'تعریف کالا'!$G$54","v":0},null,{"$f":"'تعریف کالا'!$F$54","v":0},null,0,null,null,null,null,null,null,null,null,null,null,null,null,null,null,0,0,0,0,0,0,0]
[null,"کاردکس 51",{"$f":"'تعریف کالا'!$C$55","v":0},{"$f":"'تعریف کالا'!$D$55","v":0},{"$f":"'تعریف کالا'!$E$55","v":0},{"$f":"'تعریف کالا'!$G$55","v":0},null,{"$f":"'تعریف کالا'!$F$55","v":0},null,0,null,null,null,null,null,null,null,null,null,null,null,null,null,null,0,0,0,0,0,0,0]
[null,"کاردکس 52",{"$f":"'تعریف کالا'!$C$56","v":0},{"$f":"'تعریف کالا'!$D$56","v":0},{"$f":"'تعریف کالا'!$E$56","v":0},{"$f":"'تعریف کالا'!$G$56","v":0},null,{"$f":"'تعریف کالا'!$F$56","v":0},null,0,null,null,null,null,null,null,null,null,null,null,null,null,null,null,0,0,0,0,0,0,0]
[null,"کاردکس 53",{"$f":"'تعریف کالا'!$C$57","v":0},{"$f":"'تعریف کالا'!$D$57","v":0},{"$f":"'تعریف کالا'!$E$57","v":0},{"$f":"'تعریف کالا'!$G$57","v":0},null,{"$f":"'تعریف کالا'!$F$57","v":0},null,0,null,null,null,null,null,null,null,null,null,null,null,null,null,null,0,0,0,0,0,0,0]
[null,"کاردکس 54",{"$f":"'تعریف کالا'!$C$58","v":0},{"$f":"'تعریف کالا'!$D$58","v":0},{"$f":"'تعریف کالا'!$E$58","v":0},{"$f":"'تعریف کالا'!$G$58","v":0},null,{"$f":"'تعریف کالا'!$F$58","v":0},null,0,null,null,null,null,null,null,null,null,null,null,null,null,null,null,0,0,0,0,0,0,0]
[null,"کاردکس 55",{"$f":"'تعریف کالا'!$C$59","v":0},{"$f":"'تعریف کالا'!$D$59","v":0},{"$f":"'تعریف کالا'!$E$59","v":0},{"$f":"'تعریف کالا'!$G$59","v":0},null,{"$f":"'تعریف کالا'!$F$59","v":0},null,0,null,null,null,null,null,null,null,null,null,null,null,null,null,null,0,0,0,0,0,0,0]
[null,"کاردکس 56",{"$f":"'تعریف کالا'!$C$60","v":0},{"$f":"'تعریف کالا'!$D$60","v":0},{"$f":"'تعریف کالا'!$E$60","v":0},{"$f":"'تعریف کالا'!$G$60","v":0},null,{"$f":"'تعریف کالا'!$F$60","v":0},null,0,null,null,null,null,null,null,null,null,null,null,null,null,null,null,0,0,0,0,0,0,0]
[null,"کاردکس 57",{"$f":"'تعریف کالا'!$C$61","v":0},{"$f":"'تعریف کالا'!$D$61","v":0},{"$f":"'تعریف کالا'!$E$61","v":0},{"$f":"'تعریف کالا'!$G$61","v":0},null,{"$f":"'تعریف کالا'!$F$61","v":0},null,0,null,null,null,null,null,null,null,null,null,null,null,null,null,null,0,0,0,0,0,0,0]
[null,"کاردکس 58",{"$f":"'تعریف کالا'!$C$62","v":0},{"$f":"'تعریف کالا'!$D$62","v":0},{"$f":"'تعریف کالا'!$E$62","v":0},{"$f":"'تعریف کالا'!$G$62","v":0},null,{"$f":"'تعریف کالا'!$F$62","v":0},null,0,null,null,null,null,null,null,null,null,null,null,null,null,null,null,0,0,0,0,0,0,0]
[null,"کاردکس 59",{"$f":"'تعریف کالا'!$C$63","v":0},{"$f":"'تعریف کالا'!$D$63","v":0},{"$f":"'تعریف کالا'!$E$63","v":0},{"$f":"'تعریف کالا'!$G$63","v":0},null,{"$f":"'تعریف کالا'!$F$63","v":0},null,0,null,null,null,null,null,null,null,null,null,null,null,null,null,null,0,0,0,0,0,0,0]
[null,"کاردکس 60",{"$f":"'تعریف کالا'!$C$64","v":0},{"$f":"'تعریف کالا'!$D$64","v":0},{"$f":"'تعریف کالا'!$E$64","v":0},{"$f":"'تعریف کالا'!$G$64","v":0},null,{"$f":"'تعریف کالا'!$F$64","v":0},null,0,null,null,null,null,null,null,null,null,null,null,null,null,null,null,0,0,0,0,0,0,0]
[null,"کاردکس 61",{"$f":"'تعریف کالا'!$C$65","v":0},{"$f":"'تعریف کالا'!$D$65","v":0},{"$f":"'تعریف کالا'!$E$65","v":0},{"$f":"'تعریف کالا'!$G$65","v":0},null,{"$f":"'تعریف کالا'!$F$65","v":0},null,0,null,null,null,null,null,null,null,null,null,null,null,null,null,null,0,0,0,0,0,0,0]
[null,"کاردکس 62",{"$f":"'تعریف کالا'!$C$66","v":0},{"$f":"'تعریف کالا'!$D$66","v":0},{"$f":"'تعریف کالا'!$E$66","v":0},{"$f":"'تعریف کالا'!$G$66","v":0},null,{"$f":"'تعریف کالا'!$F$66","v":0},null,0,null,null,null,null,null,null,null,null,null,null,null,null,null,null,0,0,0,0,0,0,0]
[null,"کاردکس 63",{"$f":"'تعریف کالا'!$C$67","v":0},{"$f":"'تعریف کالا'!$D$67","v":0},{"$f":"'تعریف کالا'!$E$67","v":0},{"$f":"'تعریف کالا'!$G$67","v":0},null,{"$f":"'تعریف کالا'!$F$67","v":0},null,0,null,null,null,null,null,null,null,null,null,null,null,null,null,null,0,0,0,0,0,0,0]
[null,"کاردکس 64",{"$f":"'تعریف کالا'!$C$68","v":0},{"$f":"'تعریف کالا'!$D$68","v":0},{"$f":"'تعریف کالا'!$E$68","v":0},{"$f":"'تعریف کالا'!$G$68","v":0},null,{"$f":"'تعریف کالا'!$F$68","v":0},null,0,null,null,null,null,null,null,null,null,null,null,null,null,null,null,0,0,0,0,0,0,0]
[null,"کاردکس 65",{"$f":"'تعریف کالا'!$C$69","v":0},{"$f":"'تعریف کالا'!$D$69","v":0},{"$f":"'تعریف کالا'!$E$69","v":0},{"$f":"'تعریف کالا'!$G$69","v":0},null,{"$f":"'تعریف کالا'!$F$69","v":0},null,0,null,null,null,null,null,null,null,null,null,null,null,null,null,null,0,0,0,0,0,0,0]
[null,"کاردکس 66",{"$f":"'تعریف کالا'!$C$70","v":0},{"$f":"'تعریف کالا'!$D$70","v":0},{"$f":"'تعریف کالا'!$E$70","v":0},{"$f":"'تعریف کالا'!$G$70","v":0},null,{"$f":"'تعریف کالا'!$F$70","v":0},null,0,null,null,null,null,null,null,null,null,null,null,null,null,null,null,0,{"$f":"D758","v":0},{"$f":"E758","v":0},{"$f":"F758","v":0},{"$f":"H758","v":0},{"$f":"I758","v":0},{"$f":"J758","v":0}]
[null,"کاردکس 67",{"$f":"'تعریف کالا'!$C$71","v":0},{"$f":"'تعریف کالا'!$D$71","v":0},{"$f":"'تعریف کالا'!$E$71","v":0},{"$f":"'تعریف کالا'!$G$71","v":0},null,{"$f":"'تعریف کالا'!$F$71","v":0},null,{"$f":"(F759*I759)-(F759*I759*G759%)","v":0},null,null,null,null,null,null,null,null,null,null,null,null,null,null,{"$f":"C759","v":0},0,0,0,0,0,0]
[null,"کاردکس 68",{"$f":"'تعریف کالا'!$C$72","v":0},{"$f":"'تعریف کالا'!$D$72","v":0},{"$f":"'تعریف کالا'!$E$72","v":0},{"$f":"'تعریف کالا'!$G$72","v":0},null,{"$f":"'تعریف کالا'!$F$72","v":0},null,0,null,null,null,null,null,null,null,null,null,null,null,null,null,null,0,0,0,0,0,0,0]
[null,"کاردکس 69",{"$f":"'تعریف کالا'!$C$73","v":0},{"$f":"'تعریف کالا'!$D$73","v":0},{"$f":"'تعریف کالا'!$E$73","v":0},{"$f":"'تعریف کالا'!$G$73","v":0},null,{"$f":"'تعریف کالا'!$F$73","v":0},null,0,null,null,null,null,null,null,null,null,null,null,null,null,null,null,0,0,0,0,0,0,0]
[null,"کاردکس 70",{"$f":"'تعریف کالا'!$C$74","v":0},{"$f":"'تعریف کالا'!$D$74","v":0},{"$f":"'تعریف کالا'!$E$74","v":0},{"$f":"'تعریف کالا'!$G$74","v":0},null,{"$f":"'تعریف کالا'!$F$74","v":0},null,0,null,null,null,null,null,null,null,null,null,null,null,null,null,null,0,0,0,0,0,0,0]
[null,"کاردکس 71",{"$f":"'تعریف کالا'!$C$75","v":0},{"$f":"'تعریف کالا'!$D$75","v":0},{"$f":"'تعریف کالا'!$E$75","v":0},{"$f":"'تعریف کالا'!$G$75","v":0},null,{"$f":"'تعریف کالا'!$F$75","v":0},null,0,null,null,null,null,null,null,null,null,null,null,null,null,null,null,0,0,0,0,0,0,0]
[null,"کاردکس 72",{"$f":"'تعریف کالا'!$C$76","v":0},{"$f":"'تعریف کالا'!$D$76","v":0},{"$f":"'تعریف کالا'!$E$76","v":0},{"$f":"'تعریف کالا'!$G$76","v":0},null,{"$f":"'تعریف کالا'!$F$76","v":0},null,0,null,null,null,null,null,null,null,null,null,null,null,null,null,null,0,0,0,0,0,0,0]
[null,"کاردکس 73",{"$f":"'تعریف کالا'!$C$77","v":0},{"$f":"'تعریف کالا'!$D$77","v":0},{"$f":"'تعریف کالا'!$E$77","v":0},{"$f":"'تعریف کالا'!$G$77","v":0},null,{"$f":"'تعریف کالا'!$F$77","v":0},null,0,null,null,null,null,null,null,null,null,null,null,null,null,null,null,0,0,0,0,0,0,0]
[null,"کاردکس 74",{"$f":"'تعریف کالا'!$C$78","v":0},{"$f":"'تعریف کالا'!$D$78","v":0},{"$f":"'تعریف کالا'!$E$78","v":0},{"$f":"'تعریف کالا'!$G$78","v":0},null,{"$f":"'تعریف کالا'!$F$78","v":0},null,0,null,null,null,null,null,null,null,null,null,null,null,null,null,null,0,0,0,0,0,0,0]
[null,"کاردکس 75",{"$f":"'تعریف کالا'!$C$79","v":0},{"$f":"'تعریف کالا'!$D$79","v":0},{"$f":"'تعریف کالا'!$E$79","v":0},{"$f":"'تعریف کالا'!$G$79","v":0},null,{"$f":"'تعریف کالا'!$F$79","v":0},null,0,null,null,null,null,null,null,null,null,null,null,null,null,null,null,0,0,0,0,0,0,0]
[null,"کاردکس 76",{"$f":"'تعریف کالا'!$C$80","v":0},{"$f":"'تعریف کالا'!$D$80","v":0},{"$f":"'تعریف کالا'!$E$80","v":0},{"$f":"'تعریف کالا'!$G$80","v":0},null,{"$f":"'تعریف کالا'!$F$80","v":0},null,0,null,null,null,null,null,null,null,null,null,null,null,null,null,null,0,0,0,0,0,0,0]
[null,"کاردکس 77",{"$f":"'تعریف کالا'!$C$81","v":0},{"$f":"'تعریف کالا'!$D$81","v":0},{"$f":"'تعریف کالا'!$E$81","v":0},{"$f":"'تعریف کالا'!$G$81","v":0},null,{"$f":"'تعریف کالا'!$F$81","v":0},null,0,null,null,null,null,null,null,null,null,null,null,null,null,null,null,0,0,0,0,0,0,0]
[null,"کاردکس 78",{"$f":"'تعریف کالا'!$C$82","v":0},{"$f":"'تعریف کالا'!$D$82","v":0},{"$f":"'تعریف کالا'!$E$82","v":0},{"$f":"'تعریف کالا'!$G$82","v":0},null,{"$f":"'تعریف کالا'!$F$82","v":0},null,0,null,null,null,null,null,null,null,null,null,null,null,null,null,null,0,0,0,0,0,0,0]
[null,"کاردکس 79",{"$f":"'تعریف کالا'!$C$83","v":0},{"$f":"'تعریف کالا'!$D$83","v":0},{"$f":"'تعریف کالا'!$E$83","v":0},{"$f":"'تعریف کالا'!$G$83","v":0},null,{"$f":"'تعریف کالا'!$F$83","v":0},null,0,null,null,null,null,null,null,null,null,null,null,null,null,null,null,0,0,0,0,0,0,0]
[null,"کاردکس 80",{"$f":"'تعریف کالا'!$C$84","v":0},{"$f":"'تعریف کالا'!$D$84","v":0},{"$f":"'تعریف کالا'!$E$84","v":0},{"$f":"'تعریف کالا'!$G$84","v":0},null,{"$f":"'تعریف کالا'!$F$84","v":0},null,0,null,null,null,null,null,null,null,null,null,null,null,null,null,null,0,0,0,0,0,0,0]
[null,"کاردکس 81",{"$f":"'تعریف کالا'!$C$85","v":0},{"$f":"'تعریف کالا'!$D$85","v":0},{"$f":"'تعریف کالا'!$E$85","v":0},{"$f":"'تعریف کالا'!$G$85","v":0},null,{"$f":"'تعریف کالا'!$F$85","v":0},null,0,null,null,null,null,null,null,null,null,null,null,null,null,null,null,0,0,0,0,0,0,0]
[null,"کاردکس 82",{"$f":"'تعریف کالا'!$C$86","v":0},{"$f":"'تعریف کالا'!$D$86","v":0},{"$f":"'تعریف کالا'!$E$86","v":0},{"$f":"'تعریف کالا'!$G$86","v":0},null,{"$f":"'تعریف کالا'!$F$86","v":0},null,0,null,null,null,null,null,null,null,null,null,null,null,null,null,null,0,0,0,0,0,0,0]
[null,"کاردکس 83",{"$f":"'تعریف کالا'!$C$87","v":0},{"$f":"'تعریف کالا'!$D$87","v":0},{"$f":"'تعریف کالا'!$E$87","v":0},{"$f":"'تعریف کالا'!$G$87","v":0},null,{"$f":"'تعریف کالا'!$F$87","v":0},null,0,null,null,null,null,null,null,null,null,null,null,null,null,null,null,0,0,0,0,0,0,0]
[null,"کاردکس 84",{"$f":"'تعریف کالا'!$C$88","v":0},{"$f":"'تعریف کالا'!$D$88","v":0},{"$f":"'تعریف کالا'!$E$88","v":0},{"$f":"'تعریف کالا'!$G$88","v":0},null,{"$f":"'تعریف کالا'!$F$88","v":0},null,0,null,null,null,null,null,null,null,null,null,null,null,null,null,null,0,0,0,0,0,0,0]
[null,"کاردکس 85",{"$f":"'تعریف کالا'!$C$89","v":0},{"$f":"'تعریف کالا'!$D$89","v":0},{"$f":"'تعریف کالا'!$E$89","v":0},{"$f":"'تعریف کالا'!$G$89","v":0},null,{"$f":"'تعریف کالا'!$F$89","v":0},null,0,null,null,null,null,null,null,null,null,null,null,null,null,null,null,0,0,0,0,0,0,0]
[null,"کاردکس 86",{"$f":"'تعریف کالا'!$C$90","v":0},{"$f":"'تعریف کالا'!$D$90","v":0},{"$f":"'تعریف کالا'!$E$90","v":0},{"$f":"'تعریف کالا'!$G$90","v":0},null,{"$f":"'تعریف کالا'!$F$90","v":0},null,0,null,null,null,null,null,null,null,null,null,null,null,null,null,null,0,0,0,0,0,0,0]
[null,"کاردکس 87",{"$f":"'تعریف کالا'!$C$91","v":0},{"$f":"'تعریف کالا'!$D$91","v":0},{"$f":"'تعریف کالا'!$E$91","v":0},{"$f":"'تعریف کالا'!$G$91","v":0},null,{"$f":"'تعریف کالا'!$F$91","v":0},null,0,null,null,null,null,null,null,null,null,null,null,null,null,null,null,0,0,0,0,0,0,0]
[null,"کاردکس 88",{"$f":"'تعریف کالا'!$C$92","v":0},{"$f":"'تعریف کالا'!$D$92","v":0},{"$f":"'تعریف کالا'!$E$92","v":0},{"$f":"'تعریف کالا'!$G$92","v":0},null,{"$f":"'تعریف کالا'!$F$92","v":0},null,0,null,null,null,null,null,null,null,null,null,null,null,null,null,null,0,0,0,0,0,0,0]
[null,"کاردکس 89",{"$f":"'تعریف کالا'!$C$93","v":0},{"$f":"'تعریف کالا'!$D$93","v":0},{"$f":"'تعریف کالا'!$E$93","v":0},{"$f":"'تعریف کالا'!$G$93","v":0},null,{"$f":"'تعریف کالا'!$F$93","v":0},null,0,null,null,null,null,null,null,null,null,null,null,null,null,null,null,0,0,0,0,0,0,0]
[null,"کاردکس 90",{"$f":"'تعریف کالا'!$C$94","v":0},{"$f":"'تعریف کالا'!$D$94","v":0},{"$f":"'تعریف کالا'!$E$94","v":0},{"$f":"'تعریف کالا'!$G$94","v":0},null,{"$f":"'تعریف کالا'!$F$94","v":0},null,0,null,null,null,null,null,null,null,null,null,null,null,null,null,null,0,0,0,0,0,0,0]
[null,"کاردکس 91",{"$f":"'تعریف کالا'!$C$95","v":0},{"$f":"'تعریف کالا'!$D$95","v":0},{"$f":"'تعریف کالا'!$E$95","v":0},{"$f":"'تعریف کالا'!$G$95","v":0},null,{"$f":"'تعریف کالا'!$F$95","v":0},null,0,null,null,null,null,null,null,null,null,null,null,null,null,null,null,0,0,0,0,0,0,0]
[null,"کاردکس 92",{"$f":"'تعریف کالا'!$C$96","v":0},{"$f":"'تعریف کالا'!$D$96","v":0},{"$f":"'تعریف کالا'!$E$96","v":0},{"$f":"'تعریف کالا'!$G$96","v":0},null,{"$f":"'تعریف کالا'!$F$96","v":0},null,0,null,null,null,null,null,null,null,null,null,null,null,null,null,null,0,0,0,0,0,0,0]
[null,"کاردکس 93",{"$f":"'تعریف کالا'!$C$97","v":0},{"$f":"'تعریف کالا'!$D$97","v":0},{"$f":"'تعریف کالا'!$E$97","v":0},{"$f":"'تعریف کالا'!$G$97","v":0},null,{"$f":"'تعریف کالا'!$F$97","v":0},null,0,null,null,null,null,null,null,null,null,null,null,null,null,null,null,0,0,0,0,0,0,0]
[null,"کاردکس 94",{"$f":"'تعریف کالا'!$C$98","v":0},{"$f":"'تعریف کالا'!$D$98","v":0},{"$f":"'تعریف کالا'!$E$98","v":0},{"$f":"'تعریف کالا'!$G$98","v":0},null,{"$f":"'تعریف کالا'!$F$98","v":0},null,0,null,null,null,null,null,null,null,null,null,null,null,null,null,null,0,0,0,0,0,0,0]
[null,"کاردکس 95",{"$f":"'تعریف کالا'!$C$99","v":0},{"$f":"'تعریف کالا'!$D$99","v":0},{"$f":"'تعریف کالا'!$E$99","v":0},{"$f":"'تعریف کالا'!$G$99","v":0},null,{"$f":"'تعریف کالا'!$F$99","v":0},null,0,null,null,null,null,null,null,null,null,null,null,null,null,null,null,0,0,0,0,0,0,0]
[null,"کاردکس 96",{"$f":"'تعریف کالا'!$C$100","v":0},{"$f":"'تعریف کالا'!$D$100","v":0},{"$f":"'تعریف کالا'!$E$100","v":0},{"$f":"'تعریف کالا'!$G$100","v":0},null,{"$f":"'تعریف کالا'!$F$100","v":0},null,0,null,null,null,null,null,null,null,null,null,null,null,null,null,null,0,0,0,0,0,0,0]
[null,"کاردکس 97",{"$f":"'تعریف کالا'!$C$101","v":0},{"$f":"'تعریف کالا'!$D$101","v":0},{"$f":"'تعریف کالا'!$E$101","v":0},{"$f":"'تعریف کالا'!$G$101","v":0},null,{"$f":"'تعریف کالا'!$F$101","v":0},null,0,null,null,null,null,null,null,null,null,null,null,null,null,null,null,0,0,0,0,0,0,0]
[null,"کاردکس 98",{"$f":"'تعریف کالا'!$C$102","v":0},{"$f":"'تعریف کالا'!$D$102","v":0},{"$f":"'تعریف کالا'!$E$102","v":0},{"$f":"'تعریف کالا'!$G$102","v":0},null,{"$f":"'تعریف کالا'!$F$102","v":0},null,0,null,null,null,null,null,null,null,null,null,null,null,null,null,null,0,0,0,0,0,0,0]
[null,"کاردکس 99",{"$f":"'تعریف کالا'!$C$103","v":0},{"$f":"'تعریف کالا'!$D$103","v":0},{"$f":"'تعریف کالا'!$E$103","v":0},{"$f":"'تعریف کالا'!$G$103","v":0},null,{"$f":"'تعریف کالا'!$F$103","v":0},null,0,null,null,null,null,null,null,null,null,null,null,null,null,null,null,0,0,0,0,0,0,0]
[null,"کاردکس 100",{"$f":"'تعریف کالا'!$C$104","v":0},{"$f":"'تعریف کالا'!$D$104","v":0},{"$f":"'تعریف کالا'!$E$104","v":0},{"$f":"'تعریف کالا'!$G$104","v":0},null,{"$f":"'تعریف کالا'!$F$104","v":0},null,0,null,null,null,null,null,null,null,null,null,null,null,null,null,null,0,0,0,0,0,0,0]
[null,"کاردکس 101",{"$f":"'تعریف کالا'!$C$105","v":0},{"$f":"'تعریف کالا'!$D$105","v":0},{"$f":"'تعریف کالا'!$E$105","v":0},{"$f":"'تعریف کالا'!$G$105","v":0},null,{"$f":"'تعریف کالا'!$F$105","v":0},null,0,null,null,null,null,null,null,null,null,null,null,null,null,null,null,0,0,0,0,0,0,0]
[null,"کاردکس 102",{"$f":"'تعریف کالا'!$C$106","v":0},{"$f":"'تعریف کالا'!$D$106","v":0},{"$f":"'تعریف کالا'!$E$106","v":0},{"$f":"'تعریف کالا'!$G$106","v":0},null,{"$f":"'تعریف کالا'!$F$106","v":0},null,0,null,null,null,null,null,null,null,null,null,null,null,null,null,null,0,0,0,0,0,0,0]
[null,"کاردکس 103",{"$f":"'تعریف کالا'!$C$107","v":0},{"$f":"'تعریف کالا'!$D$107","v":0},{"$f":"'تعریف کالا'!$E$107","v":0},{"$f":"'تعریف کالا'!$G$107","v":0},null,{"$f":"'تعریف کالا'!$F$107","v":0},null,0,null,null,null,null,null,null,null,null,null,null,null,null,null,null,0,0,0,0,0,0,0]
[null,"کاردکس 104",{"$f":"'تعریف کالا'!$C$108","v":0},{"$f":"'تعریف کالا'!$D$108","v":0},{"$f":"'تعریف کالا'!$E$108","v":0},{"$f":"'تعریف کالا'!$G$108","v":0},null,{"$f":"'تعریف کالا'!$F$108","v":0},null,0,null,null,null,null,null,null,null,null,null,null,null,null,null,null,0,0,0,0,0,0,0]
[null,"کاردکس 105",{"$f":"'تعریف کالا'!$C$109","v":0},{"$f":"'تعریف کالا'!$D$109","v":0},{"$f":"'تعریف کالا'!$E$109","v":0},{"$f":"'تعریف کالا'!$G$109","v":0},null,{"$f":"'تعریف کالا'!$F$109","v":0},null,0,null,null,null,null,null,null,null,null,null,null,null,null,null,null,0,0,0,0,0,0,0]
[null,"کاردکس 106",{"$f":"'تعریف کالا'!$C$110","v":0},{"$f":"'تعریف کالا'!$D$110","v":0},{"$f":"'تعریف کالا'!$E$110","v":0},{"$f":"'تعریف کالا'!$G$110","v":0},null,{"$f":"'تعریف کالا'!$F$110","v":0},null,0,null,null,null,null,null,null,null,null,null,null,null,null,null,null,0,0,0,0,0,0,0]
[null,"کاردکس 107",{"$f":"'تعریف کالا'!$C$111","v":0},{"$f":"'تعریف کالا'!$D$111","v":0},{"$f":"'تعریف کالا'!$E$111","v":0},{"$f":"'تعریف کالا'!$G$111","v":0},null,{"$f":"'تعریف کالا'!$F$111","v":0},null,0,null,null,null,null,null,null,null,null,null,null,null,null,null,null,0,0,0,0,0,0,0]
[null,"کاردکس 108",{"$f":"'تعریف کالا'!$C$112","v":0},{"$f":"'تعریف کالا'!$D$112","v":0},{"$f":"'تعریف کالا'!$E$112","v":0},{"$f":"'تعریف کالا'!$G$112","v":0},null,{"$f":"'تعریف کالا'!$F$112","v":0},null,0,null,null,null,null,null,null,null,null,null,null,null,null,null,null,0,0,0,0,0,0,0]
[null,"کاردکس 109",{"$f":"'تعریف کالا'!$C$113","v":0},{"$f":"'تعریف کالا'!$D$113","v":0},{"$f":"'تعریف کالا'!$E$113","v":0},{"$f":"'تعریف کالا'!$G$113","v":0},null,{"$f":"'تعریف کالا'!$F$113","v":0},null,0,null,null,null,null,null,null,null,null,null,null,null,null,null,null,0,0,0,0,0,0,0]
[null,"کاردکس 110",{"$f":"'تعریف کالا'!$C$114","v":0},{"$f":"'تعریف کالا'!$D$114","v":0},{"$f":"'تعریف کالا'!$E$114","v":0},{"$f":"'تعریف کالا'!$G$114","v":0},null,{"$f":"'تعریف کالا'!$F$114","v":0},null,0,null,null,null,null,null,null,null,null,null,null,null,null,null,null,0,0,0,0,0,0,0]
[null,"کاردکس 111",{"$f":"'تعریف کالا'!$C$115","v":0},{"$f":"'تعریف کالا'!$D$115","v":0},{"$f":"'تعریف کالا'!$E$115","v":0},{"$f":"'تعریف کالا'!$G$115","v":0},null,{"$f":"'تعریف کالا'!$F$115","v":0},null,0,null,null,null,null,null,null,null,null,null,null,null,null,null,null,0,0,0,0,0,0,0]
[null,"کاردکس 112",{"$f":"'تعریف کالا'!$C$116","v":0},{"$f":"'تعریف کالا'!$D$116","v":0},{"$f":"'تعریف کالا'!$E$116","v":0},{"$f":"'تعریف کالا'!$G$116","v":0},null,{"$f":"'تعریف کالا'!$F$116","v":0},null,0,null,null,null,null,null,null,null,null,null,null,null,null,null,null,0,0,0,0,0,0,0]
[null,"کاردکس 113",{"$f":"'تعریف کالا'!$C$117","v":0},{"$f":"'تعریف کالا'!$D$117","v":0},{"$f":"'تعریف کالا'!$E$117","v":0},{"$f":"'تعریف کالا'!$G$117","v":0},null,{"$f":"'تعریف کالا'!$F$117","v":0},null,0,null,null,null,null,null,null,null,null,null,null,null,null,null,null,0,0,0,0,0,0,0]
[null,"کاردکس 114",{"$f":"'تعریف کالا'!$C$118","v":0},{"$f":"'تعریف کالا'!$D$118","v":0},{"$f":"'تعریف کالا'!$E$118","v":0},{"$f":"'تعریف کالا'!$G$118","v":0},null,{"$f":"'تعریف کالا'!$F$118","v":0},null,0,null,null,null,null,null,null,null,null,null,null,null,null,null,null,0,0,0,0,0,0,0]
[null,"کاردکس 115",{"$f":"'تعریف کالا'!$C$119","v":0},{"$f":"'تعریف کالا'!$D$119","v":0},{"$f":"'تعریف کالا'!$E$119","v":0},{"$f":"'تعریف کالا'!$G$119","v":0},null,{"$f":"'تعریف کالا'!$F$119","v":0},null,0,null,null,null,null,null,null,null,null,null,null,null,null,null,null,0,0,0,0,0,0,0]
[null,"کاردکس 116",{"$f":"'تعریف کالا'!$C$120","v":0},{"$f":"'تعریف کالا'!$D$120","v":0},{"$f":"'تعریف کالا'!$E$120","v":0},{"$f":"'تعریف کالا'!$G$120","v":0},null,{"$f":"'تعریف کالا'!$F$120","v":0},null,0,null,null,null,null,null,null,null,null,null,null,null,null,null,null,0,0,0,0,0,0,0]
[null,"کاردکس 117",{"$f":"'تعریف کالا'!$C$121","v":0},{"$f":"'تعریف کالا'!$D$121","v":0},{"$f":"'تعریف کالا'!$E$121","v":0},{"$f":"'تعریف کالا'!$G$121","v":0},null,{"$f":"'تعریف کالا'!$F$121","v":0},null,0,null,null,null,null,null,null,null,null,null,null,null,null,null,null,0,0,0,0,0,0,0]
[null,"کاردکس 118",{"$f":"'تعریف کالا'!$C$122","v":0},{"$f":"'تعریف کالا'!$D$122","v":0},{"$f":"'تعریف کالا'!$E$122","v":0},{"$f":"'تعریف کالا'!$G$122","v":0},null,{"$f":"'تعریف کالا'!$F$122","v":0},null,0,null,null,null,null,null,null,null,null,null,null,null,null,null,null,0,0,0,0,0,0,0]
[null,"کاردکس 119",{"$f":"'تعریف کالا'!$C$123","v":0},{"$f":"'تعریف کالا'!$D$123","v":0},{"$f":"'تعریف کالا'!$E$123","v":0},{"$f":"'تعریف کالا'!$G$123","v":0},null,{"$f":"'تعریف کالا'!$F$123","v":0},null,0,null,null,null,null,null,null,null,null,null,null,null,null,null,null,0,0,0,0,0,0,0]
[null,"کاردکس 120",{"$f":"'تعریف کالا'!$C$124","v":0},{"$f":"'تعریف کالا'!$D$124","v":0},{"$f":"'تعریف کالا'!$E$124","v":0},{"$f":"'تعریف کالا'!$G$124","v":0},null,{"$f":"'تعریف کالا'!$F$124","v":0},null,0,null,null,null,null,null,null,null,null,null,null,null,null,null,null,0,0,0,0,0,0,0]
[null,"کاردکس 121",{"$f":"'تعریف کالا'!$C$125","v":0},{"$f":"'تعریف کالا'!$D$125","v":0},{"$f":"'تعریف کالا'!$E$125","v":0},{"$f":"'تعریف کالا'!$G$125","v":0},null,{"$f":"'تعریف کالا'!$F$125","v":0},null,0,null,null,null,null,null,null,null,null,null,null,null,null,null,null,0,0,0,0,0,0,0]
[null,"کاردکس 122",{"$f":"'تعریف کالا'!$C$126","v":0},{"$f":"'تعریف کالا'!$D$126","v":0},{"$f":"'تعریف کالا'!$E$126","v":0},{"$f":"'تعریف کالا'!$G$126","v":0},null,{"$f":"'تعریف کالا'!$F$126","v":0},null,0,null,null,null,null,null,null,null,null,null,null,null,null,null,null,0,0,0,0,0,0,0]
[null,"کاردکس 123",{"$f":"'تعریف کالا'!$C$127","v":0},{"$f":"'تعریف کالا'!$D$127","v":0},{"$f":"'تعریف کالا'!$E$127","v":0},{"$f":"'تعریف کالا'!$G$127","v":0},null,{"$f":"'تعریف کالا'!$F$127","v":0},null,0,null,null,null,null,null,null,null,null,null,null,null,null,null,null,0,0,0,0,0,0,0]
[null,"کاردکس 124",{"$f":"'تعریف کالا'!$C$128","v":0},{"$f":"'تعریف کالا'!$D$128","v":0},{"$f":"'تعریف کالا'!$E$128","v":0},{"$f":"'تعریف کالا'!$G$128","v":0},null,{"$f":"'تعریف کالا'!$F$128","v":0},null,0,null,null,null,null,null,null,null,null,null,null,null,null,null,null,0,0,0,0,0,0,0]
[null,"کاردکس 125",{"$f":"'تعریف کالا'!$C$129","v":0},{"$f":"'تعریف کالا'!$D$129","v":0},{"$f":"'تعریف کالا'!$E$129","v":0},{"$f":"'تعریف کالا'!$G$129","v":0},null,{"$f":"'تعریف کالا'!$F$129","v":0},null,0,null,null,null,null,null,null,null,null,null,null,null,null,null,null,0,0,0,0,0,0,0]
[null,"کاردکس 126",{"$f":"'تعریف کالا'!$C$130","v":0},{"$f":"'تعریف کالا'!$D$130","v":0},{"$f":"'تعریف کالا'!$E$130","v":0},{"$f":"'تعریف کالا'!$G$130","v":0},null,{"$f":"'تعریف کالا'!$F$130","v":0},null,0,null,null,null,null,null,null,null,null,null,null,null,null,null,null,0,0,0,0,0,0,0]
[null,"کاردکس 127",{"$f":"'تعریف کالا'!$C$131","v":0},{"$f":"'تعریف کالا'!$D$131","v":0},{"$f":"'تعریف کالا'!$E$131","v":0},{"$f":"'تعریف کالا'!$G$131","v":0},null,{"$f":"'تعریف کالا'!$F$131","v":0},null,0,null,null,null,null,null,null,null,null,null,null,null,null,null,null,0,0,0,0,0,0,0]
[null,"کاردکس 128",{"$f":"'تعریف کالا'!$C$132","v":0},{"$f":"'تعریف کالا'!$D$132","v":0},{"$f":"'تعریف کالا'!$E$132","v":0},{"$f":"'تعریف کالا'!$G$132","v":0},null,{"$f":"'تعریف کالا'!$F$132","v":0},null,0,null,null,null,null,null,null,null,null,null,null,null,null,null,null,0,0,0,0,0,0,0]
[null,"کاردکس 129",{"$f":"'تعریف کالا'!$C$133","v":0},{"$f":"'تعریف کالا'!$D$133","v":0},{"$f":"'تعریف کالا'!$E$133","v":0},{"$f":"'تعریف کالا'!$G$133","v":0},null,{"$f":"'تعریف کالا'!$F$133","v":0},null,0,null,null,null,null,null,null,null,null,null,null,null,null,null,null,0,0,0,0,0,0,0]
[null,"کاردکس 130",{"$f":"'تعریف کالا'!$C$134","v":0},{"$f":"'تعریف کالا'!$D$134","v":0},{"$f":"'تعریف کالا'!$E$134","v":0},{"$f":"'تعریف کالا'!$G$134","v":0},null,{"$f":"'تعریف کالا'!$F$134","v":0},null,0,null,null,null,null,null,null,null,null,null,null,null,null,null,null,0,{"$f":"D822","v":0},{"$f":"E822","v":0},{"$f":"F822","v":0},{"$f":"H822","v":0},{"$f":"I822","v":0},{"$f":"J822","v":0}]
[null,"کاردکس 131",{"$f":"'تعریف کالا'!$C$135","v":0},{"$f":"'تعریف کالا'!$D$135","v":0},{"$f":"'تعریف کالا'!$E$135","v":0},{"$f":"'تعریف کالا'!$G$135","v":0},null,{"$f":"'تعریف کالا'!$F$135","v":0},null,{"$f":"(F823*I823)-(F823*I823*G823%)","v":0},null,null,null,null,null,null,null,null,null,null,null,null,null,null,{"$f":"C823","v":0},0,0,0,0,0,0]
[null,"کاردکس 132",{"$f":"'تعریف کالا'!$C$136","v":0},{"$f":"'تعریف کالا'!$D$136","v":0},{"$f":"'تعریف کالا'!$E$136","v":0},{"$f":"'تعریف کالا'!$G$136","v":0},null,{"$f":"'تعریف کالا'!$F$136","v":0},null,0,null,null,null,null,null,null,null,null,null,null,null,null,null,null,0,0,0,0,0,0,0]
[null,"کاردکس 133",{"$f":"'تعریف کالا'!$C$137","v":0},{"$f":"'تعریف کالا'!$D$137","v":0},{"$f":"'تعریف کالا'!$E$137","v":0},{"$f":"'تعریف کالا'!$G$137","v":0},null,{"$f":"'تعریف کالا'!$F$137","v":0},null,0,null,null,null,null,null,null,null,null,null,null,null,null,null,null,0,0,0,0,0,0,0]
[null,"کاردکس 134",{"$f":"'تعریف کالا'!$C$138","v":0},{"$f":"'تعریف کالا'!$D$138","v":0},{"$f":"'تعریف کالا'!$E$138","v":0},{"$f":"'تعریف کالا'!$G$138","v":0},null,{"$f":"'تعریف کالا'!$F$138","v":0},null,0,null,null,null,null,null,null,null,null,null,null,null,null,null,null,0,0,0,0,0,0,0]
[null,"کاردکس 135",{"$f":"'تعریف کالا'!$C$139","v":0},{"$f":"'تعریف کالا'!$D$139","v":0},{"$f":"'تعریف کالا'!$E$139","v":0},{"$f":"'تعریف کالا'!$G$139","v":0},null,{"$f":"'تعریف کالا'!$F$139","v":0},null,0,null,null,null,null,null,null,null,null,null,null,null,null,null,null,0,0,0,0,0,0,0]
[null,"کاردکس 136",{"$f":"'تعریف کالا'!$C$140","v":0},{"$f":"'تعریف کالا'!$D$140","v":0},{"$f":"'تعریف کالا'!$E$140","v":0},{"$f":"'تعریف کالا'!$G$140","v":0},null,{"$f":"'تعریف کالا'!$F$140","v":0},null,0,null,null,null,null,null,null,null,null,null,null,null,null,null,null,0,0,0,0,0,0,0]
[null,"کاردکس 137",{"$f":"'تعریف کالا'!$C$141","v":0},{"$f":"'تعریف کالا'!$D$141","v":0},{"$f":"'تعریف کالا'!$E$141","v":0},{"$f":"'تعریف کالا'!$G$141","v":0},null,{"$f":"'تعریف کالا'!$F$141","v":0},null,0,null,null,null,null,null,null,null,null,null,null,null,null,null,null,0,0,0,0,0,0,0]
[null,"کاردکس 138",{"$f":"'تعریف کالا'!$C$142","v":0},{"$f":"'تعریف کالا'!$D$142","v":0},{"$f":"'تعریف کالا'!$E$142","v":0},{"$f":"'تعریف کالا'!$G$142","v":0},null,{"$f":"'تعریف کالا'!$F$142","v":0},null,0,null,null,null,null,null,null,null,null,null,null,null,null,null,null,0,0,0,0,0,0,0]
[null,"کاردکس 139",{"$f":"'تعریف کالا'!$C$143","v":0},{"$f":"'تعریف کالا'!$D$143","v":0},{"$f":"'تعریف کالا'!$E$143","v":0},{"$f":"'تعریف کالا'!$G$143","v":0},null,{"$f":"'تعریف کالا'!$F$143","v":0},null,0,null,null,null,null,null,null,null,null,null,null,null,null,null,null,0,0,0,0,0,0,0]
[null,"کاردکس 140",{"$f":"'تعریف کالا'!$C$144","v":0},{"$f":"'تعریف کالا'!$D$144","v":0},{"$f":"'تعریف کالا'!$E$144","v":0},{"$f":"'تعریف کالا'!$G$144","v":0},null,{"$f":"'تعریف کالا'!$F$144","v":0},null,0,null,null,null,null,null,null,null,null,null,null,null,null,null,null,0,0,0,0,0,0,0]
[null,"کاردکس 141",{"$f":"'تعریف کالا'!$C$145","v":0},{"$f":"'تعریف کالا'!$D$145","v":0},{"$f":"'تعریف کالا'!$E$145","v":0},{"$f":"'تعریف کالا'!$G$145","v":0},null,{"$f":"'تعریف کالا'!$F$145","v":0},null,0,null,null,null,null,null,null,null,null,null,null,null,null,null,null,0,0,0,0,0,0,0]
[null,"کاردکس 142",{"$f":"'تعریف کالا'!$C$146","v":0},{"$f":"'تعریف کالا'!$D$146","v":0},{"$f":"'تعریف کالا'!$E$146","v":0},{"$f":"'تعریف کالا'!$G$146","v":0},null,{"$f":"'تعریف کالا'!$F$146","v":0},null,0,null,null,null,null,null,null,null,null,null,null,null,null,null,null,0,0,0,0,0,0,0]
[null,"کاردکس 143",{"$f":"'تعریف کالا'!$C$147","v":0},{"$f":"'تعریف کالا'!$D$147","v":0},{"$f":"'تعریف کالا'!$E$147","v":0},{"$f":"'تعریف کالا'!$G$147","v":0},null,{"$f":"'تعریف کالا'!$F$147","v":0},null,0,null,null,null,null,null,null,null,null,null,null,null,null,null,null,0,0,0,0,0,0,0]
[null,"کاردکس 144",{"$f":"'تعریف کالا'!$C$148","v":0},{"$f":"'تعریف کالا'!$D$148","v":0},{"$f":"'تعریف کالا'!$E$148","v":0},{"$f":"'تعریف کالا'!$G$148","v":0},null,{"$f":"'تعریف کالا'!$F$148","v":0},null,0,null,null,null,null,null,null,null,null,null,null,null,null,null,null,0,0,0,0,0,0,0]
[null,"کاردکس 145",{"$f":"'تعریف کالا'!$C$149","v":0},{"$f":"'تعریف کالا'!$D$149","v":0},{"$f":"'تعریف کالا'!$E$149","v":0},{"$f":"'تعریف کالا'!$G$149","v":0},null,{"$f":"'تعریف کالا'!$F$149","v":0},null,0,null,null,null,null,null,null,null,null,null,null,null,null,null,null,0,0,0,0,0,0,0]
[null,"کاردکس 146",{"$f":"'تعریف کالا'!$C$150","v":0},{"$f":"'تعریف کالا'!$D$150","v":0},{"$f":"'تعریف کالا'!$E$150","v":0},{"$f":"'تعریف کالا'!$G$150","v":0},null,{"$f":"'تعریف کالا'!$F$150","v":0},null,0,null,null,null,null,null,null,null,null,null,null,null,null,null,null,0,0,0,0,0,0,0]
[null,"کاردکس 147",{"$f":"'تعریف کالا'!$C$151","v":0},{"$f":"'تعریف کالا'!$D$151","v":0},{"$f":"'تعریف کالا'!$E$151","v":0},{"$f":"'تعریف کالا'!$G$151","v":0},null,{"$f":"'تعریف کالا'!$F$151","v":0},null,0,null,null,null,null,null,null,null,null,null,null,null,null,null,null,0,0,0,0,0,0,0]
[null,"کاردکس 148",{"$f":"'تعریف کالا'!$C$152","v":0},{"$f":"'تعریف کالا'!$D$152","v":0},{"$f":"'تعریف کالا'!$E$152","v":0},{"$f":"'تعریف کالا'!$G$152","v":0},null,{"$f":"'تعریف کالا'!$F$152","v":0},null,0,null,null,null,null,null,null,null,null,null,null,null,null,null,null,0,0,0,0,0,0,0]
[null,"کاردکس 149",{"$f":"'تعریف کالا'!$C$153","v":0},{"$f":"'تعریف کالا'!$D$153","v":0},{"$f":"'تعریف کالا'!$E$153","v":0},{"$f":"'تعریف کالا'!$G$153","v":0},null,{"$f":"'تعریف کالا'!$F$153","v":0},null,0,null,null,null,null,null,null,null,null,null,null,null,null,null,null,0,0,0,0,0,0,0]
[null,"کاردکس 150",{"$f":"'تعریف کالا'!$C$154","v":0},{"$f":"'تعریف کالا'!$D$154","v":0},{"$f":"'تعریف کالا'!$E$154","v":0},{"$f":"'تعریف کالا'!$G$154","v":0},null,{"$f":"'تعریف کالا'!$F$154","v":0},null,0,null,null,null,null,null,null,null,null,null,null,null,null,null,null,0,0,0,0,0,0,0]
[null,"کاردکس 151",{"$f":"'تعریف کالا'!$C$155","v":0},{"$f":"'تعریف کالا'!$D$155","v":0},{"$f":"'تعریف کالا'!$E$155","v":0},{"$f":"'تعریف کالا'!$G$155","v":0},null,{"$f":"'تعریف کالا'!$F$155","v":0},null,0,null,null,null,null,null,null,null,null,null,null,null,null,null,null,0,0,0,0,0,0,0]
[null,"کاردکس 152",{"$f":"'تعریف کالا'!$C$156","v":0},{"$f":"'تعریف کالا'!$D$156","v":0},{"$f":"'تعریف کالا'!$E$156","v":0},{"$f":"'تعریف کالا'!$G$156","v":0},null,{"$f":"'تعریف کالا'!$F$156","v":0},null,0,null,null,null,null,null,null,null,null,null,null,null,null,null,null,0,0,0,0,0,0,0]
[null,"کاردکس 153",{"$f":"'تعریف کالا'!$C$157","v":0},{"$f":"'تعریف کالا'!$D$157","v":0},{"$f":"'تعریف کالا'!$E$157","v":0},{"$f":"'تعریف کالا'!$G$157","v":0},null,{"$f":"'تعریف کالا'!$F$157","v":0},null,0,null,null,null,null,null,null,null,null,null,null,null,null,null,null,0,0,0,0,0,0,0]
[null,"کاردکس 154",{"$f":"'تعریف کالا'!$C$158","v":0},{"$f":"'تعریف کالا'!$D$158","v":0},{"$f":"'تعریف کالا'!$E$158","v":0},{"$f":"'تعریف کالا'!$G$158","v":0},null,{"$f":"'تعریف کالا'!$F$158","v":0},null,0,null,null,null,null,null,null,null,null,null,null,null,null,null,null,0,0,0,0,0,0,0]
[null,"کاردکس 155",{"$f":"'تعریف کالا'!$C$159","v":0},{"$f":"'تعریف کالا'!$D$159","v":0},{"$f":"'تعریف کالا'!$E$159","v":0},{"$f":"'تعریف کالا'!$G$159","v":0},null,{"$f":"'تعریف کالا'!$F$159","v":0},null,0,null,null,null,null,null,null,null,null,null,null,null,null,null,null,0,0,0,0,0,0,0]
[null,"کاردکس 156",{"$f":"'تعریف کالا'!$C$160","v":0},{"$f":"'تعریف کالا'!$D$160","v":0},{"$f":"'تعریف کالا'!$E$160","v":0},{"$f":"'تعریف کالا'!$G$160","v":0},null,{"$f":"'تعریف کالا'!$F$160","v":0},null,0,null,null,null,null,null,null,null,null,null,null,null,null,null,null,0,0,0,0,0,0,0]
[null,"کاردکس 157",{"$f":"'تعریف کالا'!$C$161","v":0},{"$f":"'تعریف کالا'!$D$161","v":0},{"$f":"'تعریف کالا'!$E$161","v":0},{"$f":"'تعریف کالا'!$G$161","v":0},null,{"$f":"'تعریف کالا'!$F$161","v":0},null,0,null,null,null,null,null,null,null,null,null,null,null,null,null,null,0,0,0,0,0,0,0]
[null,"کاردکس 158",{"$f":"'تعریف کالا'!$C$162","v":0},{"$f":"'تعریف کالا'!$D$162","v":0},{"$f":"'تعریف کالا'!$E$162","v":0},{"$f":"'تعریف کالا'!$G$162","v":0},null,{"$f":"'تعریف کالا'!$F$162","v":0},null,0,null,null,null,null,null,null,null,null,null,null,null,null,null,null,0,0,0,0,0,0,0]
[null,"کاردکس 159",{"$f":"'تعریف کالا'!$C$163","v":0},{"$f":"'تعریف کالا'!$D$163","v":0},{"$f":"'تعریف کالا'!$E$163","v":0},{"$f":"'تعریف کالا'!$G$163","v":0},null,{"$f":"'تعریف کالا'!$F$163","v":0},null,0,null,null,null,null,null,null,null,null,null,null,null,null,null,null,0,0,0,0,0,0,0]
[null,"کاردکس 160",{"$f":"'تعریف کالا'!$C$164","v":0},{"$f":"'تعریف کالا'!$D$164","v":0},{"$f":"'تعریف کالا'!$E$164","v":0},{"$f":"'تعریف کالا'!$G$164","v":0},null,{"$f":"'تعریف کالا'!$F$164","v":0},null,0,null,null,null,null,null,null,null,null,null,null,null,null,null,null,0,0,0,0,0,0,0]
[null,"کاردکس 161",{"$f":"'تعریف کالا'!$C$165","v":0},{"$f":"'تعریف کالا'!$D$165","v":0},{"$f":"'تعریف کالا'!$E$165","v":0},{"$f":"'تعریف کالا'!$G$165","v":0},null,{"$f":"'تعریف کالا'!$F$165","v":0},null,0,null,null,null,null,null,null,null,null,null,null,null,null,null,null,0,0,0,0,0,0,0]
[null,"کاردکس 162",{"$f":"'تعریف کالا'!$C$166","v":0},{"$f":"'تعریف کالا'!$D$166","v":0},{"$f":"'تعریف کالا'!$E$166","v":0},{"$f":"'تعریف کالا'!$G$166","v":0},null,{"$f":"'تعریف کالا'!$F$166","v":0},null,0,null,null,null,null,null,null,null,null,null,null,null,null,null,null,0,0,0,0,0,0,0]
[null,"کاردکس 163",{"$f":"'تعریف کالا'!$C$167","v":0},{"$f":"'تعریف کالا'!$D$167","v":0},{"$f":"'تعریف کالا'!$E$167","v":0},{"$f":"'تعریف کالا'!$G$167","v":0},null,{"$f":"'تعریف کالا'!$F$167","v":0},null,0,null,null,null,null,null,null,null,null,null,null,null,null,null,null,0,0,0,0,0,0,0]
[null,"کاردکس 164",{"$f":"'تعریف کالا'!$C$168","v":0},{"$f":"'تعریف کالا'!$D$168","v":0},{"$f":"'تعریف کالا'!$E$168","v":0},{"$f":"'تعریف کالا'!$G$168","v":0},null,{"$f":"'تعریف کالا'!$F$168","v":0},null,0,null,null,null,null,null,null,null,null,null,null,null,null,null,null,0,0,0,0,0,0,0]
[null,"کاردکس 165",{"$f":"'تعریف کالا'!$C$169","v":0},{"$f":"'تعریف کالا'!$D$169","v":0},{"$f":"'تعریف کالا'!$E$169","v":0},{"$f":"'تعریف کالا'!$G$169","v":0},null,{"$f":"'تعریف کالا'!$F$169","v":0},null,0,null,null,null,null,null,null,null,null,null,null,null,null,null,null,0,0,0,0,0,0,0]
[null,"کاردکس 166",{"$f":"'تعریف کالا'!$C$170","v":0},{"$f":"'تعریف کالا'!$D$170","v":0},{"$f":"'تعریف کالا'!$E$170","v":0},{"$f":"'تعریف کالا'!$G$170","v":0},null,{"$f":"'تعریف کالا'!$F$170","v":0},null,0,null,null,null,null,null,null,null,null,null,null,null,null,null,null,0,0,0,0,0,0,0]
[null,"کاردکس 167",{"$f":"'تعریف کالا'!$C$171","v":0},{"$f":"'تعریف کالا'!$D$171","v":0},{"$f":"'تعریف کالا'!$E$171","v":0},{"$f":"'تعریف کالا'!$G$171","v":0},null,{"$f":"'تعریف کالا'!$F$171","v":0},null,0,null,null,null,null,null,null,null,null,null,null,null,null,null,null,0,0,0,0,0,0,0]
[null,"کاردکس 168",{"$f":"'تعریف کالا'!$C$172","v":0},{"$f":"'تعریف کالا'!$D$172","v":0},{"$f":"'تعریف کالا'!$E$172","v":0},{"$f":"'تعریف کالا'!$G$172","v":0},null,{"$f":"'تعریف کالا'!$F$172","v":0},null,0,null,null,null,null,null,null,null,null,null,null,null,null,null,null,0,0,0,0,0,0,0]
[null,"کاردکس 169",{"$f":"'تعریف کالا'!$C$173","v":0},{"$f":"'تعریف کالا'!$D$173","v":0},{"$f":"'تعریف کالا'!$E$173","v":0},{"$f":"'تعریف کالا'!$G$173","v":0},null,{"$f":"'تعریف کالا'!$F$173","v":0},null,0,null,null,null,null,null,null,null,null,null,null,null,null,null,null,0,0,0,0,0,0,0]
[null,"کاردکس 170",{"$f":"'تعریف کالا'!$C$174","v":0},{"$f":"'تعریف کالا'!$D$174","v":0},{"$f":"'تعریف کالا'!$E$174","v":0},{"$f":"'تعریف کالا'!$G$174","v":0},null,{"$f":"'تعریف کالا'!$F$174","v":0},null,0,null,null,null,null,null,null,null,null,null,null,null,null,null,null,0,0,0,0,0,0,0]
[null,"کاردکس 171",{"$f":"'تعریف کالا'!$C$175","v":0},{"$f":"'تعریف کالا'!$D$175","v":0},{"$f":"'تعریف کالا'!$E$175","v":0},{"$f":"'تعریف کالا'!$G$175","v":0},null,{"$f":"'تعریف کالا'!$F$175","v":0},null,0,null,null,null,null,null,null,null,null,null,null,null,null,null,null,0,0,0,0,0,0,0]
[null,"کاردکس 172",{"$f":"'تعریف کالا'!$C$176","v":0},{"$f":"'تعریف کالا'!$D$176","v":0},{"$f":"'تعریف کالا'!$E$176","v":0},{"$f":"'تعریف کالا'!$G$176","v":0},null,{"$f":"'تعریف کالا'!$F$176","v":0},null,0,null,null,null,null,null,null,null,null,null,null,null,null,null,null,0,0,0,0,0,0,0]
[null,"کاردکس 173",{"$f":"'تعریف کالا'!$C$177","v":0},{"$f":"'تعریف کالا'!$D$177","v":0},{"$f":"'تعریف کالا'!$E$177","v":0},{"$f":"'تعریف کالا'!$G$177","v":0},null,{"$f":"'تعریف کالا'!$F$177","v":0},null,0,null,null,null,null,null,null,null,null,null,null,null,null,null,null,0,0,0,0,0,0,0]
[null,"کاردکس 174",{"$f":"'تعریف کالا'!$C$178","v":0},{"$f":"'تعریف کالا'!$D$178","v":0},{"$f":"'تعریف کالا'!$E$178","v":0},{"$f":"'تعریف کالا'!$G$178","v":0},null,{"$f":"'تعریف کالا'!$F$178","v":0},null,0,null,null,null,null,null,null,null,null,null,null,null,null,null,null,0,0,0,0,0,0,0]
[null,"کاردکس 175",{"$f":"'تعریف کالا'!$C$179","v":0},{"$f":"'تعریف کالا'!$D$179","v":0},{"$f":"'تعریف کالا'!$E$179","v":0},{"$f":"'تعریف کالا'!$G$179","v":0},null,{"$f":"'تعریف کالا'!$F$179","v":0},null,0,null,null,null,null,null,null,null,null,null,null,null,null,null,null,0,0,0,0,0,0,0]
[null,"کاردکس 176",{"$f":"'تعریف کالا'!$C$180","v":0},{"$f":"'تعریف کالا'!$D$180","v":0},{"$f":"'تعریف کالا'!$E$180","v":0},{"$f":"'تعریف کالا'!$G$180","v":0},null,{"$f":"'تعریف کالا'!$F$180","v":0},null,0,null,null,null,null,null,null,null,null,null,null,null,null,null,null,0,0,0,0,0,0,0]
[null,"کاردکس 177",{"$f":"'تعریف کالا'!$C$181","v":0},{"$f":"'تعریف کالا'!$D$181","v":0},{"$f":"'تعریف کالا'!$E$181","v":0},{"$f":"'تعریف کالا'!$G$181","v":0},null,{"$f":"'تعریف کالا'!$F$181","v":0},null,0,null,null,null,null,null,null,null,null,null,null,null,null,null,null,0,0,0,0,0,0,0]
[null,"کاردکس 178",{"$f":"'تعریف کالا'!$C$182","v":0},{"$f":"'تعریف کالا'!$D$182","v":0},{"$f":"'تعریف کالا'!$E$182","v":0},{"$f":"'تعریف کالا'!$G$182","v":0},null,{"$f":"'تعریف کالا'!$F$182","v":0},null,0,null,null,null,null,null,null,null,null,null,null,null,null,null,null,0,0,0,0,0,0,0]
[null,"کاردکس 179",{"$f":"'تعریف کالا'!$C$183","v":0},{"$f":"'تعریف کالا'!$D$183","v":0},{"$f":"'تعریف کالا'!$E$183","v":0},{"$f":"'تعریف کالا'!$G$183","v":0},null,{"$f":"'تعریف کالا'!$F$183","v":0},null,0,null,null,null,null,null,null,null,null,null,null,null,null,null,null,0,0,0,0,0,0,0]
[null,"کاردکس 180",{"$f":"'تعریف کالا'!$C$184","v":0},{"$f":"'تعریف کالا'!$D$184","v":0},{"$f":"'تعریف کالا'!$E$184","v":0},{"$f":"'تعریف کالا'!$G$184","v":0},null,{"$f":"'تعریف کالا'!$F$184","v":0},null,0,null,null,null,null,null,null,null,null,null,null,null,null,null,null,0,0,0,0,0,0,0]
[null,"کاردکس 181",{"$f":"'تعریف کالا'!$C$185","v":0},{"$f":"'تعریف کالا'!$D$185","v":0},{"$f":"'تعریف کالا'!$E$185","v":0},{"$f":"'تعریف کالا'!$G$185","v":0},null,{"$f":"'تعریف کالا'!$F$185","v":0},null,0,null,null,null,null,null,null,null,null,null,null,null,null,null,null,0,0,0,0,0,0,0]
[null,"کاردکس 182",{"$f":"'تعریف کالا'!$C$186","v":0},{"$f":"'تعریف کالا'!$D$186","v":0},{"$f":"'تعریف کالا'!$E$186","v":0},{"$f":"'تعریف کالا'!$G$186","v":0},null,{"$f":"'تعریف کالا'!$F$186","v":0},null,0,null,null,null,null,null,null,null,null,null,null,null,null,null,null,0,0,0,0,0,0,0]
[null,"کاردکس 183",{"$f":"'تعریف کالا'!$C$187","v":0},{"$f":"'تعریف کالا'!$D$187","v":0},{"$f":"'تعریف کالا'!$E$187","v":0},{"$f":"'تعریف کالا'!$G$187","v":0},null,{"$f":"'تعریف کالا'!$F$187","v":0},null,0,null,null,null,null,null,null,null,null,null,null,null,null,null,null,0,0,0,0,0,0,0]
[null,"کاردکس 184",{"$f":"'تعریف کالا'!$C$18","v":0},{"$f":"'تعریف کالا'!$D$188","v":0},{"$f":"'تعریف کالا'!$E$188","v":0},{"$f":"'تعریف کالا'!$G$188","v":0},null,{"$f":"'تعریف کالا'!$F$188","v":0},null,0,null,null,null,null,null,null,null,null,null,null,null,null,null,null,0,0,0,0,0,0,0]
[null,"کاردکس 185",{"$f":"'تعریف کالا'!$C$189","v":0},{"$f":"'تعریف کالا'!$D$189","v":0},{"$f":"'تعریف کالا'!$E$189","v":0},{"$f":"'تعریف کالا'!$G$189","v":0},null,{"$f":"'تعریف کالا'!$F$189","v":0},null,0,null,null,null,null,null,null,null,null,null,null,null,null,null,null,0,0,0,0,0,0,0]
[null,"کاردکس 186",{"$f":"'تعریف کالا'!$C$190","v":0},{"$f":"'تعریف کالا'!$D$190","v":0},{"$f":"'تعریف کالا'!$E$190","v":0},{"$f":"'تعریف کالا'!$G$190","v":0},null,{"$f":"'تعریف کالا'!$F$190","v":0},null,0,null,null,null,null,null,null,null,null,null,null,null,null,null,null,0,0,0,0,0,0,0]
[null,"کاردکس 187",{"$f":"'تعریف کالا'!$C$191","v":0},{"$f":"'تعریف کالا'!$D$191","v":0},{"$f":"'تعریف کالا'!$E$191","v":0},{"$f":"'تعریف کالا'!$G$191","v":0},null,{"$f":"'تعریف کالا'!$F$191","v":0},null,0,null,null,null,null,null,null,null,null,null,null,null,null,null,null,0,0,0,0,0,0,0]
[null,"کاردکس 188",{"$f":"'تعریف کالا'!$C$192","v":0},{"$f":"'تعریف کالا'!$D$192","v":0},{"$f":"'تعریف کالا'!$E$192","v":0},{"$f":"'تعریف کالا'!$G$192","v":0},null,{"$f":"'تعریف کالا'!$F$192","v":0},null,0,null,null,null,null,null,null,null,null,null,null,null,null,null,null,0,0,0,0,0,0,0]
[null,"کاردکس 189",{"$f":"'تعریف کالا'!$C$193","v":0},{"$f":"'تعریف کالا'!$D$193","v":0},{"$f":"'تعریف کالا'!$E$193","v":0},{"$f":"'تعریف کالا'!$G$193","v":0},null,{"$f":"'تعریف کالا'!$F$193","v":0},null,0,null,null,null,null,null,null,null,null,null,null,null,null,null,null,0,0,0,0,0,0,0]
[null,"کاردکس 190",{"$f":"'تعریف کالا'!$C$194","v":0},{"$f":"'تعریف کالا'!$D$194","v":0},{"$f":"'تعریف کالا'!$E$194","v":0},{"$f":"'تعریف کالا'!$G$194","v":0},null,{"$f":"'تعریف کالا'!$F$194","v":0},null,0,null,null,null,null,null,null,null,null,null,null,null,null,null,null,0,0,0,0,0,0,0]
[null,"کاردکس 191",{"$f":"'تعریف کالا'!$C$195","v":0},{"$f":"'تعریف کالا'!$D$195","v":0},{"$f":"'تعریف کالا'!$E$195","v":0},{"$f":"'تعریف کالا'!$G$195","v":0},null,{"$f":"'تعریف کالا'!$F$195","v":0},null,0,null,null,null,null,null,null,null,null,null,null,null,null,null,null,0,0,0,0,0,0,0]
[null,"کاردکس 192",{"$f":"'تعریف کالا'!$C$196","v":0},{"$f":"'تعریف کالا'!$D$196","v":0},{"$f":"'تعریف کالا'!$E$196","v":0},{"$f":"'تعریف کالا'!$G$196","v":0},null,{"$f":"'تعریف کالا'!$F$196","v":0},null,0,null,null,null,null,null,null,null,null,null,null,null,null,null,null,0,0,0,0,0,0,0]
[null,"کاردکس 193",{"$f":"'تعریف کالا'!$C$197","v":0},{"$f":"'تعریف کالا'!$D$197","v":0},{"$f":"'تعریف کالا'!$E$197","v":0},{"$f":"'تعریف کالا'!$G$197","v":0},null,{"$f":"'تعریف کالا'!$F$197","v":0},null,0,null,null,null,null,null,null,null,null,null,null,null,null,null,null,0,0,0,0,0,0,0]
[null,"کاردکس 194",{"$f":"'تعریف کالا'!$C$198","v":0},{"$f":"'تعریف کالا'!$D$198","v":0},{"$f":"'تعریف کالا'!$E$198","v":0},{"$f":"'تعریف کالا'!$G$198","v":0},null,{"$f":"'تعریف کالا'!$F$198","v":0},null,0,null,null,null,null,null,null,null,null,null,null,null,null,null,null,0,{"$f":"D886","v":0},{"$f":"E886","v":0},{"$f":"F886","v":0},{"$f":"H886","v":0},{"$f":"I886","v":0},{"$f":"J886","v":0}]
[null,"کاردکس 195",{"$f":"'تعریف کالا'!$C$199","v":0},{"$f":"'تعریف کالا'!$D$199","v":0},{"$f":"'تعریف کالا'!$E$199","v":0},{"$f":"'تعریف کالا'!$G$199","v":0},null,{"$f":"'تعریف کالا'!$F$199","v":0},null,{"$f":"(F887*I887)-(F887*I887*G887%)","v":0},null,null,null,null,null,null,null,null,null,null,null,null,null,null,{"$f":"C887","v":0},0,0,0,0,0,0]
[null,"کاردکس 196",{"$f":"'تعریف کالا'!$C$200","v":0},{"$f":"'تعریف کالا'!$D$200","v":0},{"$f":"'تعریف کالا'!$E$200","v":0},{"$f":"'تعریف کالا'!$G$200","v":0},null,{"$f":"'تعریف کالا'!$F$200","v":0},null,0,null,null,null,null,null,null,null,null,null,null,null,null,null,null,0,0,0,0,0,0,0]
[null,"کاردکس 197",{"$f":"'تعریف کالا'!$C$201","v":0},{"$f":"'تعریف کالا'!$D$201","v":0},{"$f":"'تعریف کالا'!$E$201","v":0},{"$f":"'تعریف کالا'!$G$201","v":0},null,{"$f":"'تعریف کالا'!$F$201","v":0},null,0,null,null,null,null,null,null,null,null,null,null,null,null,null,null,0,0,0,0,0,0,0]
[null,"کاردکس 198",{"$f":"'تعریف کالا'!$C$202","v":0},{"$f":"'تعریف کالا'!$D$202","v":0},{"$f":"'تعریف کالا'!$E$202","v":0},{"$f":"'تعریف کالا'!$G$202","v":0},null,{"$f":"'تعریف کالا'!$F$202","v":0},null,0,null,null,null,null,null,null,null,null,null,null,null,null,null,null,0,0,0,0,0,0,0]
[null,"کاردکس 199",{"$f":"'تعریف کالا'!$C$203","v":0},{"$f":"'تعریف کالا'!$D$203","v":0},{"$f":"'تعریف کالا'!$E$203","v":0},{"$f":"'تعریف کالا'!$G$203","v":0},null,{"$f":"'تعریف کالا'!$F$203","v":0},null,0,null,null,null,null,null,null,null,null,null,null,null,null,null,null,0,0,0,0,0,0,0]
[null,"کاردکس 200",{"$f":"'تعریف کالا'!$C$204","v":0},{"$f":"'تعریف کالا'!$D$204","v":0},{"$f":"'تعریف کالا'!$E$204","v":0},{"$f":"'تعریف کالا'!$G$204","v":0},null,{"$f":"'تعریف کالا'!$F$204","v":0},null,0,null,null,null,null,null,null,null,null,null,null,null,null,null,null,0,0,0,0,0,0,0]
[null,"     جمع کل",null,{"$f":"abh(I893)&L889","v":"منفي "},null,null,null,null,{"$f":"SUM(J693:J892)","v":0},null,null,null,null,null,null,null,null,null,null,null,null,null,null,"مانده حساب",null,{"$f":"abh(AD893)& \"ریال\"","v":"منفي ریال"},null,null,null,{"$f":"I895","v":0}]
[null,"                  مبلغ قابل  پرداخت        ",null,{"$f":"abh(I894)&\"ریال\"","v":"منفي ریال"},null,null,null,null,{"$f":"J687","v":0},null,null,null,null,null,null,null,null,null,null,null,null,null,null,"شرح رویداد :",null,{"$f":"E690","v":0}]
[null,"مانده حساب",null,{"$f":"abh(I895)&\"ریال\"","v":"منفي ریال"},null,null,null,null,{"$f":"J688","v":0},null,null,null,null,null,null,null,null,null,null,null,null,null,null,"اقلام این فاکتور سالم تحویل اینجانب  ....................  شد.               "]
[]
[null,null,null,null,null,null,null,null,null,null,null,null,null,null,null,null,null,null,null,null,null,null,null,null,"امضا صادر کننده",null,"امضا فروشنده",null,"امضا مسئول انبار",null,"امضا خریدار"]
[]
[]
[]
[]
[]
[]
[null,null,"فاکتور فروش"]
[null,null,null,null,null,{"$f":"'صفحه اصلی'!$J$4","v":0},null,null,null,null,null,"فاکتور بعدی",null,null,null,null,null,null,null,null,null,null,null,"حواله تحویل کالا"]
[null,"شماره سند ",5,null,null,null,null,null,"تاریخ",null,null,null,null,null,null,null,null,null,null,null,null,null,null,null,null,null,{"$f":"F905","v":0},null,null,"تاریخ",{"$f":"J906","v":0}]
[null,"شماره فاکتور",5,null,null,null,null,null,"انبار",null,null,"مشاهده حواله",null,null,null,null,null,null,null,null,null,null,null,"شماره حواله",{"$f":"C907","v":5}]
[null,null,null,null,null,null,null,null,null,null,null,null,null,null,null,null,null,null,null,null,null,null,null,"شماره سند",{"$f":"C906","v":5}]
[null,null,null,null,null,"           درصد تخفیف  ",null,null,"تخفیف ",{"$f":"(I1118*G909%)","v":0}]
[null,null,"نام خریدار","خسرو جهانشاهی",null,"          کرایه حمل",null,null,"کرایه حمل",{"$f":"G910","v":0}]
[null,null,null,null,null,"          مالیات",null,null,"مالیات",{"$f":"(I1118-J909+J910)*G911%","v":0}]
[null,null,"پرداخت نقدی",null,null,null,null,null,"مبلغ قابل پرداخت",{"$f":"I1118-J909+J910+J911","v":0},null,null,null,null,null,null,null,null,null,null,null,null,null,null,"خریدار:",{"$f":"D910","v":"خسرو جهانشاهی"}]
[null,null,"پرداخت با چک",null,null,null,null,null,"مانده حساب",{"$f":"J912-D912-D913","v":0}]
[null,null,null,null,null,null,null,null,null,null,null,null,null,null,null,null,null,null,null,null,null,null,null,null,"آدرس :",{"$f":"VLOOKUP(Z912,'مشخصات مشتریان'!$C$2:$D$502,2,FALSE)","v":0}]
[null,null,"ثبت چک","شرح رویداد"]
[]
[null,"شماره کاردکس","کد کالا","نام کالا","گروه بندی","قیمت واحد","درصد تخفیف","واحد شمارش","تعداد","قیمت کل",null,null,null,null,null,null,null,null,null,null,null,null,null,"ردیف","کد کالا","نام کالا","گروه بندی","قیمت واحد","واحد شمارش","تعداد","قیمت کل"]
[null,"کاردکس 1",{"$f":"'تعریف کالا'!$C$5","v":9011120},{"$f":"'تعریف کالا'!$D$5","v":"سی دی"},{"$f":"'تعریف کالا'!$E$5","v":"سخت افزار"},{"$f":"'تعریف کالا'!$G$5","v":3000},null,{"$f":"'تعریف کالا'!$F$5","v":"حلقه"},null,{"$f":"(F918*I918)-(F918*I918*G918%)","v":0},null,null,null,null,null,null,null,null,null,null,null,null,null,null,{"$f":"C918","v":9011120},{"$f":"D918","v":"سی دی"},{"$f":"E918","v":"سخت افزار"},{"$f":"F918","v":3000},{"$f":"H918","v":"حلقه"},{"$f":"I918","v":0},{"$f":"J918","v":0}]
[null,"کاردکس 2",{"$f":"'تعریف کالا'!$C$6","v":9011121},{"$f":"'تعریف کالا'!$D$6","v":"دی وی دی"},{"$f":"'تعریف کالا'!$E$6","v":"سخت افزار"},{"$f":"'تعریف کالا'!$G$6","v":7000},null,{"$f":"'تعریف کالا'!$F$6","v":"حلقه"},null,{"$f":"(F919*I919)-(F919*I919*G919%)","v":0},null,null,null,null,null,null,null,null,null,null,null,null,null,null,{"$f":"C919","v":9011121},{"$f":"D919","v":"دی وی دی"},{"$f":"E919","v":"سخت افزار"},{"$f":"F919","v":7000},{"$f":"H919","v":"حلقه"},{"$f":"I919","v":0},{"$f":"J919","v":0}]
[null,"کاردکس 3",{"$f":"'تعریف کالا'!$C$7","v":9011122},{"$f":"'تعریف کالا'!$D$7","v":"نوت بوک"},{"$f":"'تعریف کالا'!$E$7","v":"سخت افزار"},{"$f":"'تعریف کالا'!$G$7","v":10000000},null,{"$f":"'تعریف کالا'!$F$7","v":"دستگاه"},null,{"$f":"(F920*I920)-(F920*I920*G920%)","v":0},null,null,null,null,null,null,null,null,null,null,null,null,null,null,{"$f":"C920","v":9011122},"نوت بوک","سخت افزار",10000000,"دستگاه",0,0]
[null,"کاردکس 4",{"$f":"'تعریف کالا'!$C$8","v":0},{"$f":"'تعریف کالا'!$D$8","v":0},{"$f":"'تعریف کالا'!$E$8","v":0},{"$f":"'تعریف کالا'!$G$8","v":0},null,{"$f":"'تعریف کالا'!$F$8","v":0},null,0,null,null,null,null,null,null,null,null,null,null,null,null,null,null,0,0,0,0,0,0,0]
[null,"کاردکس 5",{"$f":"'تعریف کالا'!$C$9","v":0},{"$f":"'تعریف کالا'!$D$9","v":0},{"$f":"'تعریف کالا'!$E$9","v":0},{"$f":"'تعریف کالا'!$G$9","v":0},null,{"$f":"'تعریف کالا'!$F$9","v":0},null,0,null,null,null,null,null,null,null,null,null,null,null,null,null,null,0,0,0,0,0,0,0]
[null,"کاردکس 6",{"$f":"'تعریف کالا'!$C$10","v":0},{"$f":"'تعریف کالا'!$D$10","v":0},{"$f":"'تعریف کالا'!$E$10","v":0},{"$f":"'تعریف کالا'!$G$10","v":0},null,{"$f":"'تعریف کالا'!$F$10","v":0},null,0,null,null,null,null,null,null,null,null,null,null,null,null,null,null,0,0,0,0,0,0,0]
[null,"کاردکس 7",{"$f":"'تعریف کالا'!$C$11","v":0},{"$f":"'تعریف کالا'!$D$11","v":0},{"$f":"'تعریف کالا'!$E$11","v":0},{"$f":"'تعریف کالا'!$G$11","v":0},null,{"$f":"'تعریف کالا'!$F$11","v":0},null,0,null,null,null,null,null,null,null,null,null,null,null,null,null,null,0,0,0,0,0,0,0]
[null,"کاردکس 8",{"$f":"'تعریف کالا'!$C$12","v":0},{"$f":"'تعریف کالا'!$D$12","v":0},{"$f":"'تعریف کالا'!$E$12","v":0},{"$f":"'تعریف کالا'!$G$12","v":0},null,{"$f":"'تعریف کالا'!$F$12","v":0},null,0,null,null,null,null,null,null,null,null,null,null,null,null,null,null,0,0,0,0,0,0,0]
[null,"کاردکس 9",{"$f":"'تعریف کالا'!$C$13","v":0},{"$f":"'تعریف کالا'!$D$13","v":0},{"$f":"'تعریف کالا'!$E$13","v":0},{"$f":"'تعریف کالا'!$G$13","v":0},null,{"$f":"'تعریف کالا'!$F$13","v":0},null,0,null,null,null,null,null,null,null,null,null,null,null,null,null,null,0,0,0,0,0,0,0]
[null,"کاردکس 10",{"$f":"'تعریف کالا'!$C$14","v":0},{"$f":"'تعریف کالا'!$D$14","v":0},{"$f":"'تعریف کالا'!$E$14","v":0},{"$f":"'تعریف کالا'!$G$14","v":0},null,{"$f":"'تعریف کالا'!$F$14","v":0},null,0,null,null,null,null,null,null,null,null,null,null,null,null,null,null,0,0,0,0,0,0,0]
[null,"کاردکس 11",{"$f":"'تعریف کالا'!$C$15","v":0},{"$f":"'تعریف کالا'!$D$15","v":0},{"$f":"'تعریف کالا'!$E$15","v":0},{"$f":"'تعریف کالا'!$G$15","v":0},null,{"$f":"'تعریف کالا'!$F$15","v":0},null,0,null,null,null,null,null,null,null,null,null,null,null,null,null,null,0,0,0,0,0,0,0]
[null,"کاردکس 12",{"$f":"'تعریف کالا'!$C$16","v":0},{"$f":"'تعریف کالا'!$D$16","v":0},{"$f":"'تعریف کالا'!$E$16","v":0},{"$f":"'تعریف کالا'!$G$16","v":0},null,{"$f":"'تعریف کالا'!$F$16","v":0},null,0,null,null,null,null,null,null,null,null,null,null,null,null,null,null,0,0,0,0,0,0,0]
[null,"کاردکس 13",{"$f":"'تعریف کالا'!$C$17","v":0},{"$f":"'تعریف کالا'!$D$17","v":0},{"$f":"'تعریف کالا'!$E$17","v":0},{"$f":"'تعریف کالا'!$G$17","v":0},null,{"$f":"'تعریف کالا'!$F$17","v":0},null,0,null,null,null,null,null,null,null,null,null,null,null,null,null,null,0,0,0,0,0,0,0]
[null,"کاردکس 14",{"$f":"'تعریف کالا'!$C$18","v":0},{"$f":"'تعریف کالا'!$D$18","v":0},{"$f":"'تعریف کالا'!$E$18","v":0},{"$f":"'تعریف کالا'!$G$18","v":0},null,{"$f":"'تعریف کالا'!$F$18","v":0},null,0,null,null,null,null,null,null,null,null,null,null,null,null,null,null,0,0,0,0,0,0,0]
[null,"کاردکس 15",{"$f":"'تعریف کالا'!$C$19","v":0},{"$f":"'تعریف کالا'!$D$19","v":0},{"$f":"'تعریف کالا'!$E$19","v":0},{"$f":"'تعریف کالا'!$G$19","v":0},null,{"$f":"'تعریف کالا'!$F$19","v":0},null,0,null,null,null,null,null,null,null,null,null,null,null,null,null,null,0,0,0,0,0,0,0]
[null,"کاردکس 16",{"$f":"'تعریف کالا'!$C$20","v":0},{"$f":"'تعریف کالا'!$D$20","v":0},{"$f":"'تعریف کالا'!$E$20","v":0},{"$f":"'تعریف کالا'!$G$20","v":0},null,{"$f":"'تعریف کالا'!$F$20","v":0},null,0,null,null,null,null,null,null,null,null,null,null,null,null,null,null,0,0,0,0,0,0,0]
[null,"کاردکس 17",{"$f":"'تعریف کالا'!$C$21","v":0},{"$f":"'تعریف کالا'!$D$21","v":0},{"$f":"'تعریف کالا'!$E$21","v":0},{"$f":"'تعریف کالا'!$G$21","v":0},null,{"$f":"'تعریف کالا'!$F$21","v":0},null,0,null,null,null,null,null,null,null,null,null,null,null,null,null,null,0,0,0,0,0,0,0]
[null,"کاردکس 18",{"$f":"'تعریف کالا'!$C$22","v":0},{"$f":"'تعریف کالا'!$D$22","v":0},{"$f":"'تعریف کالا'!$E$22","v":0},{"$f":"'تعریف کالا'!$G$22","v":0},null,{"$f":"'تعریف کالا'!$F$22","v":0},null,0,null,null,null,null,null,null,null,null,null,null,null,null,null,null,0,0,0,0,0,0,0]
[null,"کاردکس 19",{"$f":"'تعریف کالا'!$C$23","v":0},{"$f":"'تعریف کالا'!$D$23","v":0},{"$f":"'تعریف کالا'!$E$23","v":0},{"$f":"'تعریف کالا'!$G$23","v":0},null,{"$f":"'تعریف کالا'!$F$23","v":0},null,0,null,null,null,null,null,null,null,null,null,null,null,null,null,null,0,0,0,0,0,0,0]
[null,"کاردکس 20",{"$f":"'تعریف کالا'!$C$24","v":0},{"$f":"'تعریف کالا'!$D$24","v":0},{"$f":"'تعریف کالا'!$E$24","v":0},{"$f":"'تعریف کالا'!$G$24","v":0},null,{"$f":"'تعریف کالا'!$F$24","v":0},null,0,null,null,null,null,null,null,null,null,null,null,null,null,null,null,0,0,0,0,0,0,0]
[null,"کاردکس 21",{"$f":"'تعریف کالا'!$C$25","v":0},{"$f":"'تعریف کالا'!$D$25","v":0},{"$f":"'تعریف کالا'!$E$25","v":0},{"$f":"'تعریف کالا'!$G$25","v":0},null,{"$f":"'تعریف کالا'!$F$25","v":0},null,0,null,null,null,null,null,null,null,null,null,null,null,null,null,null,0,0,0,0,0,0,0]
[null,"کاردکس 22",{"$f":"'تعریف کالا'!$C$26","v":0},{"$f":"'تعریف کالا'!$D$26","v":0},{"$f":"'تعریف کالا'!$E$26","v":0},{"$f":"'تعریف کالا'!$G$26","v":0},null,{"$f":"'تعریف کالا'!$F$26","v":0},null,0,null,null,null,null,null,null,null,null,null,null,null,null,null,null,0,0,0,0,0,0,0]
[null,"کاردکس 23",{"$f":"'تعریف کالا'!$C$27","v":0},{"$f":"'تعریف کالا'!$D$27","v":0},{"$f":"'تعریف کالا'!$E$27","v":0},{"$f":"'تعریف کالا'!$G$27","v":0},null,{"$f":"'تعریف کالا'!$F$27","v":0},null,0,null,null,null,null,null,null,null,null,null,null,null,null,null,null,0,0,0,0,0,0,0]
[null,"کاردکس 24",{"$f":"'تعریف کالا'!$C$28","v":0},{"$f":"'تعریف کالا'!$D$28","v":0},{"$f":"'تعریف کالا'!$E$28","v":0},{"$f":"'تعریف کالا'!$G$28","v":0},null,{"$f":"'تعریف کالا'!$F$28","v":0},null,0,null,null,null,null,null,null,null,null,null,null,null,null,null,null,0,0,0,0,0,0,0]
[null,"کاردکس 25",{"$f":"'تعریف کالا'!$C$29","v":0},{"$f":"'تعریف کالا'!$D$29","v":0},{"$f":"'تعریف کالا'!$E$29","v":0},{"$f":"'تعریف کالا'!$G$29","v":0},null,{"$f":"'تعریف کالا'!$F$29","v":0},null,0,null,null,null,null,null,null,null,null,null,null,null,null,null,null,0,0,0,0,0,0,0]
[null,"کاردکس 26",{"$f":"'تعریف کالا'!$C$30","v":0},{"$f":"'تعریف کالا'!$D$30","v":0},{"$f":"'تعریف کالا'!$E$30","v":0},{"$f":"'تعریف کالا'!$G$30","v":0},null,{"$f":"'تعریف کالا'!$F$30","v":0},null,0,null,null,null,null,null,null,null,null,null,null,null,null,null,null,0,0,0,0,0,0,0]
[null,"کاردکس 27",{"$f":"'تعریف کالا'!$C$31","v":0},{"$f":"'تعریف کالا'!$D$31","v":0},{"$f":"'تعریف کالا'!$E$31","v":0},{"$f":"'تعریف کالا'!$G$31","v":0},null,{"$f":"'تعریف کالا'!$F$31","v":0},null,0,null,null,null,null,null,null,null,null,null,null,null,null,null,null,0,0,0,0,0,0,0]
[null,"کاردکس 28",{"$f":"'تعریف کالا'!$C$32","v":0},{"$f":"'تعریف کالا'!$D$32","v":0},{"$f":"'تعریف کالا'!$E$32","v":0},{"$f":"'تعریف کالا'!$G$32","v":0},null,{"$f":"'تعریف کالا'!$F$32","v":0},null,0,null,null,null,null,null,null,null,null,null,null,null,null,null,null,0,0,0,0,0,0,0]
[null,"کاردکس 29",{"$f":"'تعریف کالا'!$C$33","v":0},{"$f":"'تعریف کالا'!$D$33","v":0},{"$f":"'تعریف کالا'!$E$33","v":0},{"$f":"'تعریف کالا'!$G$33","v":0},null,{"$f":"'تعریف کالا'!$F$33","v":0},null,0,null,null,null,null,null,null,null,null,null,null,null,null,null,null,0,0,0,0,0,0,0]
[null,"کاردکس 30",{"$f":"'تعریف کالا'!$C$34","v":0},{"$f":"'تعریف کالا'!$D$34","v":0},{"$f":"'تعریف کالا'!$E$34","v":0},{"$f":"'تعریف کالا'!$G$34","v":0},null,{"$f":"'تعریف کالا'!$F$34","v":0},null,0,null,null,null,null,null,null,null,null,null,null,null,null,null,null,0,0,0,0,0,0,0]
[null,"کاردکس 31",{"$f":"'تعریف کالا'!$C$35","v":0},{"$f":"'تعریف کالا'!$D$35","v":0},{"$f":"'تعریف کالا'!$E$35","v":0},{"$f":"'تعریف کالا'!$G$35","v":0},null,{"$f":"'تعریف کالا'!$F$35","v":0},null,0,null,null,null,null,null,null,null,null,null,null,null,null,null,null,0,0,0,0,0,0,0]
[null,"کاردکس 32",{"$f":"'تعریف کالا'!$C$36","v":0},{"$f":"'تعریف کالا'!$D$36","v":0},{"$f":"'تعریف کالا'!$E$36","v":0},{"$f":"'تعریف کالا'!$G$36","v":0},null,{"$f":"'تعریف کالا'!$F$36","v":0},null,0,null,null,null,null,null,null,null,null,null,null,null,null,null,null,0,0,0,0,0,0,0]
[null,"کاردکس 33",{"$f":"'تعریف کالا'!$C$37","v":0},{"$f":"'تعریف کالا'!$D$37","v":0},{"$f":"'تعریف کالا'!$E$37","v":0},{"$f":"'تعریف کالا'!$G$37","v":0},null,{"$f":"'تعریف کالا'!$F$37","v":0},null,0,null,null,null,null,null,null,null,null,null,null,null,null,null,null,0,0,0,0,0,0,0]
[null,"کاردکس 34",{"$f":"'تعریف کالا'!$C$38","v":0},{"$f":"'تعریف کالا'!$D$38","v":0},{"$f":"'تعریف کالا'!$E$38","v":0},{"$f":"'تعریف کالا'!$G$38","v":0},null,{"$f":"'تعریف کالا'!$F$38","v":0},null,0,null,null,null,null,null,null,null,null,null,null,null,null,null,null,0,0,0,0,0,0,0]
[null,"کاردکس 35",{"$f":"'تعریف کالا'!$C$39","v":0},{"$f":"'تعریف کالا'!$D$39","v":0},{"$f":"'تعریف کالا'!$E$39","v":0},{"$f":"'تعریف کالا'!$G$39","v":0},null,{"$f":"'تعریف کالا'!$F$39","v":0},null,0,null,null,null,null,null,null,null,null,null,null,null,null,null,null,0,0,0,0,0,0,0]
[null,"کاردکس 36",{"$f":"'تعریف کالا'!$C$40","v":0},{"$f":"'تعریف کالا'!$D$40","v":0},{"$f":"'تعریف کالا'!$E$40","v":0},{"$f":"'تعریف کالا'!$G$40","v":0},null,{"$f":"'تعریف کالا'!$F$40","v":0},null,0,null,null,null,null,null,null,null,null,null,null,null,null,null,null,0,0,0,0,0,0,0]
[null,"کاردکس 37",{"$f":"'تعریف کالا'!$C$41","v":0},{"$f":"'تعریف کالا'!$D$41","v":0},{"$f":"'تعریف کالا'!$E$41","v":0},{"$f":"'تعریف کالا'!$G$41","v":0},null,{"$f":"'تعریف کالا'!$F$41","v":0},null,0,null,null,null,null,null,null,null,null,null,null,null,null,null,null,0,0,0,0,0,0,0]
[null,"کاردکس 38",{"$f":"'تعریف کالا'!$C$42","v":0},{"$f":"'تعریف کالا'!$D$42","v":0},{"$f":"'تعریف کالا'!$E$42","v":0},{"$f":"'تعریف کالا'!$G$42","v":0},null,{"$f":"'تعریف کالا'!$F$42","v":0},null,0,null,null,null,null,null,null,null,null,null,null,null,null,null,null,0,0,0,0,0,0,0]
[null,"کاردکس 39",{"$f":"'تعریف کالا'!$C$43","v":0},{"$f":"'تعریف کالا'!$D$43","v":0},{"$f":"'تعریف کالا'!$E$43","v":0},{"$f":"'تعریف کالا'!$G$43","v":0},null,{"$f":"'تعریف کالا'!$F$43","v":0},null,0,null,null,null,null,null,null,null,null,null,null,null,null,null,null,0,0,0,0,0,0,0]
[null,"کاردکس 40",{"$f":"'تعریف کالا'!$C$44","v":0},{"$f":"'تعریف کالا'!$D$44","v":0},{"$f":"'تعریف کالا'!$E$44","v":0},{"$f":"'تعریف کالا'!$G$44","v":0},null,{"$f":"'تعریف کالا'!$F$44","v":0},null,0,null,null,null,null,null,null,null,null,null,null,null,null,null,null,0,0,0,0,0,0,0]
[null,"کاردکس 41",{"$f":"'تعریف کالا'!$C$45","v":0},{"$f":"'تعریف کالا'!$D$45","v":0},{"$f":"'تعریف کالا'!$E$45","v":0},{"$f":"'تعریف کالا'!$G$45","v":0},null,{"$f":"'تعریف کالا'!$F$45","v":0},null,0,null,null,null,null,null,null,null,null,null,null,null,null,null,null,0,0,0,0,0,0,0]
[null,"کاردکس 42",{"$f":"'تعریف کالا'!$C$46","v":0},{"$f":"'تعریف کالا'!$D$46","v":0},{"$f":"'تعریف کالا'!$E$46","v":0},{"$f":"'تعریف کالا'!$G$46","v":0},null,{"$f":"'تعریف کالا'!$F$46","v":0},null,0,null,null,null,null,null,null,null,null,null,null,null,null,null,null,0,0,0,0,0,0,0]
[null,"کاردکس 43",{"$f":"'تعریف کالا'!$C$47","v":0},{"$f":"'تعریف کالا'!$D$47","v":0},{"$f":"'تعریف کالا'!$E$47","v":0},{"$f":"'تعریف کالا'!$G$47","v":0},null,{"$f":"'تعریف کالا'!$F$47","v":0},null,0,null,null,null,null,null,null,null,null,null,null,null,null,null,null,0,0,0,0,0,0,0]
[null,"کاردکس 44",{"$f":"'تعریف کالا'!$C$48","v":0},{"$f":"'تعریف کالا'!$D$48","v":0},{"$f":"'تعریف کالا'!$E$48","v":0},{"$f":"'تعریف کالا'!$G$48","v":0},null,{"$f":"'تعریف کالا'!$F$48","v":0},null,0,null,null,null,null,null,null,null,null,null,null,null,null,null,null,0,0,0,0,0,0,0]
[null,"کاردکس 45",{"$f":"'تعریف کالا'!$C$49","v":0},{"$f":"'تعریف کالا'!$D$49","v":0},{"$f":"'تعریف کالا'!$E$49","v":0},{"$f":"'تعریف کالا'!$G$49","v":0},null,{"$f":"'تعریف کالا'!$F$49","v":0},null,0,null,null,null,null,null,null,null,null,null,null,null,null,null,null,0,0,0,0,0,0,0]
[null,"کاردکس 46",{"$f":"'تعریف کالا'!$C$50","v":0},{"$f":"'تعریف کالا'!$D$50","v":0},{"$f":"'تعریف کالا'!$E$50","v":0},{"$f":"'تعریف کالا'!$G$50","v":0},null,{"$f":"'تعریف کالا'!$F$50","v":0},null,0,null,null,null,null,null,null,null,null,null,null,null,null,null,null,0,0,0,0,0,0,0]
[null,"کاردکس 47",{"$f":"'تعریف کالا'!$C$51","v":0},{"$f":"'تعریف کالا'!$D$51","v":0},{"$f":"'تعریف کالا'!$E$51","v":0},{"$f":"'تعریف کالا'!$G$51","v":0},null,{"$f":"'تعریف کالا'!$F$51","v":0},null,0,null,null,null,null,null,null,null,null,null,null,null,null,null,null,0,0,0,0,0,0,0]
[null,"کاردکس 48",{"$f":"'تعریف کالا'!$C$52","v":0},{"$f":"'تعریف کالا'!$D$52","v":0},{"$f":"'تعریف کالا'!$E$52","v":0},{"$f":"'تعریف کالا'!$G$52","v":0},null,{"$f":"'تعریف کالا'!$F$52","v":0},null,0,null,null,null,null,null,null,null,null,null,null,null,null,null,null,0,0,0,0,0,0,0]
[null,"کاردکس 49",{"$f":"'تعریف کالا'!$C$53","v":0},{"$f":"'تعریف کالا'!$D$53","v":0},{"$f":"'تعریف کالا'!$E$53","v":0},{"$f":"'تعریف کالا'!$G$53","v":0},null,{"$f":"'تعریف کالا'!$F$53","v":0},null,0,null,null,null,null,null,null,null,null,null,null,null,null,null,null,0,0,0,0,0,0,0]
[null,"کاردکس 50",{"$f":"'تعریف کالا'!$C$54","v":0},{"$f":"'تعریف کالا'!$D$54","v":0},{"$f":"'تعریف کالا'!$E$54","v":0},{"$f":"'تعریف کالا'!$G$54","v":0},null,{"$f":"'تعریف کالا'!$F$54","v":0},null,0,null,null,null,null,null,null,null,null,null,null,null,null,null,null,0,0,0,0,0,0,0]
[null,"کاردکس 51",{"$f":"'تعریف کالا'!$C$55","v":0},{"$f":"'تعریف کالا'!$D$55","v":0},{"$f":"'تعریف کالا'!$E$55","v":0},{"$f":"'تعریف کالا'!$G$55","v":0},null,{"$f":"'تعریف کالا'!$F$55","v":0},null,0,null,null,null,null,null,null,null,null,null,null,null,null,null,null,0,0,0,0,0,0,0]
[null,"کاردکس 52",{"$f":"'تعریف کالا'!$C$56","v":0},{"$f":"'تعریف کالا'!$D$56","v":0},{"$f":"'تعریف کالا'!$E$56","v":0},{"$f":"'تعریف کالا'!$G$56","v":0},null,{"$f":"'تعریف کالا'!$F$56","v":0},null,0,null,null,null,null,null,null,null,null,null,null,null,null,null,null,0,0,0,0,0,0,0]
[null,"کاردکس 53",{"$f":"'تعریف کالا'!$C$57","v":0},{"$f":"'تعریف کالا'!$D$57","v":0},{"$f":"'تعریف کالا'!$E$57","v":0},{"$f":"'تعریف کالا'!$G$57","v":0},null,{"$f":"'تعریف کالا'!$F$57","v":0},null,0,null,null,null,null,null,null,null,null,null,null,null,null,null,null,0,0,0,0,0,0,0]
[null,"کاردکس 54",{"$f":"'تعریف کالا'!$C$58","v":0},{"$f":"'تعریف کالا'!$D$58","v":0},{"$f":"'تعریف کالا'!$E$58","v":0},{"$f":"'تعریف کالا'!$G$58","v":0},null,{"$f":"'تعریف کالا'!$F$58","v":0},null,0,null,null,null,null,null,null,null,null,null,null,null,null,null,null,0,0,0,0,0,0,0]
[null,"کاردکس 55",{"$f":"'تعریف کالا'!$C$59","v":0},{"$f":"'تعریف کالا'!$D$59","v":0},{"$f":"'تعریف کالا'!$E$59","v":0},{"$f":"'تعریف کالا'!$G$59","v":0},null,{"$f":"'تعریف کالا'!$F$59","v":0},null,0,null,null,null,null,null,null,null,null,null,null,null,null,null,null,0,0,0,0,0,0,0]
[null,"کاردکس 56",{"$f":"'تعریف کالا'!$C$60","v":0},{"$f":"'تعریف کالا'!$D$60","v":0},{"$f":"'تعریف کالا'!$E$60","v":0},{"$f":"'تعریف کالا'!$G$60","v":0},null,{"$f":"'تعریف کالا'!$F$60","v":0},null,0,null,null,null,null,null,null,null,null,null,null,null,null,null,null,0,0,0,0,0,0,0]
[null,"کاردکس 57",{"$f":"'تعریف کالا'!$C$61","v":0},{"$f":"'تعریف کالا'!$D$61","v":0},{"$f":"'تعریف کالا'!$E$61","v":0},{"$f":"'تعریف کالا'!$G$61","v":0},null,{"$f":"'تعریف کالا'!$F$61","v":0},null,0,null,null,null,null,null,null,null,null,null,null,null,null,null,null,0,0,0,0,0,0,0]
[null,"کاردکس 58",{"$f":"'تعریف کالا'!$C$62","v":0},{"$f":"'تعریف کالا'!$D$62","v":0},{"$f":"'تعریف کالا'!$E$62","v":0},{"$f":"'تعریف کالا'!$G$62","v":0},null,{"$f":"'تعریف کالا'!$F$62","v":0},null,0,null,null,null,null,null,null,null,null,null,null,null,null,null,null,0,0,0,0,0,0,0]
[null,"کاردکس 59",{"$f":"'تعریف کالا'!$C$63","v":0},{"$f":"'تعریف کالا'!$D$63","v":0},{"$f":"'تعریف کالا'!$E$63","v":0},{"$f":"'تعریف کالا'!$G$63","v":0},null,{"$f":"'تعریف کالا'!$F$63","v":0},null,0,null,null,null,null,null,null,null,null,null,null,null,null,null,null,0,0,0,0,0,0,0]
[null,"کاردکس 60",{"$f":"'تعریف کالا'!$C$64","v":0},{"$f":"'تعریف کالا'!$D$64","v":0},{"$f":"'تعریف کالا'!$E$64","v":0},{"$f":"'تعریف کالا'!$G$64","v":0},null,{"$f":"'تعریف کالا'!$F$64","v":0},null,0,null,null,null,null,null,null,null,null,null,null,null,null,null,null,0,0,0,0,0,0,0]
[null,"کاردکس 61",{"$f":"'تعریف کالا'!$C$65","v":0},{"$f":"'تعریف کالا'!$D$65","v":0},{"$f":"'تعریف کالا'!$E$65","v":0},{"$f":"'تعریف کالا'!$G$65","v":0},null,{"$f":"'تعریف کالا'!$F$65","v":0},null,0,null,null,null,null,null,null,null,null,null,null,null,null,null,null,0,0,0,0,0,0,0]
[null,"کاردکس 62",{"$f":"'تعریف کالا'!$C$66","v":0},{"$f":"'تعریف کالا'!$D$66","v":0},{"$f":"'تعریف کالا'!$E$66","v":0},{"$f":"'تعریف کالا'!$G$66","v":0},null,{"$f":"'تعریف کالا'!$F$66","v":0},null,0,null,null,null,null,null,null,null,null,null,null,null,null,null,null,0,0,0,0,0,0,0]
[null,"کاردکس 63",{"$f":"'تعریف کالا'!$C$67","v":0},{"$f":"'تعریف کالا'!$D$67","v":0},{"$f":"'تعریف کالا'!$E$67","v":0},{"$f":"'تعریف کالا'!$G$67","v":0},null,{"$f":"'تعریف کالا'!$F$67","v":0},null,0,null,null,null,null,null,null,null,null,null,null,null,null,null,null,0,0,0,0,0,0,0]
[null,"کاردکس 64",{"$f":"'تعریف کالا'!$C$68","v":0},{"$f":"'تعریف کالا'!$D$68","v":0},{"$f":"'تعریف کالا'!$E$68","v":0},{"$f":"'تعریف کالا'!$G$68","v":0},null,{"$f":"'تعریف کالا'!$F$68","v":0},null,0,null,null,null,null,null,null,null,null,null,null,null,null,null,null,0,0,0,0,0,0,0]
[null,"کاردکس 65",{"$f":"'تعریف کالا'!$C$69","v":0},{"$f":"'تعریف کالا'!$D$69","v":0},{"$f":"'تعریف کالا'!$E$69","v":0},{"$f":"'تعریف کالا'!$G$69","v":0},null,{"$f":"'تعریف کالا'!$F$69","v":0},null,0,null,null,null,null,null,null,null,null,null,null,null,null,null,null,0,0,0,0,0,0,0]
[null,"کاردکس 66",{"$f":"'تعریف کالا'!$C$70","v":0},{"$f":"'تعریف کالا'!$D$70","v":0},{"$f":"'تعریف کالا'!$E$70","v":0},{"$f":"'تعریف کالا'!$G$70","v":0},null,{"$f":"'تعریف کالا'!$F$70","v":0},null,0,null,null,null,null,null,null,null,null,null,null,null,null,null,null,0,{"$f":"D983","v":0},{"$f":"E983","v":0},{"$f":"F983","v":0},{"$f":"H983","v":0},{"$f":"I983","v":0},{"$f":"J983","v":0}]
[null,"کاردکس 67",{"$f":"'تعریف کالا'!$C$71","v":0},{"$f":"'تعریف کالا'!$D$71","v":0},{"$f":"'تعریف کالا'!$E$71","v":0},{"$f":"'تعریف کالا'!$G$71","v":0},null,{"$f":"'تعریف کالا'!$F$71","v":0},null,{"$f":"(F984*I984)-(F984*I984*G984%)","v":0},null,null,null,null,null,null,null,null,null,null,null,null,null,null,{"$f":"C984","v":0},0,0,0,0,0,0]
[null,"کاردکس 68",{"$f":"'تعریف کالا'!$C$72","v":0},{"$f":"'تعریف کالا'!$D$72","v":0},{"$f":"'تعریف کالا'!$E$72","v":0},{"$f":"'تعریف کالا'!$G$72","v":0},null,{"$f":"'تعریف کالا'!$F$72","v":0},null,0,null,null,null,null,null,null,null,null,null,null,null,null,null,null,0,0,0,0,0,0,0]
[null,"کاردکس 69",{"$f":"'تعریف کالا'!$C$73","v":0},{"$f":"'تعریف کالا'!$D$73","v":0},{"$f":"'تعریف کالا'!$E$73","v":0},{"$f":"'تعریف کالا'!$G$73","v":0},null,{"$f":"'تعریف کالا'!$F$73","v":0},null,0,null,null,null,null,null,null,null,null,null,null,null,null,null,null,0,0,0,0,0,0,0]
[null,"کاردکس 70",{"$f":"'تعریف کالا'!$C$74","v":0},{"$f":"'تعریف کالا'!$D$74","v":0},{"$f":"'تعریف کالا'!$E$74","v":0},{"$f":"'تعریف کالا'!$G$74","v":0},null,{"$f":"'تعریف کالا'!$F$74","v":0},null,0,null,null,null,null,null,null,null,null,null,null,null,null,null,null,0,0,0,0,0,0,0]
[null,"کاردکس 71",{"$f":"'تعریف کالا'!$C$75","v":0},{"$f":"'تعریف کالا'!$D$75","v":0},{"$f":"'تعریف کالا'!$E$75","v":0},{"$f":"'تعریف کالا'!$G$75","v":0},null,{"$f":"'تعریف کالا'!$F$75","v":0},null,0,null,null,null,null,null,null,null,null,null,null,null,null,null,null,0,0,0,0,0,0,0]
[null,"کاردکس 72",{"$f":"'تعریف کالا'!$C$76","v":0},{"$f":"'تعریف کالا'!$D$76","v":0},{"$f":"'تعریف کالا'!$E$76","v":0},{"$f":"'تعریف کالا'!$G$76","v":0},null,{"$f":"'تعریف کالا'!$F$76","v":0},null,0,null,null,null,null,null,null,null,null,null,null,null,null,null,null,0,0,0,0,0,0,0]
[null,"کاردکس 73",{"$f":"'تعریف کالا'!$C$77","v":0},{"$f":"'تعریف کالا'!$D$77","v":0},{"$f":"'تعریف کالا'!$E$77","v":0},{"$f":"'تعریف کالا'!$G$77","v":0},null,{"$f":"'تعریف کالا'!$F$77","v":0},null,0,null,null,null,null,null,null,null,null,null,null,null,null,null,null,0,0,0,0,0,0,0]
[null,"کاردکس 74",{"$f":"'تعریف کالا'!$C$78","v":0},{"$f":"'تعریف کالا'!$D$78","v":0},{"$f":"'تعریف کالا'!$E$78","v":0},{"$f":"'تعریف کالا'!$G$78","v":0},null,{"$f":"'تعریف کالا'!$F$78","v":0},null,0,null,null,null,null,null,null,null,null,null,null,null,null,null,null,0,0,0,0,0,0,0]
[null,"کاردکس 75",{"$f":"'تعریف کالا'!$C$79","v":0},{"$f":"'تعریف کالا'!$D$79","v":0},{"$f":"'تعریف کالا'!$E$79","v":0},{"$f":"'تعریف کالا'!$G$79","v":0},null,{"$f":"'تعریف کالا'!$F$79","v":0},null,0,null,null,null,null,null,null,null,null,null,null,null,null,null,null,0,0,0,0,0,0,0]
[null,"کاردکس 76",{"$f":"'تعریف کالا'!$C$80","v":0},{"$f":"'تعریف کالا'!$D$80","v":0},{"$f":"'تعریف کالا'!$E$80","v":0},{"$f":"'تعریف کالا'!$G$80","v":0},null,{"$f":"'تعریف کالا'!$F$80","v":0},null,0,null,null,null,null,null,null,null,null,null,null,null,null,null,null,0,0,0,0,0,0,0]
[null,"کاردکس 77",{"$f":"'تعریف کالا'!$C$81","v":0},{"$f":"'تعریف کالا'!$D$81","v":0},{"$f":"'تعریف کالا'!$E$81","v":0},{"$f":"'تعریف کالا'!$G$81","v":0},null,{"$f":"'تعریف کالا'!$F$81","v":0},null,0,null,null,null,null,null,null,null,null,null,null,null,null,null,null,0,0,0,0,0,0,0]
[null,"کاردکس 78",{"$f":"'تعریف کالا'!$C$82","v":0},{"$f":"'تعریف کالا'!$D$82","v":0},{"$f":"'تعریف کالا'!$E$82","v":0},{"$f":"'تعریف کالا'!$G$82","v":0},null,{"$f":"'تعریف کالا'!$F$82","v":0},null,0,null,null,null,null,null,null,null,null,null,null,null,null,null,null,0,0,0,0,0,0,0]
[null,"کاردکس 79",{"$f":"'تعریف کالا'!$C$83","v":0},{"$f":"'تعریف کالا'!$D$83","v":0},{"$f":"'تعریف کالا'!$E$83","v":0},{"$f":"'تعریف کالا'!$G$83","v":0},null,{"$f":"'تعریف کالا'!$F$83","v":0},null,0,null,null,null,null,null,null,null,null,null,null,null,null,null,null,0,0,0,0,0,0,0]
[null,"کاردکس 80",{"$f":"'تعریف کالا'!$C$84","v":0},{"$f":"'تعریف کالا'!$D$84","v":0},{"$f":"'تعریف کالا'!$E$84","v":0},{"$f":"'تعریف کالا'!$G$84","v":0},null,{"$f":"'تعریف کالا'!$F$84","v":0},null,0,null,null,null,null,null,null,null,null,null,null,null,null,null,null,0,0,0,0,0,0,0]
[null,"کاردکس 81",{"$f":"'تعریف کالا'!$C$85","v":0},{"$f":"'تعریف کالا'!$D$85","v":0},{"$f":"'تعریف کالا'!$E$85","v":0},{"$f":"'تعریف کالا'!$G$85","v":0},null,{"$f":"'تعریف کالا'!$F$85","v":0},null,0,null,null,null,null,null,null,null,null,null,null,null,null,null,null,0,0,0,0,0,0,0]
[null,"کاردکس 82",{"$f":"'تعریف کالا'!$C$86","v":0},{"$f":"'تعریف کالا'!$D$86","v":0},{"$f":"'تعریف کالا'!$E$86","v":0},{"$f":"'تعریف کالا'!$G$86","v":0},null,{"$f":"'تعریف کالا'!$F$86","v":0},null,0,null,null,null,null,null,null,null,null,null,null,null,null,null,null,0,0,0,0,0,0,0]
[null,"کاردکس 83",{"$f":"'تعریف کالا'!$C$87","v":0},{"$f":"'تعریف کالا'!$D$87","v":0},{"$f":"'تعریف کالا'!$E$87","v":0},{"$f":"'تعریف کالا'!$G$87","v":0},null,{"$f":"'تعریف کالا'!$F$87","v":0},null,0,null,null,null,null,null,null,null,null,null,null,null,null,null,null,0,0,0,0,0,0,0]
[null,"کاردکس 84",{"$f":"'تعریف کالا'!$C$88","v":0},{"$f":"'تعریف کالا'!$D$88","v":0},{"$f":"'تعریف کالا'!$E$88","v":0},{"$f":"'تعریف کالا'!$G$88","v":0},null,{"$f":"'تعریف کالا'!$F$88","v":0},null,0,null,null,null,null,null,null,null,null,null,null,null,null,null,null,0,0,0,0,0,0,0]
[null,"کاردکس 90",{"$f":"'تعریف کالا'!$C$94","v":0},{"$f":"'تعریف کالا'!$D$94","v":0},{"$f":"'تعریف کالا'!$E$94","v":0},{"$f":"'تعریف کالا'!$G$94","v":0},null,{"$f":"'تعریف کالا'!$F$94","v":0},null,0,null,null,null,null,null,null,null,null,null,null,null,null,null,null,0,0,0,0,0,0,0]
[null,"کاردکس 95",{"$f":"'تعریف کالا'!$C$99","v":0},{"$f":"'تعریف کالا'!$D$99","v":0},{"$f":"'تعریف کالا'!$E$99","v":0},{"$f":"'تعریف کالا'!$G$99","v":0},null,{"$f":"'تعریف کالا'!$F$99","v":0},null,0,null,null,null,null,null,null,null,null,null,null,null,null,null,null,0,0,0,0,0,0,0]
[null,"کاردکس 102",{"$f":"'تعریف کالا'!$C$106","v":0},{"$f":"'تعریف کالا'!$D$106","v":0},{"$f":"'تعریف کالا'!$E$106","v":0},{"$f":"'تعریف کالا'!$G$106","v":0},null,{"$f":"'تعریف کالا'!$F$106","v":0},null,0,null,null,null,null,null,null,null,null,null,null,null,null,null,null,0,0,0,0,0,0,0]
[null,"کاردکس 110",{"$f":"'تعریف کالا'!$C$114","v":0},{"$f":"'تعریف کالا'!$D$114","v":0},{"$f":"'تعریف کالا'!$E$114","v":0},{"$f":"'تعریف کالا'!$G$114","v":0},null,{"$f":"'تعریف کالا'!$F$114","v":0},null,0,null,null,null,null,null,null,null,null,null,null,null,null,null,null,0,0,0,0,0,0,0]
[null,"کاردکس 113",{"$f":"'تعریف کالا'!$C$117","v":0},{"$f":"'تعریف کالا'!$D$117","v":0},{"$f":"'تعریف کالا'!$E$117","v":0},{"$f":"'تعریف کالا'!$G$117","v":0},null,{"$f":"'تعریف کالا'!$F$117","v":0},null,0,null,null,null,null,null,null,null,null,null,null,null,null,null,null,0,0,0,0,0,0,0]
[null,"کاردکس 119",{"$f":"'تعریف کالا'!$C$123","v":0},{"$f":"'تعریف کالا'!$D$123","v":0},{"$f":"'تعریف کالا'!$E$123","v":0},{"$f":"'تعریف کالا'!$G$123","v":0},null,{"$f":"'تعریف کالا'!$F$123","v":0},null,0,null,null,null,null,null,null,null,null,null,null,null,null,null,null,0,0,0,0,0,0,0]
[null,"کاردکس 125",{"$f":"'تعریف کالا'!$C$129","v":0},{"$f":"'تعریف کالا'!$D$129","v":0},{"$f":"'تعریف کالا'!$E$129","v":0},{"$f":"'تعریف کالا'!$G$129","v":0},null,{"$f":"'تعریف کالا'!$F$129","v":0},null,0,null,null,null,null,null,null,null,null,null,null,null,null,null,null,0,0,0,0,0,0,0]
[null,"کاردکس 128",{"$f":"'تعریف کالا'!$C$132","v":0},{"$f":"'تعریف کالا'!$D$132","v":0},{"$f":"'تعریف کالا'!$E$132","v":0},{"$f":"'تعریف کالا'!$G$132","v":0},null,{"$f":"'تعریف کالا'!$F$132","v":0},null,0,null,null,null,null,null,null,null,null,null,null,null,null,null,null,0,0,0,0,0,0,0]
[null,"کاردکس 137",{"$f":"'تعریف کالا'!$C$141","v":0},{"$f":"'تعریف کالا'!$D$141","v":0},{"$f":"'تعریف کالا'!$E$141","v":0},{"$f":"'تعریف کالا'!$G$141","v":0},null,{"$f":"'تعریف کالا'!$F$141","v":0},null,0,null,null,null,null,null,null,null,null,null,null,null,null,null,null,0,0,0,0,0,0,0]
[null,"کاردکس 139",{"$f":"'تعریف کالا'!$C$143","v":0},{"$f":"'تعریف کالا'!$D$143","v":0},{"$f":"'تعریف کالا'!$E$143","v":0},{"$f":"'تعریف کالا'!$G$143","v":0},null,{"$f":"'تعریف کالا'!$F$143","v":0},null,0,null,null,null,null,null,null,null,null,null,null,null,null,null,null,0,0,0,0,0,0,0]
[null,"کاردکس 144",{"$f":"'تعریف کالا'!$C$148","v":0},{"$f":"'تعریف کالا'!$D$148","v":0},{"$f":"'تعریف کالا'!$E$148","v":0},{"$f":"'تعریف کالا'!$G$148","v":0},null,{"$f":"'تعریف کالا'!$F$148","v":0},null,0,null,null,null,null,null,null,null,null,null,null,null,null,null,null,0,0,0,0,0,0,0]
[null,"کاردکس 154",{"$f":"'تعریف کالا'!$C$158","v":0},{"$f":"'تعریف کالا'!$D$158","v":0},{"$f":"'تعریف کالا'!$E$158","v":0},{"$f":"'تعریف کالا'!$G$158","v":0},null,{"$f":"'تعریف کالا'!$F$158","v":0},null,0,null,null,null,null,null,null,null,null,null,null,null,null,null,null,0,0,0,0,0,0,0]
[null,"کاردکس 155",{"$f":"'تعریف کالا'!$C$159","v":0},{"$f":"'تعریف کالا'!$D$159","v":0},{"$f":"'تعریف کالا'!$E$159","v":0},{"$f":"'تعریف کالا'!$G$159","v":0},null,{"$f":"'تعریف کالا'!$F$159","v":0},null,0,null,null,null,null,null,null,null,null,null,null,null,null,null,null,0,0,0,0,0,0,0]
[null,"کاردکس 163",{"$f":"'تعریف کالا'!$C$167","v":0},{"$f":"'تعریف کالا'!$D$167","v":0},{"$f":"'تعریف کالا'!$E$167","v":0},{"$f":"'تعریف کالا'!$G$167","v":0},null,{"$f":"'تعریف کالا'!$F$167","v":0},null,0,null,null,null,null,null,null,null,null,null,null,null,null,null,null,0,0,0,0,0,0,0]
[null,"کاردکس 167",{"$f":"'تعریف کالا'!$C$171","v":0},{"$f":"'تعریف کالا'!$D$171","v":0},{"$f":"'تعریف کالا'!$E$171","v":0},{"$f":"'تعریف کالا'!$G$171","v":0},null,{"$f":"'تعریف کالا'!$F$171","v":0},null,0,null,null,null,null,null,null,null,null,null,null,null,null,null,null,0,0,0,0,0,0,0]
[null,"کاردکس 172",{"$f":"'تعریف کالا'!$C$176","v":0},{"$f":"'تعریف کالا'!$D$176","v":0},{"$f":"'تعریف کالا'!$E$176","v":0},{"$f":"'تعریف کالا'!$G$176","v":0},null,{"$f":"'تعریف کالا'!$F$176","v":0},null,0,null,null,null,null,null,null,null,null,null,null,null,null,null,null,0,0,0,0,0,0,0]
[null,"کاردکس 179",{"$f":"'تعریف کالا'!$C$183","v":0},{"$f":"'تعریف کالا'!$D$183","v":0},{"$f":"'تعریف کالا'!$E$183","v":0},{"$f":"'تعریف کالا'!$G$183","v":0},null,{"$f":"'تعریف کالا'!$F$183","v":0},null,0,null,null,null,null,null,null,null,null,null,null,null,null,null,null,0,0,0,0,0,0,0]
[null,"کاردکس 183",{"$f":"'تعریف کالا'!$C$187","v":0},{"$f":"'تعریف کالا'!$D$187","v":0},{"$f":"'تعریف کالا'!$E$187","v":0},{"$f":"'تعریف کالا'!$G$187","v":0},null,{"$f":"'تعریف کالا'!$F$187","v":0},null,0,null,null,null,null,null,null,null,null,null,null,null,null,null,null,0,0,0,0,0,0,0]
[null,"کاردکس 191",{"$f":"'تعریف کالا'!$C$195","v":0},{"$f":"'تعریف کالا'!$D$195","v":0},{"$f":"'تعریف کالا'!$E$195","v":0},{"$f":"'تعریف کالا'!$G$195","v":0},null,{"$f":"'تعریف کالا'!$F$195","v":0},null,0,null,null,null,null,null,null,null,null,null,null,null,null,null,null,0,0,0,0,0,0,0]
[null,"کاردکس 198",{"$f":"'تعریف کالا'!$C$202","v":0},{"$f":"'تعریف کالا'!$D$202","v":0},{"$f":"'تعریف کالا'!$E$202","v":0},{"$f":"'تعریف کالا'!$G$202","v":0},null,{"$f":"'تعریف کالا'!$F$202","v":0},null,0,null,null,null,null,null,null,null,null,null,null,null,null,null,null,0,0,0,0,0,0,0]
[null,"مانده حساب",null,{"$f":"abh(I1120)&\"ریال\"","v":"منفي ریال"},null,null,null,null,{"$f":"J913","v":0},null,null,null,null,null,null,null,null,null,null,null,null,null,null,"اقلام این فاکتور سالم تحویل اینجانب  ....................  شد.               "]
[]
[null,"شماره سند ",6,null,null,null,null,null,"تاریخ",null,null,null,null,null,null,null,null,null,null,null,null,null,null,null,null,null,{"$f":"F1130","v":0},null,null,"تاریخ",{"$f":"J1131","v":0}]
[null,null,null,null,null,null,null,null,null,null,null,null,null,null,null,null,null,null,null,null,null,null,null,"شماره سند",{"$f":"C1131","v":6}]
[null,null,"پرداخت با چک",null,null,null,null,null,"مانده حساب",{"$f":"J1137-D1137-D1138","v":0}]
[null,"کاردکس 2",{"$f":"'تعریف کالا'!$C$6","v":9011121},{"$f":"'تعریف کالا'!$D$6","v":"دی وی دی"},{"$f":"'تعریف کالا'!$E$6","v":"سخت افزار"},{"$f":"'تعریف کالا'!$G$6","v":7000},null,{"$f":"'تعریف کالا'!$F$6","v":"حلقه"},null,{"$f":"(F1144*I1144)-(F1144*I1144*G1144%)","v":0},null,null,null,null,null,null,null,null,null,null,null,null,null,null,{"$f":"C1144","v":9011121},{"$f":"D1144","v":"دی وی دی"},{"$f":"E1144","v":"سخت افزار"},{"$f":"F1144","v":7000},{"$f":"H1144","v":"حلقه"},{"$f":"I1144","v":0},{"$f":"J1144","v":0}]
[null,"کاردکس 8",{"$f":"'تعریف کالا'!$C$12","v":0},{"$f":"'تعریف کالا'!$D$12","v":0},{"$f":"'تعریف کالا'!$E$12","v":0},{"$f":"'تعریف کالا'!$G$12","v":0},null,{"$f":"'تعریف کالا'!$F$12","v":0},null,0,null,null,null,null,null,null,null,null,null,null,null,null,null,null,0,0,0,0,0,0,0]
[null,"کاردکس 17",{"$f":"'تعریف کالا'!$C$21","v":0},{"$f":"'تعریف کالا'!$D$21","v":0},{"$f":"'تعریف کالا'!$E$21","v":0},{"$f":"'تعریف کالا'!$G$21","v":0},null,{"$f":"'تعریف کالا'!$F$21","v":0},null,0,null,null,null,null,null,null,null,null,null,null,null,null,null,null,0,0,0,0,0,0,0]
[null,"کاردکس 20",{"$f":"'تعریف کالا'!$C$24","v":0},{"$f":"'تعریف کالا'!$D$24","v":0},{"$f":"'تعریف کالا'!$E$24","v":0},{"$f":"'تعریف کالا'!$G$24","v":0},null,{"$f":"'تعریف کالا'!$F$24","v":0},null,0,null,null,null,null,null,null,null,null,null,null,null,null,null,null,0,0,0,0,0,0,0]
[null,"کاردکس 26",{"$f":"'تعریف کالا'!$C$30","v":0},{"$f":"'تعریف کالا'!$D$30","v":0},{"$f":"'تعریف کالا'!$E$30","v":0},{"$f":"'تعریف کالا'!$G$30","v":0},null,{"$f":"'تعریف کالا'!$F$30","v":0},null,0,null,null,null,null,null,null,null,null,null,null,null,null,null,null,0,0,0,0,0,0,0]
[null,"کاردکس 31",{"$f":"'تعریف کالا'!$C$35","v":0},{"$f":"'تعریف کالا'!$D$35","v":0},{"$f":"'تعریف کالا'!$E$35","v":0},{"$f":"'تعریف کالا'!$G$35","v":0},null,{"$f":"'تعریف کالا'!$F$35","v":0},null,0,null,null,null,null,null,null,null,null,null,null,null,null,null,null,0,0,0,0,0,0,0]
[null,"کاردکس 35",{"$f":"'تعریف کالا'!$C$39","v":0},{"$f":"'تعریف کالا'!$D$39","v":0},{"$f":"'تعریف کالا'!$E$39","v":0},{"$f":"'تعریف کالا'!$G$39","v":0},null,{"$f":"'تعریف کالا'!$F$39","v":0},null,0,null,null,null,null,null,null,null,null,null,null,null,null,null,null,0,0,0,0,0,0,0]
[null,"کاردکس 43",{"$f":"'تعریف کالا'!$C$47","v":0},{"$f":"'تعریف کالا'!$D$47","v":0},{"$f":"'تعریف کالا'!$E$47","v":0},{"$f":"'تعریف کالا'!$G$47","v":0},null,{"$f":"'تعریف کالا'!$F$47","v":0},null,0,null,null,null,null,null,null,null,null,null,null,null,null,null,null,0,0,0,0,0,0,0]
[null,"کاردکس 46",{"$f":"'تعریف کالا'!$C$50","v":0},{"$f":"'تعریف کالا'!$D$50","v":0},{"$f":"'تعریف کالا'!$E$50","v":0},{"$f":"'تعریف کالا'!$G$50","v":0},null,{"$f":"'تعریف کالا'!$F$50","v":0},null,0,null,null,null,null,null,null,null,null,null,null,null,null,null,null,0,0,0,0,0,0,0]
[null,"کاردکس 55",{"$f":"'تعریف کالا'!$C$59","v":0},{"$f":"'تعریف کالا'!$D$59","v":0},{"$f":"'تعریف کالا'!$E$59","v":0},{"$f":"'تعریف کالا'!$G$59","v":0},null,{"$f":"'تعریف کالا'!$F$59","v":0},null,0,null,null,null,null,null,null,null,null,null,null,null,null,null,null,0,0,0,0,0,0,0]
[null,"کاردکس 61",{"$f":"'تعریف کالا'!$C$65","v":0},{"$f":"'تعریف کالا'!$D$65","v":0},{"$f":"'تعریف کالا'!$E$65","v":0},{"$f":"'تعریف کالا'!$G$65","v":0},null,{"$f":"'تعریف کالا'!$F$65","v":0},null,0,null,null,null,null,null,null,null,null,null,null,null,null,null,null,0,0,0,0,0,0,0]
[null,"کاردکس 62",{"$f":"'تعریف کالا'!$C$66","v":0},{"$f":"'تعریف کالا'!$D$66","v":0},{"$f":"'تعریف کالا'!$E$66","v":0},{"$f":"'تعریف کالا'!$G$66","v":0},null,{"$f":"'تعریف کالا'!$F$66","v":0},null,0,null,null,null,null,null,null,null,null,null,null,null,null,null,null,0,0,0,0,0,0,0]
[null,"کاردکس 70",{"$f":"'تعریف کالا'!$C$74","v":0},{"$f":"'تعریف کالا'!$D$74","v":0},{"$f":"'تعریف کالا'!$E$74","v":0},{"$f":"'تعریف کالا'!$G$74","v":0},null,{"$f":"'تعریف کالا'!$F$74","v":0},null,0,null,null,null,null,null,null,null,null,null,null,null,null,null,null,0,0,0,0,0,0,0]
[null,"کاردکس 73",{"$f":"'تعریف کالا'!$C$77","v":0},{"$f":"'تعریف کالا'!$D$77","v":0},{"$f":"'تعریف کالا'!$E$77","v":0},{"$f":"'تعریف کالا'!$G$77","v":0},null,{"$f":"'تعریف کالا'!$F$77","v":0},null,0,null,null,null,null,null,null,null,null,null,null,null,null,null,null,0,0,0,0,0,0,0]
[null,"کاردکس 79",{"$f":"'تعریف کالا'!$C$83","v":0},{"$f":"'تعریف کالا'!$D$83","v":0},{"$f":"'تعریف کالا'!$E$83","v":0},{"$f":"'تعریف کالا'!$G$83","v":0},null,{"$f":"'تعریف کالا'!$F$83","v":0},null,0,null,null,null,null,null,null,null,null,null,null,null,null,null,null,0,0,0,0,0,0,0]
[null,"کاردکس 85",{"$f":"'تعریف کالا'!$C$89","v":0},{"$f":"'تعریف کالا'!$D$89","v":0},{"$f":"'تعریف کالا'!$E$89","v":0},{"$f":"'تعریف کالا'!$G$89","v":0},null,{"$f":"'تعریف کالا'!$F$89","v":0},null,0,null,null,null,null,null,null,null,null,null,null,null,null,null,null,0,0,0,0,0,0,0]
[null,"کاردکس 94",{"$f":"'تعریف کالا'!$C$98","v":0},{"$f":"'تعریف کالا'!$D$98","v":0},{"$f":"'تعریف کالا'!$E$98","v":0},{"$f":"'تعریف کالا'!$G$98","v":0},null,{"$f":"'تعریف کالا'!$F$98","v":0},null,0,null,null,null,null,null,null,null,null,null,null,null,null,null,null,0,0,0,0,0,0,0]
[null,"کاردکس 97",{"$f":"'تعریف کالا'!$C$101","v":0},{"$f":"'تعریف کالا'!$D$101","v":0},{"$f":"'تعریف کالا'!$E$101","v":0},{"$f":"'تعریف کالا'!$G$101","v":0},null,{"$f":"'تعریف کالا'!$F$101","v":0},null,0,null,null,null,null,null,null,null,null,null,null,null,null,null,null,0,0,0,0,0,0,0]
[null,"کاردکس 105",{"$f":"'تعریف کالا'!$C$109","v":0},{"$f":"'تعریف کالا'!$D$109","v":0},{"$f":"'تعریف کالا'!$E$109","v":0},{"$f":"'تعریف کالا'!$G$109","v":0},null,{"$f":"'تعریف کالا'!$F$109","v":0},null,0,null,null,null,null,null,null,null,null,null,null,null,null,null,null,0,0,0,0,0,0,0]
[null,"کاردکس 109",{"$f":"'تعریف کالا'!$C$113","v":0},{"$f":"'تعریف کالا'!$D$113","v":0},{"$f":"'تعریف کالا'!$E$113","v":0},{"$f":"'تعریف کالا'!$G$113","v":0},null,{"$f":"'تعریف کالا'!$F$113","v":0},null,0,null,null,null,null,null,null,null,null,null,null,null,null,null,null,0,0,0,0,0,0,0]
[null,"کاردکس 114",{"$f":"'تعریف کالا'!$C$118","v":0},{"$f":"'تعریف کالا'!$D$118","v":0},{"$f":"'تعریف کالا'!$E$118","v":0},{"$f":"'تعریف کالا'!$G$118","v":0},null,{"$f":"'تعریف کالا'!$F$118","v":0},null,0,null,null,null,null,null,null,null,null,null,null,null,null,null,null,0,0,0,0,0,0,0]
[null,"کاردکس 120",{"$f":"'تعریف کالا'!$C$124","v":0},{"$f":"'تعریف کالا'!$D$124","v":0},{"$f":"'تعریف کالا'!$E$124","v":0},{"$f":"'تعریف کالا'!$G$124","v":0},null,{"$f":"'تعریف کالا'!$F$124","v":0},null,0,null,null,null,null,null,null,null,null,null,null,null,null,null,null,0,0,0,0,0,0,0]
[null,"کاردکس 123",{"$f":"'تعریف کالا'!$C$127","v":0},{"$f":"'تعریف کالا'!$D$127","v":0},{"$f":"'تعریف کالا'!$E$127","v":0},{"$f":"'تعریف کالا'!$G$127","v":0},null,{"$f":"'تعریف کالا'!$F$127","v":0},null,0,null,null,null,null,null,null,null,null,null,null,null,null,null,null,0,0,0,0,0,0,0]
[null,"کاردکس 132",{"$f":"'تعریف کالا'!$C$136","v":0},{"$f":"'تعریف کالا'!$D$136","v":0},{"$f":"'تعریف کالا'!$E$136","v":0},{"$f":"'تعریف کالا'!$G$136","v":0},null,{"$f":"'تعریف کالا'!$F$136","v":0},null,0,null,null,null,null,null,null,null,null,null,null,null,null,null,null,0,0,0,0,0,0,0]
[null,"کاردکس 138",{"$f":"'تعریف کالا'!$C$142","v":0},{"$f":"'تعریف کالا'!$D$142","v":0},{"$f":"'تعریف کالا'!$E$142","v":0},{"$f":"'تعریف کالا'!$G$142","v":0},null,{"$f":"'تعریف کالا'!$F$142","v":0},null,0,null,null,null,null,null,null,null,null,null,null,null,null,null,null,0,0,0,0,0,0,0]
[null,"کاردکس 139",{"$f":"'تعریف کالا'!$C$143","v":0},{"$f":"'تعریف کالا'!$D$143","v":0},{"$f":"'تعریف کالا'!$E$143","v":0},{"$f":"'تعریف کالا'!$G$143","v":0},null,{"$f":"'تعریف کالا'!$F$143","v":0},null,0,null,null,null,null,null,null,null,null,null,null,null,null,null,null,0,0,0,0,0,0,0]
[null,"کاردکس 149",{"$f":"'تعریف کالا'!$C$153","v":0},{"$f":"'تعریف کالا'!$D$153","v":0},{"$f":"'تعریف کالا'!$E$153","v":0},{"$f":"'تعریف کالا'!$G$153","v":0},null,{"$f":"'تعریف کالا'!$F$153","v":0},null,0,null,null,null,null,null,null,null,null,null,null,null,null,null,null,0,0,0,0,0,0,0]
[null,"کاردکس 151",{"$f":"'تعریف کالا'!$C$155","v":0},{"$f":"'تعریف کالا'!$D$155","v":0},{"$f":"'تعریف کالا'!$E$155","v":0},{"$f":"'تعریف کالا'!$G$155","v":0},null,{"$f":"'تعریف کالا'!$F$155","v":0},null,0,null,null,null,null,null,null,null,null,null,null,null,null,null,null,0,0,0,0,0,0,0]
[null,"کاردکس 158",{"$f":"'تعریف کالا'!$C$162","v":0},{"$f":"'تعریف کالا'!$D$162","v":0},{"$f":"'تعریف کالا'!$E$162","v":0},{"$f":"'تعریف کالا'!$G$162","v":0},null,{"$f":"'تعریف کالا'!$F$162","v":0},null,0,null,null,null,null,null,null,null,null,null,null,null,null,null,null,0,0,0,0,0,0,0]
[null,"کاردکس 163",{"$f":"'تعریف کالا'!$C$167","v":0},{"$f":"'تعریف کالا'!$D$167","v":0},{"$f":"'تعریف کالا'!$E$167","v":0},{"$f":"'تعریف کالا'!$G$167","v":0},null,{"$f":"'تعریف کالا'!$F$167","v":0},null,0,null,null,null,null,null,null,null,null,null,null,null,null,null,null,0,0,0,0,0,0,0]
[null,"کاردکس 167",{"$f":"'تعریف کالا'!$C$171","v":0},{"$f":"'تعریف کالا'!$D$171","v":0},{"$f":"'تعریف کالا'!$E$171","v":0},{"$f":"'تعریف کالا'!$G$171","v":0},null,{"$f":"'تعریف کالا'!$F$171","v":0},null,0,null,null,null,null,null,null,null,null,null,null,null,null,null,null,0,0,0,0,0,0,0]
[null,"کاردکس 174",{"$f":"'تعریف کالا'!$C$178","v":0},{"$f":"'تعریف کالا'!$D$178","v":0},{"$f":"'تعریف کالا'!$E$178","v":0},{"$f":"'تعریف کالا'!$G$178","v":0},null,{"$f":"'تعریف کالا'!$F$178","v":0},null,0,null,null,null,null,null,null,null,null,null,null,null,null,null,null,0,0,0,0,0,0,0]
[null,"کاردکس 182",{"$f":"'تعریف کالا'!$C$186","v":0},{"$f":"'تعریف کالا'!$D$186","v":0},{"$f":"'تعریف کالا'!$E$186","v":0},{"$f":"'تعریف کالا'!$G$186","v":0},null,{"$f":"'تعریف کالا'!$F$186","v":0},null,0,null,null,null,null,null,null,null,null,null,null,null,null,null,null,0,0,0,0,0,0,0]
[null,"کاردکس 186",{"$f":"'تعریف کالا'!$C$190","v":0},{"$f":"'تعریف کالا'!$D$190","v":0},{"$f":"'تعریف کالا'!$E$190","v":0},{"$f":"'تعریف کالا'!$G$190","v":0},null,{"$f":"'تعریف کالا'!$F$190","v":0},null,0,null,null,null,null,null,null,null,null,null,null,null,null,null,null,0,0,0,0,0,0,0]
[null,"کاردکس 193",{"$f":"'تعریف کالا'!$C$197","v":0},{"$f":"'تعریف کالا'!$D$197","v":0},{"$f":"'تعریف کالا'!$E$197","v":0},{"$f":"'تعریف کالا'!$G$197","v":0},null,{"$f":"'تعریف کالا'!$F$197","v":0},null,0,null,null,null,null,null,null,null,null,null,null,null,null,null,null,0,0,0,0,0,0,0]
[null,"کاردکس 198",{"$f":"'تعریف کالا'!$C$202","v":0},{"$f":"'تعریف کالا'!$D$202","v":0},{"$f":"'تعریف کالا'!$E$202","v":0},{"$f":"'تعریف کالا'!$G$202","v":0},null,{"$f":"'تعریف کالا'!$F$202","v":0},null,0,null,null,null,null,null,null,null,null,null,null,null,null,null,null,0,0,0,0,0,0,0]
[null,"                  مبلغ قابل  پرداخت        ",null,{"$f":"abh(I1344)&\"ریال\"","v":"منفي ریال"},null,null,null,null,{"$f":"J1137","v":0},null,null,null,null,null,null,null,null,null,null,null,null,null,null,"شرح رویداد :",null,{"$f":"E1140","v":0}]
[null,null,null,null,null,null,null,null,null,null,null,null,null,null,null,null,null,null,null,null,null,null,null,null,"امضا صادر کننده",null,"امضا فروشنده",null,"امضا مسئول انبار",null,"امضا خریدار"]
[]
[null,null,null,null,null,null,null,null,null,null,null,null,null,null,null,null,null,null,null,null,null,null,null,"شماره سند",{"$f":"C1356","v":7}]
[null,"کاردکس 1",{"$f":"'تعریف کالا'!$C$5","v":9011120},{"$f":"'تعریف کالا'!$D$5","v":"سی دی"},{"$f":"'تعریف کالا'!$E$5","v":"سخت افزار"},{"$f":"'تعریف کالا'!$G$5","v":3000},null,{"$f":"'تعریف کالا'!$F$5","v":"حلقه"},null,{"$f":"(F1368*I1368)-(F1368*I1368*G1368%)","v":0},null,null,null,null,null,null,null,null,null,null,null,null,null,null,{"$f":"C1368","v":9011120},{"$f":"D1368","v":"سی دی"},{"$f":"E1368","v":"سخت افزار"},{"$f":"F1368","v":3000},{"$f":"H1368","v":"حلقه"},{"$f":"I1368","v":0},{"$f":"J1368","v":0}]
[null,"کاردکس 3",{"$f":"'تعریف کالا'!$C$7","v":9011122},{"$f":"'تعریف کالا'!$D$7","v":"نوت بوک"},{"$f":"'تعریف کالا'!$E$7","v":"سخت افزار"},{"$f":"'تعریف کالا'!$G$7","v":10000000},null,{"$f":"'تعریف کالا'!$F$7","v":"دستگاه"},null,{"$f":"(F1370*I1370)-(F1370*I1370*G1370%)","v":0},null,null,null,null,null,null,null,null,null,null,null,null,null,null,{"$f":"C1370","v":9011122},"نوت بوک","سخت افزار",10000000,"دستگاه",0,0]
[null,"کاردکس 12",{"$f":"'تعریف کالا'!$C$16","v":0},{"$f":"'تعریف کالا'!$D$16","v":0},{"$f":"'تعریف کالا'!$E$16","v":0},{"$f":"'تعریف کالا'!$G$16","v":0},null,{"$f":"'تعریف کالا'!$F$16","v":0},null,0,null,null,null,null,null,null,null,null,null,null,null,null,null,null,0,0,0,0,0,0,0]
[null,"کاردکس 15",{"$f":"'تعریف کالا'!$C$19","v":0},{"$f":"'تعریف کالا'!$D$19","v":0},{"$f":"'تعریف کالا'!$E$19","v":0},{"$f":"'تعریف کالا'!$G$19","v":0},null,{"$f":"'تعریف کالا'!$F$19","v":0},null,0,null,null,null,null,null,null,null,null,null,null,null,null,null,null,0,0,0,0,0,0,0]
[null,"کاردکس 21",{"$f":"'تعریف کالا'!$C$25","v":0},{"$f":"'تعریف کالا'!$D$25","v":0},{"$f":"'تعریف کالا'!$E$25","v":0},{"$f":"'تعریف کالا'!$G$25","v":0},null,{"$f":"'تعریف کالا'!$F$25","v":0},null,0,null,null,null,null,null,null,null,null,null,null,null,null,null,null,0,0,0,0,0,0,0]
[null,"کاردکس 27",{"$f":"'تعریف کالا'!$C$31","v":0},{"$f":"'تعریف کالا'!$D$31","v":0},{"$f":"'تعریف کالا'!$E$31","v":0},{"$f":"'تعریف کالا'!$G$31","v":0},null,{"$f":"'تعریف کالا'!$F$31","v":0},null,0,null,null,null,null,null,null,null,null,null,null,null,null,null,null,0,0,0,0,0,0,0]
[null,"کاردکس 30",{"$f":"'تعریف کالا'!$C$34","v":0},{"$f":"'تعریف کالا'!$D$34","v":0},{"$f":"'تعریف کالا'!$E$34","v":0},{"$f":"'تعریف کالا'!$G$34","v":0},null,{"$f":"'تعریف کالا'!$F$34","v":0},null,0,null,null,null,null,null,null,null,null,null,null,null,null,null,null,0,0,0,0,0,0,0]
[null,"کاردکس 38",{"$f":"'تعریف کالا'!$C$42","v":0},{"$f":"'تعریف کالا'!$D$42","v":0},{"$f":"'تعریف کالا'!$E$42","v":0},{"$f":"'تعریف کالا'!$G$42","v":0},null,{"$f":"'تعریف کالا'!$F$42","v":0},null,0,null,null,null,null,null,null,null,null,null,null,null,null,null,null,0,0,0,0,0,0,0]
[null,"کاردکس 45",{"$f":"'تعریف کالا'!$C$49","v":0},{"$f":"'تعریف کالا'!$D$49","v":0},{"$f":"'تعریف کالا'!$E$49","v":0},{"$f":"'تعریف کالا'!$G$49","v":0},null,{"$f":"'تعریف کالا'!$F$49","v":0},null,0,null,null,null,null,null,null,null,null,null,null,null,null,null,null,0,0,0,0,0,0,0]
[null,"کاردکس 50",{"$f":"'تعریف کالا'!$C$54","v":0},{"$f":"'تعریف کالا'!$D$54","v":0},{"$f":"'تعریف کالا'!$E$54","v":0},{"$f":"'تعریف کالا'!$G$54","v":0},null,{"$f":"'تعریف کالا'!$F$54","v":0},null,0,null,null,null,null,null,null,null,null,null,null,null,null,null,null,0,0,0,0,0,0,0]
[null,"کاردکس 54",{"$f":"'تعریف کالا'!$C$58","v":0},{"$f":"'تعریف کالا'!$D$58","v":0},{"$f":"'تعریف کالا'!$E$58","v":0},{"$f":"'تعریف کالا'!$G$58","v":0},null,{"$f":"'تعریف کالا'!$F$58","v":0},null,0,null,null,null,null,null,null,null,null,null,null,null,null,null,null,0,0,0,0,0,0,0]
[null,"کاردکس 57",{"$f":"'تعریف کالا'!$C$61","v":0},{"$f":"'تعریف کالا'!$D$61","v":0},{"$f":"'تعریف کالا'!$E$61","v":0},{"$f":"'تعریف کالا'!$G$61","v":0},null,{"$f":"'تعریف کالا'!$F$61","v":0},null,0,null,null,null,null,null,null,null,null,null,null,null,null,null,null,0,0,0,0,0,0,0]
[null,"کاردکس 65",{"$f":"'تعریف کالا'!$C$69","v":0},{"$f":"'تعریف کالا'!$D$69","v":0},{"$f":"'تعریف کالا'!$E$69","v":0},{"$f":"'تعریف کالا'!$G$69","v":0},null,{"$f":"'تعریف کالا'!$F$69","v":0},null,0,null,null,null,null,null,null,null,null,null,null,null,null,null,null,0,0,0,0,0,0,0]
[null,"کاردکس 69",{"$f":"'تعریف کالا'!$C$73","v":0},{"$f":"'تعریف کالا'!$D$73","v":0},{"$f":"'تعریف کالا'!$E$73","v":0},{"$f":"'تعریف کالا'!$G$73","v":0},null,{"$f":"'تعریف کالا'!$F$73","v":0},null,0,null,null,null,null,null,null,null,null,null,null,null,null,null,null,0,0,0,0,0,0,0]
[null,"کاردکس 74",{"$f":"'تعریف کالا'!$C$78","v":0},{"$f":"'تعریف کالا'!$D$78","v":0},{"$f":"'تعریف کالا'!$E$78","v":0},{"$f":"'تعریف کالا'!$G$78","v":0},null,{"$f":"'تعریف کالا'!$F$78","v":0},null,0,null,null,null,null,null,null,null,null,null,null,null,null,null,null,0,0,0,0,0,0,0]
[null,"کاردکس 80",{"$f":"'تعریف کالا'!$C$84","v":0},{"$f":"'تعریف کالا'!$D$84","v":0},{"$f":"'تعریف کالا'!$E$84","v":0},{"$f":"'تعریف کالا'!$G$84","v":0},null,{"$f":"'تعریف کالا'!$F$84","v":0},null,0,null,null,null,null,null,null,null,null,null,null,null,null,null,null,0,0,0,0,0,0,0]
[null,"کاردکس 89",{"$f":"'تعریف کالا'!$C$93","v":0},{"$f":"'تعریف کالا'!$D$93","v":0},{"$f":"'تعریف کالا'!$E$93","v":0},{"$f":"'تعریف کالا'!$G$93","v":0},null,{"$f":"'تعریف کالا'!$F$93","v":0},null,0,null,null,null,null,null,null,null,null,null,null,null,null,null,null,0,0,0,0,0,0,0]
[null,"کاردکس 92",{"$f":"'تعریف کالا'!$C$96","v":0},{"$f":"'تعریف کالا'!$D$96","v":0},{"$f":"'تعریف کالا'!$E$96","v":0},{"$f":"'تعریف کالا'!$G$96","v":0},null,{"$f":"'تعریف کالا'!$F$96","v":0},null,0,null,null,null,null,null,null,null,null,null,null,null,null,null,null,0,0,0,0,0,0,0]
[null,"کاردکس 98",{"$f":"'تعریف کالا'!$C$102","v":0},{"$f":"'تعریف کالا'!$D$102","v":0},{"$f":"'تعریف کالا'!$E$102","v":0},{"$f":"'تعریف کالا'!$G$102","v":0},null,{"$f":"'تعریف کالا'!$F$102","v":0},null,0,null,null,null,null,null,null,null,null,null,null,null,null,null,null,0,0,0,0,0,0,0]
[null,"کاردکس 104",{"$f":"'تعریف کالا'!$C$108","v":0},{"$f":"'تعریف کالا'!$D$108","v":0},{"$f":"'تعریف کالا'!$E$108","v":0},{"$f":"'تعریف کالا'!$G$108","v":0},null,{"$f":"'تعریف کالا'!$F$108","v":0},null,0,null,null,null,null,null,null,null,null,null,null,null,null,null,null,0,0,0,0,0,0,0]
[null,"کاردکس 109",{"$f":"'تعریف کالا'!$C$113","v":0},{"$f":"'تعریف کالا'!$D$113","v":0},{"$f":"'تعریف کالا'!$E$113","v":0},{"$f":"'تعریف کالا'!$G$113","v":0},null,{"$f":"'تعریف کالا'!$F$113","v":0},null,0,null,null,null,null,null,null,null,null,null,null,null,null,null,null,0,0,0,0,0,0,0]
[null,"کاردکس 116",{"$f":"'تعریف کالا'!$C$120","v":0},{"$f":"'تعریف کالا'!$D$120","v":0},{"$f":"'تعریف کالا'!$E$120","v":0},{"$f":"'تعریف کالا'!$G$120","v":0},null,{"$f":"'تعریف کالا'!$F$120","v":0},null,0,null,null,null,null,null,null,null,null,null,null,null,null,null,null,0,0,0,0,0,0,0]
[null,"کاردکس 118",{"$f":"'تعریف کالا'!$C$122","v":0},{"$f":"'تعریف کالا'!$D$122","v":0},{"$f":"'تعریف کالا'!$E$122","v":0},{"$f":"'تعریف کالا'!$G$122","v":0},null,{"$f":"'تعریف کالا'!$F$122","v":0},null,0,null,null,null,null,null,null,null,null,null,null,null,null,null,null,0,0,0,0,0,0,0]
[null,"کاردکس 127",{"$f":"'تعریف کالا'!$C$131","v":0},{"$f":"'تعریف کالا'!$D$131","v":0},{"$f":"'تعریف کالا'!$E$131","v":0},{"$f":"'تعریف کالا'!$G$131","v":0},null,{"$f":"'تعریف کالا'!$F$131","v":0},null,0,null,null,null,null,null,null,null,null,null,null,null,null,null,null,0,0,0,0,0,0,0]
[null,"کاردکس 133",{"$f":"'تعریف کالا'!$C$137","v":0},{"$f":"'تعریف کالا'!$D$137","v":0},{"$f":"'تعریف کالا'!$E$137","v":0},{"$f":"'تعریف کالا'!$G$137","v":0},null,{"$f":"'تعریف کالا'!$F$137","v":0},null,0,null,null,null,null,null,null,null,null,null,null,null,null,null,null,0,0,0,0,0,0,0]
[null,"کاردکس 134",{"$f":"'تعریف کالا'!$C$138","v":0},{"$f":"'تعریف کالا'!$D$138","v":0},{"$f":"'تعریف کالا'!$E$138","v":0},{"$f":"'تعریف کالا'!$G$138","v":0},null,{"$f":"'تعریف کالا'!$F$138","v":0},null,0,null,null,null,null,null,null,null,null,null,null,null,null,null,null,0,0,0,0,0,0,0]
[null,"کاردکس 142",{"$f":"'تعریف کالا'!$C$146","v":0},{"$f":"'تعریف کالا'!$D$146","v":0},{"$f":"'تعریف کالا'!$E$146","v":0},{"$f":"'تعریف کالا'!$G$146","v":0},null,{"$f":"'تعریف کالا'!$F$146","v":0},null,0,null,null,null,null,null,null,null,null,null,null,null,null,null,null,0,0,0,0,0,0,0]
[null,"کاردکس 146",{"$f":"'تعریف کالا'!$C$150","v":0},{"$f":"'تعریف کالا'!$D$150","v":0},{"$f":"'تعریف کالا'!$E$150","v":0},{"$f":"'تعریف کالا'!$G$150","v":0},null,{"$f":"'تعریف کالا'!$F$150","v":0},null,0,null,null,null,null,null,null,null,null,null,null,null,null,null,null,0,0,0,0,0,0,0]
[null,"کاردکس 153",{"$f":"'تعریف کالا'!$C$157","v":0},{"$f":"'تعریف کالا'!$D$157","v":0},{"$f":"'تعریف کالا'!$E$157","v":0},{"$f":"'تعریف کالا'!$G$157","v":0},null,{"$f":"'تعریف کالا'!$F$157","v":0},null,0,null,null,null,null,null,null,null,null,null,null,null,null,null,null,0,0,0,0,0,0,0]
[null,"کاردکس 158",{"$f":"'تعریف کالا'!$C$162","v":0},{"$f":"'تعریف کالا'!$D$162","v":0},{"$f":"'تعریف کالا'!$E$162","v":0},{"$f":"'تعریف کالا'!$G$162","v":0},null,{"$f":"'تعریف کالا'!$F$162","v":0},null,0,null,null,null,null,null,null,null,null,null,null,null,null,null,null,0,0,0,0,0,0,0]
[null,"کاردکس 162",{"$f":"'تعریف کالا'!$C$166","v":0},{"$f":"'تعریف کالا'!$D$166","v":0},{"$f":"'تعریف کالا'!$E$166","v":0},{"$f":"'تعریف کالا'!$G$166","v":0},null,{"$f":"'تعریف کالا'!$F$166","v":0},null,0,null,null,null,null,null,null,null,null,null,null,null,null,null,null,0,0,0,0,0,0,0]
[null,"کاردکس 170",{"$f":"'تعریف کالا'!$C$174","v":0},{"$f":"'تعریف کالا'!$D$174","v":0},{"$f":"'تعریف کالا'!$E$174","v":0},{"$f":"'تعریف کالا'!$G$174","v":0},null,{"$f":"'تعریف کالا'!$F$174","v":0},null,0,null,null,null,null,null,null,null,null,null,null,null,null,null,null,0,0,0,0,0,0,0]
[null,"کاردکس 177",{"$f":"'تعریف کالا'!$C$181","v":0},{"$f":"'تعریف کالا'!$D$181","v":0},{"$f":"'تعریف کالا'!$E$181","v":0},{"$f":"'تعریف کالا'!$G$181","v":0},null,{"$f":"'تعریف کالا'!$F$181","v":0},null,0,null,null,null,null,null,null,null,null,null,null,null,null,null,null,0,0,0,0,0,0,0]
[null,"کاردکس 181",{"$f":"'تعریف کالا'!$C$185","v":0},{"$f":"'تعریف کالا'!$D$185","v":0},{"$f":"'تعریف کالا'!$E$185","v":0},{"$f":"'تعریف کالا'!$G$185","v":0},null,{"$f":"'تعریف کالا'!$F$185","v":0},null,0,null,null,null,null,null,null,null,null,null,null,null,null,null,null,0,0,0,0,0,0,0]
[null,"کاردکس 186",{"$f":"'تعریف کالا'!$C$190","v":0},{"$f":"'تعریف کالا'!$D$190","v":0},{"$f":"'تعریف کالا'!$E$190","v":0},{"$f":"'تعریف کالا'!$G$190","v":0},null,{"$f":"'تعریف کالا'!$F$190","v":0},null,0,null,null,null,null,null,null,null,null,null,null,null,null,null,null,0,0,0,0,0,0,0]
[null,"کاردکس 193",{"$f":"'تعریف کالا'!$C$197","v":0},{"$f":"'تعریف کالا'!$D$197","v":0},{"$f":"'تعریف کالا'!$E$197","v":0},{"$f":"'تعریف کالا'!$G$197","v":0},null,{"$f":"'تعریف کالا'!$F$197","v":0},null,0,null,null,null,null,null,null,null,null,null,null,null,null,null,null,0,0,0,0,0,0,0]
[null,"کاردکس 197",{"$f":"'تعریف کالا'!$C$201","v":0},{"$f":"'تعریف کالا'!$D$201","v":0},{"$f":"'تعریف کالا'!$E$201","v":0},{"$f":"'تعریف کالا'!$G$201","v":0},null,{"$f":"'تعریف کالا'!$F$201","v":0},null,0,null,null,null,null,null,null,null,null,null,null,null,null,null,null,0,0,0,0,0,0,0]
[null,"کاردکس 200",{"$f":"'تعریف کالا'!$C$204","v":0},{"$f":"'تعریف کالا'!$D$204","v":0},{"$f":"'تعریف کالا'!$E$204","v":0},{"$f":"'تعریف کالا'!$G$204","v":0},null,{"$f":"'تعریف کالا'!$F$204","v":0},null,0,null,null,null,null,null,null,null,null,null,null,null,null,null,null,0,0,0,0,0,0,0]
[]
[null,null,"فاکتور فروش"]
[null,null,"پرداخت با چک",null,null,null,null,null,"مانده حساب",{"$f":"J1587-D1587-D1588","v":0}]
[null,null,"ثبت چک","شرح رویداد"]
[null,"کاردکس 5",{"$f":"'تعریف کالا'!$C$9","v":0},{"$f":"'تعریف کالا'!$D$9","v":0},{"$f":"'تعریف کالا'!$E$9","v":0},{"$f":"'تعریف کالا'!$G$9","v":0},null,{"$f":"'تعریف کالا'!$F$9","v":0},null,0,null,null,null,null,null,null,null,null,null,null,null,null,null,null,0,0,0,0,0,0,0]
[null,"کاردکس 10",{"$f":"'تعریف کالا'!$C$14","v":0},{"$f":"'تعریف کالا'!$D$14","v":0},{"$f":"'تعریف کالا'!$E$14","v":0},{"$f":"'تعریف کالا'!$G$14","v":0},null,{"$f":"'تعریف کالا'!$F$14","v":0},null,0,null,null,null,null,null,null,null,null,null,null,null,null,null,null,0,0,0,0,0,0,0]
[null,"کاردکس 14",{"$f":"'تعریف کالا'!$C$18","v":0},{"$f":"'تعریف کالا'!$D$18","v":0},{"$f":"'تعریف کالا'!$E$18","v":0},{"$f":"'تعریف کالا'!$G$18","v":0},null,{"$f":"'تعریف کالا'!$F$18","v":0},null,0,null,null,null,null,null,null,null,null,null,null,null,null,null,null,0,0,0,0,0,0,0]
[null,"کاردکس 22",{"$f":"'تعریف کالا'!$C$26","v":0},{"$f":"'تعریف کالا'!$D$26","v":0},{"$f":"'تعریف کالا'!$E$26","v":0},{"$f":"'تعریف کالا'!$G$26","v":0},null,{"$f":"'تعریف کالا'!$F$26","v":0},null,0,null,null,null,null,null,null,null,null,null,null,null,null,null,null,0,0,0,0,0,0,0]
[null,"کاردکس 25",{"$f":"'تعریف کالا'!$C$29","v":0},{"$f":"'تعریف کالا'!$D$29","v":0},{"$f":"'تعریف کالا'!$E$29","v":0},{"$f":"'تعریف کالا'!$G$29","v":0},null,{"$f":"'تعریف کالا'!$F$29","v":0},null,0,null,null,null,null,null,null,null,null,null,null,null,null,null,null,0,0,0,0,0,0,0]
[null,"کاردکس 34",{"$f":"'تعریف کالا'!$C$38","v":0},{"$f":"'تعریف کالا'!$D$38","v":0},{"$f":"'تعریف کالا'!$E$38","v":0},{"$f":"'تعریف کالا'!$G$38","v":0},null,{"$f":"'تعریف کالا'!$F$38","v":0},null,0,null,null,null,null,null,null,null,null,null,null,null,null,null,null,0,0,0,0,0,0,0]
[null,"کاردکس 40",{"$f":"'تعریف کالا'!$C$44","v":0},{"$f":"'تعریف کالا'!$D$44","v":0},{"$f":"'تعریف کالا'!$E$44","v":0},{"$f":"'تعریف کالا'!$G$44","v":0},null,{"$f":"'تعریف کالا'!$F$44","v":0},null,0,null,null,null,null,null,null,null,null,null,null,null,null,null,null,0,0,0,0,0,0,0]
[null,"کاردکس 45",{"$f":"'تعریف کالا'!$C$49","v":0},{"$f":"'تعریف کالا'!$D$49","v":0},{"$f":"'تعریف کالا'!$E$49","v":0},{"$f":"'تعریف کالا'!$G$49","v":0},null,{"$f":"'تعریف کالا'!$F$49","v":0},null,0,null,null,null,null,null,null,null,null,null,null,null,null,null,null,0,0,0,0,0,0,0]
[null,"کاردکس 49",{"$f":"'تعریف کالا'!$C$53","v":0},{"$f":"'تعریف کالا'!$D$53","v":0},{"$f":"'تعریف کالا'!$E$53","v":0},{"$f":"'تعریف کالا'!$G$53","v":0},null,{"$f":"'تعریف کالا'!$F$53","v":0},null,0,null,null,null,null,null,null,null,null,null,null,null,null,null,null,0,0,0,0,0,0,0]
[null,"کاردکس 52",{"$f":"'تعریف کالا'!$C$56","v":0},{"$f":"'تعریف کالا'!$D$56","v":0},{"$f":"'تعریف کالا'!$E$56","v":0},{"$f":"'تعریف کالا'!$G$56","v":0},null,{"$f":"'تعریف کالا'!$F$56","v":0},null,0,null,null,null,null,null,null,null,null,null,null,null,null,null,null,0,0,0,0,0,0,0]
[null,"کاردکس 58",{"$f":"'تعریف کالا'!$C$62","v":0},{"$f":"'تعریف کالا'!$D$62","v":0},{"$f":"'تعریف کالا'!$E$62","v":0},{"$f":"'تعریف کالا'!$G$62","v":0},null,{"$f":"'تعریف کالا'!$F$62","v":0},null,0,null,null,null,null,null,null,null,null,null,null,null,null,null,null,0,0,0,0,0,0,0]
[null,"کاردکس 64",{"$f":"'تعریف کالا'!$C$68","v":0},{"$f":"'تعریف کالا'!$D$68","v":0},{"$f":"'تعریف کالا'!$E$68","v":0},{"$f":"'تعریف کالا'!$G$68","v":0},null,{"$f":"'تعریف کالا'!$F$68","v":0},null,0,null,null,null,null,null,null,null,null,null,null,null,null,null,null,0,0,0,0,0,0,0]
[null,"کاردکس 69",{"$f":"'تعریف کالا'!$C$73","v":0},{"$f":"'تعریف کالا'!$D$73","v":0},{"$f":"'تعریف کالا'!$E$73","v":0},{"$f":"'تعریف کالا'!$G$73","v":0},null,{"$f":"'تعریف کالا'!$F$73","v":0},null,0,null,null,null,null,null,null,null,null,null,null,null,null,null,null,0,0,0,0,0,0,0]
[null,"کاردکس 76",{"$f":"'تعریف کالا'!$C$80","v":0},{"$f":"'تعریف کالا'!$D$80","v":0},{"$f":"'تعریف کالا'!$E$80","v":0},{"$f":"'تعریف کالا'!$G$80","v":0},null,{"$f":"'تعریف کالا'!$F$80","v":0},null,0,null,null,null,null,null,null,null,null,null,null,null,null,null,null,0,0,0,0,0,0,0]
[null,"کاردکس 84",{"$f":"'تعریف کالا'!$C$88","v":0},{"$f":"'تعریف کالا'!$D$88","v":0},{"$f":"'تعریف کالا'!$E$88","v":0},{"$f":"'تعریف کالا'!$G$88","v":0},null,{"$f":"'تعریف کالا'!$F$88","v":0},null,0,null,null,null,null,null,null,null,null,null,null,null,null,null,null,0,0,0,0,0,0,0]
[null,"کاردکس 87",{"$f":"'تعریف کالا'!$C$91","v":0},{"$f":"'تعریف کالا'!$D$91","v":0},{"$f":"'تعریف کالا'!$E$91","v":0},{"$f":"'تعریف کالا'!$G$91","v":0},null,{"$f":"'تعریف کالا'!$F$91","v":0},null,0,null,null,null,null,null,null,null,null,null,null,null,null,null,null,0,0,0,0,0,0,0]
[null,"کاردکس 93",{"$f":"'تعریف کالا'!$C$97","v":0},{"$f":"'تعریف کالا'!$D$97","v":0},{"$f":"'تعریف کالا'!$E$97","v":0},{"$f":"'تعریف کالا'!$G$97","v":0},null,{"$f":"'تعریف کالا'!$F$97","v":0},null,0,null,null,null,null,null,null,null,null,null,null,null,null,null,null,0,0,0,0,0,0,0]
[null,"کاردکس 99",{"$f":"'تعریف کالا'!$C$103","v":0},{"$f":"'تعریف کالا'!$D$103","v":0},{"$f":"'تعریف کالا'!$E$103","v":0},{"$f":"'تعریف کالا'!$G$103","v":0},null,{"$f":"'تعریف کالا'!$F$103","v":0},null,0,null,null,null,null,null,null,null,null,null,null,null,null,null,null,0,0,0,0,0,0,0]
[null,"کاردکس 102",{"$f":"'تعریف کالا'!$C$106","v":0},{"$f":"'تعریف کالا'!$D$106","v":0},{"$f":"'تعریف کالا'!$E$106","v":0},{"$f":"'تعریف کالا'!$G$106","v":0},null,{"$f":"'تعریف کالا'!$F$106","v":0},null,0,null,null,null,null,null,null,null,null,null,null,null,null,null,null,0,0,0,0,0,0,0]
[null,"کاردکس 111",{"$f":"'تعریف کالا'!$C$115","v":0},{"$f":"'تعریف کالا'!$D$115","v":0},{"$f":"'تعریف کالا'!$E$115","v":0},{"$f":"'تعریف کالا'!$G$115","v":0},null,{"$f":"'تعریف کالا'!$F$115","v":0},null,0,null,null,null,null,null,null,null,null,null,null,null,null,null,null,0,0,0,0,0,0,0]
[null,"کاردکس 113",{"$f":"'تعریف کالا'!$C$117","v":0},{"$f":"'تعریف کالا'!$D$117","v":0},{"$f":"'تعریف کالا'!$E$117","v":0},{"$f":"'تعریف کالا'!$G$117","v":0},null,{"$f":"'تعریف کالا'!$F$117","v":0},null,0,null,null,null,null,null,null,null,null,null,null,null,null,null,null,0,0,0,0,0,0,0]
[null,"کاردکس 118",{"$f":"'تعریف کالا'!$C$122","v":0},{"$f":"'تعریف کالا'!$D$122","v":0},{"$f":"'تعریف کالا'!$E$122","v":0},{"$f":"'تعریف کالا'!$G$122","v":0},null,{"$f":"'تعریف کالا'!$F$122","v":0},null,0,null,null,null,null,null,null,null,null,null,null,null,null,null,null,0,0,0,0,0,0,0]
[null,"کاردکس 128",{"$f":"'تعریف کالا'!$C$132","v":0},{"$f":"'تعریف کالا'!$D$132","v":0},{"$f":"'تعریف کالا'!$E$132","v":0},{"$f":"'تعریف کالا'!$G$132","v":0},null,{"$f":"'تعریف کالا'!$F$132","v":0},null,0,null,null,null,null,null,null,null,null,null,null,null,null,null,null,0,0,0,0,0,0,0]
[null,"کاردکس 130",{"$f":"'تعریف کالا'!$C$134","v":0},{"$f":"'تعریف کالا'!$D$134","v":0},{"$f":"'تعریف کالا'!$E$134","v":0},{"$f":"'تعریف کالا'!$G$134","v":0},null,{"$f":"'تعریف کالا'!$F$134","v":0},null,0,null,null,null,null,null,null,null,null,null,null,null,null,null,null,0,{"$f":"D1722","v":0},{"$f":"E1722","v":0},{"$f":"F1722","v":0},{"$f":"H1722","v":0},{"$f":"I1722","v":0},{"$f":"J1722","v":0}]
[null,"کاردکس 137",{"$f":"'تعریف کالا'!$C$141","v":0},{"$f":"'تعریف کالا'!$D$141","v":0},{"$f":"'تعریف کالا'!$E$141","v":0},{"$f":"'تعریف کالا'!$G$141","v":0},null,{"$f":"'تعریف کالا'!$F$141","v":0},null,0,null,null,null,null,null,null,null,null,null,null,null,null,null,null,0,0,0,0,0,0,0]
[null,"کاردکس 141",{"$f":"'تعریف کالا'!$C$145","v":0},{"$f":"'تعریف کالا'!$D$145","v":0},{"$f":"'تعریف کالا'!$E$145","v":0},{"$f":"'تعریف کالا'!$G$145","v":0},null,{"$f":"'تعریف کالا'!$F$145","v":0},null,0,null,null,null,null,null,null,null,null,null,null,null,null,null,null,0,0,0,0,0,0,0]
[null,"کاردکس 146",{"$f":"'تعریف کالا'!$C$150","v":0},{"$f":"'تعریف کالا'!$D$150","v":0},{"$f":"'تعریف کالا'!$E$150","v":0},{"$f":"'تعریف کالا'!$G$150","v":0},null,{"$f":"'تعریف کالا'!$F$150","v":0},null,0,null,null,null,null,null,null,null,null,null,null,null,null,null,null,0,0,0,0,0,0,0]
[null,"کاردکس 153",{"$f":"'تعریف کالا'!$C$157","v":0},{"$f":"'تعریف کالا'!$D$157","v":0},{"$f":"'تعریف کالا'!$E$157","v":0},{"$f":"'تعریف کالا'!$G$157","v":0},null,{"$f":"'تعریف کالا'!$F$157","v":0},null,0,null,null,null,null,null,null,null,null,null,null,null,null,null,null,0,0,0,0,0,0,0]
[null,"کاردکس 157",{"$f":"'تعریف کالا'!$C$161","v":0},{"$f":"'تعریف کالا'!$D$161","v":0},{"$f":"'تعریف کالا'!$E$161","v":0},{"$f":"'تعریف کالا'!$G$161","v":0},null,{"$f":"'تعریف کالا'!$F$161","v":0},null,0,null,null,null,null,null,null,null,null,null,null,null,null,null,null,0,0,0,0,0,0,0]
[null,"کاردکس 165",{"$f":"'تعریف کالا'!$C$169","v":0},{"$f":"'تعریف کالا'!$D$169","v":0},{"$f":"'تعریف کالا'!$E$169","v":0},{"$f":"'تعریف کالا'!$G$169","v":0},null,{"$f":"'تعریف کالا'!$F$169","v":0},null,0,null,null,null,null,null,null,null,null,null,null,null,null,null,null,0,0,0,0,0,0,0]
[null,"کاردکس 172",{"$f":"'تعریف کالا'!$C$176","v":0},{"$f":"'تعریف کالا'!$D$176","v":0},{"$f":"'تعریف کالا'!$E$176","v":0},{"$f":"'تعریف کالا'!$G$176","v":0},null,{"$f":"'تعریف کالا'!$F$176","v":0},null,0,null,null,null,null,null,null,null,null,null,null,null,null,null,null,0,0,0,0,0,0,0]
[null,"کاردکس 177",{"$f":"'تعریف کالا'!$C$181","v":0},{"$f":"'تعریف کالا'!$D$181","v":0},{"$f":"'تعریف کالا'!$E$181","v":0},{"$f":"'تعریف کالا'!$G$181","v":0},null,{"$f":"'تعریف کالا'!$F$181","v":0},null,0,null,null,null,null,null,null,null,null,null,null,null,null,null,null,0,0,0,0,0,0,0]
[null,"کاردکس 181",{"$f":"'تعریف کالا'!$C$185","v":0},{"$f":"'تعریف کالا'!$D$185","v":0},{"$f":"'تعریف کالا'!$E$185","v":0},{"$f":"'تعریف کالا'!$G$185","v":0},null,{"$f":"'تعریف کالا'!$F$185","v":0},null,0,null,null,null,null,null,null,null,null,null,null,null,null,null,null,0,0,0,0,0,0,0]
[null,"کاردکس 188",{"$f":"'تعریف کالا'!$C$192","v":0},{"$f":"'تعریف کالا'!$D$192","v":0},{"$f":"'تعریف کالا'!$E$192","v":0},{"$f":"'تعریف کالا'!$G$192","v":0},null,{"$f":"'تعریف کالا'!$F$192","v":0},null,0,null,null,null,null,null,null,null,null,null,null,null,null,null,null,0,0,0,0,0,0,0]
[null,"کاردکس 190",{"$f":"'تعریف کالا'!$C$194","v":0},{"$f":"'تعریف کالا'!$D$194","v":0},{"$f":"'تعریف کالا'!$E$194","v":0},{"$f":"'تعریف کالا'!$G$194","v":0},null,{"$f":"'تعریف کالا'!$F$194","v":0},null,0,null,null,null,null,null,null,null,null,null,null,null,null,null,null,0,0,0,0,0,0,0]
[null,"کاردکس 195",{"$f":"'تعریف کالا'!$C$199","v":0},{"$f":"'تعریف کالا'!$D$199","v":0},{"$f":"'تعریف کالا'!$E$199","v":0},{"$f":"'تعریف کالا'!$G$199","v":0},null,{"$f":"'تعریف کالا'!$F$199","v":0},null,{"$f":"(F1787*I1787)-(F1787*I1787*G1787%)","v":0},null,null,null,null,null,null,null,null,null,null,null,null,null,null,{"$f":"C1787","v":0},0,0,0,0,0,0]
[null,null,null,null,null,null,null,null,null,null,null,null,null,null,null,null,null,null,null,null,null,null,null,null,"امضا صادر کننده",null,"امضا فروشنده",null,"امضا مسئول انبار",null,"امضا خریدار"]
[]
[null,null,null,null,null,null,null,null,null,null,null,null,null,null,null,null,null,null,null,null,null,null,null,"شماره سند",{"$f":"C1806","v":9}]
[null,null,null,null,null,"          مالیات",null,null,"مالیات",{"$f":"(I2018-J1809+J1810)*G1811%","v":0}]
[null,"شماره کاردکس","کد کالا","نام کالا","گروه بندی","قیمت واحد","درصد تخفیف","واحد شمارش","تعداد","قیمت کل",null,null,null,null,null,null,null,null,null,null,null,null,null,"ردیف","کد کالا","نام کالا","گروه بندی","قیمت واحد","واحد شمارش","تعداد","قیمت کل"]
[null,"کاردکس 5",{"$f":"'تعریف کالا'!$C$9","v":0},{"$f":"'تعریف کالا'!$D$9","v":0},{"$f":"'تعریف کالا'!$E$9","v":0},{"$f":"'تعریف کالا'!$G$9","v":0},null,{"$f":"'تعریف کالا'!$F$9","v":0},null,0,null,null,null,null,null,null,null,null,null,null,null,null,null,null,0,0,0,0,0,0,0]
[null,"کاردکس 9",{"$f":"'تعریف کالا'!$C$13","v":0},{"$f":"'تعریف کالا'!$D$13","v":0},{"$f":"'تعریف کالا'!$E$13","v":0},{"$f":"'تعریف کالا'!$G$13","v":0},null,{"$f":"'تعریف کالا'!$F$13","v":0},null,0,null,null,null,null,null,null,null,null,null,null,null,null,null,null,0,0,0,0,0,0,0]
[null,"کاردکس 17",{"$f":"'تعریف کالا'!$C$21","v":0},{"$f":"'تعریف کالا'!$D$21","v":0},{"$f":"'تعریف کالا'!$E$21","v":0},{"$f":"'تعریف کالا'!$G$21","v":0},null,{"$f":"'تعریف کالا'!$F$21","v":0},null,0,null,null,null,null,null,null,null,null,null,null,null,null,null,null,0,0,0,0,0,0,0]
[null,"کاردکس 24",{"$f":"'تعریف کالا'!$C$28","v":0},{"$f":"'تعریف کالا'!$D$28","v":0},{"$f":"'تعریف کالا'!$E$28","v":0},{"$f":"'تعریف کالا'!$G$28","v":0},null,{"$f":"'تعریف کالا'!$F$28","v":0},null,0,null,null,null,null,null,null,null,null,null,null,null,null,null,null,0,0,0,0,0,0,0]
[null,"کاردکس 29",{"$f":"'تعریف کالا'!$C$33","v":0},{"$f":"'تعریف کالا'!$D$33","v":0},{"$f":"'تعریف کالا'!$E$33","v":0},{"$f":"'تعریف کالا'!$G$33","v":0},null,{"$f":"'تعریف کالا'!$F$33","v":0},null,0,null,null,null,null,null,null,null,null,null,null,null,null,null,null,0,0,0,0,0,0,0]
[null,"کاردکس 35",{"$f":"'تعریف کالا'!$C$39","v":0},{"$f":"'تعریف کالا'!$D$39","v":0},{"$f":"'تعریف کالا'!$E$39","v":0},{"$f":"'تعریف کالا'!$G$39","v":0},null,{"$f":"'تعریف کالا'!$F$39","v":0},null,0,null,null,null,null,null,null,null,null,null,null,null,null,null,null,0,0,0,0,0,0,0]
[null,"کاردکس 36",{"$f":"'تعریف کالا'!$C$40","v":0},{"$f":"'تعریف کالا'!$D$40","v":0},{"$f":"'تعریف کالا'!$E$40","v":0},{"$f":"'تعریف کالا'!$G$40","v":0},null,{"$f":"'تعریف کالا'!$F$40","v":0},null,0,null,null,null,null,null,null,null,null,null,null,null,null,null,null,0,0,0,0,0,0,0]
[null,"کاردکس 44",{"$f":"'تعریف کالا'!$C$48","v":0},{"$f":"'تعریف کالا'!$D$48","v":0},{"$f":"'تعریف کالا'!$E$48","v":0},{"$f":"'تعریف کالا'!$G$48","v":0},null,{"$f":"'تعریف کالا'!$F$48","v":0},null,0,null,null,null,null,null,null,null,null,null,null,null,null,null,null,0,0,0,0,0,0,0]
[null,"کاردکس 47",{"$f":"'تعریف کالا'!$C$51","v":0},{"$f":"'تعریف کالا'!$D$51","v":0},{"$f":"'تعریف کالا'!$E$51","v":0},{"$f":"'تعریف کالا'!$G$51","v":0},null,{"$f":"'تعریف کالا'!$F$51","v":0},null,0,null,null,null,null,null,null,null,null,null,null,null,null,null,null,0,0,0,0,0,0,0]
[null,"کاردکس 53",{"$f":"'تعریف کالا'!$C$57","v":0},{"$f":"'تعریف کالا'!$D$57","v":0},{"$f":"'تعریف کالا'!$E$57","v":0},{"$f":"'تعریف کالا'!$G$57","v":0},null,{"$f":"'تعریف کالا'!$F$57","v":0},null,0,null,null,null,null,null,null,null,null,null,null,null,null,null,null,0,0,0,0,0,0,0]
[null,"کاردکس 59",{"$f":"'تعریف کالا'!$C$63","v":0},{"$f":"'تعریف کالا'!$D$63","v":0},{"$f":"'تعریف کالا'!$E$63","v":0},{"$f":"'تعریف کالا'!$G$63","v":0},null,{"$f":"'تعریف کالا'!$F$63","v":0},null,0,null,null,null,null,null,null,null,null,null,null,null,null,null,null,0,0,0,0,0,0,0]
[null,"کاردکس 68",{"$f":"'تعریف کالا'!$C$72","v":0},{"$f":"'تعریف کالا'!$D$72","v":0},{"$f":"'تعریف کالا'!$E$72","v":0},{"$f":"'تعریف کالا'!$G$72","v":0},null,{"$f":"'تعریف کالا'!$F$72","v":0},null,0,null,null,null,null,null,null,null,null,null,null,null,null,null,null,0,0,0,0,0,0,0]
[null,"کاردکس 71",{"$f":"'تعریف کالا'!$C$75","v":0},{"$f":"'تعریف کالا'!$D$75","v":0},{"$f":"'تعریف کالا'!$E$75","v":0},{"$f":"'تعریف کالا'!$G$75","v":0},null,{"$f":"'تعریف کالا'!$F$75","v":0},null,0,null,null,null,null,null,null,null,null,null,null,null,null,null,null,0,0,0,0,0,0,0]
[null,"کاردکس 79",{"$f":"'تعریف کالا'!$C$83","v":0},{"$f":"'تعریف کالا'!$D$83","v":0},{"$f":"'تعریف کالا'!$E$83","v":0},{"$f":"'تعریف کالا'!$G$83","v":0},null,{"$f":"'تعریف کالا'!$F$83","v":0},null,0,null,null,null,null,null,null,null,null,null,null,null,null,null,null,0,0,0,0,0,0,0]
[null,"کاردکس 83",{"$f":"'تعریف کالا'!$C$87","v":0},{"$f":"'تعریف کالا'!$D$87","v":0},{"$f":"'تعریف کالا'!$E$87","v":0},{"$f":"'تعریف کالا'!$G$87","v":0},null,{"$f":"'تعریف کالا'!$F$87","v":0},null,0,null,null,null,null,null,null,null,null,null,null,null,null,null,null,0,0,0,0,0,0,0]
[null,"کاردکس 88",{"$f":"'تعریف کالا'!$C$92","v":0},{"$f":"'تعریف کالا'!$D$92","v":0},{"$f":"'تعریف کالا'!$E$92","v":0},{"$f":"'تعریف کالا'!$G$92","v":0},null,{"$f":"'تعریف کالا'!$F$92","v":0},null,0,null,null,null,null,null,null,null,null,null,null,null,null,null,null,0,0,0,0,0,0,0]
[null,"کاردکس 95",{"$f":"'تعریف کالا'!$C$99","v":0},{"$f":"'تعریف کالا'!$D$99","v":0},{"$f":"'تعریف کالا'!$E$99","v":0},{"$f":"'تعریف کالا'!$G$99","v":0},null,{"$f":"'تعریف کالا'!$F$99","v":0},null,0,null,null,null,null,null,null,null,null,null,null,null,null,null,null,0,0,0,0,0,0,0]
[null,"کاردکس 100",{"$f":"'تعریف کالا'!$C$104","v":0},{"$f":"'تعریف کالا'!$D$104","v":0},{"$f":"'تعریف کالا'!$E$104","v":0},{"$f":"'تعریف کالا'!$G$104","v":0},null,{"$f":"'تعریف کالا'!$F$104","v":0},null,0,null,null,null,null,null,null,null,null,null,null,null,null,null,null,0,0,0,0,0,0,0]
[null,"کاردکس 105",{"$f":"'تعریف کالا'!$C$109","v":0},{"$f":"'تعریف کالا'!$D$109","v":0},{"$f":"'تعریف کالا'!$E$109","v":0},{"$f":"'تعریف کالا'!$G$109","v":0},null,{"$f":"'تعریف کالا'!$F$109","v":0},null,0,null,null,null,null,null,null,null,null,null,null,null,null,null,null,0,0,0,0,0,0,0]
[null,"کاردکس 107",{"$f":"'تعریف کالا'!$C$111","v":0},{"$f":"'تعریف کالا'!$D$111","v":0},{"$f":"'تعریف کالا'!$E$111","v":0},{"$f":"'تعریف کالا'!$G$111","v":0},null,{"$f":"'تعریف کالا'!$F$111","v":0},null,0,null,null,null,null,null,null,null,null,null,null,null,null,null,null,0,0,0,0,0,0,0]
[null,"کاردکس 114",{"$f":"'تعریف کالا'!$C$118","v":0},{"$f":"'تعریف کالا'!$D$118","v":0},{"$f":"'تعریف کالا'!$E$118","v":0},{"$f":"'تعریف کالا'!$G$118","v":0},null,{"$f":"'تعریف کالا'!$F$118","v":0},null,0,null,null,null,null,null,null,null,null,null,null,null,null,null,null,0,0,0,0,0,0,0]
[null,"کاردکس 118",{"$f":"'تعریف کالا'!$C$122","v":0},{"$f":"'تعریف کالا'!$D$122","v":0},{"$f":"'تعریف کالا'!$E$122","v":0},{"$f":"'تعریف کالا'!$G$122","v":0},null,{"$f":"'تعریف کالا'!$F$122","v":0},null,0,null,null,null,null,null,null,null,null,null,null,null,null,null,null,0,0,0,0,0,0,0]
[null,"کاردکس 123",{"$f":"'تعریف کالا'!$C$127","v":0},{"$f":"'تعریف کالا'!$D$127","v":0},{"$f":"'تعریف کالا'!$E$127","v":0},{"$f":"'تعریف کالا'!$G$127","v":0},null,{"$f":"'تعریف کالا'!$F$127","v":0},null,0,null,null,null,null,null,null,null,null,null,null,null,null,null,null,0,0,0,0,0,0,0]
[null,"کاردکس 130",{"$f":"'تعریف کالا'!$C$134","v":0},{"$f":"'تعریف کالا'!$D$134","v":0},{"$f":"'تعریف کالا'!$E$134","v":0},{"$f":"'تعریف کالا'!$G$134","v":0},null,{"$f":"'تعریف کالا'!$F$134","v":0},null,0,null,null,null,null,null,null,null,null,null,null,null,null,null,null,0,{"$f":"D1947","v":0},{"$f":"E1947","v":0},{"$f":"F1947","v":0},{"$f":"H1947","v":0},{"$f":"I1947","v":0},{"$f":"J1947","v":0}]
[null,"کاردکس 138",{"$f":"'تعریف کالا'!$C$142","v":0},{"$f":"'تعریف کالا'!$D$142","v":0},{"$f":"'تعریف کالا'!$E$142","v":0},{"$f":"'تعریف کالا'!$G$142","v":0},null,{"$f":"'تعریف کالا'!$F$142","v":0},null,0,null,null,null,null,null,null,null,null,null,null,null,null,null,null,0,0,0,0,0,0,0]
[null,"کاردکس 142",{"$f":"'تعریف کالا'!$C$146","v":0},{"$f":"'تعریف کالا'!$D$146","v":0},{"$f":"'تعریف کالا'!$E$146","v":0},{"$f":"'تعریف کالا'!$G$146","v":0},null,{"$f":"'تعریف کالا'!$F$146","v":0},null,0,null,null,null,null,null,null,null,null,null,null,null,null,null,null,0,0,0,0,0,0,0]
[null,"کاردکس 149",{"$f":"'تعریف کالا'!$C$153","v":0},{"$f":"'تعریف کالا'!$D$153","v":0},{"$f":"'تعریف کالا'!$E$153","v":0},{"$f":"'تعریف کالا'!$G$153","v":0},null,{"$f":"'تعریف کالا'!$F$153","v":0},null,0,null,null,null,null,null,null,null,null,null,null,null,null,null,null,0,0,0,0,0,0,0]
[null,"کاردکس 154",{"$f":"'تعریف کالا'!$C$158","v":0},{"$f":"'تعریف کالا'!$D$158","v":0},{"$f":"'تعریف کالا'!$E$158","v":0},{"$f":"'تعریف کالا'!$G$158","v":0},null,{"$f":"'تعریف کالا'!$F$158","v":0},null,0,null,null,null,null,null,null,null,null,null,null,null,null,null,null,0,0,0,0,0,0,0]
[null,"کاردکس 158",{"$f":"'تعریف کالا'!$C$162","v":0},{"$f":"'تعریف کالا'!$D$162","v":0},{"$f":"'تعریف کالا'!$E$162","v":0},{"$f":"'تعریف کالا'!$G$162","v":0},null,{"$f":"'تعریف کالا'!$F$162","v":0},null,0,null,null,null,null,null,null,null,null,null,null,null,null,null,null,0,0,0,0,0,0,0]
[null,"کاردکس 165",{"$f":"'تعریف کالا'!$C$169","v":0},{"$f":"'تعریف کالا'!$D$169","v":0},{"$f":"'تعریف کالا'!$E$169","v":0},{"$f":"'تعریف کالا'!$G$169","v":0},null,{"$f":"'تعریف کالا'!$F$169","v":0},null,0,null,null,null,null,null,null,null,null,null,null,null,null,null,null,0,0,0,0,0,0,0]
[null,"کاردکس 167",{"$f":"'تعریف کالا'!$C$171","v":0},{"$f":"'تعریف کالا'!$D$171","v":0},{"$f":"'تعریف کالا'!$E$171","v":0},{"$f":"'تعریف کالا'!$G$171","v":0},null,{"$f":"'تعریف کالا'!$F$171","v":0},null,0,null,null,null,null,null,null,null,null,null,null,null,null,null,null,0,0,0,0,0,0,0]
[null,"کاردکس 177",{"$f":"'تعریف کالا'!$C$181","v":0},{"$f":"'تعریف کالا'!$D$181","v":0},{"$f":"'تعریف کالا'!$E$181","v":0},{"$f":"'تعریف کالا'!$G$181","v":0},null,{"$f":"'تعریف کالا'!$F$181","v":0},null,0,null,null,null,null,null,null,null,null,null,null,null,null,null,null,0,0,0,0,0,0,0]
[null,"کاردکس 182",{"$f":"'تعریف کالا'!$C$186","v":0},{"$f":"'تعریف کالا'!$D$186","v":0},{"$f":"'تعریف کالا'!$E$186","v":0},{"$f":"'تعریف کالا'!$G$186","v":0},null,{"$f":"'تعریف کالا'!$F$186","v":0},null,0,null,null,null,null,null,null,null,null,null,null,null,null,null,null,0,0,0,0,0,0,0]
[null,"کاردکس 184",{"$f":"'تعریف کالا'!$C$18","v":0},{"$f":"'تعریف کالا'!$D$188","v":0},{"$f":"'تعریف کالا'!$E$188","v":0},{"$f":"'تعریف کالا'!$G$188","v":0},null,{"$f":"'تعریف کالا'!$F$188","v":0},null,0,null,null,null,null,null,null,null,null,null,null,null,null,null,null,0,0,0,0,0,0,0]
[null,"کاردکس 193",{"$f":"'تعریف کالا'!$C$197","v":0},{"$f":"'تعریف کالا'!$D$197","v":0},{"$f":"'تعریف کالا'!$E$197","v":0},{"$f":"'تعریف کالا'!$G$197","v":0},null,{"$f":"'تعریف کالا'!$F$197","v":0},null,0,null,null,null,null,null,null,null,null,null,null,null,null,null,null,0,0,0,0,0,0,0]
[null,"کاردکس 196",{"$f":"'تعریف کالا'!$C$200","v":0},{"$f":"'تعریف کالا'!$D$200","v":0},{"$f":"'تعریف کالا'!$E$200","v":0},{"$f":"'تعریف کالا'!$G$200","v":0},null,{"$f":"'تعریف کالا'!$F$200","v":0},null,0,null,null,null,null,null,null,null,null,null,null,null,null,null,null,0,0,0,0,0,0,0]
[null,"                  مبلغ قابل  پرداخت        ",null,{"$f":"abh(I2019)&\"ریال\"","v":"منفي ریال"},null,null,null,null,{"$f":"J1812","v":0},null,null,null,null,null,null,null,null,null,null,null,null,null,null,"شرح رویداد :",null,{"$f":"E1815","v":0}]
[]
[]
[null,null,null,null,null,"          مالیات",null,null,"مالیات",{"$f":"(I2243-J2034+J2035)*G2036%","v":0}]
[null,"کاردکس 1",{"$f":"'تعریف کالا'!$C$5","v":9011120},{"$f":"'تعریف کالا'!$D$5","v":"سی دی"},{"$f":"'تعریف کالا'!$E$5","v":"سخت افزار"},{"$f":"'تعریف کالا'!$G$5","v":3000},null,{"$f":"'تعریف کالا'!$F$5","v":"حلقه"},null,{"$f":"(F2043*I2043)-(F2043*I2043*G2043%)","v":0},null,null,null,null,null,null,null,null,null,null,null,null,null,null,{"$f":"C2043","v":9011120},{"$f":"D2043","v":"سی دی"},{"$f":"E2043","v":"سخت افزار"},{"$f":"F2043","v":3000},{"$f":"H2043","v":"حلقه"},{"$f":"I2043","v":0},{"$f":"J2043","v":0}]
[null,"کاردکس 6",{"$f":"'تعریف کالا'!$C$10","v":0},{"$f":"'تعریف کالا'!$D$10","v":0},{"$f":"'تعریف کالا'!$E$10","v":0},{"$f":"'تعریف کالا'!$G$10","v":0},null,{"$f":"'تعریف کالا'!$F$10","v":0},null,0,null,null,null,null,null,null,null,null,null,null,null,null,null,null,0,0,0,0,0,0,0]
[null,"کاردکس 12",{"$f":"'تعریف کالا'!$C$16","v":0},{"$f":"'تعریف کالا'!$D$16","v":0},{"$f":"'تعریف کالا'!$E$16","v":0},{"$f":"'تعریف کالا'!$G$16","v":0},null,{"$f":"'تعریف کالا'!$F$16","v":0},null,0,null,null,null,null,null,null,null,null,null,null,null,null,null,null,0,0,0,0,0,0,0]
[null,"کاردکس 18",{"$f":"'تعریف کالا'!$C$22","v":0},{"$f":"'تعریف کالا'!$D$22","v":0},{"$f":"'تعریف کالا'!$E$22","v":0},{"$f":"'تعریف کالا'!$G$22","v":0},null,{"$f":"'تعریف کالا'!$F$22","v":0},null,0,null,null,null,null,null,null,null,null,null,null,null,null,null,null,0,0,0,0,0,0,0]
[null,"کاردکس 21",{"$f":"'تعریف کالا'!$C$25","v":0},{"$f":"'تعریف کالا'!$D$25","v":0},{"$f":"'تعریف کالا'!$E$25","v":0},{"$f":"'تعریف کالا'!$G$25","v":0},null,{"$f":"'تعریف کالا'!$F$25","v":0},null,0,null,null,null,null,null,null,null,null,null,null,null,null,null,null,0,0,0,0,0,0,0]
[null,"کاردکس 25",{"$f":"'تعریف کالا'!$C$29","v":0},{"$f":"'تعریف کالا'!$D$29","v":0},{"$f":"'تعریف کالا'!$E$29","v":0},{"$f":"'تعریف کالا'!$G$29","v":0},null,{"$f":"'تعریف کالا'!$F$29","v":0},null,0,null,null,null,null,null,null,null,null,null,null,null,null,null,null,0,0,0,0,0,0,0]
[null,"کاردکس 30",{"$f":"'تعریف کالا'!$C$34","v":0},{"$f":"'تعریف کالا'!$D$34","v":0},{"$f":"'تعریف کالا'!$E$34","v":0},{"$f":"'تعریف کالا'!$G$34","v":0},null,{"$f":"'تعریف کالا'!$F$34","v":0},null,0,null,null,null,null,null,null,null,null,null,null,null,null,null,null,0,0,0,0,0,0,0]
[null,"کاردکس 36",{"$f":"'تعریف کالا'!$C$40","v":0},{"$f":"'تعریف کالا'!$D$40","v":0},{"$f":"'تعریف کالا'!$E$40","v":0},{"$f":"'تعریف کالا'!$G$40","v":0},null,{"$f":"'تعریف کالا'!$F$40","v":0},null,0,null,null,null,null,null,null,null,null,null,null,null,null,null,null,0,0,0,0,0,0,0]
[null,"کاردکس 45",{"$f":"'تعریف کالا'!$C$49","v":0},{"$f":"'تعریف کالا'!$D$49","v":0},{"$f":"'تعریف کالا'!$E$49","v":0},{"$f":"'تعریف کالا'!$G$49","v":0},null,{"$f":"'تعریف کالا'!$F$49","v":0},null,0,null,null,null,null,null,null,null,null,null,null,null,null,null,null,0,0,0,0,0,0,0]
[null,"کاردکس 48",{"$f":"'تعریف کالا'!$C$52","v":0},{"$f":"'تعریف کالا'!$D$52","v":0},{"$f":"'تعریف کالا'!$E$52","v":0},{"$f":"'تعریف کالا'!$G$52","v":0},null,{"$f":"'تعریف کالا'!$F$52","v":0},null,0,null,null,null,null,null,null,null,null,null,null,null,null,null,null,0,0,0,0,0,0,0]
[null,"کاردکس 54",{"$f":"'تعریف کالا'!$C$58","v":0},{"$f":"'تعریف کالا'!$D$58","v":0},{"$f":"'تعریف کالا'!$E$58","v":0},{"$f":"'تعریف کالا'!$G$58","v":0},null,{"$f":"'تعریف کالا'!$F$58","v":0},null,0,null,null,null,null,null,null,null,null,null,null,null,null,null,null,0,0,0,0,0,0,0]
[null,"کاردکس 60",{"$f":"'تعریف کالا'!$C$64","v":0},{"$f":"'تعریف کالا'!$D$64","v":0},{"$f":"'تعریف کالا'!$E$64","v":0},{"$f":"'تعریف کالا'!$G$64","v":0},null,{"$f":"'تعریف کالا'!$F$64","v":0},null,0,null,null,null,null,null,null,null,null,null,null,null,null,null,null,0,0,0,0,0,0,0]
[null,"کاردکس 65",{"$f":"'تعریف کالا'!$C$69","v":0},{"$f":"'تعریف کالا'!$D$69","v":0},{"$f":"'تعریف کالا'!$E$69","v":0},{"$f":"'تعریف کالا'!$G$69","v":0},null,{"$f":"'تعریف کالا'!$F$69","v":0},null,0,null,null,null,null,null,null,null,null,null,null,null,null,null,null,0,0,0,0,0,0,0]
[null,"کاردکس 72",{"$f":"'تعریف کالا'!$C$76","v":0},{"$f":"'تعریف کالا'!$D$76","v":0},{"$f":"'تعریف کالا'!$E$76","v":0},{"$f":"'تعریف کالا'!$G$76","v":0},null,{"$f":"'تعریف کالا'!$F$76","v":0},null,0,null,null,null,null,null,null,null,null,null,null,null,null,null,null,0,0,0,0,0,0,0]
[null,"کاردکس 74",{"$f":"'تعریف کالا'!$C$78","v":0},{"$f":"'تعریف کالا'!$D$78","v":0},{"$f":"'تعریف کالا'!$E$78","v":0},{"$f":"'تعریف کالا'!$G$78","v":0},null,{"$f":"'تعریف کالا'!$F$78","v":0},null,0,null,null,null,null,null,null,null,null,null,null,null,null,null,null,0,0,0,0,0,0,0]
[null,"کاردکس 83",{"$f":"'تعریف کالا'!$C$87","v":0},{"$f":"'تعریف کالا'!$D$87","v":0},{"$f":"'تعریف کالا'!$E$87","v":0},{"$f":"'تعریف کالا'!$G$87","v":0},null,{"$f":"'تعریف کالا'!$F$87","v":0},null,0,null,null,null,null,null,null,null,null,null,null,null,null,null,null,0,0,0,0,0,0,0]
[null,"کاردکس 89",{"$f":"'تعریف کالا'!$C$93","v":0},{"$f":"'تعریف کالا'!$D$93","v":0},{"$f":"'تعریف کالا'!$E$93","v":0},{"$f":"'تعریف کالا'!$G$93","v":0},null,{"$f":"'تعریف کالا'!$F$93","v":0},null,0,null,null,null,null,null,null,null,null,null,null,null,null,null,null,0,0,0,0,0,0,0]
[null,"کاردکس 95",{"$f":"'تعریف کالا'!$C$99","v":0},{"$f":"'تعریف کالا'!$D$99","v":0},{"$f":"'تعریف کالا'!$E$99","v":0},{"$f":"'تعریف کالا'!$G$99","v":0},null,{"$f":"'تعریف کالا'!$F$99","v":0},null,0,null,null,null,null,null,null,null,null,null,null,null,null,null,null,0,0,0,0,0,0,0]
[null,"کاردکس 98",{"$f":"'تعریف کالا'!$C$102","v":0},{"$f":"'تعریف کالا'!$D$102","v":0},{"$f":"'تعریف کالا'!$E$102","v":0},{"$f":"'تعریف کالا'!$G$102","v":0},null,{"$f":"'تعریف کالا'!$F$102","v":0},null,0,null,null,null,null,null,null,null,null,null,null,null,null,null,null,0,0,0,0,0,0,0]
[null,"کاردکس 102",{"$f":"'تعریف کالا'!$C$106","v":0},{"$f":"'تعریف کالا'!$D$106","v":0},{"$f":"'تعریف کالا'!$E$106","v":0},{"$f":"'تعریف کالا'!$G$106","v":0},null,{"$f":"'تعریف کالا'!$F$106","v":0},null,0,null,null,null,null,null,null,null,null,null,null,null,null,null,null,0,0,0,0,0,0,0]
[null,"کاردکس 109",{"$f":"'تعریف کالا'!$C$113","v":0},{"$f":"'تعریف کالا'!$D$113","v":0},{"$f":"'تعریف کالا'!$E$113","v":0},{"$f":"'تعریف کالا'!$G$113","v":0},null,{"$f":"'تعریف کالا'!$F$113","v":0},null,0,null,null,null,null,null,null,null,null,null,null,null,null,null,null,0,0,0,0,0,0,0]
[null,"کاردکس 114",{"$f":"'تعریف کالا'!$C$118","v":0},{"$f":"'تعریف کالا'!$D$118","v":0},{"$f":"'تعریف کالا'!$E$118","v":0},{"$f":"'تعریف کالا'!$G$118","v":0},null,{"$f":"'تعریف کالا'!$F$118","v":0},null,0,null,null,null,null,null,null,null,null,null,null,null,null,null,null,0,0,0,0,0,0,0]
[null,"کاردکس 118",{"$f":"'تعریف کالا'!$C$122","v":0},{"$f":"'تعریف کالا'!$D$122","v":0},{"$f":"'تعریف کالا'!$E$122","v":0},{"$f":"'تعریف کالا'!$G$122","v":0},null,{"$f":"'تعریف کالا'!$F$122","v":0},null,0,null,null,null,null,null,null,null,null,null,null,null,null,null,null,0,0,0,0,0,0,0]
[null,"کاردکس 125",{"$f":"'تعریف کالا'!$C$129","v":0},{"$f":"'تعریف کالا'!$D$129","v":0},{"$f":"'تعریف کالا'!$E$129","v":0},{"$f":"'تعریف کالا'!$G$129","v":0},null,{"$f":"'تعریف کالا'!$F$129","v":0},null,0,null,null,null,null,null,null,null,null,null,null,null,null,null,null,0,0,0,0,0,0,0]
[null,"کاردکس 133",{"$f":"'تعریف کالا'!$C$137","v":0},{"$f":"'تعریف کالا'!$D$137","v":0},{"$f":"'تعریف کالا'!$E$137","v":0},{"$f":"'تعریف کالا'!$G$137","v":0},null,{"$f":"'تعریف کالا'!$F$137","v":0},null,0,null,null,null,null,null,null,null,null,null,null,null,null,null,null,0,0,0,0,0,0,0]
[null,"کاردکس 137",{"$f":"'تعریف کالا'!$C$141","v":0},{"$f":"'تعریف کالا'!$D$141","v":0},{"$f":"'تعریف کالا'!$E$141","v":0},{"$f":"'تعریف کالا'!$G$141","v":0},null,{"$f":"'تعریف کالا'!$F$141","v":0},null,0,null,null,null,null,null,null,null,null,null,null,null,null,null,null,0,0,0,0,0,0,0]
[null,"کاردکس 142",{"$f":"'تعریف کالا'!$C$146","v":0},{"$f":"'تعریف کالا'!$D$146","v":0},{"$f":"'تعریف کالا'!$E$146","v":0},{"$f":"'تعریف کالا'!$G$146","v":0},null,{"$f":"'تعریف کالا'!$F$146","v":0},null,0,null,null,null,null,null,null,null,null,null,null,null,null,null,null,0,0,0,0,0,0,0]
[null,"کاردکس 149",{"$f":"'تعریف کالا'!$C$153","v":0},{"$f":"'تعریف کالا'!$D$153","v":0},{"$f":"'تعریف کالا'!$E$153","v":0},{"$f":"'تعریف کالا'!$G$153","v":0},null,{"$f":"'تعریف کالا'!$F$153","v":0},null,0,null,null,null,null,null,null,null,null,null,null,null,null,null,null,0,0,0,0,0,0,0]
[null,"کاردکس 153",{"$f":"'تعریف کالا'!$C$157","v":0},{"$f":"'تعریف کالا'!$D$157","v":0},{"$f":"'تعریف کالا'!$E$157","v":0},{"$f":"'تعریف کالا'!$G$157","v":0},null,{"$f":"'تعریف کالا'!$F$157","v":0},null,0,null,null,null,null,null,null,null,null,null,null,null,null,null,null,0,0,0,0,0,0,0]
[null,"کاردکس 161",{"$f":"'تعریف کالا'!$C$165","v":0},{"$f":"'تعریف کالا'!$D$165","v":0},{"$f":"'تعریف کالا'!$E$165","v":0},{"$f":"'تعریف کالا'!$G$165","v":0},null,{"$f":"'تعریف کالا'!$F$165","v":0},null,0,null,null,null,null,null,null,null,null,null,null,null,null,null,null,0,0,0,0,0,0,0]
[null,"کاردکس 162",{"$f":"'تعریف کالا'!$C$166","v":0},{"$f":"'تعریف کالا'!$D$166","v":0},{"$f":"'تعریف کالا'!$E$166","v":0},{"$f":"'تعریف کالا'!$G$166","v":0},null,{"$f":"'تعریف کالا'!$F$166","v":0},null,0,null,null,null,null,null,null,null,null,null,null,null,null,null,null,0,0,0,0,0,0,0]
[null,"کاردکس 168",{"$f":"'تعریف کالا'!$C$172","v":0},{"$f":"'تعریف کالا'!$D$172","v":0},{"$f":"'تعریف کالا'!$E$172","v":0},{"$f":"'تعریف کالا'!$G$172","v":0},null,{"$f":"'تعریف کالا'!$F$172","v":0},null,0,null,null,null,null,null,null,null,null,null,null,null,null,null,null,0,0,0,0,0,0,0]
[null,"کاردکس 177",{"$f":"'تعریف کالا'!$C$181","v":0},{"$f":"'تعریف کالا'!$D$181","v":0},{"$f":"'تعریف کالا'!$E$181","v":0},{"$f":"'تعریف کالا'!$G$181","v":0},null,{"$f":"'تعریف کالا'!$F$181","v":0},null,0,null,null,null,null,null,null,null,null,null,null,null,null,null,null,0,0,0,0,0,0,0]
[null,"کاردکس 179",{"$f":"'تعریف کالا'!$C$183","v":0},{"$f":"'تعریف کالا'!$D$183","v":0},{"$f":"'تعریف کالا'!$E$183","v":0},{"$f":"'تعریف کالا'!$G$183","v":0},null,{"$f":"'تعریف کالا'!$F$183","v":0},null,0,null,null,null,null,null,null,null,null,null,null,null,null,null,null,0,0,0,0,0,0,0]
[null,"کاردکس 186",{"$f":"'تعریف کالا'!$C$190","v":0},{"$f":"'تعریف کالا'!$D$190","v":0},{"$f":"'تعریف کالا'!$E$190","v":0},{"$f":"'تعریف کالا'!$G$190","v":0},null,{"$f":"'تعریف کالا'!$F$190","v":0},null,0,null,null,null,null,null,null,null,null,null,null,null,null,null,null,0,0,0,0,0,0,0]
[null,"کاردکس 191",{"$f":"'تعریف کالا'!$C$195","v":0},{"$f":"'تعریف کالا'!$D$195","v":0},{"$f":"'تعریف کالا'!$E$195","v":0},{"$f":"'تعریف کالا'!$G$195","v":0},null,{"$f":"'تعریف کالا'!$F$195","v":0},null,0,null,null,null,null,null,null,null,null,null,null,null,null,null,null,0,0,0,0,0,0,0]
[null,"کاردکس 197",{"$f":"'تعریف کالا'!$C$201","v":0},{"$f":"'تعریف کالا'!$D$201","v":0},{"$f":"'تعریف کالا'!$E$201","v":0},{"$f":"'تعریف کالا'!$G$201","v":0},null,{"$f":"'تعریف کالا'!$F$201","v":0},null,0,null,null,null,null,null,null,null,null,null,null,null,null,null,null,0,0,0,0,0,0,0]
[null,"مانده حساب",null,{"$f":"abh(I2245)&\"ریال\"","v":"منفي ریال"},null,null,null,null,{"$f":"J2038","v":0},null,null,null,null,null,null,null,null,null,null,null,null,null,null,"اقلام این فاکتور سالم تحویل اینجانب  ....................  شد.               "]
[]
[null,"شماره فاکتور",11,null,null,null,null,null,"انبار",null,null,"مشاهده حواله",null,null,null,null,null,null,null,null,null,null,null,"شماره حواله",{"$f":"C2257","v":11}]
[null,null,"پرداخت با چک",null,null,null,null,null,"مانده حساب",{"$f":"J2262-D2262-D2263","v":0}]
[null,"کاردکس 1",{"$f":"'تعریف کالا'!$C$5","v":9011120},{"$f":"'تعریف کالا'!$D$5","v":"سی دی"},{"$f":"'تعریف کالا'!$E$5","v":"سخت افزار"},{"$f":"'تعریف کالا'!$G$5","v":3000},null,{"$f":"'تعریف کالا'!$F$5","v":"حلقه"},null,{"$f":"(F2268*I2268)-(F2268*I2268*G2268%)","v":0},null,null,null,null,null,null,null,null,null,null,null,null,null,null,{"$f":"C2268","v":9011120},{"$f":"D2268","v":"سی دی"},{"$f":"E2268","v":"سخت افزار"},{"$f":"F2268","v":3000},{"$f":"H2268","v":"حلقه"},{"$f":"I2268","v":0},{"$f":"J2268","v":0}]
[null,"کاردکس 5",{"$f":"'تعریف کالا'!$C$9","v":0},{"$f":"'تعریف کالا'!$D$9","v":0},{"$f":"'تعریف کالا'!$E$9","v":0},{"$f":"'تعریف کالا'!$G$9","v":0},null,{"$f":"'تعریف کالا'!$F$9","v":0},null,0,null,null,null,null,null,null,null,null,null,null,null,null,null,null,0,0,0,0,0,0,0]
[null,"کاردکس 13",{"$f":"'تعریف کالا'!$C$17","v":0},{"$f":"'تعریف کالا'!$D$17","v":0},{"$f":"'تعریف کالا'!$E$17","v":0},{"$f":"'تعریف کالا'!$G$17","v":0},null,{"$f":"'تعریف کالا'!$F$17","v":0},null,0,null,null,null,null,null,null,null,null,null,null,null,null,null,null,0,0,0,0,0,0,0]
[null,"کاردکس 16",{"$f":"'تعریف کالا'!$C$20","v":0},{"$f":"'تعریف کالا'!$D$20","v":0},{"$f":"'تعریف کالا'!$E$20","v":0},{"$f":"'تعریف کالا'!$G$20","v":0},null,{"$f":"'تعریف کالا'!$F$20","v":0},null,0,null,null,null,null,null,null,null,null,null,null,null,null,null,null,0,0,0,0,0,0,0]
[null,"کاردکس 20",{"$f":"'تعریف کالا'!$C$24","v":0},{"$f":"'تعریف کالا'!$D$24","v":0},{"$f":"'تعریف کالا'!$E$24","v":0},{"$f":"'تعریف کالا'!$G$24","v":0},null,{"$f":"'تعریف کالا'!$F$24","v":0},null,0,null,null,null,null,null,null,null,null,null,null,null,null,null,null,0,0,0,0,0,0,0]
[null,"کاردکس 25",{"$f":"'تعریف کالا'!$C$29","v":0},{"$f":"'تعریف کالا'!$D$29","v":0},{"$f":"'تعریف کالا'!$E$29","v":0},{"$f":"'تعریف کالا'!$G$29","v":0},null,{"$f":"'تعریف کالا'!$F$29","v":0},null,0,null,null,null,null,null,null,null,null,null,null,null,null,null,null,0,0,0,0,0,0,0]
[null,"کاردکس 32",{"$f":"'تعریف کالا'!$C$36","v":0},{"$f":"'تعریف کالا'!$D$36","v":0},{"$f":"'تعریف کالا'!$E$36","v":0},{"$f":"'تعریف کالا'!$G$36","v":0},null,{"$f":"'تعریف کالا'!$F$36","v":0},null,0,null,null,null,null,null,null,null,null,null,null,null,null,null,null,0,0,0,0,0,0,0]
[null,"کاردکس 40",{"$f":"'تعریف کالا'!$C$44","v":0},{"$f":"'تعریف کالا'!$D$44","v":0},{"$f":"'تعریف کالا'!$E$44","v":0},{"$f":"'تعریف کالا'!$G$44","v":0},null,{"$f":"'تعریف کالا'!$F$44","v":0},null,0,null,null,null,null,null,null,null,null,null,null,null,null,null,null,0,0,0,0,0,0,0]
[null,"کاردکس 43",{"$f":"'تعریف کالا'!$C$47","v":0},{"$f":"'تعریف کالا'!$D$47","v":0},{"$f":"'تعریف کالا'!$E$47","v":0},{"$f":"'تعریف کالا'!$G$47","v":0},null,{"$f":"'تعریف کالا'!$F$47","v":0},null,0,null,null,null,null,null,null,null,null,null,null,null,null,null,null,0,0,0,0,0,0,0]
[null,"کاردکس 49",{"$f":"'تعریف کالا'!$C$53","v":0},{"$f":"'تعریف کالا'!$D$53","v":0},{"$f":"'تعریف کالا'!$E$53","v":0},{"$f":"'تعریف کالا'!$G$53","v":0},null,{"$f":"'تعریف کالا'!$F$53","v":0},null,0,null,null,null,null,null,null,null,null,null,null,null,null,null,null,0,0,0,0,0,0,0]
[null,"کاردکس 55",{"$f":"'تعریف کالا'!$C$59","v":0},{"$f":"'تعریف کالا'!$D$59","v":0},{"$f":"'تعریف کالا'!$E$59","v":0},{"$f":"'تعریف کالا'!$G$59","v":0},null,{"$f":"'تعریف کالا'!$F$59","v":0},null,0,null,null,null,null,null,null,null,null,null,null,null,null,null,null,0,0,0,0,0,0,0]
[null,"کاردکس 58",{"$f":"'تعریف کالا'!$C$62","v":0},{"$f":"'تعریف کالا'!$D$62","v":0},{"$f":"'تعریف کالا'!$E$62","v":0},{"$f":"'تعریف کالا'!$G$62","v":0},null,{"$f":"'تعریف کالا'!$F$62","v":0},null,0,null,null,null,null,null,null,null,null,null,null,null,null,null,null,0,0,0,0,0,0,0]
[null,"کاردکس 67",{"$f":"'تعریف کالا'!$C$71","v":0},{"$f":"'تعریف کالا'!$D$71","v":0},{"$f":"'تعریف کالا'!$E$71","v":0},{"$f":"'تعریف کالا'!$G$71","v":0},null,{"$f":"'تعریف کالا'!$F$71","v":0},null,{"$f":"(F2334*I2334)-(F2334*I2334*G2334%)","v":0},null,null,null,null,null,null,null,null,null,null,null,null,null,null,{"$f":"C2334","v":0},0,0,0,0,0,0]
[null,"کاردکس 69",{"$f":"'تعریف کالا'!$C$73","v":0},{"$f":"'تعریف کالا'!$D$73","v":0},{"$f":"'تعریف کالا'!$E$73","v":0},{"$f":"'تعریف کالا'!$G$73","v":0},null,{"$f":"'تعریف کالا'!$F$73","v":0},null,0,null,null,null,null,null,null,null,null,null,null,null,null,null,null,0,0,0,0,0,0,0]
[null,"کاردکس 79",{"$f":"'تعریف کالا'!$C$83","v":0},{"$f":"'تعریف کالا'!$D$83","v":0},{"$f":"'تعریف کالا'!$E$83","v":0},{"$f":"'تعریف کالا'!$G$83","v":0},null,{"$f":"'تعریف کالا'!$F$83","v":0},null,0,null,null,null,null,null,null,null,null,null,null,null,null,null,null,0,0,0,0,0,0,0]
[null,"کاردکس 84",{"$f":"'تعریف کالا'!$C$88","v":0},{"$f":"'تعریف کالا'!$D$88","v":0},{"$f":"'تعریف کالا'!$E$88","v":0},{"$f":"'تعریف کالا'!$G$88","v":0},null,{"$f":"'تعریف کالا'!$F$88","v":0},null,0,null,null,null,null,null,null,null,null,null,null,null,null,null,null,0,0,0,0,0,0,0]
[null,"کاردکس 90",{"$f":"'تعریف کالا'!$C$94","v":0},{"$f":"'تعریف کالا'!$D$94","v":0},{"$f":"'تعریف کالا'!$E$94","v":0},{"$f":"'تعریف کالا'!$G$94","v":0},null,{"$f":"'تعریف کالا'!$F$94","v":0},null,0,null,null,null,null,null,null,null,null,null,null,null,null,null,null,0,0,0,0,0,0,0]
[null,"کاردکس 93",{"$f":"'تعریف کالا'!$C$97","v":0},{"$f":"'تعریف کالا'!$D$97","v":0},{"$f":"'تعریف کالا'!$E$97","v":0},{"$f":"'تعریف کالا'!$G$97","v":0},null,{"$f":"'تعریف کالا'!$F$97","v":0},null,0,null,null,null,null,null,null,null,null,null,null,null,null,null,null,0,0,0,0,0,0,0]
[null,"کاردکس 97",{"$f":"'تعریف کالا'!$C$101","v":0},{"$f":"'تعریف کالا'!$D$101","v":0},{"$f":"'تعریف کالا'!$E$101","v":0},{"$f":"'تعریف کالا'!$G$101","v":0},null,{"$f":"'تعریف کالا'!$F$101","v":0},null,0,null,null,null,null,null,null,null,null,null,null,null,null,null,null,0,0,0,0,0,0,0]
[null,"کاردکس 102",{"$f":"'تعریف کالا'!$C$106","v":0},{"$f":"'تعریف کالا'!$D$106","v":0},{"$f":"'تعریف کالا'!$E$106","v":0},{"$f":"'تعریف کالا'!$G$106","v":0},null,{"$f":"'تعریف کالا'!$F$106","v":0},null,0,null,null,null,null,null,null,null,null,null,null,null,null,null,null,0,0,0,0,0,0,0]
[null,"کاردکس 109",{"$f":"'تعریف کالا'!$C$113","v":0},{"$f":"'تعریف کالا'!$D$113","v":0},{"$f":"'تعریف کالا'!$E$113","v":0},{"$f":"'تعریف کالا'!$G$113","v":0},null,{"$f":"'تعریف کالا'!$F$113","v":0},null,0,null,null,null,null,null,null,null,null,null,null,null,null,null,null,0,0,0,0,0,0,0]
[null,"کاردکس 113",{"$f":"'تعریف کالا'!$C$117","v":0},{"$f":"'تعریف کالا'!$D$117","v":0},{"$f":"'تعریف کالا'!$E$117","v":0},{"$f":"'تعریف کالا'!$G$117","v":0},null,{"$f":"'تعریف کالا'!$F$117","v":0},null,0,null,null,null,null,null,null,null,null,null,null,null,null,null,null,0,0,0,0,0,0,0]
[null,"کاردکس 121",{"$f":"'تعریف کالا'!$C$125","v":0},{"$f":"'تعریف کالا'!$D$125","v":0},{"$f":"'تعریف کالا'!$E$125","v":0},{"$f":"'تعریف کالا'!$G$125","v":0},null,{"$f":"'تعریف کالا'!$F$125","v":0},null,0,null,null,null,null,null,null,null,null,null,null,null,null,null,null,0,0,0,0,0,0,0]
[null,"کاردکس 128",{"$f":"'تعریف کالا'!$C$132","v":0},{"$f":"'تعریف کالا'!$D$132","v":0},{"$f":"'تعریف کالا'!$E$132","v":0},{"$f":"'تعریف کالا'!$G$132","v":0},null,{"$f":"'تعریف کالا'!$F$132","v":0},null,0,null,null,null,null,null,null,null,null,null,null,null,null,null,null,0,0,0,0,0,0,0]
[null,"کاردکس 133",{"$f":"'تعریف کالا'!$C$137","v":0},{"$f":"'تعریف کالا'!$D$137","v":0},{"$f":"'تعریف کالا'!$E$137","v":0},{"$f":"'تعریف کالا'!$G$137","v":0},null,{"$f":"'تعریف کالا'!$F$137","v":0},null,0,null,null,null,null,null,null,null,null,null,null,null,null,null,null,0,0,0,0,0,0,0]
[null,"کاردکس 137",{"$f":"'تعریف کالا'!$C$141","v":0},{"$f":"'تعریف کالا'!$D$141","v":0},{"$f":"'تعریف کالا'!$E$141","v":0},{"$f":"'تعریف کالا'!$G$141","v":0},null,{"$f":"'تعریف کالا'!$F$141","v":0},null,0,null,null,null,null,null,null,null,null,null,null,null,null,null,null,0,0,0,0,0,0,0]
[null,"کاردکس 144",{"$f":"'تعریف کالا'!$C$148","v":0},{"$f":"'تعریف کالا'!$D$148","v":0},{"$f":"'تعریف کالا'!$E$148","v":0},{"$f":"'تعریف کالا'!$G$148","v":0},null,{"$f":"'تعریف کالا'!$F$148","v":0},null,0,null,null,null,null,null,null,null,null,null,null,null,null,null,null,0,0,0,0,0,0,0]
[null,"کاردکس 146",{"$f":"'تعریف کالا'!$C$150","v":0},{"$f":"'تعریف کالا'!$D$150","v":0},{"$f":"'تعریف کالا'!$E$150","v":0},{"$f":"'تعریف کالا'!$G$150","v":0},null,{"$f":"'تعریف کالا'!$F$150","v":0},null,0,null,null,null,null,null,null,null,null,null,null,null,null,null,null,0,0,0,0,0,0,0]
[null,"کاردکس 156",{"$f":"'تعریف کالا'!$C$160","v":0},{"$f":"'تعریف کالا'!$D$160","v":0},{"$f":"'تعریف کالا'!$E$160","v":0},{"$f":"'تعریف کالا'!$G$160","v":0},null,{"$f":"'تعریف کالا'!$F$160","v":0},null,0,null,null,null,null,null,null,null,null,null,null,null,null,null,null,0,0,0,0,0,0,0]
[null,"کاردکس 157",{"$f":"'تعریف کالا'!$C$161","v":0},{"$f":"'تعریف کالا'!$D$161","v":0},{"$f":"'تعریف کالا'!$E$161","v":0},{"$f":"'تعریف کالا'!$G$161","v":0},null,{"$f":"'تعریف کالا'!$F$161","v":0},null,0,null,null,null,null,null,null,null,null,null,null,null,null,null,null,0,0,0,0,0,0,0]
[null,"کاردکس 163",{"$f":"'تعریف کالا'!$C$167","v":0},{"$f":"'تعریف کالا'!$D$167","v":0},{"$f":"'تعریف کالا'!$E$167","v":0},{"$f":"'تعریف کالا'!$G$167","v":0},null,{"$f":"'تعریف کالا'!$F$167","v":0},null,0,null,null,null,null,null,null,null,null,null,null,null,null,null,null,0,0,0,0,0,0,0]
[null,"کاردکس 172",{"$f":"'تعریف کالا'!$C$176","v":0},{"$f":"'تعریف کالا'!$D$176","v":0},{"$f":"'تعریف کالا'!$E$176","v":0},{"$f":"'تعریف کالا'!$G$176","v":0},null,{"$f":"'تعریف کالا'!$F$176","v":0},null,0,null,null,null,null,null,null,null,null,null,null,null,null,null,null,0,0,0,0,0,0,0]
[null,"کاردکس 175",{"$f":"'تعریف کالا'!$C$179","v":0},{"$f":"'تعریف کالا'!$D$179","v":0},{"$f":"'تعریف کالا'!$E$179","v":0},{"$f":"'تعریف کالا'!$G$179","v":0},null,{"$f":"'تعریف کالا'!$F$179","v":0},null,0,null,null,null,null,null,null,null,null,null,null,null,null,null,null,0,0,0,0,0,0,0]
[null,"کاردکس 181",{"$f":"'تعریف کالا'!$C$185","v":0},{"$f":"'تعریف کالا'!$D$185","v":0},{"$f":"'تعریف کالا'!$E$185","v":0},{"$f":"'تعریف کالا'!$G$185","v":0},null,{"$f":"'تعریف کالا'!$F$185","v":0},null,0,null,null,null,null,null,null,null,null,null,null,null,null,null,null,0,0,0,0,0,0,0]
[null,"کاردکس 186",{"$f":"'تعریف کالا'!$C$190","v":0},{"$f":"'تعریف کالا'!$D$190","v":0},{"$f":"'تعریف کالا'!$E$190","v":0},{"$f":"'تعریف کالا'!$G$190","v":0},null,{"$f":"'تعریف کالا'!$F$190","v":0},null,0,null,null,null,null,null,null,null,null,null,null,null,null,null,null,0,0,0,0,0,0,0]
[null,"کاردکس 190",{"$f":"'تعریف کالا'!$C$194","v":0},{"$f":"'تعریف کالا'!$D$194","v":0},{"$f":"'تعریف کالا'!$E$194","v":0},{"$f":"'تعریف کالا'!$G$194","v":0},null,{"$f":"'تعریف کالا'!$F$194","v":0},null,0,null,null,null,null,null,null,null,null,null,null,null,null,null,null,0,0,0,0,0,0,0]
[null,"کاردکس 198",{"$f":"'تعریف کالا'!$C$202","v":0},{"$f":"'تعریف کالا'!$D$202","v":0},{"$f":"'تعریف کالا'!$E$202","v":0},{"$f":"'تعریف کالا'!$G$202","v":0},null,{"$f":"'تعریف کالا'!$F$202","v":0},null,0,null,null,null,null,null,null,null,null,null,null,null,null,null,null,0,0,0,0,0,0,0]
[null,"     جمع کل",null,{"$f":"abh(I2468)&L2464","v":"منفي "},null,null,null,null,{"$f":"SUM(J2268:J2467)","v":0},null,null,null,null,null,null,null,null,null,null,null,null,null,null,"مانده حساب",null,{"$f":"abh(AD2468)& \"ریال\"","v":"منفي ریال"},null,null,null,{"$f":"I2470","v":0}]
[]
[null,null,null,null,null,null,null,null,null,null,null,null,null,null,null,null,null,null,null,null,null,null,null,"شماره سند",{"$f":"C2481","v":12}]
[null,null,null,null,null,null,null,null,null,null,null,null,null,null,null,null,null,null,null,null,null,null,null,null,"آدرس :",{"$f":"VLOOKUP(Z2487,'مشخصات مشتریان'!$C$2:$D$502,2,FALSE)","v":0}]
[null,"شماره کاردکس","کد کالا","نام کالا","گروه بندی","قیمت واحد","درصد تخفیف","واحد شمارش","تعداد","قیمت کل",null,null,null,null,null,null,null,null,null,null,null,null,null,"ردیف","کد کالا","نام کالا","گروه بندی","قیمت واحد","واحد شمارش","تعداد","قیمت کل"]
[null,"کاردکس 8",{"$f":"'تعریف کالا'!$C$12","v":0},{"$f":"'تعریف کالا'!$D$12","v":0},{"$f":"'تعریف کالا'!$E$12","v":0},{"$f":"'تعریف کالا'!$G$12","v":0},null,{"$f":"'تعریف کالا'!$F$12","v":0},null,0,null,null,null,null,null,null,null,null,null,null,null,null,null,null,0,0,0,0,0,0,0]
[null,"کاردکس 9",{"$f":"'تعریف کالا'!$C$13","v":0},{"$f":"'تعریف کالا'!$D$13","v":0},{"$f":"'تعریف کالا'!$E$13","v":0},{"$f":"'تعریف کالا'!$G$13","v":0},null,{"$f":"'تعریف کالا'!$F$13","v":0},null,0,null,null,null,null,null,null,null,null,null,null,null,null,null,null,0,0,0,0,0,0,0]
[null,"کاردکس 15",{"$f":"'تعریف کالا'!$C$19","v":0},{"$f":"'تعریف کالا'!$D$19","v":0},{"$f":"'تعریف کالا'!$E$19","v":0},{"$f":"'تعریف کالا'!$G$19","v":0},null,{"$f":"'تعریف کالا'!$F$19","v":0},null,0,null,null,null,null,null,null,null,null,null,null,null,null,null,null,0,0,0,0,0,0,0]
[null,"کاردکس 24",{"$f":"'تعریف کالا'!$C$28","v":0},{"$f":"'تعریف کالا'!$D$28","v":0},{"$f":"'تعریف کالا'!$E$28","v":0},{"$f":"'تعریف کالا'!$G$28","v":0},null,{"$f":"'تعریف کالا'!$F$28","v":0},null,0,null,null,null,null,null,null,null,null,null,null,null,null,null,null,0,0,0,0,0,0,0]
[null,"کاردکس 27",{"$f":"'تعریف کالا'!$C$31","v":0},{"$f":"'تعریف کالا'!$D$31","v":0},{"$f":"'تعریف کالا'!$E$31","v":0},{"$f":"'تعریف کالا'!$G$31","v":0},null,{"$f":"'تعریف کالا'!$F$31","v":0},null,0,null,null,null,null,null,null,null,null,null,null,null,null,null,null,0,0,0,0,0,0,0]
[null,"کاردکس 35",{"$f":"'تعریف کالا'!$C$39","v":0},{"$f":"'تعریف کالا'!$D$39","v":0},{"$f":"'تعریف کالا'!$E$39","v":0},{"$f":"'تعریف کالا'!$G$39","v":0},null,{"$f":"'تعریف کالا'!$F$39","v":0},null,0,null,null,null,null,null,null,null,null,null,null,null,null,null,null,0,0,0,0,0,0,0]
[null,"کاردکس 39",{"$f":"'تعریف کالا'!$C$43","v":0},{"$f":"'تعریف کالا'!$D$43","v":0},{"$f":"'تعریف کالا'!$E$43","v":0},{"$f":"'تعریف کالا'!$G$43","v":0},null,{"$f":"'تعریف کالا'!$F$43","v":0},null,0,null,null,null,null,null,null,null,null,null,null,null,null,null,null,0,0,0,0,0,0,0]
[null,"کاردکس 44",{"$f":"'تعریف کالا'!$C$48","v":0},{"$f":"'تعریف کالا'!$D$48","v":0},{"$f":"'تعریف کالا'!$E$48","v":0},{"$f":"'تعریف کالا'!$G$48","v":0},null,{"$f":"'تعریف کالا'!$F$48","v":0},null,0,null,null,null,null,null,null,null,null,null,null,null,null,null,null,0,0,0,0,0,0,0]
[null,"کاردکس 50",{"$f":"'تعریف کالا'!$C$54","v":0},{"$f":"'تعریف کالا'!$D$54","v":0},{"$f":"'تعریف کالا'!$E$54","v":0},{"$f":"'تعریف کالا'!$G$54","v":0},null,{"$f":"'تعریف کالا'!$F$54","v":0},null,0,null,null,null,null,null,null,null,null,null,null,null,null,null,null,0,0,0,0,0,0,0]
[null,"کاردکس 53",{"$f":"'تعریف کالا'!$C$57","v":0},{"$f":"'تعریف کالا'!$D$57","v":0},{"$f":"'تعریف کالا'!$E$57","v":0},{"$f":"'تعریف کالا'!$G$57","v":0},null,{"$f":"'تعریف کالا'!$F$57","v":0},null,0,null,null,null,null,null,null,null,null,null,null,null,null,null,null,0,0,0,0,0,0,0]
[null,"کاردکس 62",{"$f":"'تعریف کالا'!$C$66","v":0},{"$f":"'تعریف کالا'!$D$66","v":0},{"$f":"'تعریف کالا'!$E$66","v":0},{"$f":"'تعریف کالا'!$G$66","v":0},null,{"$f":"'تعریف کالا'!$F$66","v":0},null,0,null,null,null,null,null,null,null,null,null,null,null,null,null,null,0,0,0,0,0,0,0]
[null,"کاردکس 68",{"$f":"'تعریف کالا'!$C$72","v":0},{"$f":"'تعریف کالا'!$D$72","v":0},{"$f":"'تعریف کالا'!$E$72","v":0},{"$f":"'تعریف کالا'!$G$72","v":0},null,{"$f":"'تعریف کالا'!$F$72","v":0},null,0,null,null,null,null,null,null,null,null,null,null,null,null,null,null,0,0,0,0,0,0,0]
[null,"کاردکس 74",{"$f":"'تعریف کالا'!$C$78","v":0},{"$f":"'تعریف کالا'!$D$78","v":0},{"$f":"'تعریف کالا'!$E$78","v":0},{"$f":"'تعریف کالا'!$G$78","v":0},null,{"$f":"'تعریف کالا'!$F$78","v":0},null,0,null,null,null,null,null,null,null,null,null,null,null,null,null,null,0,0,0,0,0,0,0]
[null,"کاردکس 79",{"$f":"'تعریف کالا'!$C$83","v":0},{"$f":"'تعریف کالا'!$D$83","v":0},{"$f":"'تعریف کالا'!$E$83","v":0},{"$f":"'تعریف کالا'!$G$83","v":0},null,{"$f":"'تعریف کالا'!$F$83","v":0},null,0,null,null,null,null,null,null,null,null,null,null,null,null,null,null,0,0,0,0,0,0,0]
[null,"کاردکس 81",{"$f":"'تعریف کالا'!$C$85","v":0},{"$f":"'تعریف کالا'!$D$85","v":0},{"$f":"'تعریف کالا'!$E$85","v":0},{"$f":"'تعریف کالا'!$G$85","v":0},null,{"$f":"'تعریف کالا'!$F$85","v":0},null,0,null,null,null,null,null,null,null,null,null,null,null,null,null,null,0,0,0,0,0,0,0]
[null,"کاردکس 88",{"$f":"'تعریف کالا'!$C$92","v":0},{"$f":"'تعریف کالا'!$D$92","v":0},{"$f":"'تعریف کالا'!$E$92","v":0},{"$f":"'تعریف کالا'!$G$92","v":0},null,{"$f":"'تعریف کالا'!$F$92","v":0},null,0,null,null,null,null,null,null,null,null,null,null,null,null,null,null,0,0,0,0,0,0,0]
[null,"کاردکس 93",{"$f":"'تعریف کالا'!$C$97","v":0},{"$f":"'تعریف کالا'!$D$97","v":0},{"$f":"'تعریف کالا'!$E$97","v":0},{"$f":"'تعریف کالا'!$G$97","v":0},null,{"$f":"'تعریف کالا'!$F$97","v":0},null,0,null,null,null,null,null,null,null,null,null,null,null,null,null,null,0,0,0,0,0,0,0]
[null,"کاردکس 97",{"$f":"'تعریف کالا'!$C$101","v":0},{"$f":"'تعریف کالا'!$D$101","v":0},{"$f":"'تعریف کالا'!$E$101","v":0},{"$f":"'تعریف کالا'!$G$101","v":0},null,{"$f":"'تعریف کالا'!$F$101","v":0},null,0,null,null,null,null,null,null,null,null,null,null,null,null,null,null,0,0,0,0,0,0,0]
[null,"کاردکس 104",{"$f":"'تعریف کالا'!$C$108","v":0},{"$f":"'تعریف کالا'!$D$108","v":0},{"$f":"'تعریف کالا'!$E$108","v":0},{"$f":"'تعریف کالا'!$G$108","v":0},null,{"$f":"'تعریف کالا'!$F$108","v":0},null,0,null,null,null,null,null,null,null,null,null,null,null,null,null,null,0,0,0,0,0,0,0]
[null,"کاردکس 112",{"$f":"'تعریف کالا'!$C$116","v":0},{"$f":"'تعریف کالا'!$D$116","v":0},{"$f":"'تعریف کالا'!$E$116","v":0},{"$f":"'تعریف کالا'!$G$116","v":0},null,{"$f":"'تعریف کالا'!$F$116","v":0},null,0,null,null,null,null,null,null,null,null,null,null,null,null,null,null,0,0,0,0,0,0,0]
[null,"کاردکس 116",{"$f":"'تعریف کالا'!$C$120","v":0},{"$f":"'تعریف کالا'!$D$120","v":0},{"$f":"'تعریف کالا'!$E$120","v":0},{"$f":"'تعریف کالا'!$G$120","v":0},null,{"$f":"'تعریف کالا'!$F$120","v":0},null,0,null,null,null,null,null,null,null,null,null,null,null,null,null,null,0,0,0,0,0,0,0]
[null,"کاردکس 123",{"$f":"'تعریف کالا'!$C$127","v":0},{"$f":"'تعریف کالا'!$D$127","v":0},{"$f":"'تعریف کالا'!$E$127","v":0},{"$f":"'تعریف کالا'!$G$127","v":0},null,{"$f":"'تعریف کالا'!$F$127","v":0},null,0,null,null,null,null,null,null,null,null,null,null,null,null,null,null,0,0,0,0,0,0,0]
[null,"کاردکس 128",{"$f":"'تعریف کالا'!$C$132","v":0},{"$f":"'تعریف کالا'!$D$132","v":0},{"$f":"'تعریف کالا'!$E$132","v":0},{"$f":"'تعریف کالا'!$G$132","v":0},null,{"$f":"'تعریف کالا'!$F$132","v":0},null,0,null,null,null,null,null,null,null,null,null,null,null,null,null,null,0,0,0,0,0,0,0]
[null,"کاردکس 132",{"$f":"'تعریف کالا'!$C$136","v":0},{"$f":"'تعریف کالا'!$D$136","v":0},{"$f":"'تعریف کالا'!$E$136","v":0},{"$f":"'تعریف کالا'!$G$136","v":0},null,{"$f":"'تعریف کالا'!$F$136","v":0},null,0,null,null,null,null,null,null,null,null,null,null,null,null,null,null,0,0,0,0,0,0,0]
[null,"کاردکس 140",{"$f":"'تعریف کالا'!$C$144","v":0},{"$f":"'تعریف کالا'!$D$144","v":0},{"$f":"'تعریف کالا'!$E$144","v":0},{"$f":"'تعریف کالا'!$G$144","v":0},null,{"$f":"'تعریف کالا'!$F$144","v":0},null,0,null,null,null,null,null,null,null,null,null,null,null,null,null,null,0,0,0,0,0,0,0]
[null,"کاردکس 141",{"$f":"'تعریف کالا'!$C$145","v":0},{"$f":"'تعریف کالا'!$D$145","v":0},{"$f":"'تعریف کالا'!$E$145","v":0},{"$f":"'تعریف کالا'!$G$145","v":0},null,{"$f":"'تعریف کالا'!$F$145","v":0},null,0,null,null,null,null,null,null,null,null,null,null,null,null,null,null,0,0,0,0,0,0,0]
[null,"کاردکس 151",{"$f":"'تعریف کالا'!$C$155","v":0},{"$f":"'تعریف کالا'!$D$155","v":0},{"$f":"'تعریف کالا'!$E$155","v":0},{"$f":"'تعریف کالا'!$G$155","v":0},null,{"$f":"'تعریف کالا'!$F$155","v":0},null,0,null,null,null,null,null,null,null,null,null,null,null,null,null,null,0,0,0,0,0,0,0]
[null,"کاردکس 156",{"$f":"'تعریف کالا'!$C$160","v":0},{"$f":"'تعریف کالا'!$D$160","v":0},{"$f":"'تعریف کالا'!$E$160","v":0},{"$f":"'تعریف کالا'!$G$160","v":0},null,{"$f":"'تعریف کالا'!$F$160","v":0},null,0,null,null,null,null,null,null,null,null,null,null,null,null,null,null,0,0,0,0,0,0,0]
[null,"کاردکس 158",{"$f":"'تعریف کالا'!$C$162","v":0},{"$f":"'تعریف کالا'!$D$162","v":0},{"$f":"'تعریف کالا'!$E$162","v":0},{"$f":"'تعریف کالا'!$G$162","v":0},null,{"$f":"'تعریف کالا'!$F$162","v":0},null,0,null,null,null,null,null,null,null,null,null,null,null,null,null,null,0,0,0,0,0,0,0]
[null,"کاردکس 167",{"$f":"'تعریف کالا'!$C$171","v":0},{"$f":"'تعریف کالا'!$D$171","v":0},{"$f":"'تعریف کالا'!$E$171","v":0},{"$f":"'تعریف کالا'!$G$171","v":0},null,{"$f":"'تعریف کالا'!$F$171","v":0},null,0,null,null,null,null,null,null,null,null,null,null,null,null,null,null,0,0,0,0,0,0,0]
[null,"کاردکس 170",{"$f":"'تعریف کالا'!$C$174","v":0},{"$f":"'تعریف کالا'!$D$174","v":0},{"$f":"'تعریف کالا'!$E$174","v":0},{"$f":"'تعریف کالا'!$G$174","v":0},null,{"$f":"'تعریف کالا'!$F$174","v":0},null,0,null,null,null,null,null,null,null,null,null,null,null,null,null,null,0,0,0,0,0,0,0]
[null,"کاردکس 176",{"$f":"'تعریف کالا'!$C$180","v":0},{"$f":"'تعریف کالا'!$D$180","v":0},{"$f":"'تعریف کالا'!$E$180","v":0},{"$f":"'تعریف کالا'!$G$180","v":0},null,{"$f":"'تعریف کالا'!$F$180","v":0},null,0,null,null,null,null,null,null,null,null,null,null,null,null,null,null,0,0,0,0,0,0,0]
[null,"کاردکس 182",{"$f":"'تعریف کالا'!$C$186","v":0},{"$f":"'تعریف کالا'!$D$186","v":0},{"$f":"'تعریف کالا'!$E$186","v":0},{"$f":"'تعریف کالا'!$G$186","v":0},null,{"$f":"'تعریف کالا'!$F$186","v":0},null,0,null,null,null,null,null,null,null,null,null,null,null,null,null,null,0,0,0,0,0,0,0]
[null,"کاردکس 185",{"$f":"'تعریف کالا'!$C$189","v":0},{"$f":"'تعریف کالا'!$D$189","v":0},{"$f":"'تعریف کالا'!$E$189","v":0},{"$f":"'تعریف کالا'!$G$189","v":0},null,{"$f":"'تعریف کالا'!$F$189","v":0},null,0,null,null,null,null,null,null,null,null,null,null,null,null,null,null,0,0,0,0,0,0,0]
[null,"کاردکس 193",{"$f":"'تعریف کالا'!$C$197","v":0},{"$f":"'تعریف کالا'!$D$197","v":0},{"$f":"'تعریف کالا'!$E$197","v":0},{"$f":"'تعریف کالا'!$G$197","v":0},null,{"$f":"'تعریف کالا'!$F$197","v":0},null,0,null,null,null,null,null,null,null,null,null,null,null,null,null,null,0,0,0,0,0,0,0]
[null,"کاردکس 200",{"$f":"'تعریف کالا'!$C$204","v":0},{"$f":"'تعریف کالا'!$D$204","v":0},{"$f":"'تعریف کالا'!$E$204","v":0},{"$f":"'تعریف کالا'!$G$204","v":0},null,{"$f":"'تعریف کالا'!$F$204","v":0},null,0,null,null,null,null,null,null,null,null,null,null,null,null,null,null,0,0,0,0,0,0,0]
[null,null,null,null,null,null,null,null,null,null,null,null,null,null,null,null,null,null,null,null,null,null,null,null,"امضا صادر کننده",null,"امضا فروشنده",null,"امضا مسئول انبار",null,"امضا خریدار"]
[]
[null,null,null,null,null,"           درصد تخفیف  ",null,null,"تخفیف ",{"$f":"(I2918*G2709%)","v":0}]
[null,null,"پرداخت نقدی",null,null,null,null,null,"مبلغ قابل پرداخت",{"$f":"I2918-J2709+J2710+J2711","v":0},null,null,null,null,null,null,null,null,null,null,null,null,null,null,"خریدار:",{"$f":"D2710","v":"خسرو جهانشاهی"}]
[]
[null,"کاردکس 4",{"$f":"'تعریف کالا'!$C$8","v":0},{"$f":"'تعریف کالا'!$D$8","v":0},{"$f":"'تعریف کالا'!$E$8","v":0},{"$f":"'تعریف کالا'!$G$8","v":0},null,{"$f":"'تعریف کالا'!$F$8","v":0},null,0,null,null,null,null,null,null,null,null,null,null,null,null,null,null,0,0,0,0,0,0,0]
[null,"کاردکس 10",{"$f":"'تعریف کالا'!$C$14","v":0},{"$f":"'تعریف کالا'!$D$14","v":0},{"$f":"'تعریف کالا'!$E$14","v":0},{"$f":"'تعریف کالا'!$G$14","v":0},null,{"$f":"'تعریف کالا'!$F$14","v":0},null,0,null,null,null,null,null,null,null,null,null,null,null,null,null,null,0,0,0,0,0,0,0]
[null,"کاردکس 19",{"$f":"'تعریف کالا'!$C$23","v":0},{"$f":"'تعریف کالا'!$D$23","v":0},{"$f":"'تعریف کالا'!$E$23","v":0},{"$f":"'تعریف کالا'!$G$23","v":0},null,{"$f":"'تعریف کالا'!$F$23","v":0},null,0,null,null,null,null,null,null,null,null,null,null,null,null,null,null,0,0,0,0,0,0,0]
[null,"کاردکس 22",{"$f":"'تعریف کالا'!$C$26","v":0},{"$f":"'تعریف کالا'!$D$26","v":0},{"$f":"'تعریف کالا'!$E$26","v":0},{"$f":"'تعریف کالا'!$G$26","v":0},null,{"$f":"'تعریف کالا'!$F$26","v":0},null,0,null,null,null,null,null,null,null,null,null,null,null,null,null,null,0,0,0,0,0,0,0]
[null,"کاردکس 28",{"$f":"'تعریف کالا'!$C$32","v":0},{"$f":"'تعریف کالا'!$D$32","v":0},{"$f":"'تعریف کالا'!$E$32","v":0},{"$f":"'تعریف کالا'!$G$32","v":0},null,{"$f":"'تعریف کالا'!$F$32","v":0},null,0,null,null,null,null,null,null,null,null,null,null,null,null,null,null,0,0,0,0,0,0,0]
[null,"کاردکس 34",{"$f":"'تعریف کالا'!$C$38","v":0},{"$f":"'تعریف کالا'!$D$38","v":0},{"$f":"'تعریف کالا'!$E$38","v":0},{"$f":"'تعریف کالا'!$G$38","v":0},null,{"$f":"'تعریف کالا'!$F$38","v":0},null,0,null,null,null,null,null,null,null,null,null,null,null,null,null,null,0,0,0,0,0,0,0]
[null,"کاردکس 39",{"$f":"'تعریف کالا'!$C$43","v":0},{"$f":"'تعریف کالا'!$D$43","v":0},{"$f":"'تعریف کالا'!$E$43","v":0},{"$f":"'تعریف کالا'!$G$43","v":0},null,{"$f":"'تعریف کالا'!$F$43","v":0},null,0,null,null,null,null,null,null,null,null,null,null,null,null,null,null,0,0,0,0,0,0,0]
[null,"کاردکس 46",{"$f":"'تعریف کالا'!$C$50","v":0},{"$f":"'تعریف کالا'!$D$50","v":0},{"$f":"'تعریف کالا'!$E$50","v":0},{"$f":"'تعریف کالا'!$G$50","v":0},null,{"$f":"'تعریف کالا'!$F$50","v":0},null,0,null,null,null,null,null,null,null,null,null,null,null,null,null,null,0,0,0,0,0,0,0]
[null,"کاردکس 48",{"$f":"'تعریف کالا'!$C$52","v":0},{"$f":"'تعریف کالا'!$D$52","v":0},{"$f":"'تعریف کالا'!$E$52","v":0},{"$f":"'تعریف کالا'!$G$52","v":0},null,{"$f":"'تعریف کالا'!$F$52","v":0},null,0,null,null,null,null,null,null,null,null,null,null,null,null,null,null,0,0,0,0,0,0,0]
[null,"کاردکس 57",{"$f":"'تعریف کالا'!$C$61","v":0},{"$f":"'تعریف کالا'!$D$61","v":0},{"$f":"'تعریف کالا'!$E$61","v":0},{"$f":"'تعریف کالا'!$G$61","v":0},null,{"$f":"'تعریف کالا'!$F$61","v":0},null,0,null,null,null,null,null,null,null,null,null,null,null,null,null,null,0,0,0,0,0,0,0]
[null,"کاردکس 63",{"$f":"'تعریف کالا'!$C$67","v":0},{"$f":"'تعریف کالا'!$D$67","v":0},{"$f":"'تعریف کالا'!$E$67","v":0},{"$f":"'تعریف کالا'!$G$67","v":0},null,{"$f":"'تعریف کالا'!$F$67","v":0},null,0,null,null,null,null,null,null,null,null,null,null,null,null,null,null,0,0,0,0,0,0,0]
[null,"کاردکس 69",{"$f":"'تعریف کالا'!$C$73","v":0},{"$f":"'تعریف کالا'!$D$73","v":0},{"$f":"'تعریف کالا'!$E$73","v":0},{"$f":"'تعریف کالا'!$G$73","v":0},null,{"$f":"'تعریف کالا'!$F$73","v":0},null,0,null,null,null,null,null,null,null,null,null,null,null,null,null,null,0,0,0,0,0,0,0]
[null,"کاردکس 72",{"$f":"'تعریف کالا'!$C$76","v":0},{"$f":"'تعریف کالا'!$D$76","v":0},{"$f":"'تعریف کالا'!$E$76","v":0},{"$f":"'تعریف کالا'!$G$76","v":0},null,{"$f":"'تعریف کالا'!$F$76","v":0},null,0,null,null,null,null,null,null,null,null,null,null,null,null,null,null,0,0,0,0,0,0,0]
[null,"کاردکس 76",{"$f":"'تعریف کالا'!$C$80","v":0},{"$f":"'تعریف کالا'!$D$80","v":0},{"$f":"'تعریف کالا'!$E$80","v":0},{"$f":"'تعریف کالا'!$G$80","v":0},null,{"$f":"'تعریف کالا'!$F$80","v":0},null,0,null,null,null,null,null,null,null,null,null,null,null,null,null,null,0,0,0,0,0,0,0]
[null,"کاردکس 83",{"$f":"'تعریف کالا'!$C$87","v":0},{"$f":"'تعریف کالا'!$D$87","v":0},{"$f":"'تعریف کالا'!$E$87","v":0},{"$f":"'تعریف کالا'!$G$87","v":0},null,{"$f":"'تعریف کالا'!$F$87","v":0},null,0,null,null,null,null,null,null,null,null,null,null,null,null,null,null,0,0,0,0,0,0,0]
[null,"کاردکس 88",{"$f":"'تعریف کالا'!$C$92","v":0},{"$f":"'تعریف کالا'!$D$92","v":0},{"$f":"'تعریف کالا'!$E$92","v":0},{"$f":"'تعریف کالا'!$G$92","v":0},null,{"$f":"'تعریف کالا'!$F$92","v":0},null,0,null,null,null,null,null,null,null,null,null,null,null,null,null,null,0,0,0,0,0,0,0]
[null,"کاردکس 92",{"$f":"'تعریف کالا'!$C$96","v":0},{"$f":"'تعریف کالا'!$D$96","v":0},{"$f":"'تعریف کالا'!$E$96","v":0},{"$f":"'تعریف کالا'!$G$96","v":0},null,{"$f":"'تعریف کالا'!$F$96","v":0},null,0,null,null,null,null,null,null,null,null,null,null,null,null,null,null,0,0,0,0,0,0,0]
[null,"کاردکس 100",{"$f":"'تعریف کالا'!$C$104","v":0},{"$f":"'تعریف کالا'!$D$104","v":0},{"$f":"'تعریف کالا'!$E$104","v":0},{"$f":"'تعریف کالا'!$G$104","v":0},null,{"$f":"'تعریف کالا'!$F$104","v":0},null,0,null,null,null,null,null,null,null,null,null,null,null,null,null,null,0,0,0,0,0,0,0]
[null,"کاردکس 107",{"$f":"'تعریف کالا'!$C$111","v":0},{"$f":"'تعریف کالا'!$D$111","v":0},{"$f":"'تعریف کالا'!$E$111","v":0},{"$f":"'تعریف کالا'!$G$111","v":0},null,{"$f":"'تعریف کالا'!$F$111","v":0},null,0,null,null,null,null,null,null,null,null,null,null,null,null,null,null,0,0,0,0,0,0,0]
[null,"کاردکس 111",{"$f":"'تعریف کالا'!$C$115","v":0},{"$f":"'تعریف کالا'!$D$115","v":0},{"$f":"'تعریف کالا'!$E$115","v":0},{"$f":"'تعریف کالا'!$G$115","v":0},null,{"$f":"'تعریف کالا'!$F$115","v":0},null,0,null,null,null,null,null,null,null,null,null,null,null,null,null,null,0,0,0,0,0,0,0]
[null,"کاردکس 117",{"$f":"'تعریف کالا'!$C$121","v":0},{"$f":"'تعریف کالا'!$D$121","v":0},{"$f":"'تعریف کالا'!$E$121","v":0},{"$f":"'تعریف کالا'!$G$121","v":0},null,{"$f":"'تعریف کالا'!$F$121","v":0},null,0,null,null,null,null,null,null,null,null,null,null,null,null,null,null,0,0,0,0,0,0,0]
[null,"کاردکس 124",{"$f":"'تعریف کالا'!$C$128","v":0},{"$f":"'تعریف کالا'!$D$128","v":0},{"$f":"'تعریف کالا'!$E$128","v":0},{"$f":"'تعریف کالا'!$G$128","v":0},null,{"$f":"'تعریف کالا'!$F$128","v":0},null,0,null,null,null,null,null,null,null,null,null,null,null,null,null,null,0,0,0,0,0,0,0]
[null,"کاردکس 128",{"$f":"'تعریف کالا'!$C$132","v":0},{"$f":"'تعریف کالا'!$D$132","v":0},{"$f":"'تعریف کالا'!$E$132","v":0},{"$f":"'تعریف کالا'!$G$132","v":0},null,{"$f":"'تعریف کالا'!$F$132","v":0},null,0,null,null,null,null,null,null,null,null,null,null,null,null,null,null,0,0,0,0,0,0,0]
[null,"کاردکس 133",{"$f":"'تعریف کالا'!$C$137","v":0},{"$f":"'تعریف کالا'!$D$137","v":0},{"$f":"'تعریف کالا'!$E$137","v":0},{"$f":"'تعریف کالا'!$G$137","v":0},null,{"$f":"'تعریف کالا'!$F$137","v":0},null,0,null,null,null,null,null,null,null,null,null,null,null,null,null,null,0,0,0,0,0,0,0]
[null,"کاردکس 140",{"$f":"'تعریف کالا'!$C$144","v":0},{"$f":"'تعریف کالا'!$D$144","v":0},{"$f":"'تعریف کالا'!$E$144","v":0},{"$f":"'تعریف کالا'!$G$144","v":0},null,{"$f":"'تعریف کالا'!$F$144","v":0},null,0,null,null,null,null,null,null,null,null,null,null,null,null,null,null,0,0,0,0,0,0,0]
[null,"کاردکس 142",{"$f":"'تعریف کالا'!$C$146","v":0},{"$f":"'تعریف کالا'!$D$146","v":0},{"$f":"'تعریف کالا'!$E$146","v":0},{"$f":"'تعریف کالا'!$G$146","v":0},null,{"$f":"'تعریف کالا'!$F$146","v":0},null,0,null,null,null,null,null,null,null,null,null,null,null,null,null,null,0,0,0,0,0,0,0]
[null,"کاردکس 147",{"$f":"'تعریف کالا'!$C$151","v":0},{"$f":"'تعریف کالا'!$D$151","v":0},{"$f":"'تعریف کالا'!$E$151","v":0},{"$f":"'تعریف کالا'!$G$151","v":0},null,{"$f":"'تعریف کالا'!$F$151","v":0},null,0,null,null,null,null,null,null,null,null,null,null,null,null,null,null,0,0,0,0,0,0,0]
[null,"کاردکس 153",{"$f":"'تعریف کالا'!$C$157","v":0},{"$f":"'تعریف کالا'!$D$157","v":0},{"$f":"'تعریف کالا'!$E$157","v":0},{"$f":"'تعریف کالا'!$G$157","v":0},null,{"$f":"'تعریف کالا'!$F$157","v":0},null,0,null,null,null,null,null,null,null,null,null,null,null,null,null,null,0,0,0,0,0,0,0]
[null,"کاردکس 159",{"$f":"'تعریف کالا'!$C$163","v":0},{"$f":"'تعریف کالا'!$D$163","v":0},{"$f":"'تعریف کالا'!$E$163","v":0},{"$f":"'تعریف کالا'!$G$163","v":0},null,{"$f":"'تعریف کالا'!$F$163","v":0},null,0,null,null,null,null,null,null,null,null,null,null,null,null,null,null,0,0,0,0,0,0,0]
[null,"کاردکس 168",{"$f":"'تعریف کالا'!$C$172","v":0},{"$f":"'تعریف کالا'!$D$172","v":0},{"$f":"'تعریف کالا'!$E$172","v":0},{"$f":"'تعریف کالا'!$G$172","v":0},null,{"$f":"'تعریف کالا'!$F$172","v":0},null,0,null,null,null,null,null,null,null,null,null,null,null,null,null,null,0,0,0,0,0,0,0]
[null,"کاردکس 171",{"$f":"'تعریف کالا'!$C$175","v":0},{"$f":"'تعریف کالا'!$D$175","v":0},{"$f":"'تعریف کالا'!$E$175","v":0},{"$f":"'تعریف کالا'!$G$175","v":0},null,{"$f":"'تعریف کالا'!$F$175","v":0},null,0,null,null,null,null,null,null,null,null,null,null,null,null,null,null,0,0,0,0,0,0,0]
[null,"کاردکس 177",{"$f":"'تعریف کالا'!$C$181","v":0},{"$f":"'تعریف کالا'!$D$181","v":0},{"$f":"'تعریف کالا'!$E$181","v":0},{"$f":"'تعریف کالا'!$G$181","v":0},null,{"$f":"'تعریف کالا'!$F$181","v":0},null,0,null,null,null,null,null,null,null,null,null,null,null,null,null,null,0,0,0,0,0,0,0]
[null,"کاردکس 182",{"$f":"'تعریف کالا'!$C$186","v":0},{"$f":"'تعریف کالا'!$D$186","v":0},{"$f":"'تعریف کالا'!$E$186","v":0},{"$f":"'تعریف کالا'!$G$186","v":0},null,{"$f":"'تعریف کالا'!$F$186","v":0},null,0,null,null,null,null,null,null,null,null,null,null,null,null,null,null,0,0,0,0,0,0,0]
[null,"کاردکس 186",{"$f":"'تعریف کالا'!$C$190","v":0},{"$f":"'تعریف کالا'!$D$190","v":0},{"$f":"'تعریف کالا'!$E$190","v":0},{"$f":"'تعریف کالا'!$G$190","v":0},null,{"$f":"'تعریف کالا'!$F$190","v":0},null,0,null,null,null,null,null,null,null,null,null,null,null,null,null,null,0,0,0,0,0,0,0]
[null,"کاردکس 194",{"$f":"'تعریف کالا'!$C$198","v":0},{"$f":"'تعریف کالا'!$D$198","v":0},{"$f":"'تعریف کالا'!$E$198","v":0},{"$f":"'تعریف کالا'!$G$198","v":0},null,{"$f":"'تعریف کالا'!$F$198","v":0},null,0,null,null,null,null,null,null,null,null,null,null,null,null,null,null,0,{"$f":"D2911","v":0},{"$f":"E2911","v":0},{"$f":"F2911","v":0},{"$f":"H2911","v":0},{"$f":"I2911","v":0},{"$f":"J2911","v":0}]
[null,"کاردکس 197",{"$f":"'تعریف کالا'!$C$201","v":0},{"$f":"'تعریف کالا'!$D$201","v":0},{"$f":"'تعریف کالا'!$E$201","v":0},{"$f":"'تعریف کالا'!$G$201","v":0},null,{"$f":"'تعریف کالا'!$F$201","v":0},null,0,null,null,null,null,null,null,null,null,null,null,null,null,null,null,0,0,0,0,0,0,0]
[]
[null,null,"فاکتور فروش"]
[null,null,null,null,null,{"$f":"'صفحه اصلی'!$J$4","v":0},null,null,null,null,null,"فاکتور بعدی",null,null,null,null,null,null,null,null,null,null,null,"حواله تحویل کالا"]
[null,null,"پرداخت با چک",null,null,null,null,null,"مانده حساب",{"$f":"J2937-D2937-D2938","v":0}]
[]
[null,"کاردکس 5",{"$f":"'تعریف کالا'!$C$9","v":0},{"$f":"'تعریف کالا'!$D$9","v":0},{"$f":"'تعریف کالا'!$E$9","v":0},{"$f":"'تعریف کالا'!$G$9","v":0},null,{"$f":"'تعریف کالا'!$F$9","v":0},null,0,null,null,null,null,null,null,null,null,null,null,null,null,null,null,0,0,0,0,0,0,0]
[null,"کاردکس 11",{"$f":"'تعریف کالا'!$C$15","v":0},{"$f":"'تعریف کالا'!$D$15","v":0},{"$f":"'تعریف کالا'!$E$15","v":0},{"$f":"'تعریف کالا'!$G$15","v":0},null,{"$f":"'تعریف کالا'!$F$15","v":0},null,0,null,null,null,null,null,null,null,null,null,null,null,null,null,null,0,0,0,0,0,0,0]
[null,"کاردکس 16",{"$f":"'تعریف کالا'!$C$20","v":0},{"$f":"'تعریف کالا'!$D$20","v":0},{"$f":"'تعریف کالا'!$E$20","v":0},{"$f":"'تعریف کالا'!$G$20","v":0},null,{"$f":"'تعریف کالا'!$F$20","v":0},null,0,null,null,null,null,null,null,null,null,null,null,null,null,null,null,0,0,0,0,0,0,0]
[null,"کاردکس 23",{"$f":"'تعریف کالا'!$C$27","v":0},{"$f":"'تعریف کالا'!$D$27","v":0},{"$f":"'تعریف کالا'!$E$27","v":0},{"$f":"'تعریف کالا'!$G$27","v":0},null,{"$f":"'تعریف کالا'!$F$27","v":0},null,0,null,null,null,null,null,null,null,null,null,null,null,null,null,null,0,0,0,0,0,0,0]
[null,"کاردکس 31",{"$f":"'تعریف کالا'!$C$35","v":0},{"$f":"'تعریف کالا'!$D$35","v":0},{"$f":"'تعریف کالا'!$E$35","v":0},{"$f":"'تعریف کالا'!$G$35","v":0},null,{"$f":"'تعریف کالا'!$F$35","v":0},null,0,null,null,null,null,null,null,null,null,null,null,null,null,null,null,0,0,0,0,0,0,0]
[null,"کاردکس 35",{"$f":"'تعریف کالا'!$C$39","v":0},{"$f":"'تعریف کالا'!$D$39","v":0},{"$f":"'تعریف کالا'!$E$39","v":0},{"$f":"'تعریف کالا'!$G$39","v":0},null,{"$f":"'تعریف کالا'!$F$39","v":0},null,0,null,null,null,null,null,null,null,null,null,null,null,null,null,null,0,0,0,0,0,0,0]
[null,"کاردکس 40",{"$f":"'تعریف کالا'!$C$44","v":0},{"$f":"'تعریف کالا'!$D$44","v":0},{"$f":"'تعریف کالا'!$E$44","v":0},{"$f":"'تعریف کالا'!$G$44","v":0},null,{"$f":"'تعریف کالا'!$F$44","v":0},null,0,null,null,null,null,null,null,null,null,null,null,null,null,null,null,0,0,0,0,0,0,0]
[null,"کاردکس 46",{"$f":"'تعریف کالا'!$C$50","v":0},{"$f":"'تعریف کالا'!$D$50","v":0},{"$f":"'تعریف کالا'!$E$50","v":0},{"$f":"'تعریف کالا'!$G$50","v":0},null,{"$f":"'تعریف کالا'!$F$50","v":0},null,0,null,null,null,null,null,null,null,null,null,null,null,null,null,null,0,0,0,0,0,0,0]
[null,"کاردکس 49",{"$f":"'تعریف کالا'!$C$53","v":0},{"$f":"'تعریف کالا'!$D$53","v":0},{"$f":"'تعریف کالا'!$E$53","v":0},{"$f":"'تعریف کالا'!$G$53","v":0},null,{"$f":"'تعریف کالا'!$F$53","v":0},null,0,null,null,null,null,null,null,null,null,null,null,null,null,null,null,0,0,0,0,0,0,0]
[null,"کاردکس 58",{"$f":"'تعریف کالا'!$C$62","v":0},{"$f":"'تعریف کالا'!$D$62","v":0},{"$f":"'تعریف کالا'!$E$62","v":0},{"$f":"'تعریف کالا'!$G$62","v":0},null,{"$f":"'تعریف کالا'!$F$62","v":0},null,0,null,null,null,null,null,null,null,null,null,null,null,null,null,null,0,0,0,0,0,0,0]
[null,"کاردکس 64",{"$f":"'تعریف کالا'!$C$68","v":0},{"$f":"'تعریف کالا'!$D$68","v":0},{"$f":"'تعریف کالا'!$E$68","v":0},{"$f":"'تعریف کالا'!$G$68","v":0},null,{"$f":"'تعریف کالا'!$F$68","v":0},null,0,null,null,null,null,null,null,null,null,null,null,null,null,null,null,0,0,0,0,0,0,0]
[null,"کاردکس 65",{"$f":"'تعریف کالا'!$C$69","v":0},{"$f":"'تعریف کالا'!$D$69","v":0},{"$f":"'تعریف کالا'!$E$69","v":0},{"$f":"'تعریف کالا'!$G$69","v":0},null,{"$f":"'تعریف کالا'!$F$69","v":0},null,0,null,null,null,null,null,null,null,null,null,null,null,null,null,null,0,0,0,0,0,0,0]
[null,"کاردکس 75",{"$f":"'تعریف کالا'!$C$79","v":0},{"$f":"'تعریف کالا'!$D$79","v":0},{"$f":"'تعریف کالا'!$E$79","v":0},{"$f":"'تعریف کالا'!$G$79","v":0},null,{"$f":"'تعریف کالا'!$F$79","v":0},null,0,null,null,null,null,null,null,null,null,null,null,null,null,null,null,0,0,0,0,0,0,0]
[null,"کاردکس 77",{"$f":"'تعریف کالا'!$C$81","v":0},{"$f":"'تعریف کالا'!$D$81","v":0},{"$f":"'تعریف کالا'!$E$81","v":0},{"$f":"'تعریف کالا'!$G$81","v":0},null,{"$f":"'تعریف کالا'!$F$81","v":0},null,0,null,null,null,null,null,null,null,null,null,null,null,null,null,null,0,0,0,0,0,0,0]
[null,"کاردکس 84",{"$f":"'تعریف کالا'!$C$88","v":0},{"$f":"'تعریف کالا'!$D$88","v":0},{"$f":"'تعریف کالا'!$E$88","v":0},{"$f":"'تعریف کالا'!$G$88","v":0},null,{"$f":"'تعریف کالا'!$F$88","v":0},null,0,null,null,null,null,null,null,null,null,null,null,null,null,null,null,0,0,0,0,0,0,0]
[null,"کاردکس 88",{"$f":"'تعریف کالا'!$C$92","v":0},{"$f":"'تعریف کالا'!$D$92","v":0},{"$f":"'تعریف کالا'!$E$92","v":0},{"$f":"'تعریف کالا'!$G$92","v":0},null,{"$f":"'تعریف کالا'!$F$92","v":0},null,0,null,null,null,null,null,null,null,null,null,null,null,null,null,null,0,0,0,0,0,0,0]
[null,"کاردکس 93",{"$f":"'تعریف کالا'!$C$97","v":0},{"$f":"'تعریف کالا'!$D$97","v":0},{"$f":"'تعریف کالا'!$E$97","v":0},{"$f":"'تعریف کالا'!$G$97","v":0},null,{"$f":"'تعریف کالا'!$F$97","v":0},null,0,null,null,null,null,null,null,null,null,null,null,null,null,null,null,0,0,0,0,0,0,0]
[null,"کاردکس 100",{"$f":"'تعریف کالا'!$C$104","v":0},{"$f":"'تعریف کالا'!$D$104","v":0},{"$f":"'تعریف کالا'!$E$104","v":0},{"$f":"'تعریف کالا'!$G$104","v":0},null,{"$f":"'تعریف کالا'!$F$104","v":0},null,0,null,null,null,null,null,null,null,null,null,null,null,null,null,null,0,0,0,0,0,0,0]
[null,"کاردکس 108",{"$f":"'تعریف کالا'!$C$112","v":0},{"$f":"'تعریف کالا'!$D$112","v":0},{"$f":"'تعریف کالا'!$E$112","v":0},{"$f":"'تعریف کالا'!$G$112","v":0},null,{"$f":"'تعریف کالا'!$F$112","v":0},null,0,null,null,null,null,null,null,null,null,null,null,null,null,null,null,0,0,0,0,0,0,0]
[null,"کاردکس 112",{"$f":"'تعریف کالا'!$C$116","v":0},{"$f":"'تعریف کالا'!$D$116","v":0},{"$f":"'تعریف کالا'!$E$116","v":0},{"$f":"'تعریف کالا'!$G$116","v":0},null,{"$f":"'تعریف کالا'!$F$116","v":0},null,0,null,null,null,null,null,null,null,null,null,null,null,null,null,null,0,0,0,0,0,0,0]
[null,"کاردکس 119",{"$f":"'تعریف کالا'!$C$123","v":0},{"$f":"'تعریف کالا'!$D$123","v":0},{"$f":"'تعریف کالا'!$E$123","v":0},{"$f":"'تعریف کالا'!$G$123","v":0},null,{"$f":"'تعریف کالا'!$F$123","v":0},null,0,null,null,null,null,null,null,null,null,null,null,null,null,null,null,0,0,0,0,0,0,0]
[null,"کاردکس 124",{"$f":"'تعریف کالا'!$C$128","v":0},{"$f":"'تعریف کالا'!$D$128","v":0},{"$f":"'تعریف کالا'!$E$128","v":0},{"$f":"'تعریف کالا'!$G$128","v":0},null,{"$f":"'تعریف کالا'!$F$128","v":0},null,0,null,null,null,null,null,null,null,null,null,null,null,null,null,null,0,0,0,0,0,0,0]
[null,"کاردکس 128",{"$f":"'تعریف کالا'!$C$132","v":0},{"$f":"'تعریف کالا'!$D$132","v":0},{"$f":"'تعریف کالا'!$E$132","v":0},{"$f":"'تعریف کالا'!$G$132","v":0},null,{"$f":"'تعریف کالا'!$F$132","v":0},null,0,null,null,null,null,null,null,null,null,null,null,null,null,null,null,0,0,0,0,0,0,0]
[null,"کاردکس 131",{"$f":"'تعریف کالا'!$C$135","v":0},{"$f":"'تعریف کالا'!$D$135","v":0},{"$f":"'تعریف کالا'!$E$135","v":0},{"$f":"'تعریف کالا'!$G$135","v":0},null,{"$f":"'تعریف کالا'!$F$135","v":0},null,{"$f":"(F3073*I3073)-(F3073*I3073*G3073%)","v":0},null,null,null,null,null,null,null,null,null,null,null,null,null,null,{"$f":"C3073","v":0},0,0,0,0,0,0]
[null,"کاردکس 137",{"$f":"'تعریف کالا'!$C$141","v":0},{"$f":"'تعریف کالا'!$D$141","v":0},{"$f":"'تعریف کالا'!$E$141","v":0},{"$f":"'تعریف کالا'!$G$141","v":0},null,{"$f":"'تعریف کالا'!$F$141","v":0},null,0,null,null,null,null,null,null,null,null,null,null,null,null,null,null,0,0,0,0,0,0,0]
[null,"کاردکس 142",{"$f":"'تعریف کالا'!$C$146","v":0},{"$f":"'تعریف کالا'!$D$146","v":0},{"$f":"'تعریف کالا'!$E$146","v":0},{"$f":"'تعریف کالا'!$G$146","v":0},null,{"$f":"'تعریف کالا'!$F$146","v":0},null,0,null,null,null,null,null,null,null,null,null,null,null,null,null,null,0,0,0,0,0,0,0]
[null,"کاردکس 152",{"$f":"'تعریف کالا'!$C$156","v":0},{"$f":"'تعریف کالا'!$D$156","v":0},{"$f":"'تعریف کالا'!$E$156","v":0},{"$f":"'تعریف کالا'!$G$156","v":0},null,{"$f":"'تعریف کالا'!$F$156","v":0},null,0,null,null,null,null,null,null,null,null,null,null,null,null,null,null,0,0,0,0,0,0,0]
[null,"کاردکس 154",{"$f":"'تعریف کالا'!$C$158","v":0},{"$f":"'تعریف کالا'!$D$158","v":0},{"$f":"'تعریف کالا'!$E$158","v":0},{"$f":"'تعریف کالا'!$G$158","v":0},null,{"$f":"'تعریف کالا'!$F$158","v":0},null,0,null,null,null,null,null,null,null,null,null,null,null,null,null,null,0,0,0,0,0,0,0]
[null,"کاردکس 163",{"$f":"'تعریف کالا'!$C$167","v":0},{"$f":"'تعریف کالا'!$D$167","v":0},{"$f":"'تعریف کالا'!$E$167","v":0},{"$f":"'تعریف کالا'!$G$167","v":0},null,{"$f":"'تعریف کالا'!$F$167","v":0},null,0,null,null,null,null,null,null,null,null,null,null,null,null,null,null,0,0,0,0,0,0,0]
[null,"کاردکس 166",{"$f":"'تعریف کالا'!$C$170","v":0},{"$f":"'تعریف کالا'!$D$170","v":0},{"$f":"'تعریف کالا'!$E$170","v":0},{"$f":"'تعریف کالا'!$G$170","v":0},null,{"$f":"'تعریف کالا'!$F$170","v":0},null,0,null,null,null,null,null,null,null,null,null,null,null,null,null,null,0,0,0,0,0,0,0]
[null,"کاردکس 172",{"$f":"'تعریف کالا'!$C$176","v":0},{"$f":"'تعریف کالا'!$D$176","v":0},{"$f":"'تعریف کالا'!$E$176","v":0},{"$f":"'تعریف کالا'!$G$176","v":0},null,{"$f":"'تعریف کالا'!$F$176","v":0},null,0,null,null,null,null,null,null,null,null,null,null,null,null,null,null,0,0,0,0,0,0,0]
[null,"کاردکس 178",{"$f":"'تعریف کالا'!$C$182","v":0},{"$f":"'تعریف کالا'!$D$182","v":0},{"$f":"'تعریف کالا'!$E$182","v":0},{"$f":"'تعریف کالا'!$G$182","v":0},null,{"$f":"'تعریف کالا'!$F$182","v":0},null,0,null,null,null,null,null,null,null,null,null,null,null,null,null,null,0,0,0,0,0,0,0]
[null,"کاردکس 181",{"$f":"'تعریف کالا'!$C$185","v":0},{"$f":"'تعریف کالا'!$D$185","v":0},{"$f":"'تعریف کالا'!$E$185","v":0},{"$f":"'تعریف کالا'!$G$185","v":0},null,{"$f":"'تعریف کالا'!$F$185","v":0},null,0,null,null,null,null,null,null,null,null,null,null,null,null,null,null,0,0,0,0,0,0,0]
[null,"کاردکس 189",{"$f":"'تعریف کالا'!$C$193","v":0},{"$f":"'تعریف کالا'!$D$193","v":0},{"$f":"'تعریف کالا'!$E$193","v":0},{"$f":"'تعریف کالا'!$G$193","v":0},null,{"$f":"'تعریف کالا'!$F$193","v":0},null,0,null,null,null,null,null,null,null,null,null,null,null,null,null,null,0,0,0,0,0,0,0]
[null,"کاردکس 196",{"$f":"'تعریف کالا'!$C$200","v":0},{"$f":"'تعریف کالا'!$D$200","v":0},{"$f":"'تعریف کالا'!$E$200","v":0},{"$f":"'تعریف کالا'!$G$200","v":0},null,{"$f":"'تعریف کالا'!$F$200","v":0},null,0,null,null,null,null,null,null,null,null,null,null,null,null,null,null,0,0,0,0,0,0,0]
[null,"     جمع کل",null,{"$f":"abh(I3143)&L3139","v":"منفي "},null,null,null,null,{"$f":"SUM(J2943:J3142)","v":0},null,null,null,null,null,null,null,null,null,null,null,null,null,null,"مانده حساب",null,{"$f":"abh(AD3143)& \"ریال\"","v":"منفي ریال"},null,null,null,{"$f":"I3145","v":0}]
[]
[]
[null,null,null,null,null,null,null,null,null,null,null,null,null,null,null,null,null,null,null,null,null,null,null,"شماره سند",{"$f":"C3156","v":15}]
[null,null,"پرداخت نقدی",null,null,null,null,null,"مبلغ قابل پرداخت",{"$f":"I3368-J3159+J3160+J3161","v":0},null,null,null,null,null,null,null,null,null,null,null,null,null,null,"خریدار:",{"$f":"D3160","v":"خسرو جهانشاهی"}]
[null,"شماره کاردکس","کد کالا","نام کالا","گروه بندی","قیمت واحد","درصد تخفیف","واحد شمارش","تعداد","قیمت کل",null,null,null,null,null,null,null,null,null,null,null,null,null,"ردیف","کد کالا","نام کالا","گروه بندی","قیمت واحد","واحد شمارش","تعداد","قیمت کل"]
[null,"کاردکس 6",{"$f":"'تعریف کالا'!$C$10","v":0},{"$f":"'تعریف کالا'!$D$10","v":0},{"$f":"'تعریف کالا'!$E$10","v":0},{"$f":"'تعریف کالا'!$G$10","v":0},null,{"$f":"'تعریف کالا'!$F$10","v":0},null,0,null,null,null,null,null,null,null,null,null,null,null,null,null,null,0,0,0,0,0,0,0]
[null,"کاردکس 15",{"$f":"'تعریف کالا'!$C$19","v":0},{"$f":"'تعریف کالا'!$D$19","v":0},{"$f":"'تعریف کالا'!$E$19","v":0},{"$f":"'تعریف کالا'!$G$19","v":0},null,{"$f":"'تعریف کالا'!$F$19","v":0},null,0,null,null,null,null,null,null,null,null,null,null,null,null,null,null,0,0,0,0,0,0,0]
[null,"کاردکس 18",{"$f":"'تعریف کالا'!$C$22","v":0},{"$f":"'تعریف کالا'!$D$22","v":0},{"$f":"'تعریف کالا'!$E$22","v":0},{"$f":"'تعریف کالا'!$G$22","v":0},null,{"$f":"'تعریف کالا'!$F$22","v":0},null,0,null,null,null,null,null,null,null,null,null,null,null,null,null,null,0,0,0,0,0,0,0]
[null,"کاردکس 24",{"$f":"'تعریف کالا'!$C$28","v":0},{"$f":"'تعریف کالا'!$D$28","v":0},{"$f":"'تعریف کالا'!$E$28","v":0},{"$f":"'تعریف کالا'!$G$28","v":0},null,{"$f":"'تعریف کالا'!$F$28","v":0},null,0,null,null,null,null,null,null,null,null,null,null,null,null,null,null,0,0,0,0,0,0,0]
[null,"کاردکس 30",{"$f":"'تعریف کالا'!$C$34","v":0},{"$f":"'تعریف کالا'!$D$34","v":0},{"$f":"'تعریف کالا'!$E$34","v":0},{"$f":"'تعریف کالا'!$G$34","v":0},null,{"$f":"'تعریف کالا'!$F$34","v":0},null,0,null,null,null,null,null,null,null,null,null,null,null,null,null,null,0,0,0,0,0,0,0]
[null,"کاردکس 35",{"$f":"'تعریف کالا'!$C$39","v":0},{"$f":"'تعریف کالا'!$D$39","v":0},{"$f":"'تعریف کالا'!$E$39","v":0},{"$f":"'تعریف کالا'!$G$39","v":0},null,{"$f":"'تعریف کالا'!$F$39","v":0},null,0,null,null,null,null,null,null,null,null,null,null,null,null,null,null,0,0,0,0,0,0,0]
[null,"کاردکس 42",{"$f":"'تعریف کالا'!$C$46","v":0},{"$f":"'تعریف کالا'!$D$46","v":0},{"$f":"'تعریف کالا'!$E$46","v":0},{"$f":"'تعریف کالا'!$G$46","v":0},null,{"$f":"'تعریف کالا'!$F$46","v":0},null,0,null,null,null,null,null,null,null,null,null,null,null,null,null,null,0,0,0,0,0,0,0]
[null,"کاردکس 44",{"$f":"'تعریف کالا'!$C$48","v":0},{"$f":"'تعریف کالا'!$D$48","v":0},{"$f":"'تعریف کالا'!$E$48","v":0},{"$f":"'تعریف کالا'!$G$48","v":0},null,{"$f":"'تعریف کالا'!$F$48","v":0},null,0,null,null,null,null,null,null,null,null,null,null,null,null,null,null,0,0,0,0,0,0,0]
[null,"کاردکس 53",{"$f":"'تعریف کالا'!$C$57","v":0},{"$f":"'تعریف کالا'!$D$57","v":0},{"$f":"'تعریف کالا'!$E$57","v":0},{"$f":"'تعریف کالا'!$G$57","v":0},null,{"$f":"'تعریف کالا'!$F$57","v":0},null,0,null,null,null,null,null,null,null,null,null,null,null,null,null,null,0,0,0,0,0,0,0]
[null,"کاردکس 59",{"$f":"'تعریف کالا'!$C$63","v":0},{"$f":"'تعریف کالا'!$D$63","v":0},{"$f":"'تعریف کالا'!$E$63","v":0},{"$f":"'تعریف کالا'!$G$63","v":0},null,{"$f":"'تعریف کالا'!$F$63","v":0},null,0,null,null,null,null,null,null,null,null,null,null,null,null,null,null,0,0,0,0,0,0,0]
[null,"کاردکس 60",{"$f":"'تعریف کالا'!$C$64","v":0},{"$f":"'تعریف کالا'!$D$64","v":0},{"$f":"'تعریف کالا'!$E$64","v":0},{"$f":"'تعریف کالا'!$G$64","v":0},null,{"$f":"'تعریف کالا'!$F$64","v":0},null,0,null,null,null,null,null,null,null,null,null,null,null,null,null,null,0,0,0,0,0,0,0]
[null,"کاردکس 68",{"$f":"'تعریف کالا'!$C$72","v":0},{"$f":"'تعریف کالا'!$D$72","v":0},{"$f":"'تعریف کالا'!$E$72","v":0},{"$f":"'تعریف کالا'!$G$72","v":0},null,{"$f":"'تعریف کالا'!$F$72","v":0},null,0,null,null,null,null,null,null,null,null,null,null,null,null,null,null,0,0,0,0,0,0,0]
[null,"کاردکس 72",{"$f":"'تعریف کالا'!$C$76","v":0},{"$f":"'تعریف کالا'!$D$76","v":0},{"$f":"'تعریف کالا'!$E$76","v":0},{"$f":"'تعریف کالا'!$G$76","v":0},null,{"$f":"'تعریف کالا'!$F$76","v":0},null,0,null,null,null,null,null,null,null,null,null,null,null,null,null,null,0,0,0,0,0,0,0]
[null,"کاردکس 79",{"$f":"'تعریف کالا'!$C$83","v":0},{"$f":"'تعریف کالا'!$D$83","v":0},{"$f":"'تعریف کالا'!$E$83","v":0},{"$f":"'تعریف کالا'!$G$83","v":0},null,{"$f":"'تعریف کالا'!$F$83","v":0},null,0,null,null,null,null,null,null,null,null,null,null,null,null,null,null,0,0,0,0,0,0,0]
[null,"کاردکس 84",{"$f":"'تعریف کالا'!$C$88","v":0},{"$f":"'تعریف کالا'!$D$88","v":0},{"$f":"'تعریف کالا'!$E$88","v":0},{"$f":"'تعریف کالا'!$G$88","v":0},null,{"$f":"'تعریف کالا'!$F$88","v":0},null,0,null,null,null,null,null,null,null,null,null,null,null,null,null,null,0,0,0,0,0,0,0]
[null,"کاردکس 88",{"$f":"'تعریف کالا'!$C$92","v":0},{"$f":"'تعریف کالا'!$D$92","v":0},{"$f":"'تعریف کالا'!$E$92","v":0},{"$f":"'تعریف کالا'!$G$92","v":0},null,{"$f":"'تعریف کالا'!$F$92","v":0},null,0,null,null,null,null,null,null,null,null,null,null,null,null,null,null,0,0,0,0,0,0,0]
[null,"کاردکس 95",{"$f":"'تعریف کالا'!$C$99","v":0},{"$f":"'تعریف کالا'!$D$99","v":0},{"$f":"'تعریف کالا'!$E$99","v":0},{"$f":"'تعریف کالا'!$G$99","v":0},null,{"$f":"'تعریف کالا'!$F$99","v":0},null,0,null,null,null,null,null,null,null,null,null,null,null,null,null,null,0,0,0,0,0,0,0]
[null,"کاردکس 103",{"$f":"'تعریف کالا'!$C$107","v":0},{"$f":"'تعریف کالا'!$D$107","v":0},{"$f":"'تعریف کالا'!$E$107","v":0},{"$f":"'تعریف کالا'!$G$107","v":0},null,{"$f":"'تعریف کالا'!$F$107","v":0},null,0,null,null,null,null,null,null,null,null,null,null,null,null,null,null,0,0,0,0,0,0,0]
[null,"کاردکس 107",{"$f":"'تعریف کالا'!$C$111","v":0},{"$f":"'تعریف کالا'!$D$111","v":0},{"$f":"'تعریف کالا'!$E$111","v":0},{"$f":"'تعریف کالا'!$G$111","v":0},null,{"$f":"'تعریف کالا'!$F$111","v":0},null,0,null,null,null,null,null,null,null,null,null,null,null,null,null,null,0,0,0,0,0,0,0]
[null,"کاردکس 112",{"$f":"'تعریف کالا'!$C$116","v":0},{"$f":"'تعریف کالا'!$D$116","v":0},{"$f":"'تعریف کالا'!$E$116","v":0},{"$f":"'تعریف کالا'!$G$116","v":0},null,{"$f":"'تعریف کالا'!$F$116","v":0},null,0,null,null,null,null,null,null,null,null,null,null,null,null,null,null,0,0,0,0,0,0,0]
[null,"کاردکس 119",{"$f":"'تعریف کالا'!$C$123","v":0},{"$f":"'تعریف کالا'!$D$123","v":0},{"$f":"'تعریف کالا'!$E$123","v":0},{"$f":"'تعریف کالا'!$G$123","v":0},null,{"$f":"'تعریف کالا'!$F$123","v":0},null,0,null,null,null,null,null,null,null,null,null,null,null,null,null,null,0,0,0,0,0,0,0]
[null,"کاردکس 123",{"$f":"'تعریف کالا'!$C$127","v":0},{"$f":"'تعریف کالا'!$D$127","v":0},{"$f":"'تعریف کالا'!$E$127","v":0},{"$f":"'تعریف کالا'!$G$127","v":0},null,{"$f":"'تعریف کالا'!$F$127","v":0},null,0,null,null,null,null,null,null,null,null,null,null,null,null,null,null,0,0,0,0,0,0,0]
[null,"کاردکس 126",{"$f":"'تعریف کالا'!$C$130","v":0},{"$f":"'تعریف کالا'!$D$130","v":0},{"$f":"'تعریف کالا'!$E$130","v":0},{"$f":"'تعریف کالا'!$G$130","v":0},null,{"$f":"'تعریف کالا'!$F$130","v":0},null,0,null,null,null,null,null,null,null,null,null,null,null,null,null,null,0,0,0,0,0,0,0]
[null,"کاردکس 132",{"$f":"'تعریف کالا'!$C$136","v":0},{"$f":"'تعریف کالا'!$D$136","v":0},{"$f":"'تعریف کالا'!$E$136","v":0},{"$f":"'تعریف کالا'!$G$136","v":0},null,{"$f":"'تعریف کالا'!$F$136","v":0},null,0,null,null,null,null,null,null,null,null,null,null,null,null,null,null,0,0,0,0,0,0,0]
[null,"کاردکس 138",{"$f":"'تعریف کالا'!$C$142","v":0},{"$f":"'تعریف کالا'!$D$142","v":0},{"$f":"'تعریف کالا'!$E$142","v":0},{"$f":"'تعریف کالا'!$G$142","v":0},null,{"$f":"'تعریف کالا'!$F$142","v":0},null,0,null,null,null,null,null,null,null,null,null,null,null,null,null,null,0,0,0,0,0,0,0]
[null,"کاردکس 147",{"$f":"'تعریف کالا'!$C$151","v":0},{"$f":"'تعریف کالا'!$D$151","v":0},{"$f":"'تعریف کالا'!$E$151","v":0},{"$f":"'تعریف کالا'!$G$151","v":0},null,{"$f":"'تعریف کالا'!$F$151","v":0},null,0,null,null,null,null,null,null,null,null,null,null,null,null,null,null,0,0,0,0,0,0,0]
[null,"کاردکس 149",{"$f":"'تعریف کالا'!$C$153","v":0},{"$f":"'تعریف کالا'!$D$153","v":0},{"$f":"'تعریف کالا'!$E$153","v":0},{"$f":"'تعریف کالا'!$G$153","v":0},null,{"$f":"'تعریف کالا'!$F$153","v":0},null,0,null,null,null,null,null,null,null,null,null,null,null,null,null,null,0,0,0,0,0,0,0]
[null,"کاردکس 156",{"$f":"'تعریف کالا'!$C$160","v":0},{"$f":"'تعریف کالا'!$D$160","v":0},{"$f":"'تعریف کالا'!$E$160","v":0},{"$f":"'تعریف کالا'!$G$160","v":0},null,{"$f":"'تعریف کالا'!$F$160","v":0},null,0,null,null,null,null,null,null,null,null,null,null,null,null,null,null,0,0,0,0,0,0,0]
[null,"کاردکس 161",{"$f":"'تعریف کالا'!$C$165","v":0},{"$f":"'تعریف کالا'!$D$165","v":0},{"$f":"'تعریف کالا'!$E$165","v":0},{"$f":"'تعریف کالا'!$G$165","v":0},null,{"$f":"'تعریف کالا'!$F$165","v":0},null,0,null,null,null,null,null,null,null,null,null,null,null,null,null,null,0,0,0,0,0,0,0]
[null,"کاردکس 167",{"$f":"'تعریف کالا'!$C$171","v":0},{"$f":"'تعریف کالا'!$D$171","v":0},{"$f":"'تعریف کالا'!$E$171","v":0},{"$f":"'تعریف کالا'!$G$171","v":0},null,{"$f":"'تعریف کالا'!$F$171","v":0},null,0,null,null,null,null,null,null,null,null,null,null,null,null,null,null,0,0,0,0,0,0,0]
[null,"کاردکس 173",{"$f":"'تعریف کالا'!$C$177","v":0},{"$f":"'تعریف کالا'!$D$177","v":0},{"$f":"'تعریف کالا'!$E$177","v":0},{"$f":"'تعریف کالا'!$G$177","v":0},null,{"$f":"'تعریف کالا'!$F$177","v":0},null,0,null,null,null,null,null,null,null,null,null,null,null,null,null,null,0,0,0,0,0,0,0]
[null,"کاردکس 176",{"$f":"'تعریف کالا'!$C$180","v":0},{"$f":"'تعریف کالا'!$D$180","v":0},{"$f":"'تعریف کالا'!$E$180","v":0},{"$f":"'تعریف کالا'!$G$180","v":0},null,{"$f":"'تعریف کالا'!$F$180","v":0},null,0,null,null,null,null,null,null,null,null,null,null,null,null,null,null,0,0,0,0,0,0,0]
[null,"کاردکس 185",{"$f":"'تعریف کالا'!$C$189","v":0},{"$f":"'تعریف کالا'!$D$189","v":0},{"$f":"'تعریف کالا'!$E$189","v":0},{"$f":"'تعریف کالا'!$G$189","v":0},null,{"$f":"'تعریف کالا'!$F$189","v":0},null,0,null,null,null,null,null,null,null,null,null,null,null,null,null,null,0,0,0,0,0,0,0]
[null,"کاردکس 191",{"$f":"'تعریف کالا'!$C$195","v":0},{"$f":"'تعریف کالا'!$D$195","v":0},{"$f":"'تعریف کالا'!$E$195","v":0},{"$f":"'تعریف کالا'!$G$195","v":0},null,{"$f":"'تعریف کالا'!$F$195","v":0},null,0,null,null,null,null,null,null,null,null,null,null,null,null,null,null,0,0,0,0,0,0,0]
[null,"کاردکس 196",{"$f":"'تعریف کالا'!$C$200","v":0},{"$f":"'تعریف کالا'!$D$200","v":0},{"$f":"'تعریف کالا'!$E$200","v":0},{"$f":"'تعریف کالا'!$G$200","v":0},null,{"$f":"'تعریف کالا'!$F$200","v":0},null,0,null,null,null,null,null,null,null,null,null,null,null,null,null,null,0,0,0,0,0,0,0]
[null,"کاردکس 200",{"$f":"'تعریف کالا'!$C$204","v":0},{"$f":"'تعریف کالا'!$D$204","v":0},{"$f":"'تعریف کالا'!$E$204","v":0},{"$f":"'تعریف کالا'!$G$204","v":0},null,{"$f":"'تعریف کالا'!$F$204","v":0},null,0,null,null,null,null,null,null,null,null,null,null,null,null,null,null,0,0,0,0,0,0,0]
[null,"مانده حساب",null,{"$f":"abh(I3370)&\"ریال\"","v":"منفي ریال"},null,null,null,null,{"$f":"J3163","v":0},null,null,null,null,null,null,null,null,null,null,null,null,null,null,"اقلام این فاکتور سالم تحویل اینجانب  ....................  شد.               "]
[]
[null,"شماره فاکتور",16,null,null,null,null,null,"انبار",null,null,"مشاهده حواله",null,null,null,null,null,null,null,null,null,null,null,"شماره حواله",{"$f":"C3382","v":16}]
[null,null,"پرداخت نقدی",null,null,null,null,null,"مبلغ قابل پرداخت",{"$f":"I3593-J3384+J3385+J3386","v":0},null,null,null,null,null,null,null,null,null,null,null,null,null,null,"خریدار:",{"$f":"D3385","v":"خسرو جهانشاهی"}]
[null,"کاردکس 2",{"$f":"'تعریف کالا'!$C$6","v":9011121},{"$f":"'تعریف کالا'!$D$6","v":"دی وی دی"},{"$f":"'تعریف کالا'!$E$6","v":"سخت افزار"},{"$f":"'تعریف کالا'!$G$6","v":7000},null,{"$f":"'تعریف کالا'!$F$6","v":"حلقه"},null,{"$f":"(F3394*I3394)-(F3394*I3394*G3394%)","v":0},null,null,null,null,null,null,null,null,null,null,null,null,null,null,{"$f":"C3394","v":9011121},{"$f":"D3394","v":"دی وی دی"},{"$f":"E3394","v":"سخت افزار"},{"$f":"F3394","v":7000},{"$f":"H3394","v":"حلقه"},{"$f":"I3394","v":0},{"$f":"J3394","v":0}]
[null,"کاردکس 10",{"$f":"'تعریف کالا'!$C$14","v":0},{"$f":"'تعریف کالا'!$D$14","v":0},{"$f":"'تعریف کالا'!$E$14","v":0},{"$f":"'تعریف کالا'!$G$14","v":0},null,{"$f":"'تعریف کالا'!$F$14","v":0},null,0,null,null,null,null,null,null,null,null,null,null,null,null,null,null,0,0,0,0,0,0,0]
[null,"کاردکس 13",{"$f":"'تعریف کالا'!$C$17","v":0},{"$f":"'تعریف کالا'!$D$17","v":0},{"$f":"'تعریف کالا'!$E$17","v":0},{"$f":"'تعریف کالا'!$G$17","v":0},null,{"$f":"'تعریف کالا'!$F$17","v":0},null,0,null,null,null,null,null,null,null,null,null,null,null,null,null,null,0,0,0,0,0,0,0]
[null,"کاردکس 19",{"$f":"'تعریف کالا'!$C$23","v":0},{"$f":"'تعریف کالا'!$D$23","v":0},{"$f":"'تعریف کالا'!$E$23","v":0},{"$f":"'تعریف کالا'!$G$23","v":0},null,{"$f":"'تعریف کالا'!$F$23","v":0},null,0,null,null,null,null,null,null,null,null,null,null,null,null,null,null,0,0,0,0,0,0,0]
[null,"کاردکس 25",{"$f":"'تعریف کالا'!$C$29","v":0},{"$f":"'تعریف کالا'!$D$29","v":0},{"$f":"'تعریف کالا'!$E$29","v":0},{"$f":"'تعریف کالا'!$G$29","v":0},null,{"$f":"'تعریف کالا'!$F$29","v":0},null,0,null,null,null,null,null,null,null,null,null,null,null,null,null,null,0,0,0,0,0,0,0]
[null,"کاردکس 28",{"$f":"'تعریف کالا'!$C$32","v":0},{"$f":"'تعریف کالا'!$D$32","v":0},{"$f":"'تعریف کالا'!$E$32","v":0},{"$f":"'تعریف کالا'!$G$32","v":0},null,{"$f":"'تعریف کالا'!$F$32","v":0},null,0,null,null,null,null,null,null,null,null,null,null,null,null,null,null,0,0,0,0,0,0,0]
[null,"کاردکس 37",{"$f":"'تعریف کالا'!$C$41","v":0},{"$f":"'تعریف کالا'!$D$41","v":0},{"$f":"'تعریف کالا'!$E$41","v":0},{"$f":"'تعریف کالا'!$G$41","v":0},null,{"$f":"'تعریف کالا'!$F$41","v":0},null,0,null,null,null,null,null,null,null,null,null,null,null,null,null,null,0,0,0,0,0,0,0]
[null,"کاردکس 39",{"$f":"'تعریف کالا'!$C$43","v":0},{"$f":"'تعریف کالا'!$D$43","v":0},{"$f":"'تعریف کالا'!$E$43","v":0},{"$f":"'تعریف کالا'!$G$43","v":0},null,{"$f":"'تعریف کالا'!$F$43","v":0},null,0,null,null,null,null,null,null,null,null,null,null,null,null,null,null,0,0,0,0,0,0,0]
[null,"کاردکس 44",{"$f":"'تعریف کالا'!$C$48","v":0},{"$f":"'تعریف کالا'!$D$48","v":0},{"$f":"'تعریف کالا'!$E$48","v":0},{"$f":"'تعریف کالا'!$G$48","v":0},null,{"$f":"'تعریف کالا'!$F$48","v":0},null,0,null,null,null,null,null,null,null,null,null,null,null,null,null,null,0,0,0,0,0,0,0]
[null,"کاردکس 54",{"$f":"'تعریف کالا'!$C$58","v":0},{"$f":"'تعریف کالا'!$D$58","v":0},{"$f":"'تعریف کالا'!$E$58","v":0},{"$f":"'تعریف کالا'!$G$58","v":0},null,{"$f":"'تعریف کالا'!$F$58","v":0},null,0,null,null,null,null,null,null,null,null,null,null,null,null,null,null,0,0,0,0,0,0,0]
[null,"کاردکس 55",{"$f":"'تعریف کالا'!$C$59","v":0},{"$f":"'تعریف کالا'!$D$59","v":0},{"$f":"'تعریف کالا'!$E$59","v":0},{"$f":"'تعریف کالا'!$G$59","v":0},null,{"$f":"'تعریف کالا'!$F$59","v":0},null,0,null,null,null,null,null,null,null,null,null,null,null,null,null,null,0,0,0,0,0,0,0]
[null,"کاردکس 63",{"$f":"'تعریف کالا'!$C$67","v":0},{"$f":"'تعریف کالا'!$D$67","v":0},{"$f":"'تعریف کالا'!$E$67","v":0},{"$f":"'تعریف کالا'!$G$67","v":0},null,{"$f":"'تعریف کالا'!$F$67","v":0},null,0,null,null,null,null,null,null,null,null,null,null,null,null,null,null,0,0,0,0,0,0,0]
[null,"کاردکس 67",{"$f":"'تعریف کالا'!$C$71","v":0},{"$f":"'تعریف کالا'!$D$71","v":0},{"$f":"'تعریف کالا'!$E$71","v":0},{"$f":"'تعریف کالا'!$G$71","v":0},null,{"$f":"'تعریف کالا'!$F$71","v":0},null,{"$f":"(F3459*I3459)-(F3459*I3459*G3459%)","v":0},null,null,null,null,null,null,null,null,null,null,null,null,null,null,{"$f":"C3459","v":0},0,0,0,0,0,0]
[null,"کاردکس 72",{"$f":"'تعریف کالا'!$C$76","v":0},{"$f":"'تعریف کالا'!$D$76","v":0},{"$f":"'تعریف کالا'!$E$76","v":0},{"$f":"'تعریف کالا'!$G$76","v":0},null,{"$f":"'تعریف کالا'!$F$76","v":0},null,0,null,null,null,null,null,null,null,null,null,null,null,null,null,null,0,0,0,0,0,0,0]
[null,"کاردکس 79",{"$f":"'تعریف کالا'!$C$83","v":0},{"$f":"'تعریف کالا'!$D$83","v":0},{"$f":"'تعریف کالا'!$E$83","v":0},{"$f":"'تعریف کالا'!$G$83","v":0},null,{"$f":"'تعریف کالا'!$F$83","v":0},null,0,null,null,null,null,null,null,null,null,null,null,null,null,null,null,0,0,0,0,0,0,0]
[null,"کاردکس 83",{"$f":"'تعریف کالا'!$C$87","v":0},{"$f":"'تعریف کالا'!$D$87","v":0},{"$f":"'تعریف کالا'!$E$87","v":0},{"$f":"'تعریف کالا'!$G$87","v":0},null,{"$f":"'تعریف کالا'!$F$87","v":0},null,0,null,null,null,null,null,null,null,null,null,null,null,null,null,null,0,0,0,0,0,0,0]
[null,"کاردکس 91",{"$f":"'تعریف کالا'!$C$95","v":0},{"$f":"'تعریف کالا'!$D$95","v":0},{"$f":"'تعریف کالا'!$E$95","v":0},{"$f":"'تعریف کالا'!$G$95","v":0},null,{"$f":"'تعریف کالا'!$F$95","v":0},null,0,null,null,null,null,null,null,null,null,null,null,null,null,null,null,0,0,0,0,0,0,0]
[null,"کاردکس 98",{"$f":"'تعریف کالا'!$C$102","v":0},{"$f":"'تعریف کالا'!$D$102","v":0},{"$f":"'تعریف کالا'!$E$102","v":0},{"$f":"'تعریف کالا'!$G$102","v":0},null,{"$f":"'تعریف کالا'!$F$102","v":0},null,0,null,null,null,null,null,null,null,null,null,null,null,null,null,null,0,0,0,0,0,0,0]
[null,"کاردکس 103",{"$f":"'تعریف کالا'!$C$107","v":0},{"$f":"'تعریف کالا'!$D$107","v":0},{"$f":"'تعریف کالا'!$E$107","v":0},{"$f":"'تعریف کالا'!$G$107","v":0},null,{"$f":"'تعریف کالا'!$F$107","v":0},null,0,null,null,null,null,null,null,null,null,null,null,null,null,null,null,0,0,0,0,0,0,0]
[null,"کاردکس 107",{"$f":"'تعریف کالا'!$C$111","v":0},{"$f":"'تعریف کالا'!$D$111","v":0},{"$f":"'تعریف کالا'!$E$111","v":0},{"$f":"'تعریف کالا'!$G$111","v":0},null,{"$f":"'تعریف کالا'!$F$111","v":0},null,0,null,null,null,null,null,null,null,null,null,null,null,null,null,null,0,0,0,0,0,0,0]
[null,"کاردکس 114",{"$f":"'تعریف کالا'!$C$118","v":0},{"$f":"'تعریف کالا'!$D$118","v":0},{"$f":"'تعریف کالا'!$E$118","v":0},{"$f":"'تعریف کالا'!$G$118","v":0},null,{"$f":"'تعریف کالا'!$F$118","v":0},null,0,null,null,null,null,null,null,null,null,null,null,null,null,null,null,0,0,0,0,0,0,0]
[null,"کاردکس 116",{"$f":"'تعریف کالا'!$C$120","v":0},{"$f":"'تعریف کالا'!$D$120","v":0},{"$f":"'تعریف کالا'!$E$120","v":0},{"$f":"'تعریف کالا'!$G$120","v":0},null,{"$f":"'تعریف کالا'!$F$120","v":0},null,0,null,null,null,null,null,null,null,null,null,null,null,null,null,null,0,0,0,0,0,0,0]
[null,"کاردکس 121",{"$f":"'تعریف کالا'!$C$125","v":0},{"$f":"'تعریف کالا'!$D$125","v":0},{"$f":"'تعریف کالا'!$E$125","v":0},{"$f":"'تعریف کالا'!$G$125","v":0},null,{"$f":"'تعریف کالا'!$F$125","v":0},null,0,null,null,null,null,null,null,null,null,null,null,null,null,null,null,0,0,0,0,0,0,0]
[null,"کاردکس 127",{"$f":"'تعریف کالا'!$C$131","v":0},{"$f":"'تعریف کالا'!$D$131","v":0},{"$f":"'تعریف کالا'!$E$131","v":0},{"$f":"'تعریف کالا'!$G$131","v":0},null,{"$f":"'تعریف کالا'!$F$131","v":0},null,0,null,null,null,null,null,null,null,null,null,null,null,null,null,null,0,0,0,0,0,0,0]
[null,"کاردکس 133",{"$f":"'تعریف کالا'!$C$137","v":0},{"$f":"'تعریف کالا'!$D$137","v":0},{"$f":"'تعریف کالا'!$E$137","v":0},{"$f":"'تعریف کالا'!$G$137","v":0},null,{"$f":"'تعریف کالا'!$F$137","v":0},null,0,null,null,null,null,null,null,null,null,null,null,null,null,null,null,0,0,0,0,0,0,0]
[null,"کاردکس 142",{"$f":"'تعریف کالا'!$C$146","v":0},{"$f":"'تعریف کالا'!$D$146","v":0},{"$f":"'تعریف کالا'!$E$146","v":0},{"$f":"'تعریف کالا'!$G$146","v":0},null,{"$f":"'تعریف کالا'!$F$146","v":0},null,0,null,null,null,null,null,null,null,null,null,null,null,null,null,null,0,0,0,0,0,0,0]
[null,"کاردکس 145",{"$f":"'تعریف کالا'!$C$149","v":0},{"$f":"'تعریف کالا'!$D$149","v":0},{"$f":"'تعریف کالا'!$E$149","v":0},{"$f":"'تعریف کالا'!$G$149","v":0},null,{"$f":"'تعریف کالا'!$F$149","v":0},null,0,null,null,null,null,null,null,null,null,null,null,null,null,null,null,0,0,0,0,0,0,0]
[null,"کاردکس 151",{"$f":"'تعریف کالا'!$C$155","v":0},{"$f":"'تعریف کالا'!$D$155","v":0},{"$f":"'تعریف کالا'!$E$155","v":0},{"$f":"'تعریف کالا'!$G$155","v":0},null,{"$f":"'تعریف کالا'!$F$155","v":0},null,0,null,null,null,null,null,null,null,null,null,null,null,null,null,null,0,0,0,0,0,0,0]
[null,"کاردکس 156",{"$f":"'تعریف کالا'!$C$160","v":0},{"$f":"'تعریف کالا'!$D$160","v":0},{"$f":"'تعریف کالا'!$E$160","v":0},{"$f":"'تعریف کالا'!$G$160","v":0},null,{"$f":"'تعریف کالا'!$F$160","v":0},null,0,null,null,null,null,null,null,null,null,null,null,null,null,null,null,0,0,0,0,0,0,0]
[null,"کاردکس 160",{"$f":"'تعریف کالا'!$C$164","v":0},{"$f":"'تعریف کالا'!$D$164","v":0},{"$f":"'تعریف کالا'!$E$164","v":0},{"$f":"'تعریف کالا'!$G$164","v":0},null,{"$f":"'تعریف کالا'!$F$164","v":0},null,0,null,null,null,null,null,null,null,null,null,null,null,null,null,null,0,0,0,0,0,0,0]
[null,"کاردکس 168",{"$f":"'تعریف کالا'!$C$172","v":0},{"$f":"'تعریف کالا'!$D$172","v":0},{"$f":"'تعریف کالا'!$E$172","v":0},{"$f":"'تعریف کالا'!$G$172","v":0},null,{"$f":"'تعریف کالا'!$F$172","v":0},null,0,null,null,null,null,null,null,null,null,null,null,null,null,null,null,0,0,0,0,0,0,0]
[null,"کاردکس 171",{"$f":"'تعریف کالا'!$C$175","v":0},{"$f":"'تعریف کالا'!$D$175","v":0},{"$f":"'تعریف کالا'!$E$175","v":0},{"$f":"'تعریف کالا'!$G$175","v":0},null,{"$f":"'تعریف کالا'!$F$175","v":0},null,0,null,null,null,null,null,null,null,null,null,null,null,null,null,null,0,0,0,0,0,0,0]
[null,"کاردکس 180",{"$f":"'تعریف کالا'!$C$184","v":0},{"$f":"'تعریف کالا'!$D$184","v":0},{"$f":"'تعریف کالا'!$E$184","v":0},{"$f":"'تعریف کالا'!$G$184","v":0},null,{"$f":"'تعریف کالا'!$F$184","v":0},null,0,null,null,null,null,null,null,null,null,null,null,null,null,null,null,0,0,0,0,0,0,0]
[null,"کاردکس 186",{"$f":"'تعریف کالا'!$C$190","v":0},{"$f":"'تعریف کالا'!$D$190","v":0},{"$f":"'تعریف کالا'!$E$190","v":0},{"$f":"'تعریف کالا'!$G$190","v":0},null,{"$f":"'تعریف کالا'!$F$190","v":0},null,0,null,null,null,null,null,null,null,null,null,null,null,null,null,null,0,0,0,0,0,0,0]
[null,"کاردکس 187",{"$f":"'تعریف کالا'!$C$191","v":0},{"$f":"'تعریف کالا'!$D$191","v":0},{"$f":"'تعریف کالا'!$E$191","v":0},{"$f":"'تعریف کالا'!$G$191","v":0},null,{"$f":"'تعریف کالا'!$F$191","v":0},null,0,null,null,null,null,null,null,null,null,null,null,null,null,null,null,0,0,0,0,0,0,0]
[null,"کاردکس 195",{"$f":"'تعریف کالا'!$C$199","v":0},{"$f":"'تعریف کالا'!$D$199","v":0},{"$f":"'تعریف کالا'!$E$199","v":0},{"$f":"'تعریف کالا'!$G$199","v":0},null,{"$f":"'تعریف کالا'!$F$199","v":0},null,{"$f":"(F3587*I3587)-(F3587*I3587*G3587%)","v":0},null,null,null,null,null,null,null,null,null,null,null,null,null,null,{"$f":"C3587","v":0},0,0,0,0,0,0]
[null,"کاردکس 198",{"$f":"'تعریف کالا'!$C$202","v":0},{"$f":"'تعریف کالا'!$D$202","v":0},{"$f":"'تعریف کالا'!$E$202","v":0},{"$f":"'تعریف کالا'!$G$202","v":0},null,{"$f":"'تعریف کالا'!$F$202","v":0},null,0,null,null,null,null,null,null,null,null,null,null,null,null,null,null,0,0,0,0,0,0,0]
[]
[]
[null,null,null,null,null,"          مالیات",null,null,"مالیات",{"$f":"(I3818-J3609+J3610)*G3611%","v":0}]
[null,null,null,null,null,null,null,null,null,null,null,null,null,null,null,null,null,null,null,null,null,null,null,null,"آدرس :",{"$f":"VLOOKUP(Z3612,'مشخصات مشتریان'!$C$2:$D$502,2,FALSE)","v":0}]
[null,"کاردکس 5",{"$f":"'تعریف کالا'!$C$9","v":0},{"$f":"'تعریف کالا'!$D$9","v":0},{"$f":"'تعریف کالا'!$E$9","v":0},{"$f":"'تعریف کالا'!$G$9","v":0},null,{"$f":"'تعریف کالا'!$F$9","v":0},null,0,null,null,null,null,null,null,null,null,null,null,null,null,null,null,0,0,0,0,0,0,0]
[null,"کاردکس 9",{"$f":"'تعریف کالا'!$C$13","v":0},{"$f":"'تعریف کالا'!$D$13","v":0},{"$f":"'تعریف کالا'!$E$13","v":0},{"$f":"'تعریف کالا'!$G$13","v":0},null,{"$f":"'تعریف کالا'!$F$13","v":0},null,0,null,null,null,null,null,null,null,null,null,null,null,null,null,null,0,0,0,0,0,0,0]
[null,"کاردکس 14",{"$f":"'تعریف کالا'!$C$18","v":0},{"$f":"'تعریف کالا'!$D$18","v":0},{"$f":"'تعریف کالا'!$E$18","v":0},{"$f":"'تعریف کالا'!$G$18","v":0},null,{"$f":"'تعریف کالا'!$F$18","v":0},null,0,null,null,null,null,null,null,null,null,null,null,null,null,null,null,0,0,0,0,0,0,0]
[null,"کاردکس 20",{"$f":"'تعریف کالا'!$C$24","v":0},{"$f":"'تعریف کالا'!$D$24","v":0},{"$f":"'تعریف کالا'!$E$24","v":0},{"$f":"'تعریف کالا'!$G$24","v":0},null,{"$f":"'تعریف کالا'!$F$24","v":0},null,0,null,null,null,null,null,null,null,null,null,null,null,null,null,null,0,0,0,0,0,0,0]
[null,"کاردکس 23",{"$f":"'تعریف کالا'!$C$27","v":0},{"$f":"'تعریف کالا'!$D$27","v":0},{"$f":"'تعریف کالا'!$E$27","v":0},{"$f":"'تعریف کالا'!$G$27","v":0},null,{"$f":"'تعریف کالا'!$F$27","v":0},null,0,null,null,null,null,null,null,null,null,null,null,null,null,null,null,0,0,0,0,0,0,0]
[null,"کاردکس 32",{"$f":"'تعریف کالا'!$C$36","v":0},{"$f":"'تعریف کالا'!$D$36","v":0},{"$f":"'تعریف کالا'!$E$36","v":0},{"$f":"'تعریف کالا'!$G$36","v":0},null,{"$f":"'تعریف کالا'!$F$36","v":0},null,0,null,null,null,null,null,null,null,null,null,null,null,null,null,null,0,0,0,0,0,0,0]
[null,"کاردکس 38",{"$f":"'تعریف کالا'!$C$42","v":0},{"$f":"'تعریف کالا'!$D$42","v":0},{"$f":"'تعریف کالا'!$E$42","v":0},{"$f":"'تعریف کالا'!$G$42","v":0},null,{"$f":"'تعریف کالا'!$F$42","v":0},null,0,null,null,null,null,null,null,null,null,null,null,null,null,null,null,0,0,0,0,0,0,0]
[null,"کاردکس 39",{"$f":"'تعریف کالا'!$C$43","v":0},{"$f":"'تعریف کالا'!$D$43","v":0},{"$f":"'تعریف کالا'!$E$43","v":0},{"$f":"'تعریف کالا'!$G$43","v":0},null,{"$f":"'تعریف کالا'!$F$43","v":0},null,0,null,null,null,null,null,null,null,null,null,null,null,null,null,null,0,0,0,0,0,0,0]
[null,"کاردکس 49",{"$f":"'تعریف کالا'!$C$53","v":0},{"$f":"'تعریف کالا'!$D$53","v":0},{"$f":"'تعریف کالا'!$E$53","v":0},{"$f":"'تعریف کالا'!$G$53","v":0},null,{"$f":"'تعریف کالا'!$F$53","v":0},null,0,null,null,null,null,null,null,null,null,null,null,null,null,null,null,0,0,0,0,0,0,0]
[null,"کاردکس 51",{"$f":"'تعریف کالا'!$C$55","v":0},{"$f":"'تعریف کالا'!$D$55","v":0},{"$f":"'تعریف کالا'!$E$55","v":0},{"$f":"'تعریف کالا'!$G$55","v":0},null,{"$f":"'تعریف کالا'!$F$55","v":0},null,0,null,null,null,null,null,null,null,null,null,null,null,null,null,null,0,0,0,0,0,0,0]
[null,"کاردکس 58",{"$f":"'تعریف کالا'!$C$62","v":0},{"$f":"'تعریف کالا'!$D$62","v":0},{"$f":"'تعریف کالا'!$E$62","v":0},{"$f":"'تعریف کالا'!$G$62","v":0},null,{"$f":"'تعریف کالا'!$F$62","v":0},null,0,null,null,null,null,null,null,null,null,null,null,null,null,null,null,0,0,0,0,0,0,0]
[null,"کاردکس 63",{"$f":"'تعریف کالا'!$C$67","v":0},{"$f":"'تعریف کالا'!$D$67","v":0},{"$f":"'تعریف کالا'!$E$67","v":0},{"$f":"'تعریف کالا'!$G$67","v":0},null,{"$f":"'تعریف کالا'!$F$67","v":0},null,0,null,null,null,null,null,null,null,null,null,null,null,null,null,null,0,0,0,0,0,0,0]
[null,"کاردکس 67",{"$f":"'تعریف کالا'!$C$71","v":0},{"$f":"'تعریف کالا'!$D$71","v":0},{"$f":"'تعریف کالا'!$E$71","v":0},{"$f":"'تعریف کالا'!$G$71","v":0},null,{"$f":"'تعریف کالا'!$F$71","v":0},null,{"$f":"(F3684*I3684)-(F3684*I3684*G3684%)","v":0},null,null,null,null,null,null,null,null,null,null,null,null,null,null,{"$f":"C3684","v":0},0,0,0,0,0,0]
[null,"کاردکس 74",{"$f":"'تعریف کالا'!$C$78","v":0},{"$f":"'تعریف کالا'!$D$78","v":0},{"$f":"'تعریف کالا'!$E$78","v":0},{"$f":"'تعریف کالا'!$G$78","v":0},null,{"$f":"'تعریف کالا'!$F$78","v":0},null,0,null,null,null,null,null,null,null,null,null,null,null,null,null,null,0,0,0,0,0,0,0]
[null,"کاردکس 82",{"$f":"'تعریف کالا'!$C$86","v":0},{"$f":"'تعریف کالا'!$D$86","v":0},{"$f":"'تعریف کالا'!$E$86","v":0},{"$f":"'تعریف کالا'!$G$86","v":0},null,{"$f":"'تعریف کالا'!$F$86","v":0},null,0,null,null,null,null,null,null,null,null,null,null,null,null,null,null,0,0,0,0,0,0,0]
[null,"کاردکس 86",{"$f":"'تعریف کالا'!$C$90","v":0},{"$f":"'تعریف کالا'!$D$90","v":0},{"$f":"'تعریف کالا'!$E$90","v":0},{"$f":"'تعریف کالا'!$G$90","v":0},null,{"$f":"'تعریف کالا'!$F$90","v":0},null,0,null,null,null,null,null,null,null,null,null,null,null,null,null,null,0,0,0,0,0,0,0]
[null,"کاردکس 93",{"$f":"'تعریف کالا'!$C$97","v":0},{"$f":"'تعریف کالا'!$D$97","v":0},{"$f":"'تعریف کالا'!$E$97","v":0},{"$f":"'تعریف کالا'!$G$97","v":0},null,{"$f":"'تعریف کالا'!$F$97","v":0},null,0,null,null,null,null,null,null,null,null,null,null,null,null,null,null,0,0,0,0,0,0,0]
[null,"کاردکس 98",{"$f":"'تعریف کالا'!$C$102","v":0},{"$f":"'تعریف کالا'!$D$102","v":0},{"$f":"'تعریف کالا'!$E$102","v":0},{"$f":"'تعریف کالا'!$G$102","v":0},null,{"$f":"'تعریف کالا'!$F$102","v":0},null,0,null,null,null,null,null,null,null,null,null,null,null,null,null,null,0,0,0,0,0,0,0]
[null,"کاردکس 102",{"$f":"'تعریف کالا'!$C$106","v":0},{"$f":"'تعریف کالا'!$D$106","v":0},{"$f":"'تعریف کالا'!$E$106","v":0},{"$f":"'تعریف کالا'!$G$106","v":0},null,{"$f":"'تعریف کالا'!$F$106","v":0},null,0,null,null,null,null,null,null,null,null,null,null,null,null,null,null,0,0,0,0,0,0,0]
[null,"کاردکس 105",{"$f":"'تعریف کالا'!$C$109","v":0},{"$f":"'تعریف کالا'!$D$109","v":0},{"$f":"'تعریف کالا'!$E$109","v":0},{"$f":"'تعریف کالا'!$G$109","v":0},null,{"$f":"'تعریف کالا'!$F$109","v":0},null,0,null,null,null,null,null,null,null,null,null,null,null,null,null,null,0,0,0,0,0,0,0]
[null,"کاردکس 111",{"$f":"'تعریف کالا'!$C$115","v":0},{"$f":"'تعریف کالا'!$D$115","v":0},{"$f":"'تعریف کالا'!$E$115","v":0},{"$f":"'تعریف کالا'!$G$115","v":0},null,{"$f":"'تعریف کالا'!$F$115","v":0},null,0,null,null,null,null,null,null,null,null,null,null,null,null,null,null,0,0,0,0,0,0,0]
[null,"کاردکس 116",{"$f":"'تعریف کالا'!$C$120","v":0},{"$f":"'تعریف کالا'!$D$120","v":0},{"$f":"'تعریف کالا'!$E$120","v":0},{"$f":"'تعریف کالا'!$G$120","v":0},null,{"$f":"'تعریف کالا'!$F$120","v":0},null,0,null,null,null,null,null,null,null,null,null,null,null,null,null,null,0,0,0,0,0,0,0]
[null,"کاردکس 126",{"$f":"'تعریف کالا'!$C$130","v":0},{"$f":"'تعریف کالا'!$D$130","v":0},{"$f":"'تعریف کالا'!$E$130","v":0},{"$f":"'تعریف کالا'!$G$130","v":0},null,{"$f":"'تعریف کالا'!$F$130","v":0},null,0,null,null,null,null,null,null,null,null,null,null,null,null,null,null,0,0,0,0,0,0,0]
[null,"کاردکس 128",{"$f":"'تعریف کالا'!$C$132","v":0},{"$f":"'تعریف کالا'!$D$132","v":0},{"$f":"'تعریف کالا'!$E$132","v":0},{"$f":"'تعریف کالا'!$G$132","v":0},null,{"$f":"'تعریف کالا'!$F$132","v":0},null,0,null,null,null,null,null,null,null,null,null,null,null,null,null,null,0,0,0,0,0,0,0]
[null,"کاردکس 133",{"$f":"'تعریف کالا'!$C$137","v":0},{"$f":"'تعریف کالا'!$D$137","v":0},{"$f":"'تعریف کالا'!$E$137","v":0},{"$f":"'تعریف کالا'!$G$137","v":0},null,{"$f":"'تعریف کالا'!$F$137","v":0},null,0,null,null,null,null,null,null,null,null,null,null,null,null,null,null,0,0,0,0,0,0,0]
[null,"کاردکس 137",{"$f":"'تعریف کالا'!$C$141","v":0},{"$f":"'تعریف کالا'!$D$141","v":0},{"$f":"'تعریف کالا'!$E$141","v":0},{"$f":"'تعریف کالا'!$G$141","v":0},null,{"$f":"'تعریف کالا'!$F$141","v":0},null,0,null,null,null,null,null,null,null,null,null,null,null,null,null,null,0,0,0,0,0,0,0]
[null,"کاردکس 145",{"$f":"'تعریف کالا'!$C$149","v":0},{"$f":"'تعریف کالا'!$D$149","v":0},{"$f":"'تعریف کالا'!$E$149","v":0},{"$f":"'تعریف کالا'!$G$149","v":0},null,{"$f":"'تعریف کالا'!$F$149","v":0},null,0,null,null,null,null,null,null,null,null,null,null,null,null,null,null,0,0,0,0,0,0,0]
[null,"کاردکس 152",{"$f":"'تعریف کالا'!$C$156","v":0},{"$f":"'تعریف کالا'!$D$156","v":0},{"$f":"'تعریف کالا'!$E$156","v":0},{"$f":"'تعریف کالا'!$G$156","v":0},null,{"$f":"'تعریف کالا'!$F$156","v":0},null,0,null,null,null,null,null,null,null,null,null,null,null,null,null,null,0,0,0,0,0,0,0]
[null,"کاردکس 157",{"$f":"'تعریف کالا'!$C$161","v":0},{"$f":"'تعریف کالا'!$D$161","v":0},{"$f":"'تعریف کالا'!$E$161","v":0},{"$f":"'تعریف کالا'!$G$161","v":0},null,{"$f":"'تعریف کالا'!$F$161","v":0},null,0,null,null,null,null,null,null,null,null,null,null,null,null,null,null,0,0,0,0,0,0,0]
[null,"کاردکس 163",{"$f":"'تعریف کالا'!$C$167","v":0},{"$f":"'تعریف کالا'!$D$167","v":0},{"$f":"'تعریف کالا'!$E$167","v":0},{"$f":"'تعریف کالا'!$G$167","v":0},null,{"$f":"'تعریف کالا'!$F$167","v":0},null,0,null,null,null,null,null,null,null,null,null,null,null,null,null,null,0,0,0,0,0,0,0]
[null,"کاردکس 169",{"$f":"'تعریف کالا'!$C$173","v":0},{"$f":"'تعریف کالا'!$D$173","v":0},{"$f":"'تعریف کالا'!$E$173","v":0},{"$f":"'تعریف کالا'!$G$173","v":0},null,{"$f":"'تعریف کالا'!$F$173","v":0},null,0,null,null,null,null,null,null,null,null,null,null,null,null,null,null,0,0,0,0,0,0,0]
[null,"کاردکس 172",{"$f":"'تعریف کالا'!$C$176","v":0},{"$f":"'تعریف کالا'!$D$176","v":0},{"$f":"'تعریف کالا'!$E$176","v":0},{"$f":"'تعریف کالا'!$G$176","v":0},null,{"$f":"'تعریف کالا'!$F$176","v":0},null,0,null,null,null,null,null,null,null,null,null,null,null,null,null,null,0,0,0,0,0,0,0]
[null,"کاردکس 176",{"$f":"'تعریف کالا'!$C$180","v":0},{"$f":"'تعریف کالا'!$D$180","v":0},{"$f":"'تعریف کالا'!$E$180","v":0},{"$f":"'تعریف کالا'!$G$180","v":0},null,{"$f":"'تعریف کالا'!$F$180","v":0},null,0,null,null,null,null,null,null,null,null,null,null,null,null,null,null,0,0,0,0,0,0,0]
[null,"کاردکس 181",{"$f":"'تعریف کالا'!$C$185","v":0},{"$f":"'تعریف کالا'!$D$185","v":0},{"$f":"'تعریف کالا'!$E$185","v":0},{"$f":"'تعریف کالا'!$G$185","v":0},null,{"$f":"'تعریف کالا'!$F$185","v":0},null,0,null,null,null,null,null,null,null,null,null,null,null,null,null,null,0,0,0,0,0,0,0]
[null,"کاردکس 187",{"$f":"'تعریف کالا'!$C$191","v":0},{"$f":"'تعریف کالا'!$D$191","v":0},{"$f":"'تعریف کالا'!$E$191","v":0},{"$f":"'تعریف کالا'!$G$191","v":0},null,{"$f":"'تعریف کالا'!$F$191","v":0},null,0,null,null,null,null,null,null,null,null,null,null,null,null,null,null,0,0,0,0,0,0,0]
[null,"کاردکس 196",{"$f":"'تعریف کالا'!$C$200","v":0},{"$f":"'تعریف کالا'!$D$200","v":0},{"$f":"'تعریف کالا'!$E$200","v":0},{"$f":"'تعریف کالا'!$G$200","v":0},null,{"$f":"'تعریف کالا'!$F$200","v":0},null,0,null,null,null,null,null,null,null,null,null,null,null,null,null,null,0,0,0,0,0,0,0]
[null,"کاردکس 199",{"$f":"'تعریف کالا'!$C$203","v":0},{"$f":"'تعریف کالا'!$D$203","v":0},{"$f":"'تعریف کالا'!$E$203","v":0},{"$f":"'تعریف کالا'!$G$203","v":0},null,{"$f":"'تعریف کالا'!$F$203","v":0},null,0,null,null,null,null,null,null,null,null,null,null,null,null,null,null,0,0,0,0,0,0,0]
[]
[]
[null,null,null,null,null,null,null,null,null,null,null,null,null,null,null,null,null,null,null,null,null,null,null,"شماره سند",{"$f":"C3831","v":18}]
[null,null,"ثبت چک","شرح رویداد"]
[null,"شماره کاردکس","کد کالا","نام کالا","گروه بندی","قیمت واحد","درصد تخفیف","واحد شمارش","تعداد","قیمت کل",null,null,null,null,null,null,null,null,null,null,null,null,null,"ردیف","کد کالا","نام کالا","گروه بندی","قیمت واحد","واحد شمارش","تعداد","قیمت کل"]
[null,"کاردکس 9",{"$f":"'تعریف کالا'!$C$13","v":0},{"$f":"'تعریف کالا'!$D$13","v":0},{"$f":"'تعریف کالا'!$E$13","v":0},{"$f":"'تعریف کالا'!$G$13","v":0},null,{"$f":"'تعریف کالا'!$F$13","v":0},null,0,null,null,null,null,null,null,null,null,null,null,null,null,null,null,0,0,0,0,0,0,0]
[null,"کاردکس 15",{"$f":"'تعریف کالا'!$C$19","v":0},{"$f":"'تعریف کالا'!$D$19","v":0},{"$f":"'تعریف کالا'!$E$19","v":0},{"$f":"'تعریف کالا'!$G$19","v":0},null,{"$f":"'تعریف کالا'!$F$19","v":0},null,0,null,null,null,null,null,null,null,null,null,null,null,null,null,null,0,0,0,0,0,0,0]
[null,"کاردکس 21",{"$f":"'تعریف کالا'!$C$25","v":0},{"$f":"'تعریف کالا'!$D$25","v":0},{"$f":"'تعریف کالا'!$E$25","v":0},{"$f":"'تعریف کالا'!$G$25","v":0},null,{"$f":"'تعریف کالا'!$F$25","v":0},null,0,null,null,null,null,null,null,null,null,null,null,null,null,null,null,0,0,0,0,0,0,0]
[null,"کاردکس 24",{"$f":"'تعریف کالا'!$C$28","v":0},{"$f":"'تعریف کالا'!$D$28","v":0},{"$f":"'تعریف کالا'!$E$28","v":0},{"$f":"'تعریف کالا'!$G$28","v":0},null,{"$f":"'تعریف کالا'!$F$28","v":0},null,0,null,null,null,null,null,null,null,null,null,null,null,null,null,null,0,0,0,0,0,0,0]
[null,"کاردکس 28",{"$f":"'تعریف کالا'!$C$32","v":0},{"$f":"'تعریف کالا'!$D$32","v":0},{"$f":"'تعریف کالا'!$E$32","v":0},{"$f":"'تعریف کالا'!$G$32","v":0},null,{"$f":"'تعریف کالا'!$F$32","v":0},null,0,null,null,null,null,null,null,null,null,null,null,null,null,null,null,0,0,0,0,0,0,0]
[null,"کاردکس 35",{"$f":"'تعریف کالا'!$C$39","v":0},{"$f":"'تعریف کالا'!$D$39","v":0},{"$f":"'تعریف کالا'!$E$39","v":0},{"$f":"'تعریف کالا'!$G$39","v":0},null,{"$f":"'تعریف کالا'!$F$39","v":0},null,0,null,null,null,null,null,null,null,null,null,null,null,null,null,null,0,0,0,0,0,0,0]
[null,"کاردکس 40",{"$f":"'تعریف کالا'!$C$44","v":0},{"$f":"'تعریف کالا'!$D$44","v":0},{"$f":"'تعریف کالا'!$E$44","v":0},{"$f":"'تعریف کالا'!$G$44","v":0},null,{"$f":"'تعریف کالا'!$F$44","v":0},null,0,null,null,null,null,null,null,null,null,null,null,null,null,null,null,0,0,0,0,0,0,0]
[null,"کاردکس 44",{"$f":"'تعریف کالا'!$C$48","v":0},{"$f":"'تعریف کالا'!$D$48","v":0},{"$f":"'تعریف کالا'!$E$48","v":0},{"$f":"'تعریف کالا'!$G$48","v":0},null,{"$f":"'تعریف کالا'!$F$48","v":0},null,0,null,null,null,null,null,null,null,null,null,null,null,null,null,null,0,0,0,0,0,0,0]
[null,"کاردکس 51",{"$f":"'تعریف کالا'!$C$55","v":0},{"$f":"'تعریف کالا'!$D$55","v":0},{"$f":"'تعریف کالا'!$E$55","v":0},{"$f":"'تعریف کالا'!$G$55","v":0},null,{"$f":"'تعریف کالا'!$F$55","v":0},null,0,null,null,null,null,null,null,null,null,null,null,null,null,null,null,0,0,0,0,0,0,0]
[null,"کاردکس 59",{"$f":"'تعریف کالا'!$C$63","v":0},{"$f":"'تعریف کالا'!$D$63","v":0},{"$f":"'تعریف کالا'!$E$63","v":0},{"$f":"'تعریف کالا'!$G$63","v":0},null,{"$f":"'تعریف کالا'!$F$63","v":0},null,0,null,null,null,null,null,null,null,null,null,null,null,null,null,null,0,0,0,0,0,0,0]
[null,"کاردکس 63",{"$f":"'تعریف کالا'!$C$67","v":0},{"$f":"'تعریف کالا'!$D$67","v":0},{"$f":"'تعریف کالا'!$E$67","v":0},{"$f":"'تعریف کالا'!$G$67","v":0},null,{"$f":"'تعریف کالا'!$F$67","v":0},null,0,null,null,null,null,null,null,null,null,null,null,null,null,null,null,0,0,0,0,0,0,0]
[null,"کاردکس 68",{"$f":"'تعریف کالا'!$C$72","v":0},{"$f":"'تعریف کالا'!$D$72","v":0},{"$f":"'تعریف کالا'!$E$72","v":0},{"$f":"'تعریف کالا'!$G$72","v":0},null,{"$f":"'تعریف کالا'!$F$72","v":0},null,0,null,null,null,null,null,null,null,null,null,null,null,null,null,null,0,0,0,0,0,0,0]
[null,"کاردکس 75",{"$f":"'تعریف کالا'!$C$79","v":0},{"$f":"'تعریف کالا'!$D$79","v":0},{"$f":"'تعریف کالا'!$E$79","v":0},{"$f":"'تعریف کالا'!$G$79","v":0},null,{"$f":"'تعریف کالا'!$F$79","v":0},null,0,null,null,null,null,null,null,null,null,null,null,null,null,null,null,0,0,0,0,0,0,0]
[null,"کاردکس 79",{"$f":"'تعریف کالا'!$C$83","v":0},{"$f":"'تعریف کالا'!$D$83","v":0},{"$f":"'تعریف کالا'!$E$83","v":0},{"$f":"'تعریف کالا'!$G$83","v":0},null,{"$f":"'تعریف کالا'!$F$83","v":0},null,0,null,null,null,null,null,null,null,null,null,null,null,null,null,null,0,0,0,0,0,0,0]
[null,"کاردکس 87",{"$f":"'تعریف کالا'!$C$91","v":0},{"$f":"'تعریف کالا'!$D$91","v":0},{"$f":"'تعریف کالا'!$E$91","v":0},{"$f":"'تعریف کالا'!$G$91","v":0},null,{"$f":"'تعریف کالا'!$F$91","v":0},null,0,null,null,null,null,null,null,null,null,null,null,null,null,null,null,0,0,0,0,0,0,0]
[null,"کاردکس 88",{"$f":"'تعریف کالا'!$C$92","v":0},{"$f":"'تعریف کالا'!$D$92","v":0},{"$f":"'تعریف کالا'!$E$92","v":0},{"$f":"'تعریف کالا'!$G$92","v":0},null,{"$f":"'تعریف کالا'!$F$92","v":0},null,0,null,null,null,null,null,null,null,null,null,null,null,null,null,null,0,0,0,0,0,0,0]
[null,"کاردکس 98",{"$f":"'تعریف کالا'!$C$102","v":0},{"$f":"'تعریف کالا'!$D$102","v":0},{"$f":"'تعریف کالا'!$E$102","v":0},{"$f":"'تعریف کالا'!$G$102","v":0},null,{"$f":"'تعریف کالا'!$F$102","v":0},null,0,null,null,null,null,null,null,null,null,null,null,null,null,null,null,0,0,0,0,0,0,0]
[null,"کاردکس 103",{"$f":"'تعریف کالا'!$C$107","v":0},{"$f":"'تعریف کالا'!$D$107","v":0},{"$f":"'تعریف کالا'!$E$107","v":0},{"$f":"'تعریف کالا'!$G$107","v":0},null,{"$f":"'تعریف کالا'!$F$107","v":0},null,0,null,null,null,null,null,null,null,null,null,null,null,null,null,null,0,0,0,0,0,0,0]
[null,"کاردکس 105",{"$f":"'تعریف کالا'!$C$109","v":0},{"$f":"'تعریف کالا'!$D$109","v":0},{"$f":"'تعریف کالا'!$E$109","v":0},{"$f":"'تعریف کالا'!$G$109","v":0},null,{"$f":"'تعریف کالا'!$F$109","v":0},null,0,null,null,null,null,null,null,null,null,null,null,null,null,null,null,0,0,0,0,0,0,0]
[null,"کاردکس 112",{"$f":"'تعریف کالا'!$C$116","v":0},{"$f":"'تعریف کالا'!$D$116","v":0},{"$f":"'تعریف کالا'!$E$116","v":0},{"$f":"'تعریف کالا'!$G$116","v":0},null,{"$f":"'تعریف کالا'!$F$116","v":0},null,0,null,null,null,null,null,null,null,null,null,null,null,null,null,null,0,0,0,0,0,0,0]
[null,"کاردکس 117",{"$f":"'تعریف کالا'!$C$121","v":0},{"$f":"'تعریف کالا'!$D$121","v":0},{"$f":"'تعریف کالا'!$E$121","v":0},{"$f":"'تعریف کالا'!$G$121","v":0},null,{"$f":"'تعریف کالا'!$F$121","v":0},null,0,null,null,null,null,null,null,null,null,null,null,null,null,null,null,0,0,0,0,0,0,0]
[null,"کاردکس 123",{"$f":"'تعریف کالا'!$C$127","v":0},{"$f":"'تعریف کالا'!$D$127","v":0},{"$f":"'تعریف کالا'!$E$127","v":0},{"$f":"'تعریف کالا'!$G$127","v":0},null,{"$f":"'تعریف کالا'!$F$127","v":0},null,0,null,null,null,null,null,null,null,null,null,null,null,null,null,null,0,0,0,0,0,0,0]
[null,"کاردکس 129",{"$f":"'تعریف کالا'!$C$133","v":0},{"$f":"'تعریف کالا'!$D$133","v":0},{"$f":"'تعریف کالا'!$E$133","v":0},{"$f":"'تعریف کالا'!$G$133","v":0},null,{"$f":"'تعریف کالا'!$F$133","v":0},null,0,null,null,null,null,null,null,null,null,null,null,null,null,null,null,0,0,0,0,0,0,0]
[null,"کاردکس 132",{"$f":"'تعریف کالا'!$C$136","v":0},{"$f":"'تعریف کالا'!$D$136","v":0},{"$f":"'تعریف کالا'!$E$136","v":0},{"$f":"'تعریف کالا'!$G$136","v":0},null,{"$f":"'تعریف کالا'!$F$136","v":0},null,0,null,null,null,null,null,null,null,null,null,null,null,null,null,null,0,0,0,0,0,0,0]
[null,"کاردکس 141",{"$f":"'تعریف کالا'!$C$145","v":0},{"$f":"'تعریف کالا'!$D$145","v":0},{"$f":"'تعریف کالا'!$E$145","v":0},{"$f":"'تعریف کالا'!$G$145","v":0},null,{"$f":"'تعریف کالا'!$F$145","v":0},null,0,null,null,null,null,null,null,null,null,null,null,null,null,null,null,0,0,0,0,0,0,0]
[null,"کاردکس 147",{"$f":"'تعریف کالا'!$C$151","v":0},{"$f":"'تعریف کالا'!$D$151","v":0},{"$f":"'تعریف کالا'!$E$151","v":0},{"$f":"'تعریف کالا'!$G$151","v":0},null,{"$f":"'تعریف کالا'!$F$151","v":0},null,0,null,null,null,null,null,null,null,null,null,null,null,null,null,null,0,0,0,0,0,0,0]
[null,"کاردکس 152",{"$f":"'تعریف کالا'!$C$156","v":0},{"$f":"'تعریف کالا'!$D$156","v":0},{"$f":"'تعریف کالا'!$E$156","v":0},{"$f":"'تعریف کالا'!$G$156","v":0},null,{"$f":"'تعریف کالا'!$F$156","v":0},null,0,null,null,null,null,null,null,null,null,null,null,null,null,null,null,0,0,0,0,0,0,0]
[null,"کاردکس 156",{"$f":"'تعریف کالا'!$C$160","v":0},{"$f":"'تعریف کالا'!$D$160","v":0},{"$f":"'تعریف کالا'!$E$160","v":0},{"$f":"'تعریف کالا'!$G$160","v":0},null,{"$f":"'تعریف کالا'!$F$160","v":0},null,0,null,null,null,null,null,null,null,null,null,null,null,null,null,null,0,0,0,0,0,0,0]
[null,"کاردکس 164",{"$f":"'تعریف کالا'!$C$168","v":0},{"$f":"'تعریف کالا'!$D$168","v":0},{"$f":"'تعریف کالا'!$E$168","v":0},{"$f":"'تعریف کالا'!$G$168","v":0},null,{"$f":"'تعریف کالا'!$F$168","v":0},null,0,null,null,null,null,null,null,null,null,null,null,null,null,null,null,0,0,0,0,0,0,0]
[null,"کاردکس 167",{"$f":"'تعریف کالا'!$C$171","v":0},{"$f":"'تعریف کالا'!$D$171","v":0},{"$f":"'تعریف کالا'!$E$171","v":0},{"$f":"'تعریف کالا'!$G$171","v":0},null,{"$f":"'تعریف کالا'!$F$171","v":0},null,0,null,null,null,null,null,null,null,null,null,null,null,null,null,null,0,0,0,0,0,0,0]
[null,"کاردکس 171",{"$f":"'تعریف کالا'!$C$175","v":0},{"$f":"'تعریف کالا'!$D$175","v":0},{"$f":"'تعریف کالا'!$E$175","v":0},{"$f":"'تعریف کالا'!$G$175","v":0},null,{"$f":"'تعریف کالا'!$F$175","v":0},null,0,null,null,null,null,null,null,null,null,null,null,null,null,null,null,0,0,0,0,0,0,0]
[null,"کاردکس 176",{"$f":"'تعریف کالا'!$C$180","v":0},{"$f":"'تعریف کالا'!$D$180","v":0},{"$f":"'تعریف کالا'!$E$180","v":0},{"$f":"'تعریف کالا'!$G$180","v":0},null,{"$f":"'تعریف کالا'!$F$180","v":0},null,0,null,null,null,null,null,null,null,null,null,null,null,null,null,null,0,0,0,0,0,0,0]
[null,"کاردکس 183",{"$f":"'تعریف کالا'!$C$187","v":0},{"$f":"'تعریف کالا'!$D$187","v":0},{"$f":"'تعریف کالا'!$E$187","v":0},{"$f":"'تعریف کالا'!$G$187","v":0},null,{"$f":"'تعریف کالا'!$F$187","v":0},null,0,null,null,null,null,null,null,null,null,null,null,null,null,null,null,0,0,0,0,0,0,0]
[null,"کاردکس 191",{"$f":"'تعریف کالا'!$C$195","v":0},{"$f":"'تعریف کالا'!$D$195","v":0},{"$f":"'تعریف کالا'!$E$195","v":0},{"$f":"'تعریف کالا'!$G$195","v":0},null,{"$f":"'تعریف کالا'!$F$195","v":0},null,0,null,null,null,null,null,null,null,null,null,null,null,null,null,null,0,0,0,0,0,0,0]
[null,"کاردکس 194",{"$f":"'تعریف کالا'!$C$198","v":0},{"$f":"'تعریف کالا'!$D$198","v":0},{"$f":"'تعریف کالا'!$E$198","v":0},{"$f":"'تعریف کالا'!$G$198","v":0},null,{"$f":"'تعریف کالا'!$F$198","v":0},null,0,null,null,null,null,null,null,null,null,null,null,null,null,null,null,0,{"$f":"D4036","v":0},{"$f":"E4036","v":0},{"$f":"F4036","v":0},{"$f":"H4036","v":0},{"$f":"I4036","v":0},{"$f":"J4036","v":0}]
[null,"کاردکس 200",{"$f":"'تعریف کالا'!$C$204","v":0},{"$f":"'تعریف کالا'!$D$204","v":0},{"$f":"'تعریف کالا'!$E$204","v":0},{"$f":"'تعریف کالا'!$G$204","v":0},null,{"$f":"'تعریف کالا'!$F$204","v":0},null,0,null,null,null,null,null,null,null,null,null,null,null,null,null,null,0,0,0,0,0,0,0]
[]
[]
[null,null,"نام خریدار","خسرو جهانشاهی",null,"          کرایه حمل",null,null,"کرایه حمل",{"$f":"G4060","v":0}]
[null,null,"پرداخت نقدی",null,null,null,null,null,"مبلغ قابل پرداخت",{"$f":"I4268-J4059+J4060+J4061","v":0},null,null,null,null,null,null,null,null,null,null,null,null,null,null,"خریدار:",{"$f":"D4060","v":"خسرو جهانشاهی"}]
[null,"کاردکس 5",{"$f":"'تعریف کالا'!$C$9","v":0},{"$f":"'تعریف کالا'!$D$9","v":0},{"$f":"'تعریف کالا'!$E$9","v":0},{"$f":"'تعریف کالا'!$G$9","v":0},null,{"$f":"'تعریف کالا'!$F$9","v":0},null,0,null,null,null,null,null,null,null,null,null,null,null,null,null,null,0,0,0,0,0,0,0]
[null,"کاردکس 10",{"$f":"'تعریف کالا'!$C$14","v":0},{"$f":"'تعریف کالا'!$D$14","v":0},{"$f":"'تعریف کالا'!$E$14","v":0},{"$f":"'تعریف کالا'!$G$14","v":0},null,{"$f":"'تعریف کالا'!$F$14","v":0},null,0,null,null,null,null,null,null,null,null,null,null,null,null,null,null,0,0,0,0,0,0,0]
[null,"کاردکس 16",{"$f":"'تعریف کالا'!$C$20","v":0},{"$f":"'تعریف کالا'!$D$20","v":0},{"$f":"'تعریف کالا'!$E$20","v":0},{"$f":"'تعریف کالا'!$G$20","v":0},null,{"$f":"'تعریف کالا'!$F$20","v":0},null,0,null,null,null,null,null,null,null,null,null,null,null,null,null,null,0,0,0,0,0,0,0]
[null,"کاردکس 19",{"$f":"'تعریف کالا'!$C$23","v":0},{"$f":"'تعریف کالا'!$D$23","v":0},{"$f":"'تعریف کالا'!$E$23","v":0},{"$f":"'تعریف کالا'!$G$23","v":0},null,{"$f":"'تعریف کالا'!$F$23","v":0},null,0,null,null,null,null,null,null,null,null,null,null,null,null,null,null,0,0,0,0,0,0,0]
[null,"کاردکس 23",{"$f":"'تعریف کالا'!$C$27","v":0},{"$f":"'تعریف کالا'!$D$27","v":0},{"$f":"'تعریف کالا'!$E$27","v":0},{"$f":"'تعریف کالا'!$G$27","v":0},null,{"$f":"'تعریف کالا'!$F$27","v":0},null,0,null,null,null,null,null,null,null,null,null,null,null,null,null,null,0,0,0,0,0,0,0]
[null,"کاردکس 28",{"$f":"'تعریف کالا'!$C$32","v":0},{"$f":"'تعریف کالا'!$D$32","v":0},{"$f":"'تعریف کالا'!$E$32","v":0},{"$f":"'تعریف کالا'!$G$32","v":0},null,{"$f":"'تعریف کالا'!$F$32","v":0},null,0,null,null,null,null,null,null,null,null,null,null,null,null,null,null,0,0,0,0,0,0,0]
[null,"کاردکس 35",{"$f":"'تعریف کالا'!$C$39","v":0},{"$f":"'تعریف کالا'!$D$39","v":0},{"$f":"'تعریف کالا'!$E$39","v":0},{"$f":"'تعریف کالا'!$G$39","v":0},null,{"$f":"'تعریف کالا'!$F$39","v":0},null,0,null,null,null,null,null,null,null,null,null,null,null,null,null,null,0,0,0,0,0,0,0]
[null,"کاردکس 39",{"$f":"'تعریف کالا'!$C$43","v":0},{"$f":"'تعریف کالا'!$D$43","v":0},{"$f":"'تعریف کالا'!$E$43","v":0},{"$f":"'تعریف کالا'!$G$43","v":0},null,{"$f":"'تعریف کالا'!$F$43","v":0},null,0,null,null,null,null,null,null,null,null,null,null,null,null,null,null,0,0,0,0,0,0,0]
[null,"کاردکس 47",{"$f":"'تعریف کالا'!$C$51","v":0},{"$f":"'تعریف کالا'!$D$51","v":0},{"$f":"'تعریف کالا'!$E$51","v":0},{"$f":"'تعریف کالا'!$G$51","v":0},null,{"$f":"'تعریف کالا'!$F$51","v":0},null,0,null,null,null,null,null,null,null,null,null,null,null,null,null,null,0,0,0,0,0,0,0]
[null,"کاردکس 54",{"$f":"'تعریف کالا'!$C$58","v":0},{"$f":"'تعریف کالا'!$D$58","v":0},{"$f":"'تعریف کالا'!$E$58","v":0},{"$f":"'تعریف کالا'!$G$58","v":0},null,{"$f":"'تعریف کالا'!$F$58","v":0},null,0,null,null,null,null,null,null,null,null,null,null,null,null,null,null,0,0,0,0,0,0,0]
[null,"کاردکس 58",{"$f":"'تعریف کالا'!$C$62","v":0},{"$f":"'تعریف کالا'!$D$62","v":0},{"$f":"'تعریف کالا'!$E$62","v":0},{"$f":"'تعریف کالا'!$G$62","v":0},null,{"$f":"'تعریف کالا'!$F$62","v":0},null,0,null,null,null,null,null,null,null,null,null,null,null,null,null,null,0,0,0,0,0,0,0]
[null,"کاردکس 63",{"$f":"'تعریف کالا'!$C$67","v":0},{"$f":"'تعریف کالا'!$D$67","v":0},{"$f":"'تعریف کالا'!$E$67","v":0},{"$f":"'تعریف کالا'!$G$67","v":0},null,{"$f":"'تعریف کالا'!$F$67","v":0},null,0,null,null,null,null,null,null,null,null,null,null,null,null,null,null,0,0,0,0,0,0,0]
[null,"کاردکس 70",{"$f":"'تعریف کالا'!$C$74","v":0},{"$f":"'تعریف کالا'!$D$74","v":0},{"$f":"'تعریف کالا'!$E$74","v":0},{"$f":"'تعریف کالا'!$G$74","v":0},null,{"$f":"'تعریف کالا'!$F$74","v":0},null,0,null,null,null,null,null,null,null,null,null,null,null,null,null,null,0,0,0,0,0,0,0]
[null,"کاردکس 72",{"$f":"'تعریف کالا'!$C$76","v":0},{"$f":"'تعریف کالا'!$D$76","v":0},{"$f":"'تعریف کالا'!$E$76","v":0},{"$f":"'تعریف کالا'!$G$76","v":0},null,{"$f":"'تعریف کالا'!$F$76","v":0},null,0,null,null,null,null,null,null,null,null,null,null,null,null,null,null,0,0,0,0,0,0,0]
[null,"کاردکس 82",{"$f":"'تعریف کالا'!$C$86","v":0},{"$f":"'تعریف کالا'!$D$86","v":0},{"$f":"'تعریف کالا'!$E$86","v":0},{"$f":"'تعریف کالا'!$G$86","v":0},null,{"$f":"'تعریف کالا'!$F$86","v":0},null,0,null,null,null,null,null,null,null,null,null,null,null,null,null,null,0,0,0,0,0,0,0]
[null,"کاردکس 83",{"$f":"'تعریف کالا'!$C$87","v":0},{"$f":"'تعریف کالا'!$D$87","v":0},{"$f":"'تعریف کالا'!$E$87","v":0},{"$f":"'تعریف کالا'!$G$87","v":0},null,{"$f":"'تعریف کالا'!$F$87","v":0},null,0,null,null,null,null,null,null,null,null,null,null,null,null,null,null,0,0,0,0,0,0,0]
[null,"کاردکس 89",{"$f":"'تعریف کالا'!$C$93","v":0},{"$f":"'تعریف کالا'!$D$93","v":0},{"$f":"'تعریف کالا'!$E$93","v":0},{"$f":"'تعریف کالا'!$G$93","v":0},null,{"$f":"'تعریف کالا'!$F$93","v":0},null,0,null,null,null,null,null,null,null,null,null,null,null,null,null,null,0,0,0,0,0,0,0]
[null,"کاردکس 98",{"$f":"'تعریف کالا'!$C$102","v":0},{"$f":"'تعریف کالا'!$D$102","v":0},{"$f":"'تعریف کالا'!$E$102","v":0},{"$f":"'تعریف کالا'!$G$102","v":0},null,{"$f":"'تعریف کالا'!$F$102","v":0},null,0,null,null,null,null,null,null,null,null,null,null,null,null,null,null,0,0,0,0,0,0,0]
[null,"کاردکس 101",{"$f":"'تعریف کالا'!$C$105","v":0},{"$f":"'تعریف کالا'!$D$105","v":0},{"$f":"'تعریف کالا'!$E$105","v":0},{"$f":"'تعریف کالا'!$G$105","v":0},null,{"$f":"'تعریف کالا'!$F$105","v":0},null,0,null,null,null,null,null,null,null,null,null,null,null,null,null,null,0,0,0,0,0,0,0]
[null,"کاردکس 107",{"$f":"'تعریف کالا'!$C$111","v":0},{"$f":"'تعریف کالا'!$D$111","v":0},{"$f":"'تعریف کالا'!$E$111","v":0},{"$f":"'تعریف کالا'!$G$111","v":0},null,{"$f":"'تعریف کالا'!$F$111","v":0},null,0,null,null,null,null,null,null,null,null,null,null,null,null,null,null,0,0,0,0,0,0,0]
[null,"کاردکس 112",{"$f":"'تعریف کالا'!$C$116","v":0},{"$f":"'تعریف کالا'!$D$116","v":0},{"$f":"'تعریف کالا'!$E$116","v":0},{"$f":"'تعریف کالا'!$G$116","v":0},null,{"$f":"'تعریف کالا'!$F$116","v":0},null,0,null,null,null,null,null,null,null,null,null,null,null,null,null,null,0,0,0,0,0,0,0]
[null,"کاردکس 116",{"$f":"'تعریف کالا'!$C$120","v":0},{"$f":"'تعریف کالا'!$D$120","v":0},{"$f":"'تعریف کالا'!$E$120","v":0},{"$f":"'تعریف کالا'!$G$120","v":0},null,{"$f":"'تعریف کالا'!$F$120","v":0},null,0,null,null,null,null,null,null,null,null,null,null,null,null,null,null,0,0,0,0,0,0,0]
[null,"کاردکس 124",{"$f":"'تعریف کالا'!$C$128","v":0},{"$f":"'تعریف کالا'!$D$128","v":0},{"$f":"'تعریف کالا'!$E$128","v":0},{"$f":"'تعریف کالا'!$G$128","v":0},null,{"$f":"'تعریف کالا'!$F$128","v":0},null,0,null,null,null,null,null,null,null,null,null,null,null,null,null,null,0,0,0,0,0,0,0]
[null,"کاردکس 127",{"$f":"'تعریف کالا'!$C$131","v":0},{"$f":"'تعریف کالا'!$D$131","v":0},{"$f":"'تعریف کالا'!$E$131","v":0},{"$f":"'تعریف کالا'!$G$131","v":0},null,{"$f":"'تعریف کالا'!$F$131","v":0},null,0,null,null,null,null,null,null,null,null,null,null,null,null,null,null,0,0,0,0,0,0,0]
[null,"کاردکس 136",{"$f":"'تعریف کالا'!$C$140","v":0},{"$f":"'تعریف کالا'!$D$140","v":0},{"$f":"'تعریف کالا'!$E$140","v":0},{"$f":"'تعریف کالا'!$G$140","v":0},null,{"$f":"'تعریف کالا'!$F$140","v":0},null,0,null,null,null,null,null,null,null,null,null,null,null,null,null,null,0,0,0,0,0,0,0]
[null,"کاردکس 142",{"$f":"'تعریف کالا'!$C$146","v":0},{"$f":"'تعریف کالا'!$D$146","v":0},{"$f":"'تعریف کالا'!$E$146","v":0},{"$f":"'تعریف کالا'!$G$146","v":0},null,{"$f":"'تعریف کالا'!$F$146","v":0},null,0,null,null,null,null,null,null,null,null,null,null,null,null,null,null,0,0,0,0,0,0,0]
[null,"کاردکس 148",{"$f":"'تعریف کالا'!$C$152","v":0},{"$f":"'تعریف کالا'!$D$152","v":0},{"$f":"'تعریف کالا'!$E$152","v":0},{"$f":"'تعریف کالا'!$G$152","v":0},null,{"$f":"'تعریف کالا'!$F$152","v":0},null,0,null,null,null,null,null,null,null,null,null,null,null,null,null,null,0,0,0,0,0,0,0]
[null,"کاردکس 151",{"$f":"'تعریف کالا'!$C$155","v":0},{"$f":"'تعریف کالا'!$D$155","v":0},{"$f":"'تعریف کالا'!$E$155","v":0},{"$f":"'تعریف کالا'!$G$155","v":0},null,{"$f":"'تعریف کالا'!$F$155","v":0},null,0,null,null,null,null,null,null,null,null,null,null,null,null,null,null,0,0,0,0,0,0,0]
[null,"کاردکس 159",{"$f":"'تعریف کالا'!$C$163","v":0},{"$f":"'تعریف کالا'!$D$163","v":0},{"$f":"'تعریف کالا'!$E$163","v":0},{"$f":"'تعریف کالا'!$G$163","v":0},null,{"$f":"'تعریف کالا'!$F$163","v":0},null,0,null,null,null,null,null,null,null,null,null,null,null,null,null,null,0,0,0,0,0,0,0]
[null,"کاردکس 160",{"$f":"'تعریف کالا'!$C$164","v":0},{"$f":"'تعریف کالا'!$D$164","v":0},{"$f":"'تعریف کالا'!$E$164","v":0},{"$f":"'تعریف کالا'!$G$164","v":0},null,{"$f":"'تعریف کالا'!$F$164","v":0},null,0,null,null,null,null,null,null,null,null,null,null,null,null,null,null,0,0,0,0,0,0,0]
[null,"کاردکس 166",{"$f":"'تعریف کالا'!$C$170","v":0},{"$f":"'تعریف کالا'!$D$170","v":0},{"$f":"'تعریف کالا'!$E$170","v":0},{"$f":"'تعریف کالا'!$G$170","v":0},null,{"$f":"'تعریف کالا'!$F$170","v":0},null,0,null,null,null,null,null,null,null,null,null,null,null,null,null,null,0,0,0,0,0,0,0]
[null,"کاردکس 171",{"$f":"'تعریف کالا'!$C$175","v":0},{"$f":"'تعریف کالا'!$D$175","v":0},{"$f":"'تعریف کالا'!$E$175","v":0},{"$f":"'تعریف کالا'!$G$175","v":0},null,{"$f":"'تعریف کالا'!$F$175","v":0},null,0,null,null,null,null,null,null,null,null,null,null,null,null,null,null,0,0,0,0,0,0,0]
[null,"کاردکس 178",{"$f":"'تعریف کالا'!$C$182","v":0},{"$f":"'تعریف کالا'!$D$182","v":0},{"$f":"'تعریف کالا'!$E$182","v":0},{"$f":"'تعریف کالا'!$G$182","v":0},null,{"$f":"'تعریف کالا'!$F$182","v":0},null,0,null,null,null,null,null,null,null,null,null,null,null,null,null,null,0,0,0,0,0,0,0]
[null,"کاردکس 186",{"$f":"'تعریف کالا'!$C$190","v":0},{"$f":"'تعریف کالا'!$D$190","v":0},{"$f":"'تعریف کالا'!$E$190","v":0},{"$f":"'تعریف کالا'!$G$190","v":0},null,{"$f":"'تعریف کالا'!$F$190","v":0},null,0,null,null,null,null,null,null,null,null,null,null,null,null,null,null,0,0,0,0,0,0,0]
[null,"کاردکس 190",{"$f":"'تعریف کالا'!$C$194","v":0},{"$f":"'تعریف کالا'!$D$194","v":0},{"$f":"'تعریف کالا'!$E$194","v":0},{"$f":"'تعریف کالا'!$G$194","v":0},null,{"$f":"'تعریف کالا'!$F$194","v":0},null,0,null,null,null,null,null,null,null,null,null,null,null,null,null,null,0,0,0,0,0,0,0]
[null,"کاردکس 195",{"$f":"'تعریف کالا'!$C$199","v":0},{"$f":"'تعریف کالا'!$D$199","v":0},{"$f":"'تعریف کالا'!$E$199","v":0},{"$f":"'تعریف کالا'!$G$199","v":0},null,{"$f":"'تعریف کالا'!$F$199","v":0},null,{"$f":"(F4262*I4262)-(F4262*I4262*G4262%)","v":0},null,null,null,null,null,null,null,null,null,null,null,null,null,null,{"$f":"C4262","v":0},0,0,0,0,0,0]
[null,"     جمع کل",null,{"$f":"abh(I4268)&L4264","v":"منفي "},null,null,null,null,{"$f":"SUM(J4068:J4267)","v":0},null,null,null,null,null,null,null,null,null,null,null,null,null,null,"مانده حساب",null,{"$f":"abh(AD4268)& \"ریال\"","v":"منفي ریال"},null,null,null,{"$f":"I4270","v":0}]
[]
[null,null,null,null,null,{"$f":"'صفحه اصلی'!$J$4","v":0},null,null,null,null,null,"فاکتور بعدی",null,null,null,null,null,null,null,null,null,null,null,"حواله تحویل کالا"]
[null,null,null,null,null,"          مالیات",null,null,"مالیات",{"$f":"(I4493-J4284+J4285)*G4286%","v":0}]
[null,"شماره کاردکس","کد کالا","نام کالا","گروه بندی","قیمت واحد","درصد تخفیف","واحد شمارش","تعداد","قیمت کل",null,null,null,null,null,null,null,null,null,null,null,null,null,"ردیف","کد کالا","نام کالا","گروه بندی","قیمت واحد","واحد شمارش","تعداد","قیمت کل"]
[null,"کاردکس 5",{"$f":"'تعریف کالا'!$C$9","v":0},{"$f":"'تعریف کالا'!$D$9","v":0},{"$f":"'تعریف کالا'!$E$9","v":0},{"$f":"'تعریف کالا'!$G$9","v":0},null,{"$f":"'تعریف کالا'!$F$9","v":0},null,0,null,null,null,null,null,null,null,null,null,null,null,null,null,null,0,0,0,0,0,0,0]
[null,"کاردکس 7",{"$f":"'تعریف کالا'!$C$11","v":0},{"$f":"'تعریف کالا'!$D$11","v":0},{"$f":"'تعریف کالا'!$E$11","v":0},{"$f":"'تعریف کالا'!$G$11","v":0},null,{"$f":"'تعریف کالا'!$F$11","v":0},null,0,null,null,null,null,null,null,null,null,null,null,null,null,null,null,0,0,0,0,0,0,0]
[null,"کاردکس 14",{"$f":"'تعریف کالا'!$C$18","v":0},{"$f":"'تعریف کالا'!$D$18","v":0},{"$f":"'تعریف کالا'!$E$18","v":0},{"$f":"'تعریف کالا'!$G$18","v":0},null,{"$f":"'تعریف کالا'!$F$18","v":0},null,0,null,null,null,null,null,null,null,null,null,null,null,null,null,null,0,0,0,0,0,0,0]
[null,"کاردکس 18",{"$f":"'تعریف کالا'!$C$22","v":0},{"$f":"'تعریف کالا'!$D$22","v":0},{"$f":"'تعریف کالا'!$E$22","v":0},{"$f":"'تعریف کالا'!$G$22","v":0},null,{"$f":"'تعریف کالا'!$F$22","v":0},null,0,null,null,null,null,null,null,null,null,null,null,null,null,null,null,0,0,0,0,0,0,0]
[null,"کاردکس 23",{"$f":"'تعریف کالا'!$C$27","v":0},{"$f":"'تعریف کالا'!$D$27","v":0},{"$f":"'تعریف کالا'!$E$27","v":0},{"$f":"'تعریف کالا'!$G$27","v":0},null,{"$f":"'تعریف کالا'!$F$27","v":0},null,0,null,null,null,null,null,null,null,null,null,null,null,null,null,null,0,0,0,0,0,0,0]
[null,"کاردکس 30",{"$f":"'تعریف کالا'!$C$34","v":0},{"$f":"'تعریف کالا'!$D$34","v":0},{"$f":"'تعریف کالا'!$E$34","v":0},{"$f":"'تعریف کالا'!$G$34","v":0},null,{"$f":"'تعریف کالا'!$F$34","v":0},null,0,null,null,null,null,null,null,null,null,null,null,null,null,null,null,0,0,0,0,0,0,0]
[null,"کاردکس 38",{"$f":"'تعریف کالا'!$C$42","v":0},{"$f":"'تعریف کالا'!$D$42","v":0},{"$f":"'تعریف کالا'!$E$42","v":0},{"$f":"'تعریف کالا'!$G$42","v":0},null,{"$f":"'تعریف کالا'!$F$42","v":0},null,0,null,null,null,null,null,null,null,null,null,null,null,null,null,null,0,0,0,0,0,0,0]
[null,"کاردکس 42",{"$f":"'تعریف کالا'!$C$46","v":0},{"$f":"'تعریف کالا'!$D$46","v":0},{"$f":"'تعریف کالا'!$E$46","v":0},{"$f":"'تعریف کالا'!$G$46","v":0},null,{"$f":"'تعریف کالا'!$F$46","v":0},null,0,null,null,null,null,null,null,null,null,null,null,null,null,null,null,0,0,0,0,0,0,0]
[null,"کاردکس 49",{"$f":"'تعریف کالا'!$C$53","v":0},{"$f":"'تعریف کالا'!$D$53","v":0},{"$f":"'تعریف کالا'!$E$53","v":0},{"$f":"'تعریف کالا'!$G$53","v":0},null,{"$f":"'تعریف کالا'!$F$53","v":0},null,0,null,null,null,null,null,null,null,null,null,null,null,null,null,null,0,0,0,0,0,0,0]
[null,"کاردکس 54",{"$f":"'تعریف کالا'!$C$58","v":0},{"$f":"'تعریف کالا'!$D$58","v":0},{"$f":"'تعریف کالا'!$E$58","v":0},{"$f":"'تعریف کالا'!$G$58","v":0},null,{"$f":"'تعریف کالا'!$F$58","v":0},null,0,null,null,null,null,null,null,null,null,null,null,null,null,null,null,0,0,0,0,0,0,0]
[null,"کاردکس 58",{"$f":"'تعریف کالا'!$C$62","v":0},{"$f":"'تعریف کالا'!$D$62","v":0},{"$f":"'تعریف کالا'!$E$62","v":0},{"$f":"'تعریف کالا'!$G$62","v":0},null,{"$f":"'تعریف کالا'!$F$62","v":0},null,0,null,null,null,null,null,null,null,null,null,null,null,null,null,null,0,0,0,0,0,0,0]
[null,"کاردکس 65",{"$f":"'تعریف کالا'!$C$69","v":0},{"$f":"'تعریف کالا'!$D$69","v":0},{"$f":"'تعریف کالا'!$E$69","v":0},{"$f":"'تعریف کالا'!$G$69","v":0},null,{"$f":"'تعریف کالا'!$F$69","v":0},null,0,null,null,null,null,null,null,null,null,null,null,null,null,null,null,0,0,0,0,0,0,0]
[null,"کاردکس 67",{"$f":"'تعریف کالا'!$C$71","v":0},{"$f":"'تعریف کالا'!$D$71","v":0},{"$f":"'تعریف کالا'!$E$71","v":0},{"$f":"'تعریف کالا'!$G$71","v":0},null,{"$f":"'تعریف کالا'!$F$71","v":0},null,{"$f":"(F4359*I4359)-(F4359*I4359*G4359%)","v":0},null,null,null,null,null,null,null,null,null,null,null,null,null,null,{"$f":"C4359","v":0},0,0,0,0,0,0]
[null,"کاردکس 77",{"$f":"'تعریف کالا'!$C$81","v":0},{"$f":"'تعریف کالا'!$D$81","v":0},{"$f":"'تعریف کالا'!$E$81","v":0},{"$f":"'تعریف کالا'!$G$81","v":0},null,{"$f":"'تعریف کالا'!$F$81","v":0},null,0,null,null,null,null,null,null,null,null,null,null,null,null,null,null,0,0,0,0,0,0,0]
[null,"کاردکس 82",{"$f":"'تعریف کالا'!$C$86","v":0},{"$f":"'تعریف کالا'!$D$86","v":0},{"$f":"'تعریف کالا'!$E$86","v":0},{"$f":"'تعریف کالا'!$G$86","v":0},null,{"$f":"'تعریف کالا'!$F$86","v":0},null,0,null,null,null,null,null,null,null,null,null,null,null,null,null,null,0,0,0,0,0,0,0]
[null,"کاردکس 84",{"$f":"'تعریف کالا'!$C$88","v":0},{"$f":"'تعریف کالا'!$D$88","v":0},{"$f":"'تعریف کالا'!$E$88","v":0},{"$f":"'تعریف کالا'!$G$88","v":0},null,{"$f":"'تعریف کالا'!$F$88","v":0},null,0,null,null,null,null,null,null,null,null,null,null,null,null,null,null,0,0,0,0,0,0,0]
[null,"کاردکس 93",{"$f":"'تعریف کالا'!$C$97","v":0},{"$f":"'تعریف کالا'!$D$97","v":0},{"$f":"'تعریف کالا'!$E$97","v":0},{"$f":"'تعریف کالا'!$G$97","v":0},null,{"$f":"'تعریف کالا'!$F$97","v":0},null,0,null,null,null,null,null,null,null,null,null,null,null,null,null,null,0,0,0,0,0,0,0]
[null,"کاردکس 96",{"$f":"'تعریف کالا'!$C$100","v":0},{"$f":"'تعریف کالا'!$D$100","v":0},{"$f":"'تعریف کالا'!$E$100","v":0},{"$f":"'تعریف کالا'!$G$100","v":0},null,{"$f":"'تعریف کالا'!$F$100","v":0},null,0,null,null,null,null,null,null,null,null,null,null,null,null,null,null,0,0,0,0,0,0,0]
[null,"کاردکس 102",{"$f":"'تعریف کالا'!$C$106","v":0},{"$f":"'تعریف کالا'!$D$106","v":0},{"$f":"'تعریف کالا'!$E$106","v":0},{"$f":"'تعریف کالا'!$G$106","v":0},null,{"$f":"'تعریف کالا'!$F$106","v":0},null,0,null,null,null,null,null,null,null,null,null,null,null,null,null,null,0,0,0,0,0,0,0]
[null,"کاردکس 108",{"$f":"'تعریف کالا'!$C$112","v":0},{"$f":"'تعریف کالا'!$D$112","v":0},{"$f":"'تعریف کالا'!$E$112","v":0},{"$f":"'تعریف کالا'!$G$112","v":0},null,{"$f":"'تعریف کالا'!$F$112","v":0},null,0,null,null,null,null,null,null,null,null,null,null,null,null,null,null,0,0,0,0,0,0,0]
[null,"کاردکس 111",{"$f":"'تعریف کالا'!$C$115","v":0},{"$f":"'تعریف کالا'!$D$115","v":0},{"$f":"'تعریف کالا'!$E$115","v":0},{"$f":"'تعریف کالا'!$G$115","v":0},null,{"$f":"'تعریف کالا'!$F$115","v":0},null,0,null,null,null,null,null,null,null,null,null,null,null,null,null,null,0,0,0,0,0,0,0]
[null,"کاردکس 119",{"$f":"'تعریف کالا'!$C$123","v":0},{"$f":"'تعریف کالا'!$D$123","v":0},{"$f":"'تعریف کالا'!$E$123","v":0},{"$f":"'تعریف کالا'!$G$123","v":0},null,{"$f":"'تعریف کالا'!$F$123","v":0},null,0,null,null,null,null,null,null,null,null,null,null,null,null,null,null,0,0,0,0,0,0,0]
[null,"کاردکس 126",{"$f":"'تعریف کالا'!$C$130","v":0},{"$f":"'تعریف کالا'!$D$130","v":0},{"$f":"'تعریف کالا'!$E$130","v":0},{"$f":"'تعریف کالا'!$G$130","v":0},null,{"$f":"'تعریف کالا'!$F$130","v":0},null,0,null,null,null,null,null,null,null,null,null,null,null,null,null,null,0,0,0,0,0,0,0]
[null,"کاردکس 131",{"$f":"'تعریف کالا'!$C$135","v":0},{"$f":"'تعریف کالا'!$D$135","v":0},{"$f":"'تعریف کالا'!$E$135","v":0},{"$f":"'تعریف کالا'!$G$135","v":0},null,{"$f":"'تعریف کالا'!$F$135","v":0},null,{"$f":"(F4423*I4423)-(F4423*I4423*G4423%)","v":0},null,null,null,null,null,null,null,null,null,null,null,null,null,null,{"$f":"C4423","v":0},0,0,0,0,0,0]
[null,"کاردکس 137",{"$f":"'تعریف کالا'!$C$141","v":0},{"$f":"'تعریف کالا'!$D$141","v":0},{"$f":"'تعریف کالا'!$E$141","v":0},{"$f":"'تعریف کالا'!$G$141","v":0},null,{"$f":"'تعریف کالا'!$F$141","v":0},null,0,null,null,null,null,null,null,null,null,null,null,null,null,null,null,0,0,0,0,0,0,0]
[null,"کاردکس 143",{"$f":"'تعریف کالا'!$C$147","v":0},{"$f":"'تعریف کالا'!$D$147","v":0},{"$f":"'تعریف کالا'!$E$147","v":0},{"$f":"'تعریف کالا'!$G$147","v":0},null,{"$f":"'تعریف کالا'!$F$147","v":0},null,0,null,null,null,null,null,null,null,null,null,null,null,null,null,null,0,0,0,0,0,0,0]
[null,"کاردکس 146",{"$f":"'تعریف کالا'!$C$150","v":0},{"$f":"'تعریف کالا'!$D$150","v":0},{"$f":"'تعریف کالا'!$E$150","v":0},{"$f":"'تعریف کالا'!$G$150","v":0},null,{"$f":"'تعریف کالا'!$F$150","v":0},null,0,null,null,null,null,null,null,null,null,null,null,null,null,null,null,0,0,0,0,0,0,0]
[null,"کاردکس 150",{"$f":"'تعریف کالا'!$C$154","v":0},{"$f":"'تعریف کالا'!$D$154","v":0},{"$f":"'تعریف کالا'!$E$154","v":0},{"$f":"'تعریف کالا'!$G$154","v":0},null,{"$f":"'تعریف کالا'!$F$154","v":0},null,0,null,null,null,null,null,null,null,null,null,null,null,null,null,null,0,0,0,0,0,0,0]
[null,"کاردکس 155",{"$f":"'تعریف کالا'!$C$159","v":0},{"$f":"'تعریف کالا'!$D$159","v":0},{"$f":"'تعریف کالا'!$E$159","v":0},{"$f":"'تعریف کالا'!$G$159","v":0},null,{"$f":"'تعریف کالا'!$F$159","v":0},null,0,null,null,null,null,null,null,null,null,null,null,null,null,null,null,0,0,0,0,0,0,0]
[null,"کاردکس 161",{"$f":"'تعریف کالا'!$C$165","v":0},{"$f":"'تعریف کالا'!$D$165","v":0},{"$f":"'تعریف کالا'!$E$165","v":0},{"$f":"'تعریف کالا'!$G$165","v":0},null,{"$f":"'تعریف کالا'!$F$165","v":0},null,0,null,null,null,null,null,null,null,null,null,null,null,null,null,null,0,0,0,0,0,0,0]
[null,"کاردکس 170",{"$f":"'تعریف کالا'!$C$174","v":0},{"$f":"'تعریف کالا'!$D$174","v":0},{"$f":"'تعریف کالا'!$E$174","v":0},{"$f":"'تعریف کالا'!$G$174","v":0},null,{"$f":"'تعریف کالا'!$F$174","v":0},null,0,null,null,null,null,null,null,null,null,null,null,null,null,null,null,0,0,0,0,0,0,0]
[null,"کاردکس 173",{"$f":"'تعریف کالا'!$C$177","v":0},{"$f":"'تعریف کالا'!$D$177","v":0},{"$f":"'تعریف کالا'!$E$177","v":0},{"$f":"'تعریف کالا'!$G$177","v":0},null,{"$f":"'تعریف کالا'!$F$177","v":0},null,0,null,null,null,null,null,null,null,null,null,null,null,null,null,null,0,0,0,0,0,0,0]
[null,"کاردکس 179",{"$f":"'تعریف کالا'!$C$183","v":0},{"$f":"'تعریف کالا'!$D$183","v":0},{"$f":"'تعریف کالا'!$E$183","v":0},{"$f":"'تعریف کالا'!$G$183","v":0},null,{"$f":"'تعریف کالا'!$F$183","v":0},null,0,null,null,null,null,null,null,null,null,null,null,null,null,null,null,0,0,0,0,0,0,0]
[null,"کاردکس 185",{"$f":"'تعریف کالا'!$C$189","v":0},{"$f":"'تعریف کالا'!$D$189","v":0},{"$f":"'تعریف کالا'!$E$189","v":0},{"$f":"'تعریف کالا'!$G$189","v":0},null,{"$f":"'تعریف کالا'!$F$189","v":0},null,0,null,null,null,null,null,null,null,null,null,null,null,null,null,null,0,0,0,0,0,0,0]
[null,"کاردکس 190",{"$f":"'تعریف کالا'!$C$194","v":0},{"$f":"'تعریف کالا'!$D$194","v":0},{"$f":"'تعریف کالا'!$E$194","v":0},{"$f":"'تعریف کالا'!$G$194","v":0},null,{"$f":"'تعریف کالا'!$F$194","v":0},null,0,null,null,null,null,null,null,null,null,null,null,null,null,null,null,0,0,0,0,0,0,0]
[null,"کاردکس 197",{"$f":"'تعریف کالا'!$C$201","v":0},{"$f":"'تعریف کالا'!$D$201","v":0},{"$f":"'تعریف کالا'!$E$201","v":0},{"$f":"'تعریف کالا'!$G$201","v":0},null,{"$f":"'تعریف کالا'!$F$201","v":0},null,0,null,null,null,null,null,null,null,null,null,null,null,null,null,null,0,0,0,0,0,0,0]
[null,"کاردکس 199",{"$f":"'تعریف کالا'!$C$203","v":0},{"$f":"'تعریف کالا'!$D$203","v":0},{"$f":"'تعریف کالا'!$E$203","v":0},{"$f":"'تعریف کالا'!$G$203","v":0},null,{"$f":"'تعریف کالا'!$F$203","v":0},null,0,null,null,null,null,null,null,null,null,null,null,null,null,null,null,0,0,0,0,0,0,0]
[]
[null,"شماره سند ",21,null,null,null,null,null,"تاریخ",null,null,null,null,null,null,null,null,null,null,null,null,null,null,null,null,null,{"$f":"F4505","v":0},null,null,"تاریخ",{"$f":"J4506","v":0}]
[null,null,"پرداخت نقدی",null,null,null,null,null,"مبلغ قابل پرداخت",{"$f":"I4718-J4509+J4510+J4511","v":0},null,null,null,null,null,null,null,null,null,null,null,null,null,null,"خریدار:",{"$f":"D4510","v":"خسرو جهانشاهی"}]
[null,null,"ثبت چک","شرح رویداد"]
[null,"کاردکس 2",{"$f":"'تعریف کالا'!$C$6","v":9011121},{"$f":"'تعریف کالا'!$D$6","v":"دی وی دی"},{"$f":"'تعریف کالا'!$E$6","v":"سخت افزار"},{"$f":"'تعریف کالا'!$G$6","v":7000},null,{"$f":"'تعریف کالا'!$F$6","v":"حلقه"},null,{"$f":"(F4519*I4519)-(F4519*I4519*G4519%)","v":0},null,null,null,null,null,null,null,null,null,null,null,null,null,null,{"$f":"C4519","v":9011121},{"$f":"D4519","v":"دی وی دی"},{"$f":"E4519","v":"سخت افزار"},{"$f":"F4519","v":7000},{"$f":"H4519","v":"حلقه"},{"$f":"I4519","v":0},{"$f":"J4519","v":0}]
[null,"کاردکس 9",{"$f":"'تعریف کالا'!$C$13","v":0},{"$f":"'تعریف کالا'!$D$13","v":0},{"$f":"'تعریف کالا'!$E$13","v":0},{"$f":"'تعریف کالا'!$G$13","v":0},null,{"$f":"'تعریف کالا'!$F$13","v":0},null,0,null,null,null,null,null,null,null,null,null,null,null,null,null,null,0,0,0,0,0,0,0]
[null,"کاردکس 14",{"$f":"'تعریف کالا'!$C$18","v":0},{"$f":"'تعریف کالا'!$D$18","v":0},{"$f":"'تعریف کالا'!$E$18","v":0},{"$f":"'تعریف کالا'!$G$18","v":0},null,{"$f":"'تعریف کالا'!$F$18","v":0},null,0,null,null,null,null,null,null,null,null,null,null,null,null,null,null,0,0,0,0,0,0,0]
[null,"کاردکس 18",{"$f":"'تعریف کالا'!$C$22","v":0},{"$f":"'تعریف کالا'!$D$22","v":0},{"$f":"'تعریف کالا'!$E$22","v":0},{"$f":"'تعریف کالا'!$G$22","v":0},null,{"$f":"'تعریف کالا'!$F$22","v":0},null,0,null,null,null,null,null,null,null,null,null,null,null,null,null,null,0,0,0,0,0,0,0]
[null,"کاردکس 25",{"$f":"'تعریف کالا'!$C$29","v":0},{"$f":"'تعریف کالا'!$D$29","v":0},{"$f":"'تعریف کالا'!$E$29","v":0},{"$f":"'تعریف کالا'!$G$29","v":0},null,{"$f":"'تعریف کالا'!$F$29","v":0},null,0,null,null,null,null,null,null,null,null,null,null,null,null,null,null,0,0,0,0,0,0,0]
[null,"کاردکس 33",{"$f":"'تعریف کالا'!$C$37","v":0},{"$f":"'تعریف کالا'!$D$37","v":0},{"$f":"'تعریف کالا'!$E$37","v":0},{"$f":"'تعریف کالا'!$G$37","v":0},null,{"$f":"'تعریف کالا'!$F$37","v":0},null,0,null,null,null,null,null,null,null,null,null,null,null,null,null,null,0,0,0,0,0,0,0]
[null,"کاردکس 37",{"$f":"'تعریف کالا'!$C$41","v":0},{"$f":"'تعریف کالا'!$D$41","v":0},{"$f":"'تعریف کالا'!$E$41","v":0},{"$f":"'تعریف کالا'!$G$41","v":0},null,{"$f":"'تعریف کالا'!$F$41","v":0},null,0,null,null,null,null,null,null,null,null,null,null,null,null,null,null,0,0,0,0,0,0,0]
[null,"کاردکس 42",{"$f":"'تعریف کالا'!$C$46","v":0},{"$f":"'تعریف کالا'!$D$46","v":0},{"$f":"'تعریف کالا'!$E$46","v":0},{"$f":"'تعریف کالا'!$G$46","v":0},null,{"$f":"'تعریف کالا'!$F$46","v":0},null,0,null,null,null,null,null,null,null,null,null,null,null,null,null,null,0,0,0,0,0,0,0]
[null,"کاردکس 49",{"$f":"'تعریف کالا'!$C$53","v":0},{"$f":"'تعریف کالا'!$D$53","v":0},{"$f":"'تعریف کالا'!$E$53","v":0},{"$f":"'تعریف کالا'!$G$53","v":0},null,{"$f":"'تعریف کالا'!$F$53","v":0},null,0,null,null,null,null,null,null,null,null,null,null,null,null,null,null,0,0,0,0,0,0,0]
[null,"کاردکس 53",{"$f":"'تعریف کالا'!$C$57","v":0},{"$f":"'تعریف کالا'!$D$57","v":0},{"$f":"'تعریف کالا'!$E$57","v":0},{"$f":"'تعریف کالا'!$G$57","v":0},null,{"$f":"'تعریف کالا'!$F$57","v":0},null,0,null,null,null,null,null,null,null,null,null,null,null,null,null,null,0,0,0,0,0,0,0]
[null,"کاردکس 61",{"$f":"'تعریف کالا'!$C$65","v":0},{"$f":"'تعریف کالا'!$D$65","v":0},{"$f":"'تعریف کالا'!$E$65","v":0},{"$f":"'تعریف کالا'!$G$65","v":0},null,{"$f":"'تعریف کالا'!$F$65","v":0},null,0,null,null,null,null,null,null,null,null,null,null,null,null,null,null,0,0,0,0,0,0,0]
[null,"کاردکس 62",{"$f":"'تعریف کالا'!$C$66","v":0},{"$f":"'تعریف کالا'!$D$66","v":0},{"$f":"'تعریف کالا'!$E$66","v":0},{"$f":"'تعریف کالا'!$G$66","v":0},null,{"$f":"'تعریف کالا'!$F$66","v":0},null,0,null,null,null,null,null,null,null,null,null,null,null,null,null,null,0,0,0,0,0,0,0]
[null,"کاردکس 68",{"$f":"'تعریف کالا'!$C$72","v":0},{"$f":"'تعریف کالا'!$D$72","v":0},{"$f":"'تعریف کالا'!$E$72","v":0},{"$f":"'تعریف کالا'!$G$72","v":0},null,{"$f":"'تعریف کالا'!$F$72","v":0},null,0,null,null,null,null,null,null,null,null,null,null,null,null,null,null,0,0,0,0,0,0,0]
[null,"کاردکس 77",{"$f":"'تعریف کالا'!$C$81","v":0},{"$f":"'تعریف کالا'!$D$81","v":0},{"$f":"'تعریف کالا'!$E$81","v":0},{"$f":"'تعریف کالا'!$G$81","v":0},null,{"$f":"'تعریف کالا'!$F$81","v":0},null,0,null,null,null,null,null,null,null,null,null,null,null,null,null,null,0,0,0,0,0,0,0]
[null,"کاردکس 79",{"$f":"'تعریف کالا'!$C$83","v":0},{"$f":"'تعریف کالا'!$D$83","v":0},{"$f":"'تعریف کالا'!$E$83","v":0},{"$f":"'تعریف کالا'!$G$83","v":0},null,{"$f":"'تعریف کالا'!$F$83","v":0},null,0,null,null,null,null,null,null,null,null,null,null,null,null,null,null,0,0,0,0,0,0,0]
[null,"کاردکس 86",{"$f":"'تعریف کالا'!$C$90","v":0},{"$f":"'تعریف کالا'!$D$90","v":0},{"$f":"'تعریف کالا'!$E$90","v":0},{"$f":"'تعریف کالا'!$G$90","v":0},null,{"$f":"'تعریف کالا'!$F$90","v":0},null,0,null,null,null,null,null,null,null,null,null,null,null,null,null,null,0,0,0,0,0,0,0]
[null,"کاردکس 91",{"$f":"'تعریف کالا'!$C$95","v":0},{"$f":"'تعریف کالا'!$D$95","v":0},{"$f":"'تعریف کالا'!$E$95","v":0},{"$f":"'تعریف کالا'!$G$95","v":0},null,{"$f":"'تعریف کالا'!$F$95","v":0},null,0,null,null,null,null,null,null,null,null,null,null,null,null,null,null,0,0,0,0,0,0,0]
[null,"کاردکس 97",{"$f":"'تعریف کالا'!$C$101","v":0},{"$f":"'تعریف کالا'!$D$101","v":0},{"$f":"'تعریف کالا'!$E$101","v":0},{"$f":"'تعریف کالا'!$G$101","v":0},null,{"$f":"'تعریف کالا'!$F$101","v":0},null,0,null,null,null,null,null,null,null,null,null,null,null,null,null,null,0,0,0,0,0,0,0]
[null,"کاردکس 103",{"$f":"'تعریف کالا'!$C$107","v":0},{"$f":"'تعریف کالا'!$D$107","v":0},{"$f":"'تعریف کالا'!$E$107","v":0},{"$f":"'تعریف کالا'!$G$107","v":0},null,{"$f":"'تعریف کالا'!$F$107","v":0},null,0,null,null,null,null,null,null,null,null,null,null,null,null,null,null,0,0,0,0,0,0,0]
[null,"کاردکس 106",{"$f":"'تعریف کالا'!$C$110","v":0},{"$f":"'تعریف کالا'!$D$110","v":0},{"$f":"'تعریف کالا'!$E$110","v":0},{"$f":"'تعریف کالا'!$G$110","v":0},null,{"$f":"'تعریف کالا'!$F$110","v":0},null,0,null,null,null,null,null,null,null,null,null,null,null,null,null,null,0,0,0,0,0,0,0]
[null,"کاردکس 115",{"$f":"'تعریف کالا'!$C$119","v":0},{"$f":"'تعریف کالا'!$D$119","v":0},{"$f":"'تعریف کالا'!$E$119","v":0},{"$f":"'تعریف کالا'!$G$119","v":0},null,{"$f":"'تعریف کالا'!$F$119","v":0},null,0,null,null,null,null,null,null,null,null,null,null,null,null,null,null,0,0,0,0,0,0,0]
[null,"کاردکس 121",{"$f":"'تعریف کالا'!$C$125","v":0},{"$f":"'تعریف کالا'!$D$125","v":0},{"$f":"'تعریف کالا'!$E$125","v":0},{"$f":"'تعریف کالا'!$G$125","v":0},null,{"$f":"'تعریف کالا'!$F$125","v":0},null,0,null,null,null,null,null,null,null,null,null,null,null,null,null,null,0,0,0,0,0,0,0]
[null,"کاردکس 126",{"$f":"'تعریف کالا'!$C$130","v":0},{"$f":"'تعریف کالا'!$D$130","v":0},{"$f":"'تعریف کالا'!$E$130","v":0},{"$f":"'تعریف کالا'!$G$130","v":0},null,{"$f":"'تعریف کالا'!$F$130","v":0},null,0,null,null,null,null,null,null,null,null,null,null,null,null,null,null,0,0,0,0,0,0,0]
[null,"کاردکس 130",{"$f":"'تعریف کالا'!$C$134","v":0},{"$f":"'تعریف کالا'!$D$134","v":0},{"$f":"'تعریف کالا'!$E$134","v":0},{"$f":"'تعریف کالا'!$G$134","v":0},null,{"$f":"'تعریف کالا'!$F$134","v":0},null,0,null,null,null,null,null,null,null,null,null,null,null,null,null,null,0,{"$f":"D4647","v":0},{"$f":"E4647","v":0},{"$f":"F4647","v":0},{"$f":"H4647","v":0},{"$f":"I4647","v":0},{"$f":"J4647","v":0}]
[null,"کاردکس 138",{"$f":"'تعریف کالا'!$C$142","v":0},{"$f":"'تعریف کالا'!$D$142","v":0},{"$f":"'تعریف کالا'!$E$142","v":0},{"$f":"'تعریف کالا'!$G$142","v":0},null,{"$f":"'تعریف کالا'!$F$142","v":0},null,0,null,null,null,null,null,null,null,null,null,null,null,null,null,null,0,0,0,0,0,0,0]
[null,"کاردکس 139",{"$f":"'تعریف کالا'!$C$143","v":0},{"$f":"'تعریف کالا'!$D$143","v":0},{"$f":"'تعریف کالا'!$E$143","v":0},{"$f":"'تعریف کالا'!$G$143","v":0},null,{"$f":"'تعریف کالا'!$F$143","v":0},null,0,null,null,null,null,null,null,null,null,null,null,null,null,null,null,0,0,0,0,0,0,0]
[null,"کاردکس 145",{"$f":"'تعریف کالا'!$C$149","v":0},{"$f":"'تعریف کالا'!$D$149","v":0},{"$f":"'تعریف کالا'!$E$149","v":0},{"$f":"'تعریف کالا'!$G$149","v":0},null,{"$f":"'تعریف کالا'!$F$149","v":0},null,0,null,null,null,null,null,null,null,null,null,null,null,null,null,null,0,0,0,0,0,0,0]
[null,"کاردکس 150",{"$f":"'تعریف کالا'!$C$154","v":0},{"$f":"'تعریف کالا'!$D$154","v":0},{"$f":"'تعریف کالا'!$E$154","v":0},{"$f":"'تعریف کالا'!$G$154","v":0},null,{"$f":"'تعریف کالا'!$F$154","v":0},null,0,null,null,null,null,null,null,null,null,null,null,null,null,null,null,0,0,0,0,0,0,0]
[null,"کاردکس 156",{"$f":"'تعریف کالا'!$C$160","v":0},{"$f":"'تعریف کالا'!$D$160","v":0},{"$f":"'تعریف کالا'!$E$160","v":0},{"$f":"'تعریف کالا'!$G$160","v":0},null,{"$f":"'تعریف کالا'!$F$160","v":0},null,0,null,null,null,null,null,null,null,null,null,null,null,null,null,null,0,0,0,0,0,0,0]
[null,"کاردکس 162",{"$f":"'تعریف کالا'!$C$166","v":0},{"$f":"'تعریف کالا'!$D$166","v":0},{"$f":"'تعریف کالا'!$E$166","v":0},{"$f":"'تعریف کالا'!$G$166","v":0},null,{"$f":"'تعریف کالا'!$F$166","v":0},null,0,null,null,null,null,null,null,null,null,null,null,null,null,null,null,0,0,0,0,0,0,0]
[null,"کاردکس 167",{"$f":"'تعریف کالا'!$C$171","v":0},{"$f":"'تعریف کالا'!$D$171","v":0},{"$f":"'تعریف کالا'!$E$171","v":0},{"$f":"'تعریف کالا'!$G$171","v":0},null,{"$f":"'تعریف کالا'!$F$171","v":0},null,0,null,null,null,null,null,null,null,null,null,null,null,null,null,null,0,0,0,0,0,0,0]
[null,"کاردکس 174",{"$f":"'تعریف کالا'!$C$178","v":0},{"$f":"'تعریف کالا'!$D$178","v":0},{"$f":"'تعریف کالا'!$E$178","v":0},{"$f":"'تعریف کالا'!$G$178","v":0},null,{"$f":"'تعریف کالا'!$F$178","v":0},null,0,null,null,null,null,null,null,null,null,null,null,null,null,null,null,0,0,0,0,0,0,0]
[null,"کاردکس 182",{"$f":"'تعریف کالا'!$C$186","v":0},{"$f":"'تعریف کالا'!$D$186","v":0},{"$f":"'تعریف کالا'!$E$186","v":0},{"$f":"'تعریف کالا'!$G$186","v":0},null,{"$f":"'تعریف کالا'!$F$186","v":0},null,0,null,null,null,null,null,null,null,null,null,null,null,null,null,null,0,0,0,0,0,0,0]
[null,"کاردکس 186",{"$f":"'تعریف کالا'!$C$190","v":0},{"$f":"'تعریف کالا'!$D$190","v":0},{"$f":"'تعریف کالا'!$E$190","v":0},{"$f":"'تعریف کالا'!$G$190","v":0},null,{"$f":"'تعریف کالا'!$F$190","v":0},null,0,null,null,null,null,null,null,null,null,null,null,null,null,null,null,0,0,0,0,0,0,0]
[null,"کاردکس 191",{"$f":"'تعریف کالا'!$C$195","v":0},{"$f":"'تعریف کالا'!$D$195","v":0},{"$f":"'تعریف کالا'!$E$195","v":0},{"$f":"'تعریف کالا'!$G$195","v":0},null,{"$f":"'تعریف کالا'!$F$195","v":0},null,0,null,null,null,null,null,null,null,null,null,null,null,null,null,null,0,0,0,0,0,0,0]
[null,"کاردکس 197",{"$f":"'تعریف کالا'!$C$201","v":0},{"$f":"'تعریف کالا'!$D$201","v":0},{"$f":"'تعریف کالا'!$E$201","v":0},{"$f":"'تعریف کالا'!$G$201","v":0},null,{"$f":"'تعریف کالا'!$F$201","v":0},null,0,null,null,null,null,null,null,null,null,null,null,null,null,null,null,0,0,0,0,0,0,0]
[null,"کاردکس 200",{"$f":"'تعریف کالا'!$C$204","v":0},{"$f":"'تعریف کالا'!$D$204","v":0},{"$f":"'تعریف کالا'!$E$204","v":0},{"$f":"'تعریف کالا'!$G$204","v":0},null,{"$f":"'تعریف کالا'!$F$204","v":0},null,0,null,null,null,null,null,null,null,null,null,null,null,null,null,null,0,0,0,0,0,0,0]
[]
[]
[null,null,null,null,null,null,null,null,null,null,null,null,null,null,null,null,null,null,null,null,null,null,null,"شماره سند",{"$f":"C4731","v":22}]
[null,"کاردکس 1",{"$f":"'تعریف کالا'!$C$5","v":9011120},{"$f":"'تعریف کالا'!$D$5","v":"سی دی"},{"$f":"'تعریف کالا'!$E$5","v":"سخت افزار"},{"$f":"'تعریف کالا'!$G$5","v":3000},null,{"$f":"'تعریف کالا'!$F$5","v":"حلقه"},null,{"$f":"(F4743*I4743)-(F4743*I4743*G4743%)","v":0},null,null,null,null,null,null,null,null,null,null,null,null,null,null,{"$f":"C4743","v":9011120},{"$f":"D4743","v":"سی دی"},{"$f":"E4743","v":"سخت افزار"},{"$f":"F4743","v":3000},{"$f":"H4743","v":"حلقه"},{"$f":"I4743","v":0},{"$f":"J4743","v":0}]
[null,"کاردکس 3",{"$f":"'تعریف کالا'!$C$7","v":9011122},{"$f":"'تعریف کالا'!$D$7","v":"نوت بوک"},{"$f":"'تعریف کالا'!$E$7","v":"سخت افزار"},{"$f":"'تعریف کالا'!$G$7","v":10000000},null,{"$f":"'تعریف کالا'!$F$7","v":"دستگاه"},null,{"$f":"(F4745*I4745)-(F4745*I4745*G4745%)","v":0},null,null,null,null,null,null,null,null,null,null,null,null,null,null,{"$f":"C4745","v":9011122},"نوت بوک","سخت افزار",10000000,"دستگاه",0,0]
[null,"کاردکس 10",{"$f":"'تعریف کالا'!$C$14","v":0},{"$f":"'تعریف کالا'!$D$14","v":0},{"$f":"'تعریف کالا'!$E$14","v":0},{"$f":"'تعریف کالا'!$G$14","v":0},null,{"$f":"'تعریف کالا'!$F$14","v":0},null,0,null,null,null,null,null,null,null,null,null,null,null,null,null,null,0,0,0,0,0,0,0]
[null,"کاردکس 14",{"$f":"'تعریف کالا'!$C$18","v":0},{"$f":"'تعریف کالا'!$D$18","v":0},{"$f":"'تعریف کالا'!$E$18","v":0},{"$f":"'تعریف کالا'!$G$18","v":0},null,{"$f":"'تعریف کالا'!$F$18","v":0},null,0,null,null,null,null,null,null,null,null,null,null,null,null,null,null,0,0,0,0,0,0,0]
[null,"کاردکس 19",{"$f":"'تعریف کالا'!$C$23","v":0},{"$f":"'تعریف کالا'!$D$23","v":0},{"$f":"'تعریف کالا'!$E$23","v":0},{"$f":"'تعریف کالا'!$G$23","v":0},null,{"$f":"'تعریف کالا'!$F$23","v":0},null,0,null,null,null,null,null,null,null,null,null,null,null,null,null,null,0,0,0,0,0,0,0]
[null,"کاردکس 26",{"$f":"'تعریف کالا'!$C$30","v":0},{"$f":"'تعریف کالا'!$D$30","v":0},{"$f":"'تعریف کالا'!$E$30","v":0},{"$f":"'تعریف کالا'!$G$30","v":0},null,{"$f":"'تعریف کالا'!$F$30","v":0},null,0,null,null,null,null,null,null,null,null,null,null,null,null,null,null,0,0,0,0,0,0,0]
[null,"کاردکس 34",{"$f":"'تعریف کالا'!$C$38","v":0},{"$f":"'تعریف کالا'!$D$38","v":0},{"$f":"'تعریف کالا'!$E$38","v":0},{"$f":"'تعریف کالا'!$G$38","v":0},null,{"$f":"'تعریف کالا'!$F$38","v":0},null,0,null,null,null,null,null,null,null,null,null,null,null,null,null,null,0,0,0,0,0,0,0]
[null,"کاردکس 38",{"$f":"'تعریف کالا'!$C$42","v":0},{"$f":"'تعریف کالا'!$D$42","v":0},{"$f":"'تعریف کالا'!$E$42","v":0},{"$f":"'تعریف کالا'!$G$42","v":0},null,{"$f":"'تعریف کالا'!$F$42","v":0},null,0,null,null,null,null,null,null,null,null,null,null,null,null,null,null,0,0,0,0,0,0,0]
[null,"کاردکس 45",{"$f":"'تعریف کالا'!$C$49","v":0},{"$f":"'تعریف کالا'!$D$49","v":0},{"$f":"'تعریف کالا'!$E$49","v":0},{"$f":"'تعریف کالا'!$G$49","v":0},null,{"$f":"'تعریف کالا'!$F$49","v":0},null,0,null,null,null,null,null,null,null,null,null,null,null,null,null,null,0,0,0,0,0,0,0]
[null,"کاردکس 50",{"$f":"'تعریف کالا'!$C$54","v":0},{"$f":"'تعریف کالا'!$D$54","v":0},{"$f":"'تعریف کالا'!$E$54","v":0},{"$f":"'تعریف کالا'!$G$54","v":0},null,{"$f":"'تعریف کالا'!$F$54","v":0},null,0,null,null,null,null,null,null,null,null,null,null,null,null,null,null,0,0,0,0,0,0,0]
[null,"کاردکس 54",{"$f":"'تعریف کالا'!$C$58","v":0},{"$f":"'تعریف کالا'!$D$58","v":0},{"$f":"'تعریف کالا'!$E$58","v":0},{"$f":"'تعریف کالا'!$G$58","v":0},null,{"$f":"'تعریف کالا'!$F$58","v":0},null,0,null,null,null,null,null,null,null,null,null,null,null,null,null,null,0,0,0,0,0,0,0]
[null,"کاردکس 61",{"$f":"'تعریف کالا'!$C$65","v":0},{"$f":"'تعریف کالا'!$D$65","v":0},{"$f":"'تعریف کالا'!$E$65","v":0},{"$f":"'تعریف کالا'!$G$65","v":0},null,{"$f":"'تعریف کالا'!$F$65","v":0},null,0,null,null,null,null,null,null,null,null,null,null,null,null,null,null,0,0,0,0,0,0,0]
[null,"کاردکس 63",{"$f":"'تعریف کالا'!$C$67","v":0},{"$f":"'تعریف کالا'!$D$67","v":0},{"$f":"'تعریف کالا'!$E$67","v":0},{"$f":"'تعریف کالا'!$G$67","v":0},null,{"$f":"'تعریف کالا'!$F$67","v":0},null,0,null,null,null,null,null,null,null,null,null,null,null,null,null,null,0,0,0,0,0,0,0]
[null,"کاردکس 68",{"$f":"'تعریف کالا'!$C$72","v":0},{"$f":"'تعریف کالا'!$D$72","v":0},{"$f":"'تعریف کالا'!$E$72","v":0},{"$f":"'تعریف کالا'!$G$72","v":0},null,{"$f":"'تعریف کالا'!$F$72","v":0},null,0,null,null,null,null,null,null,null,null,null,null,null,null,null,null,0,0,0,0,0,0,0]
[null,"کاردکس 78",{"$f":"'تعریف کالا'!$C$82","v":0},{"$f":"'تعریف کالا'!$D$82","v":0},{"$f":"'تعریف کالا'!$E$82","v":0},{"$f":"'تعریف کالا'!$G$82","v":0},null,{"$f":"'تعریف کالا'!$F$82","v":0},null,0,null,null,null,null,null,null,null,null,null,null,null,null,null,null,0,0,0,0,0,0,0]
[null,"کاردکس 80",{"$f":"'تعریف کالا'!$C$84","v":0},{"$f":"'تعریف کالا'!$D$84","v":0},{"$f":"'تعریف کالا'!$E$84","v":0},{"$f":"'تعریف کالا'!$G$84","v":0},null,{"$f":"'تعریف کالا'!$F$84","v":0},null,0,null,null,null,null,null,null,null,null,null,null,null,null,null,null,0,0,0,0,0,0,0]
[null,"کاردکس 89",{"$f":"'تعریف کالا'!$C$93","v":0},{"$f":"'تعریف کالا'!$D$93","v":0},{"$f":"'تعریف کالا'!$E$93","v":0},{"$f":"'تعریف کالا'!$G$93","v":0},null,{"$f":"'تعریف کالا'!$F$93","v":0},null,0,null,null,null,null,null,null,null,null,null,null,null,null,null,null,0,0,0,0,0,0,0]
[null,"کاردکس 92",{"$f":"'تعریف کالا'!$C$96","v":0},{"$f":"'تعریف کالا'!$D$96","v":0},{"$f":"'تعریف کالا'!$E$96","v":0},{"$f":"'تعریف کالا'!$G$96","v":0},null,{"$f":"'تعریف کالا'!$F$96","v":0},null,0,null,null,null,null,null,null,null,null,null,null,null,null,null,null,0,0,0,0,0,0,0]
[null,"کاردکس 98",{"$f":"'تعریف کالا'!$C$102","v":0},{"$f":"'تعریف کالا'!$D$102","v":0},{"$f":"'تعریف کالا'!$E$102","v":0},{"$f":"'تعریف کالا'!$G$102","v":0},null,{"$f":"'تعریف کالا'!$F$102","v":0},null,0,null,null,null,null,null,null,null,null,null,null,null,null,null,null,0,0,0,0,0,0,0]
[null,"کاردکس 103",{"$f":"'تعریف کالا'!$C$107","v":0},{"$f":"'تعریف کالا'!$D$107","v":0},{"$f":"'تعریف کالا'!$E$107","v":0},{"$f":"'تعریف کالا'!$G$107","v":0},null,{"$f":"'تعریف کالا'!$F$107","v":0},null,0,null,null,null,null,null,null,null,null,null,null,null,null,null,null,0,0,0,0,0,0,0]
[null,"کاردکس 107",{"$f":"'تعریف کالا'!$C$111","v":0},{"$f":"'تعریف کالا'!$D$111","v":0},{"$f":"'تعریف کالا'!$E$111","v":0},{"$f":"'تعریف کالا'!$G$111","v":0},null,{"$f":"'تعریف کالا'!$F$111","v":0},null,0,null,null,null,null,null,null,null,null,null,null,null,null,null,null,0,0,0,0,0,0,0]
[null,"کاردکس 115",{"$f":"'تعریف کالا'!$C$119","v":0},{"$f":"'تعریف کالا'!$D$119","v":0},{"$f":"'تعریف کالا'!$E$119","v":0},{"$f":"'تعریف کالا'!$G$119","v":0},null,{"$f":"'تعریف کالا'!$F$119","v":0},null,0,null,null,null,null,null,null,null,null,null,null,null,null,null,null,0,0,0,0,0,0,0]
[null,"کاردکس 122",{"$f":"'تعریف کالا'!$C$126","v":0},{"$f":"'تعریف کالا'!$D$126","v":0},{"$f":"'تعریف کالا'!$E$126","v":0},{"$f":"'تعریف کالا'!$G$126","v":0},null,{"$f":"'تعریف کالا'!$F$126","v":0},null,0,null,null,null,null,null,null,null,null,null,null,null,null,null,null,0,0,0,0,0,0,0]
[null,"کاردکس 127",{"$f":"'تعریف کالا'!$C$131","v":0},{"$f":"'تعریف کالا'!$D$131","v":0},{"$f":"'تعریف کالا'!$E$131","v":0},{"$f":"'تعریف کالا'!$G$131","v":0},null,{"$f":"'تعریف کالا'!$F$131","v":0},null,0,null,null,null,null,null,null,null,null,null,null,null,null,null,null,0,0,0,0,0,0,0]
[null,"کاردکس 133",{"$f":"'تعریف کالا'!$C$137","v":0},{"$f":"'تعریف کالا'!$D$137","v":0},{"$f":"'تعریف کالا'!$E$137","v":0},{"$f":"'تعریف کالا'!$G$137","v":0},null,{"$f":"'تعریف کالا'!$F$137","v":0},null,0,null,null,null,null,null,null,null,null,null,null,null,null,null,null,0,0,0,0,0,0,0]
[null,"کاردکس 134",{"$f":"'تعریف کالا'!$C$138","v":0},{"$f":"'تعریف کالا'!$D$138","v":0},{"$f":"'تعریف کالا'!$E$138","v":0},{"$f":"'تعریف کالا'!$G$138","v":0},null,{"$f":"'تعریف کالا'!$F$138","v":0},null,0,null,null,null,null,null,null,null,null,null,null,null,null,null,null,0,0,0,0,0,0,0]
[null,"کاردکس 142",{"$f":"'تعریف کالا'!$C$146","v":0},{"$f":"'تعریف کالا'!$D$146","v":0},{"$f":"'تعریف کالا'!$E$146","v":0},{"$f":"'تعریف کالا'!$G$146","v":0},null,{"$f":"'تعریف کالا'!$F$146","v":0},null,0,null,null,null,null,null,null,null,null,null,null,null,null,null,null,0,0,0,0,0,0,0]
[null,"کاردکس 146",{"$f":"'تعریف کالا'!$C$150","v":0},{"$f":"'تعریف کالا'!$D$150","v":0},{"$f":"'تعریف کالا'!$E$150","v":0},{"$f":"'تعریف کالا'!$G$150","v":0},null,{"$f":"'تعریف کالا'!$F$150","v":0},null,0,null,null,null,null,null,null,null,null,null,null,null,null,null,null,0,0,0,0,0,0,0]
[null,"کاردکس 151",{"$f":"'تعریف کالا'!$C$155","v":0},{"$f":"'تعریف کالا'!$D$155","v":0},{"$f":"'تعریف کالا'!$E$155","v":0},{"$f":"'تعریف کالا'!$G$155","v":0},null,{"$f":"'تعریف کالا'!$F$155","v":0},null,0,null,null,null,null,null,null,null,null,null,null,null,null,null,null,0,0,0,0,0,0,0]
[null,"کاردکس 157",{"$f":"'تعریف کالا'!$C$161","v":0},{"$f":"'تعریف کالا'!$D$161","v":0},{"$f":"'تعریف کالا'!$E$161","v":0},{"$f":"'تعریف کالا'!$G$161","v":0},null,{"$f":"'تعریف کالا'!$F$161","v":0},null,0,null,null,null,null,null,null,null,null,null,null,null,null,null,null,0,0,0,0,0,0,0]
[null,"کاردکس 166",{"$f":"'تعریف کالا'!$C$170","v":0},{"$f":"'تعریف کالا'!$D$170","v":0},{"$f":"'تعریف کالا'!$E$170","v":0},{"$f":"'تعریف کالا'!$G$170","v":0},null,{"$f":"'تعریف کالا'!$F$170","v":0},null,0,null,null,null,null,null,null,null,null,null,null,null,null,null,null,0,0,0,0,0,0,0]
[null,"کاردکس 169",{"$f":"'تعریف کالا'!$C$173","v":0},{"$f":"'تعریف کالا'!$D$173","v":0},{"$f":"'تعریف کالا'!$E$173","v":0},{"$f":"'تعریف کالا'!$G$173","v":0},null,{"$f":"'تعریف کالا'!$F$173","v":0},null,0,null,null,null,null,null,null,null,null,null,null,null,null,null,null,0,0,0,0,0,0,0]
[null,"کاردکس 177",{"$f":"'تعریف کالا'!$C$181","v":0},{"$f":"'تعریف کالا'!$D$181","v":0},{"$f":"'تعریف کالا'!$E$181","v":0},{"$f":"'تعریف کالا'!$G$181","v":0},null,{"$f":"'تعریف کالا'!$F$181","v":0},null,0,null,null,null,null,null,null,null,null,null,null,null,null,null,null,0,0,0,0,0,0,0]
[null,"کاردکس 181",{"$f":"'تعریف کالا'!$C$185","v":0},{"$f":"'تعریف کالا'!$D$185","v":0},{"$f":"'تعریف کالا'!$E$185","v":0},{"$f":"'تعریف کالا'!$G$185","v":0},null,{"$f":"'تعریف کالا'!$F$185","v":0},null,0,null,null,null,null,null,null,null,null,null,null,null,null,null,null,0,0,0,0,0,0,0]
[null,"کاردکس 186",{"$f":"'تعریف کالا'!$C$190","v":0},{"$f":"'تعریف کالا'!$D$190","v":0},{"$f":"'تعریف کالا'!$E$190","v":0},{"$f":"'تعریف کالا'!$G$190","v":0},null,{"$f":"'تعریف کالا'!$F$190","v":0},null,0,null,null,null,null,null,null,null,null,null,null,null,null,null,null,0,0,0,0,0,0,0]
[null,"کاردکس 193",{"$f":"'تعریف کالا'!$C$197","v":0},{"$f":"'تعریف کالا'!$D$197","v":0},{"$f":"'تعریف کالا'!$E$197","v":0},{"$f":"'تعریف کالا'!$G$197","v":0},null,{"$f":"'تعریف کالا'!$F$197","v":0},null,0,null,null,null,null,null,null,null,null,null,null,null,null,null,null,0,0,0,0,0,0,0]
[null,"کاردکس 195",{"$f":"'تعریف کالا'!$C$199","v":0},{"$f":"'تعریف کالا'!$D$199","v":0},{"$f":"'تعریف کالا'!$E$199","v":0},{"$f":"'تعریف کالا'!$G$199","v":0},null,{"$f":"'تعریف کالا'!$F$199","v":0},null,{"$f":"(F4937*I4937)-(F4937*I4937*G4937%)","v":0},null,null,null,null,null,null,null,null,null,null,null,null,null,null,{"$f":"C4937","v":0},0,0,0,0,0,0]
[]
[]
[]
[null,null,null,null,null,"          مالیات",null,null,"مالیات",{"$f":"(I5168-J4959+J4960)*G4961%","v":0}]
[null,null,"ثبت چک","شرح رویداد"]
[null,"کاردکس 5",{"$f":"'تعریف کالا'!$C$9","v":0},{"$f":"'تعریف کالا'!$D$9","v":0},{"$f":"'تعریف کالا'!$E$9","v":0},{"$f":"'تعریف کالا'!$G$9","v":0},null,{"$f":"'تعریف کالا'!$F$9","v":0},null,0,null,null,null,null,null,null,null,null,null,null,null,null,null,null,0,0,0,0,0,0,0]
[null,"کاردکس 10",{"$f":"'تعریف کالا'!$C$14","v":0},{"$f":"'تعریف کالا'!$D$14","v":0},{"$f":"'تعریف کالا'!$E$14","v":0},{"$f":"'تعریف کالا'!$G$14","v":0},null,{"$f":"'تعریف کالا'!$F$14","v":0},null,0,null,null,null,null,null,null,null,null,null,null,null,null,null,null,0,0,0,0,0,0,0]
[null,"کاردکس 14",{"$f":"'تعریف کالا'!$C$18","v":0},{"$f":"'تعریف کالا'!$D$18","v":0},{"$f":"'تعریف کالا'!$E$18","v":0},{"$f":"'تعریف کالا'!$G$18","v":0},null,{"$f":"'تعریف کالا'!$F$18","v":0},null,0,null,null,null,null,null,null,null,null,null,null,null,null,null,null,0,0,0,0,0,0,0]
[null,"کاردکس 21",{"$f":"'تعریف کالا'!$C$25","v":0},{"$f":"'تعریف کالا'!$D$25","v":0},{"$f":"'تعریف کالا'!$E$25","v":0},{"$f":"'تعریف کالا'!$G$25","v":0},null,{"$f":"'تعریف کالا'!$F$25","v":0},null,0,null,null,null,null,null,null,null,null,null,null,null,null,null,null,0,0,0,0,0,0,0]
[null,"کاردکس 29",{"$f":"'تعریف کالا'!$C$33","v":0},{"$f":"'تعریف کالا'!$D$33","v":0},{"$f":"'تعریف کالا'!$E$33","v":0},{"$f":"'تعریف کالا'!$G$33","v":0},null,{"$f":"'تعریف کالا'!$F$33","v":0},null,0,null,null,null,null,null,null,null,null,null,null,null,null,null,null,0,0,0,0,0,0,0]
[null,"کاردکس 33",{"$f":"'تعریف کالا'!$C$37","v":0},{"$f":"'تعریف کالا'!$D$37","v":0},{"$f":"'تعریف کالا'!$E$37","v":0},{"$f":"'تعریف کالا'!$G$37","v":0},null,{"$f":"'تعریف کالا'!$F$37","v":0},null,0,null,null,null,null,null,null,null,null,null,null,null,null,null,null,0,0,0,0,0,0,0]
[null,"کاردکس 38",{"$f":"'تعریف کالا'!$C$42","v":0},{"$f":"'تعریف کالا'!$D$42","v":0},{"$f":"'تعریف کالا'!$E$42","v":0},{"$f":"'تعریف کالا'!$G$42","v":0},null,{"$f":"'تعریف کالا'!$F$42","v":0},null,0,null,null,null,null,null,null,null,null,null,null,null,null,null,null,0,0,0,0,0,0,0]
[null,"کاردکس 45",{"$f":"'تعریف کالا'!$C$49","v":0},{"$f":"'تعریف کالا'!$D$49","v":0},{"$f":"'تعریف کالا'!$E$49","v":0},{"$f":"'تعریف کالا'!$G$49","v":0},null,{"$f":"'تعریف کالا'!$F$49","v":0},null,0,null,null,null,null,null,null,null,null,null,null,null,null,null,null,0,0,0,0,0,0,0]
[null,"کاردکس 49",{"$f":"'تعریف کالا'!$C$53","v":0},{"$f":"'تعریف کالا'!$D$53","v":0},{"$f":"'تعریف کالا'!$E$53","v":0},{"$f":"'تعریف کالا'!$G$53","v":0},null,{"$f":"'تعریف کالا'!$F$53","v":0},null,0,null,null,null,null,null,null,null,null,null,null,null,null,null,null,0,0,0,0,0,0,0]
[null,"کاردکس 52",{"$f":"'تعریف کالا'!$C$56","v":0},{"$f":"'تعریف کالا'!$D$56","v":0},{"$f":"'تعریف کالا'!$E$56","v":0},{"$f":"'تعریف کالا'!$G$56","v":0},null,{"$f":"'تعریف کالا'!$F$56","v":0},null,0,null,null,null,null,null,null,null,null,null,null,null,null,null,null,0,0,0,0,0,0,0]
[null,"کاردکس 58",{"$f":"'تعریف کالا'!$C$62","v":0},{"$f":"'تعریف کالا'!$D$62","v":0},{"$f":"'تعریف کالا'!$E$62","v":0},{"$f":"'تعریف کالا'!$G$62","v":0},null,{"$f":"'تعریف کالا'!$F$62","v":0},null,0,null,null,null,null,null,null,null,null,null,null,null,null,null,null,0,0,0,0,0,0,0]
[null,"کاردکس 63",{"$f":"'تعریف کالا'!$C$67","v":0},{"$f":"'تعریف کالا'!$D$67","v":0},{"$f":"'تعریف کالا'!$E$67","v":0},{"$f":"'تعریف کالا'!$G$67","v":0},null,{"$f":"'تعریف کالا'!$F$67","v":0},null,0,null,null,null,null,null,null,null,null,null,null,null,null,null,null,0,0,0,0,0,0,0]
[null,"کاردکس 73",{"$f":"'تعریف کالا'!$C$77","v":0},{"$f":"'تعریف کالا'!$D$77","v":0},{"$f":"'تعریف کالا'!$E$77","v":0},{"$f":"'تعریف کالا'!$G$77","v":0},null,{"$f":"'تعریف کالا'!$F$77","v":0},null,0,null,null,null,null,null,null,null,null,null,null,null,null,null,null,0,0,0,0,0,0,0]
[null,"کاردکس 75",{"$f":"'تعریف کالا'!$C$79","v":0},{"$f":"'تعریف کالا'!$D$79","v":0},{"$f":"'تعریف کالا'!$E$79","v":0},{"$f":"'تعریف کالا'!$G$79","v":0},null,{"$f":"'تعریف کالا'!$F$79","v":0},null,0,null,null,null,null,null,null,null,null,null,null,null,null,null,null,0,0,0,0,0,0,0]
[null,"کاردکس 82",{"$f":"'تعریف کالا'!$C$86","v":0},{"$f":"'تعریف کالا'!$D$86","v":0},{"$f":"'تعریف کالا'!$E$86","v":0},{"$f":"'تعریف کالا'!$G$86","v":0},null,{"$f":"'تعریف کالا'!$F$86","v":0},null,0,null,null,null,null,null,null,null,null,null,null,null,null,null,null,0,0,0,0,0,0,0]
[null,"کاردکس 87",{"$f":"'تعریف کالا'!$C$91","v":0},{"$f":"'تعریف کالا'!$D$91","v":0},{"$f":"'تعریف کالا'!$E$91","v":0},{"$f":"'تعریف کالا'!$G$91","v":0},null,{"$f":"'تعریف کالا'!$F$91","v":0},null,0,null,null,null,null,null,null,null,null,null,null,null,null,null,null,0,0,0,0,0,0,0]
[null,"کاردکس 93",{"$f":"'تعریف کالا'!$C$97","v":0},{"$f":"'تعریف کالا'!$D$97","v":0},{"$f":"'تعریف کالا'!$E$97","v":0},{"$f":"'تعریف کالا'!$G$97","v":0},null,{"$f":"'تعریف کالا'!$F$97","v":0},null,0,null,null,null,null,null,null,null,null,null,null,null,null,null,null,0,0,0,0,0,0,0]
[null,"کاردکس 99",{"$f":"'تعریف کالا'!$C$103","v":0},{"$f":"'تعریف کالا'!$D$103","v":0},{"$f":"'تعریف کالا'!$E$103","v":0},{"$f":"'تعریف کالا'!$G$103","v":0},null,{"$f":"'تعریف کالا'!$F$103","v":0},null,0,null,null,null,null,null,null,null,null,null,null,null,null,null,null,0,0,0,0,0,0,0]
[null,"کاردکس 102",{"$f":"'تعریف کالا'!$C$106","v":0},{"$f":"'تعریف کالا'!$D$106","v":0},{"$f":"'تعریف کالا'!$E$106","v":0},{"$f":"'تعریف کالا'!$G$106","v":0},null,{"$f":"'تعریف کالا'!$F$106","v":0},null,0,null,null,null,null,null,null,null,null,null,null,null,null,null,null,0,0,0,0,0,0,0]
[null,"کاردکس 111",{"$f":"'تعریف کالا'!$C$115","v":0},{"$f":"'تعریف کالا'!$D$115","v":0},{"$f":"'تعریف کالا'!$E$115","v":0},{"$f":"'تعریف کالا'!$G$115","v":0},null,{"$f":"'تعریف کالا'!$F$115","v":0},null,0,null,null,null,null,null,null,null,null,null,null,null,null,null,null,0,0,0,0,0,0,0]
[null,"کاردکس 117",{"$f":"'تعریف کالا'!$C$121","v":0},{"$f":"'تعریف کالا'!$D$121","v":0},{"$f":"'تعریف کالا'!$E$121","v":0},{"$f":"'تعریف کالا'!$G$121","v":0},null,{"$f":"'تعریف کالا'!$F$121","v":0},null,0,null,null,null,null,null,null,null,null,null,null,null,null,null,null,0,0,0,0,0,0,0]
[null,"کاردکس 122",{"$f":"'تعریف کالا'!$C$126","v":0},{"$f":"'تعریف کالا'!$D$126","v":0},{"$f":"'تعریف کالا'!$E$126","v":0},{"$f":"'تعریف کالا'!$G$126","v":0},null,{"$f":"'تعریف کالا'!$F$126","v":0},null,0,null,null,null,null,null,null,null,null,null,null,null,null,null,null,0,0,0,0,0,0,0]
[null,"کاردکس 126",{"$f":"'تعریف کالا'!$C$130","v":0},{"$f":"'تعریف کالا'!$D$130","v":0},{"$f":"'تعریف کالا'!$E$130","v":0},{"$f":"'تعریف کالا'!$G$130","v":0},null,{"$f":"'تعریف کالا'!$F$130","v":0},null,0,null,null,null,null,null,null,null,null,null,null,null,null,null,null,0,0,0,0,0,0,0]
[null,"کاردکس 129",{"$f":"'تعریف کالا'!$C$133","v":0},{"$f":"'تعریف کالا'!$D$133","v":0},{"$f":"'تعریف کالا'!$E$133","v":0},{"$f":"'تعریف کالا'!$G$133","v":0},null,{"$f":"'تعریف کالا'!$F$133","v":0},null,0,null,null,null,null,null,null,null,null,null,null,null,null,null,null,0,0,0,0,0,0,0]
[null,"کاردکس 137",{"$f":"'تعریف کالا'!$C$141","v":0},{"$f":"'تعریف کالا'!$D$141","v":0},{"$f":"'تعریف کالا'!$E$141","v":0},{"$f":"'تعریف کالا'!$G$141","v":0},null,{"$f":"'تعریف کالا'!$F$141","v":0},null,0,null,null,null,null,null,null,null,null,null,null,null,null,null,null,0,0,0,0,0,0,0]
[null,"کاردکس 141",{"$f":"'تعریف کالا'!$C$145","v":0},{"$f":"'تعریف کالا'!$D$145","v":0},{"$f":"'تعریف کالا'!$E$145","v":0},{"$f":"'تعریف کالا'!$G$145","v":0},null,{"$f":"'تعریف کالا'!$F$145","v":0},null,0,null,null,null,null,null,null,null,null,null,null,null,null,null,null,0,0,0,0,0,0,0]
[null,"کاردکس 146",{"$f":"'تعریف کالا'!$C$150","v":0},{"$f":"'تعریف کالا'!$D$150","v":0},{"$f":"'تعریف کالا'!$E$150","v":0},{"$f":"'تعریف کالا'!$G$150","v":0},null,{"$f":"'تعریف کالا'!$F$150","v":0},null,0,null,null,null,null,null,null,null,null,null,null,null,null,null,null,0,0,0,0,0,0,0]
[null,"کاردکس 153",{"$f":"'تعریف کالا'!$C$157","v":0},{"$f":"'تعریف کالا'!$D$157","v":0},{"$f":"'تعریف کالا'!$E$157","v":0},{"$f":"'تعریف کالا'!$G$157","v":0},null,{"$f":"'تعریف کالا'!$F$157","v":0},null,0,null,null,null,null,null,null,null,null,null,null,null,null,null,null,0,0,0,0,0,0,0]
[null,"کاردکس 161",{"$f":"'تعریف کالا'!$C$165","v":0},{"$f":"'تعریف کالا'!$D$165","v":0},{"$f":"'تعریف کالا'!$E$165","v":0},{"$f":"'تعریف کالا'!$G$165","v":0},null,{"$f":"'تعریف کالا'!$F$165","v":0},null,0,null,null,null,null,null,null,null,null,null,null,null,null,null,null,0,0,0,0,0,0,0]
[null,"کاردکس 164",{"$f":"'تعریف کالا'!$C$168","v":0},{"$f":"'تعریف کالا'!$D$168","v":0},{"$f":"'تعریف کالا'!$E$168","v":0},{"$f":"'تعریف کالا'!$G$168","v":0},null,{"$f":"'تعریف کالا'!$F$168","v":0},null,0,null,null,null,null,null,null,null,null,null,null,null,null,null,null,0,0,0,0,0,0,0]
[null,"کاردکس 170",{"$f":"'تعریف کالا'!$C$174","v":0},{"$f":"'تعریف کالا'!$D$174","v":0},{"$f":"'تعریف کالا'!$E$174","v":0},{"$f":"'تعریف کالا'!$G$174","v":0},null,{"$f":"'تعریف کالا'!$F$174","v":0},null,0,null,null,null,null,null,null,null,null,null,null,null,null,null,null,0,0,0,0,0,0,0]
[null,"کاردکس 176",{"$f":"'تعریف کالا'!$C$180","v":0},{"$f":"'تعریف کالا'!$D$180","v":0},{"$f":"'تعریف کالا'!$E$180","v":0},{"$f":"'تعریف کالا'!$G$180","v":0},null,{"$f":"'تعریف کالا'!$F$180","v":0},null,0,null,null,null,null,null,null,null,null,null,null,null,null,null,null,0,0,0,0,0,0,0]
[null,"کاردکس 179",{"$f":"'تعریف کالا'!$C$183","v":0},{"$f":"'تعریف کالا'!$D$183","v":0},{"$f":"'تعریف کالا'!$E$183","v":0},{"$f":"'تعریف کالا'!$G$183","v":0},null,{"$f":"'تعریف کالا'!$F$183","v":0},null,0,null,null,null,null,null,null,null,null,null,null,null,null,null,null,0,0,0,0,0,0,0]
[null,"کاردکس 188",{"$f":"'تعریف کالا'!$C$192","v":0},{"$f":"'تعریف کالا'!$D$192","v":0},{"$f":"'تعریف کالا'!$E$192","v":0},{"$f":"'تعریف کالا'!$G$192","v":0},null,{"$f":"'تعریف کالا'!$F$192","v":0},null,0,null,null,null,null,null,null,null,null,null,null,null,null,null,null,0,0,0,0,0,0,0]
[null,"کاردکس 190",{"$f":"'تعریف کالا'!$C$194","v":0},{"$f":"'تعریف کالا'!$D$194","v":0},{"$f":"'تعریف کالا'!$E$194","v":0},{"$f":"'تعریف کالا'!$G$194","v":0},null,{"$f":"'تعریف کالا'!$F$194","v":0},null,0,null,null,null,null,null,null,null,null,null,null,null,null,null,null,0,0,0,0,0,0,0]
[null,"کاردکس 195",{"$f":"'تعریف کالا'!$C$199","v":0},{"$f":"'تعریف کالا'!$D$199","v":0},{"$f":"'تعریف کالا'!$E$199","v":0},{"$f":"'تعریف کالا'!$G$199","v":0},null,{"$f":"'تعریف کالا'!$F$199","v":0},null,{"$f":"(F5162*I5162)-(F5162*I5162*G5162%)","v":0},null,null,null,null,null,null,null,null,null,null,null,null,null,null,{"$f":"C5162","v":0},0,0,0,0,0,0]
[null,null,null,null,null,null,null,null,null,null,null,null,null,null,null,null,null,null,null,null,null,null,null,null,"امضا صادر کننده",null,"امضا فروشنده",null,"امضا مسئول انبار",null,"امضا خریدار"]
[]
[null,"شماره سند ",24,null,null,null,null,null,"تاریخ",null,null,null,null,null,null,null,null,null,null,null,null,null,null,null,null,null,{"$f":"F5180","v":0},null,null,"تاریخ",{"$f":"J5181","v":0}]
[null,null,"نام خریدار","خسرو جهانشاهی",null,"          کرایه حمل",null,null,"کرایه حمل",{"$f":"G5185","v":0}]
[null,null,"ثبت چک","شرح رویداد"]
[null,"کاردکس 5",{"$f":"'تعریف کالا'!$C$9","v":0},{"$f":"'تعریف کالا'!$D$9","v":0},{"$f":"'تعریف کالا'!$E$9","v":0},{"$f":"'تعریف کالا'!$G$9","v":0},null,{"$f":"'تعریف کالا'!$F$9","v":0},null,0,null,null,null,null,null,null,null,null,null,null,null,null,null,null,0,0,0,0,0,0,0]
[null,"کاردکس 9",{"$f":"'تعریف کالا'!$C$13","v":0},{"$f":"'تعریف کالا'!$D$13","v":0},{"$f":"'تعریف کالا'!$E$13","v":0},{"$f":"'تعریف کالا'!$G$13","v":0},null,{"$f":"'تعریف کالا'!$F$13","v":0},null,0,null,null,null,null,null,null,null,null,null,null,null,null,null,null,0,0,0,0,0,0,0]
[null,"کاردکس 17",{"$f":"'تعریف کالا'!$C$21","v":0},{"$f":"'تعریف کالا'!$D$21","v":0},{"$f":"'تعریف کالا'!$E$21","v":0},{"$f":"'تعریف کالا'!$G$21","v":0},null,{"$f":"'تعریف کالا'!$F$21","v":0},null,0,null,null,null,null,null,null,null,null,null,null,null,null,null,null,0,0,0,0,0,0,0]
[null,"کاردکس 24",{"$f":"'تعریف کالا'!$C$28","v":0},{"$f":"'تعریف کالا'!$D$28","v":0},{"$f":"'تعریف کالا'!$E$28","v":0},{"$f":"'تعریف کالا'!$G$28","v":0},null,{"$f":"'تعریف کالا'!$F$28","v":0},null,0,null,null,null,null,null,null,null,null,null,null,null,null,null,null,0,0,0,0,0,0,0]
[null,"کاردکس 28",{"$f":"'تعریف کالا'!$C$32","v":0},{"$f":"'تعریف کالا'!$D$32","v":0},{"$f":"'تعریف کالا'!$E$32","v":0},{"$f":"'تعریف کالا'!$G$32","v":0},null,{"$f":"'تعریف کالا'!$F$32","v":0},null,0,null,null,null,null,null,null,null,null,null,null,null,null,null,null,0,0,0,0,0,0,0]
[null,"کاردکس 33",{"$f":"'تعریف کالا'!$C$37","v":0},{"$f":"'تعریف کالا'!$D$37","v":0},{"$f":"'تعریف کالا'!$E$37","v":0},{"$f":"'تعریف کالا'!$G$37","v":0},null,{"$f":"'تعریف کالا'!$F$37","v":0},null,0,null,null,null,null,null,null,null,null,null,null,null,null,null,null,0,0,0,0,0,0,0]
[null,"کاردکس 40",{"$f":"'تعریف کالا'!$C$44","v":0},{"$f":"'تعریف کالا'!$D$44","v":0},{"$f":"'تعریف کالا'!$E$44","v":0},{"$f":"'تعریف کالا'!$G$44","v":0},null,{"$f":"'تعریف کالا'!$F$44","v":0},null,0,null,null,null,null,null,null,null,null,null,null,null,null,null,null,0,0,0,0,0,0,0]
[null,"کاردکس 42",{"$f":"'تعریف کالا'!$C$46","v":0},{"$f":"'تعریف کالا'!$D$46","v":0},{"$f":"'تعریف کالا'!$E$46","v":0},{"$f":"'تعریف کالا'!$G$46","v":0},null,{"$f":"'تعریف کالا'!$F$46","v":0},null,0,null,null,null,null,null,null,null,null,null,null,null,null,null,null,0,0,0,0,0,0,0]
[null,"کاردکس 47",{"$f":"'تعریف کالا'!$C$51","v":0},{"$f":"'تعریف کالا'!$D$51","v":0},{"$f":"'تعریف کالا'!$E$51","v":0},{"$f":"'تعریف کالا'!$G$51","v":0},null,{"$f":"'تعریف کالا'!$F$51","v":0},null,0,null,null,null,null,null,null,null,null,null,null,null,null,null,null,0,0,0,0,0,0,0]
[null,"کاردکس 53",{"$f":"'تعریف کالا'!$C$57","v":0},{"$f":"'تعریف کالا'!$D$57","v":0},{"$f":"'تعریف کالا'!$E$57","v":0},{"$f":"'تعریف کالا'!$G$57","v":0},null,{"$f":"'تعریف کالا'!$F$57","v":0},null,0,null,null,null,null,null,null,null,null,null,null,null,null,null,null,0,0,0,0,0,0,0]
[null,"کاردکس 59",{"$f":"'تعریف کالا'!$C$63","v":0},{"$f":"'تعریف کالا'!$D$63","v":0},{"$f":"'تعریف کالا'!$E$63","v":0},{"$f":"'تعریف کالا'!$G$63","v":0},null,{"$f":"'تعریف کالا'!$F$63","v":0},null,0,null,null,null,null,null,null,null,null,null,null,null,null,null,null,0,0,0,0,0,0,0]
[null,"کاردکس 68",{"$f":"'تعریف کالا'!$C$72","v":0},{"$f":"'تعریف کالا'!$D$72","v":0},{"$f":"'تعریف کالا'!$E$72","v":0},{"$f":"'تعریف کالا'!$G$72","v":0},null,{"$f":"'تعریف کالا'!$F$72","v":0},null,0,null,null,null,null,null,null,null,null,null,null,null,null,null,null,0,0,0,0,0,0,0]
[null,"کاردکس 71",{"$f":"'تعریف کالا'!$C$75","v":0},{"$f":"'تعریف کالا'!$D$75","v":0},{"$f":"'تعریف کالا'!$E$75","v":0},{"$f":"'تعریف کالا'!$G$75","v":0},null,{"$f":"'تعریف کالا'!$F$75","v":0},null,0,null,null,null,null,null,null,null,null,null,null,null,null,null,null,0,0,0,0,0,0,0]
[null,"کاردکس 77",{"$f":"'تعریف کالا'!$C$81","v":0},{"$f":"'تعریف کالا'!$D$81","v":0},{"$f":"'تعریف کالا'!$E$81","v":0},{"$f":"'تعریف کالا'!$G$81","v":0},null,{"$f":"'تعریف کالا'!$F$81","v":0},null,0,null,null,null,null,null,null,null,null,null,null,null,null,null,null,0,0,0,0,0,0,0]
[null,"کاردکس 82",{"$f":"'تعریف کالا'!$C$86","v":0},{"$f":"'تعریف کالا'!$D$86","v":0},{"$f":"'تعریف کالا'!$E$86","v":0},{"$f":"'تعریف کالا'!$G$86","v":0},null,{"$f":"'تعریف کالا'!$F$86","v":0},null,0,null,null,null,null,null,null,null,null,null,null,null,null,null,null,0,0,0,0,0,0,0]
[null,"کاردکس 86",{"$f":"'تعریف کالا'!$C$90","v":0},{"$f":"'تعریف کالا'!$D$90","v":0},{"$f":"'تعریف کالا'!$E$90","v":0},{"$f":"'تعریف کالا'!$G$90","v":0},null,{"$f":"'تعریف کالا'!$F$90","v":0},null,0,null,null,null,null,null,null,null,null,null,null,null,null,null,null,0,0,0,0,0,0,0]
[null,"کاردکس 94",{"$f":"'تعریف کالا'!$C$98","v":0},{"$f":"'تعریف کالا'!$D$98","v":0},{"$f":"'تعریف کالا'!$E$98","v":0},{"$f":"'تعریف کالا'!$G$98","v":0},null,{"$f":"'تعریف کالا'!$F$98","v":0},null,0,null,null,null,null,null,null,null,null,null,null,null,null,null,null,0,0,0,0,0,0,0]
[null,"کاردکس 97",{"$f":"'تعریف کالا'!$C$101","v":0},{"$f":"'تعریف کالا'!$D$101","v":0},{"$f":"'تعریف کالا'!$E$101","v":0},{"$f":"'تعریف کالا'!$G$101","v":0},null,{"$f":"'تعریف کالا'!$F$101","v":0},null,0,null,null,null,null,null,null,null,null,null,null,null,null,null,null,0,0,0,0,0,0,0]
[null,"کاردکس 106",{"$f":"'تعریف کالا'!$C$110","v":0},{"$f":"'تعریف کالا'!$D$110","v":0},{"$f":"'تعریف کالا'!$E$110","v":0},{"$f":"'تعریف کالا'!$G$110","v":0},null,{"$f":"'تعریف کالا'!$F$110","v":0},null,0,null,null,null,null,null,null,null,null,null,null,null,null,null,null,0,0,0,0,0,0,0]
[null,"کاردکس 112",{"$f":"'تعریف کالا'!$C$116","v":0},{"$f":"'تعریف کالا'!$D$116","v":0},{"$f":"'تعریف کالا'!$E$116","v":0},{"$f":"'تعریف کالا'!$G$116","v":0},null,{"$f":"'تعریف کالا'!$F$116","v":0},null,0,null,null,null,null,null,null,null,null,null,null,null,null,null,null,0,0,0,0,0,0,0]
[null,"کاردکس 113",{"$f":"'تعریف کالا'!$C$117","v":0},{"$f":"'تعریف کالا'!$D$117","v":0},{"$f":"'تعریف کالا'!$E$117","v":0},{"$f":"'تعریف کالا'!$G$117","v":0},null,{"$f":"'تعریف کالا'!$F$117","v":0},null,0,null,null,null,null,null,null,null,null,null,null,null,null,null,null,0,0,0,0,0,0,0]
[null,"کاردکس 121",{"$f":"'تعریف کالا'!$C$125","v":0},{"$f":"'تعریف کالا'!$D$125","v":0},{"$f":"'تعریف کالا'!$E$125","v":0},{"$f":"'تعریف کالا'!$G$125","v":0},null,{"$f":"'تعریف کالا'!$F$125","v":0},null,0,null,null,null,null,null,null,null,null,null,null,null,null,null,null,0,0,0,0,0,0,0]
[null,"کاردکس 124",{"$f":"'تعریف کالا'!$C$128","v":0},{"$f":"'تعریف کالا'!$D$128","v":0},{"$f":"'تعریف کالا'!$E$128","v":0},{"$f":"'تعریف کالا'!$G$128","v":0},null,{"$f":"'تعریف کالا'!$F$128","v":0},null,0,null,null,null,null,null,null,null,null,null,null,null,null,null,null,0,0,0,0,0,0,0]
[null,"کاردکس 130",{"$f":"'تعریف کالا'!$C$134","v":0},{"$f":"'تعریف کالا'!$D$134","v":0},{"$f":"'تعریف کالا'!$E$134","v":0},{"$f":"'تعریف کالا'!$G$134","v":0},null,{"$f":"'تعریف کالا'!$F$134","v":0},null,0,null,null,null,null,null,null,null,null,null,null,null,null,null,null,0,{"$f":"D5322","v":0},{"$f":"E5322","v":0},{"$f":"F5322","v":0},{"$f":"H5322","v":0},{"$f":"I5322","v":0},{"$f":"J5322","v":0}]
[null,"کاردکس 136",{"$f":"'تعریف کالا'!$C$140","v":0},{"$f":"'تعریف کالا'!$D$140","v":0},{"$f":"'تعریف کالا'!$E$140","v":0},{"$f":"'تعریف کالا'!$G$140","v":0},null,{"$f":"'تعریف کالا'!$F$140","v":0},null,0,null,null,null,null,null,null,null,null,null,null,null,null,null,null,0,0,0,0,0,0,0]
[null,"کاردکس 141",{"$f":"'تعریف کالا'!$C$145","v":0},{"$f":"'تعریف کالا'!$D$145","v":0},{"$f":"'تعریف کالا'!$E$145","v":0},{"$f":"'تعریف کالا'!$G$145","v":0},null,{"$f":"'تعریف کالا'!$F$145","v":0},null,0,null,null,null,null,null,null,null,null,null,null,null,null,null,null,0,0,0,0,0,0,0]
[null,"کاردکس 148",{"$f":"'تعریف کالا'!$C$152","v":0},{"$f":"'تعریف کالا'!$D$152","v":0},{"$f":"'تعریف کالا'!$E$152","v":0},{"$f":"'تعریف کالا'!$G$152","v":0},null,{"$f":"'تعریف کالا'!$F$152","v":0},null,0,null,null,null,null,null,null,null,null,null,null,null,null,null,null,0,0,0,0,0,0,0]
[null,"کاردکس 156",{"$f":"'تعریف کالا'!$C$160","v":0},{"$f":"'تعریف کالا'!$D$160","v":0},{"$f":"'تعریف کالا'!$E$160","v":0},{"$f":"'تعریف کالا'!$G$160","v":0},null,{"$f":"'تعریف کالا'!$F$160","v":0},null,0,null,null,null,null,null,null,null,null,null,null,null,null,null,null,0,0,0,0,0,0,0]
[null,"کاردکس 160",{"$f":"'تعریف کالا'!$C$164","v":0},{"$f":"'تعریف کالا'!$D$164","v":0},{"$f":"'تعریف کالا'!$E$164","v":0},{"$f":"'تعریف کالا'!$G$164","v":0},null,{"$f":"'تعریف کالا'!$F$164","v":0},null,0,null,null,null,null,null,null,null,null,null,null,null,null,null,null,0,0,0,0,0,0,0]
[null,"کاردکس 165",{"$f":"'تعریف کالا'!$C$169","v":0},{"$f":"'تعریف کالا'!$D$169","v":0},{"$f":"'تعریف کالا'!$E$169","v":0},{"$f":"'تعریف کالا'!$G$169","v":0},null,{"$f":"'تعریف کالا'!$F$169","v":0},null,0,null,null,null,null,null,null,null,null,null,null,null,null,null,null,0,0,0,0,0,0,0]
[null,"کاردکس 171",{"$f":"'تعریف کالا'!$C$175","v":0},{"$f":"'تعریف کالا'!$D$175","v":0},{"$f":"'تعریف کالا'!$E$175","v":0},{"$f":"'تعریف کالا'!$G$175","v":0},null,{"$f":"'تعریف کالا'!$F$175","v":0},null,0,null,null,null,null,null,null,null,null,null,null,null,null,null,null,0,0,0,0,0,0,0]
[null,"کاردکس 174",{"$f":"'تعریف کالا'!$C$178","v":0},{"$f":"'تعریف کالا'!$D$178","v":0},{"$f":"'تعریف کالا'!$E$178","v":0},{"$f":"'تعریف کالا'!$G$178","v":0},null,{"$f":"'تعریف کالا'!$F$178","v":0},null,0,null,null,null,null,null,null,null,null,null,null,null,null,null,null,0,0,0,0,0,0,0]
[null,"کاردکس 183",{"$f":"'تعریف کالا'!$C$187","v":0},{"$f":"'تعریف کالا'!$D$187","v":0},{"$f":"'تعریف کالا'!$E$187","v":0},{"$f":"'تعریف کالا'!$G$187","v":0},null,{"$f":"'تعریف کالا'!$F$187","v":0},null,0,null,null,null,null,null,null,null,null,null,null,null,null,null,null,0,0,0,0,0,0,0]
[null,"کاردکس 189",{"$f":"'تعریف کالا'!$C$193","v":0},{"$f":"'تعریف کالا'!$D$193","v":0},{"$f":"'تعریف کالا'!$E$193","v":0},{"$f":"'تعریف کالا'!$G$193","v":0},null,{"$f":"'تعریف کالا'!$F$193","v":0},null,0,null,null,null,null,null,null,null,null,null,null,null,null,null,null,0,0,0,0,0,0,0]
[null,"کاردکس 190",{"$f":"'تعریف کالا'!$C$194","v":0},{"$f":"'تعریف کالا'!$D$194","v":0},{"$f":"'تعریف کالا'!$E$194","v":0},{"$f":"'تعریف کالا'!$G$194","v":0},null,{"$f":"'تعریف کالا'!$F$194","v":0},null,0,null,null,null,null,null,null,null,null,null,null,null,null,null,null,0,0,0,0,0,0,0]
[null,"کاردکس 200",{"$f":"'تعریف کالا'!$C$204","v":0},{"$f":"'تعریف کالا'!$D$204","v":0},{"$f":"'تعریف کالا'!$E$204","v":0},{"$f":"'تعریف کالا'!$G$204","v":0},null,{"$f":"'تعریف کالا'!$F$204","v":0},null,0,null,null,null,null,null,null,null,null,null,null,null,null,null,null,0,0,0,0,0,0,0]
[null,"                  مبلغ قابل  پرداخت        ",null,{"$f":"abh(I5394)&\"ریال\"","v":"منفي ریال"},null,null,null,null,{"$f":"J5187","v":0},null,null,null,null,null,null,null,null,null,null,null,null,null,null,"شرح رویداد :",null,{"$f":"E5190","v":0}]
[]
[null,null,null,null,null,{"$f":"'صفحه اصلی'!$J$4","v":0},null,null,null,null,null,"فاکتور بعدی",null,null,null,null,null,null,null,null,null,null,null,"حواله تحویل کالا"]
[null,null,"نام خریدار","خسرو جهانشاهی",null,"          کرایه حمل",null,null,"کرایه حمل",{"$f":"G5410","v":0}]
[null,"شماره کاردکس","کد کالا","نام کالا","گروه بندی","قیمت واحد","درصد تخفیف","واحد شمارش","تعداد","قیمت کل",null,null,null,null,null,null,null,null,null,null,null,null,null,"ردیف","کد کالا","نام کالا","گروه بندی","قیمت واحد","واحد شمارش","تعداد","قیمت کل"]
[null,"کاردکس 8",{"$f":"'تعریف کالا'!$C$12","v":0},{"$f":"'تعریف کالا'!$D$12","v":0},{"$f":"'تعریف کالا'!$E$12","v":0},{"$f":"'تعریف کالا'!$G$12","v":0},null,{"$f":"'تعریف کالا'!$F$12","v":0},null,0,null,null,null,null,null,null,null,null,null,null,null,null,null,null,0,0,0,0,0,0,0]
[null,"کاردکس 12",{"$f":"'تعریف کالا'!$C$16","v":0},{"$f":"'تعریف کالا'!$D$16","v":0},{"$f":"'تعریف کالا'!$E$16","v":0},{"$f":"'تعریف کالا'!$G$16","v":0},null,{"$f":"'تعریف کالا'!$F$16","v":0},null,0,null,null,null,null,null,null,null,null,null,null,null,null,null,null,0,0,0,0,0,0,0]
[null,"کاردکس 19",{"$f":"'تعریف کالا'!$C$23","v":0},{"$f":"'تعریف کالا'!$D$23","v":0},{"$f":"'تعریف کالا'!$E$23","v":0},{"$f":"'تعریف کالا'!$G$23","v":0},null,{"$f":"'تعریف کالا'!$F$23","v":0},null,0,null,null,null,null,null,null,null,null,null,null,null,null,null,null,0,0,0,0,0,0,0]
[null,"کاردکس 24",{"$f":"'تعریف کالا'!$C$28","v":0},{"$f":"'تعریف کالا'!$D$28","v":0},{"$f":"'تعریف کالا'!$E$28","v":0},{"$f":"'تعریف کالا'!$G$28","v":0},null,{"$f":"'تعریف کالا'!$F$28","v":0},null,0,null,null,null,null,null,null,null,null,null,null,null,null,null,null,0,0,0,0,0,0,0]
[null,"کاردکس 28",{"$f":"'تعریف کالا'!$C$32","v":0},{"$f":"'تعریف کالا'!$D$32","v":0},{"$f":"'تعریف کالا'!$E$32","v":0},{"$f":"'تعریف کالا'!$G$32","v":0},null,{"$f":"'تعریف کالا'!$F$32","v":0},null,0,null,null,null,null,null,null,null,null,null,null,null,null,null,null,0,0,0,0,0,0,0]
[null,"کاردکس 31",{"$f":"'تعریف کالا'!$C$35","v":0},{"$f":"'تعریف کالا'!$D$35","v":0},{"$f":"'تعریف کالا'!$E$35","v":0},{"$f":"'تعریف کالا'!$G$35","v":0},null,{"$f":"'تعریف کالا'!$F$35","v":0},null,0,null,null,null,null,null,null,null,null,null,null,null,null,null,null,0,0,0,0,0,0,0]
[null,"کاردکس 37",{"$f":"'تعریف کالا'!$C$41","v":0},{"$f":"'تعریف کالا'!$D$41","v":0},{"$f":"'تعریف کالا'!$E$41","v":0},{"$f":"'تعریف کالا'!$G$41","v":0},null,{"$f":"'تعریف کالا'!$F$41","v":0},null,0,null,null,null,null,null,null,null,null,null,null,null,null,null,null,0,0,0,0,0,0,0]
[null,"کاردکس 42",{"$f":"'تعریف کالا'!$C$46","v":0},{"$f":"'تعریف کالا'!$D$46","v":0},{"$f":"'تعریف کالا'!$E$46","v":0},{"$f":"'تعریف کالا'!$G$46","v":0},null,{"$f":"'تعریف کالا'!$F$46","v":0},null,0,null,null,null,null,null,null,null,null,null,null,null,null,null,null,0,0,0,0,0,0,0]
[null,"کاردکس 52",{"$f":"'تعریف کالا'!$C$56","v":0},{"$f":"'تعریف کالا'!$D$56","v":0},{"$f":"'تعریف کالا'!$E$56","v":0},{"$f":"'تعریف کالا'!$G$56","v":0},null,{"$f":"'تعریف کالا'!$F$56","v":0},null,0,null,null,null,null,null,null,null,null,null,null,null,null,null,null,0,0,0,0,0,0,0]
[null,"کاردکس 54",{"$f":"'تعریف کالا'!$C$58","v":0},{"$f":"'تعریف کالا'!$D$58","v":0},{"$f":"'تعریف کالا'!$E$58","v":0},{"$f":"'تعریف کالا'!$G$58","v":0},null,{"$f":"'تعریف کالا'!$F$58","v":0},null,0,null,null,null,null,null,null,null,null,null,null,null,null,null,null,0,0,0,0,0,0,0]
[null,"کاردکس 63",{"$f":"'تعریف کالا'!$C$67","v":0},{"$f":"'تعریف کالا'!$D$67","v":0},{"$f":"'تعریف کالا'!$E$67","v":0},{"$f":"'تعریف کالا'!$G$67","v":0},null,{"$f":"'تعریف کالا'!$F$67","v":0},null,0,null,null,null,null,null,null,null,null,null,null,null,null,null,null,0,0,0,0,0,0,0]
[null,"کاردکس 66",{"$f":"'تعریف کالا'!$C$70","v":0},{"$f":"'تعریف کالا'!$D$70","v":0},{"$f":"'تعریف کالا'!$E$70","v":0},{"$f":"'تعریف کالا'!$G$70","v":0},null,{"$f":"'تعریف کالا'!$F$70","v":0},null,0,null,null,null,null,null,null,null,null,null,null,null,null,null,null,0,{"$f":"D5483","v":0},{"$f":"E5483","v":0},{"$f":"F5483","v":0},{"$f":"H5483","v":0},{"$f":"I5483","v":0},{"$f":"J5483","v":0}]
[null,"کاردکس 72",{"$f":"'تعریف کالا'!$C$76","v":0},{"$f":"'تعریف کالا'!$D$76","v":0},{"$f":"'تعریف کالا'!$E$76","v":0},{"$f":"'تعریف کالا'!$G$76","v":0},null,{"$f":"'تعریف کالا'!$F$76","v":0},null,0,null,null,null,null,null,null,null,null,null,null,null,null,null,null,0,0,0,0,0,0,0]
[null,"کاردکس 78",{"$f":"'تعریف کالا'!$C$82","v":0},{"$f":"'تعریف کالا'!$D$82","v":0},{"$f":"'تعریف کالا'!$E$82","v":0},{"$f":"'تعریف کالا'!$G$82","v":0},null,{"$f":"'تعریف کالا'!$F$82","v":0},null,0,null,null,null,null,null,null,null,null,null,null,null,null,null,null,0,0,0,0,0,0,0]
[null,"کاردکس 81",{"$f":"'تعریف کالا'!$C$85","v":0},{"$f":"'تعریف کالا'!$D$85","v":0},{"$f":"'تعریف کالا'!$E$85","v":0},{"$f":"'تعریف کالا'!$G$85","v":0},null,{"$f":"'تعریف کالا'!$F$85","v":0},null,0,null,null,null,null,null,null,null,null,null,null,null,null,null,null,0,0,0,0,0,0,0]
[null,"کاردکس 89",{"$f":"'تعریف کالا'!$C$93","v":0},{"$f":"'تعریف کالا'!$D$93","v":0},{"$f":"'تعریف کالا'!$E$93","v":0},{"$f":"'تعریف کالا'!$G$93","v":0},null,{"$f":"'تعریف کالا'!$F$93","v":0},null,0,null,null,null,null,null,null,null,null,null,null,null,null,null,null,0,0,0,0,0,0,0]
[null,"کاردکس 96",{"$f":"'تعریف کالا'!$C$100","v":0},{"$f":"'تعریف کالا'!$D$100","v":0},{"$f":"'تعریف کالا'!$E$100","v":0},{"$f":"'تعریف کالا'!$G$100","v":0},null,{"$f":"'تعریف کالا'!$F$100","v":0},null,0,null,null,null,null,null,null,null,null,null,null,null,null,null,null,0,0,0,0,0,0,0]
[null,"کاردکس 101",{"$f":"'تعریف کالا'!$C$105","v":0},{"$f":"'تعریف کالا'!$D$105","v":0},{"$f":"'تعریف کالا'!$E$105","v":0},{"$f":"'تعریف کالا'!$G$105","v":0},null,{"$f":"'تعریف کالا'!$F$105","v":0},null,0,null,null,null,null,null,null,null,null,null,null,null,null,null,null,0,0,0,0,0,0,0]
[null,"کاردکس 107",{"$f":"'تعریف کالا'!$C$111","v":0},{"$f":"'تعریف کالا'!$D$111","v":0},{"$f":"'تعریف کالا'!$E$111","v":0},{"$f":"'تعریف کالا'!$G$111","v":0},null,{"$f":"'تعریف کالا'!$F$111","v":0},null,0,null,null,null,null,null,null,null,null,null,null,null,null,null,null,0,0,0,0,0,0,0]
[null,"کاردکس 108",{"$f":"'تعریف کالا'!$C$112","v":0},{"$f":"'تعریف کالا'!$D$112","v":0},{"$f":"'تعریف کالا'!$E$112","v":0},{"$f":"'تعریف کالا'!$G$112","v":0},null,{"$f":"'تعریف کالا'!$F$112","v":0},null,0,null,null,null,null,null,null,null,null,null,null,null,null,null,null,0,0,0,0,0,0,0]
[null,"کاردکس 116",{"$f":"'تعریف کالا'!$C$120","v":0},{"$f":"'تعریف کالا'!$D$120","v":0},{"$f":"'تعریف کالا'!$E$120","v":0},{"$f":"'تعریف کالا'!$G$120","v":0},null,{"$f":"'تعریف کالا'!$F$120","v":0},null,0,null,null,null,null,null,null,null,null,null,null,null,null,null,null,0,0,0,0,0,0,0]
[null,"کاردکس 120",{"$f":"'تعریف کالا'!$C$124","v":0},{"$f":"'تعریف کالا'!$D$124","v":0},{"$f":"'تعریف کالا'!$E$124","v":0},{"$f":"'تعریف کالا'!$G$124","v":0},null,{"$f":"'تعریف کالا'!$F$124","v":0},null,0,null,null,null,null,null,null,null,null,null,null,null,null,null,null,0,0,0,0,0,0,0]
[null,"کاردکس 125",{"$f":"'تعریف کالا'!$C$129","v":0},{"$f":"'تعریف کالا'!$D$129","v":0},{"$f":"'تعریف کالا'!$E$129","v":0},{"$f":"'تعریف کالا'!$G$129","v":0},null,{"$f":"'تعریف کالا'!$F$129","v":0},null,0,null,null,null,null,null,null,null,null,null,null,null,null,null,null,0,0,0,0,0,0,0]
[null,"کاردکس 131",{"$f":"'تعریف کالا'!$C$135","v":0},{"$f":"'تعریف کالا'!$D$135","v":0},{"$f":"'تعریف کالا'!$E$135","v":0},{"$f":"'تعریف کالا'!$G$135","v":0},null,{"$f":"'تعریف کالا'!$F$135","v":0},null,{"$f":"(F5548*I5548)-(F5548*I5548*G5548%)","v":0},null,null,null,null,null,null,null,null,null,null,null,null,null,null,{"$f":"C5548","v":0},0,0,0,0,0,0]
[null,"کاردکس 140",{"$f":"'تعریف کالا'!$C$144","v":0},{"$f":"'تعریف کالا'!$D$144","v":0},{"$f":"'تعریف کالا'!$E$144","v":0},{"$f":"'تعریف کالا'!$G$144","v":0},null,{"$f":"'تعریف کالا'!$F$144","v":0},null,0,null,null,null,null,null,null,null,null,null,null,null,null,null,null,0,0,0,0,0,0,0]
[null,"کاردکس 143",{"$f":"'تعریف کالا'!$C$147","v":0},{"$f":"'تعریف کالا'!$D$147","v":0},{"$f":"'تعریف کالا'!$E$147","v":0},{"$f":"'تعریف کالا'!$G$147","v":0},null,{"$f":"'تعریف کالا'!$F$147","v":0},null,0,null,null,null,null,null,null,null,null,null,null,null,null,null,null,0,0,0,0,0,0,0]
[null,"کاردکس 149",{"$f":"'تعریف کالا'!$C$153","v":0},{"$f":"'تعریف کالا'!$D$153","v":0},{"$f":"'تعریف کالا'!$E$153","v":0},{"$f":"'تعریف کالا'!$G$153","v":0},null,{"$f":"'تعریف کالا'!$F$153","v":0},null,0,null,null,null,null,null,null,null,null,null,null,null,null,null,null,0,0,0,0,0,0,0]
[null,"کاردکس 155",{"$f":"'تعریف کالا'!$C$159","v":0},{"$f":"'تعریف کالا'!$D$159","v":0},{"$f":"'تعریف کالا'!$E$159","v":0},{"$f":"'تعریف کالا'!$G$159","v":0},null,{"$f":"'تعریف کالا'!$F$159","v":0},null,0,null,null,null,null,null,null,null,null,null,null,null,null,null,null,0,0,0,0,0,0,0]
[null,"کاردکس 160",{"$f":"'تعریف کالا'!$C$164","v":0},{"$f":"'تعریف کالا'!$D$164","v":0},{"$f":"'تعریف کالا'!$E$164","v":0},{"$f":"'تعریف کالا'!$G$164","v":0},null,{"$f":"'تعریف کالا'!$F$164","v":0},null,0,null,null,null,null,null,null,null,null,null,null,null,null,null,null,0,0,0,0,0,0,0]
[null,"کاردکس 167",{"$f":"'تعریف کالا'!$C$171","v":0},{"$f":"'تعریف کالا'!$D$171","v":0},{"$f":"'تعریف کالا'!$E$171","v":0},{"$f":"'تعریف کالا'!$G$171","v":0},null,{"$f":"'تعریف کالا'!$F$171","v":0},null,0,null,null,null,null,null,null,null,null,null,null,null,null,null,null,0,0,0,0,0,0,0]
[null,"کاردکس 172",{"$f":"'تعریف کالا'!$C$176","v":0},{"$f":"'تعریف کالا'!$D$176","v":0},{"$f":"'تعریف کالا'!$E$176","v":0},{"$f":"'تعریف کالا'!$G$176","v":0},null,{"$f":"'تعریف کالا'!$F$176","v":0},null,0,null,null,null,null,null,null,null,null,null,null,null,null,null,null,0,0,0,0,0,0,0]
[null,"کاردکس 177",{"$f":"'تعریف کالا'!$C$181","v":0},{"$f":"'تعریف کالا'!$D$181","v":0},{"$f":"'تعریف کالا'!$E$181","v":0},{"$f":"'تعریف کالا'!$G$181","v":0},null,{"$f":"'تعریف کالا'!$F$181","v":0},null,0,null,null,null,null,null,null,null,null,null,null,null,null,null,null,0,0,0,0,0,0,0]
[null,"کاردکس 179",{"$f":"'تعریف کالا'!$C$183","v":0},{"$f":"'تعریف کالا'!$D$183","v":0},{"$f":"'تعریف کالا'!$E$183","v":0},{"$f":"'تعریف کالا'!$G$183","v":0},null,{"$f":"'تعریف کالا'!$F$183","v":0},null,0,null,null,null,null,null,null,null,null,null,null,null,null,null,null,0,0,0,0,0,0,0]
[null,"کاردکس 186",{"$f":"'تعریف کالا'!$C$190","v":0},{"$f":"'تعریف کالا'!$D$190","v":0},{"$f":"'تعریف کالا'!$E$190","v":0},{"$f":"'تعریف کالا'!$G$190","v":0},null,{"$f":"'تعریف کالا'!$F$190","v":0},null,0,null,null,null,null,null,null,null,null,null,null,null,null,null,null,0,0,0,0,0,0,0]
[null,"کاردکس 191",{"$f":"'تعریف کالا'!$C$195","v":0},{"$f":"'تعریف کالا'!$D$195","v":0},{"$f":"'تعریف کالا'!$E$195","v":0},{"$f":"'تعریف کالا'!$G$195","v":0},null,{"$f":"'تعریف کالا'!$F$195","v":0},null,0,null,null,null,null,null,null,null,null,null,null,null,null,null,null,0,0,0,0,0,0,0]
[null,"کاردکس 195",{"$f":"'تعریف کالا'!$C$199","v":0},{"$f":"'تعریف کالا'!$D$199","v":0},{"$f":"'تعریف کالا'!$E$199","v":0},{"$f":"'تعریف کالا'!$G$199","v":0},null,{"$f":"'تعریف کالا'!$F$199","v":0},null,{"$f":"(F5612*I5612)-(F5612*I5612*G5612%)","v":0},null,null,null,null,null,null,null,null,null,null,null,null,null,null,{"$f":"C5612","v":0},0,0,0,0,0,0]
[null,"                  مبلغ قابل  پرداخت        ",null,{"$f":"abh(I5619)&\"ریال\"","v":"منفي ریال"},null,null,null,null,{"$f":"J5412","v":0},null,null,null,null,null,null,null,null,null,null,null,null,null,null,"شرح رویداد :",null,{"$f":"E5415","v":0}]
[]
[null,"شماره سند ",26,null,null,null,null,null,"تاریخ",null,null,null,null,null,null,null,null,null,null,null,null,null,null,null,null,null,{"$f":"F5630","v":0},null,null,"تاریخ",{"$f":"J5631","v":0}]
[null,null,"پرداخت با چک",null,null,null,null,null,"مانده حساب",{"$f":"J5637-D5637-D5638","v":0}]
[null,"کاردکس 1",{"$f":"'تعریف کالا'!$C$5","v":9011120},{"$f":"'تعریف کالا'!$D$5","v":"سی دی"},{"$f":"'تعریف کالا'!$E$5","v":"سخت افزار"},{"$f":"'تعریف کالا'!$G$5","v":3000},null,{"$f":"'تعریف کالا'!$F$5","v":"حلقه"},null,{"$f":"(F5643*I5643)-(F5643*I5643*G5643%)","v":0},null,null,null,null,null,null,null,null,null,null,null,null,null,null,{"$f":"C5643","v":9011120},{"$f":"D5643","v":"سی دی"},{"$f":"E5643","v":"سخت افزار"},{"$f":"F5643","v":3000},{"$f":"H5643","v":"حلقه"},{"$f":"I5643","v":0},{"$f":"J5643","v":0}]
[null,"کاردکس 5",{"$f":"'تعریف کالا'!$C$9","v":0},{"$f":"'تعریف کالا'!$D$9","v":0},{"$f":"'تعریف کالا'!$E$9","v":0},{"$f":"'تعریف کالا'!$G$9","v":0},null,{"$f":"'تعریف کالا'!$F$9","v":0},null,0,null,null,null,null,null,null,null,null,null,null,null,null,null,null,0,0,0,0,0,0,0]
[null,"کاردکس 13",{"$f":"'تعریف کالا'!$C$17","v":0},{"$f":"'تعریف کالا'!$D$17","v":0},{"$f":"'تعریف کالا'!$E$17","v":0},{"$f":"'تعریف کالا'!$G$17","v":0},null,{"$f":"'تعریف کالا'!$F$17","v":0},null,0,null,null,null,null,null,null,null,null,null,null,null,null,null,null,0,0,0,0,0,0,0]
[null,"کاردکس 14",{"$f":"'تعریف کالا'!$C$18","v":0},{"$f":"'تعریف کالا'!$D$18","v":0},{"$f":"'تعریف کالا'!$E$18","v":0},{"$f":"'تعریف کالا'!$G$18","v":0},null,{"$f":"'تعریف کالا'!$F$18","v":0},null,0,null,null,null,null,null,null,null,null,null,null,null,null,null,null,0,0,0,0,0,0,0]
[null,"کاردکس 24",{"$f":"'تعریف کالا'!$C$28","v":0},{"$f":"'تعریف کالا'!$D$28","v":0},{"$f":"'تعریف کالا'!$E$28","v":0},{"$f":"'تعریف کالا'!$G$28","v":0},null,{"$f":"'تعریف کالا'!$F$28","v":0},null,0,null,null,null,null,null,null,null,null,null,null,null,null,null,null,0,0,0,0,0,0,0]
[null,"کاردکس 29",{"$f":"'تعریف کالا'!$C$33","v":0},{"$f":"'تعریف کالا'!$D$33","v":0},{"$f":"'تعریف کالا'!$E$33","v":0},{"$f":"'تعریف کالا'!$G$33","v":0},null,{"$f":"'تعریف کالا'!$F$33","v":0},null,0,null,null,null,null,null,null,null,null,null,null,null,null,null,null,0,0,0,0,0,0,0]
[null,"کاردکس 31",{"$f":"'تعریف کالا'!$C$35","v":0},{"$f":"'تعریف کالا'!$D$35","v":0},{"$f":"'تعریف کالا'!$E$35","v":0},{"$f":"'تعریف کالا'!$G$35","v":0},null,{"$f":"'تعریف کالا'!$F$35","v":0},null,0,null,null,null,null,null,null,null,null,null,null,null,null,null,null,0,0,0,0,0,0,0]
[null,"کاردکس 38",{"$f":"'تعریف کالا'!$C$42","v":0},{"$f":"'تعریف کالا'!$D$42","v":0},{"$f":"'تعریف کالا'!$E$42","v":0},{"$f":"'تعریف کالا'!$G$42","v":0},null,{"$f":"'تعریف کالا'!$F$42","v":0},null,0,null,null,null,null,null,null,null,null,null,null,null,null,null,null,0,0,0,0,0,0,0]
[null,"کاردکس 43",{"$f":"'تعریف کالا'!$C$47","v":0},{"$f":"'تعریف کالا'!$D$47","v":0},{"$f":"'تعریف کالا'!$E$47","v":0},{"$f":"'تعریف کالا'!$G$47","v":0},null,{"$f":"'تعریف کالا'!$F$47","v":0},null,0,null,null,null,null,null,null,null,null,null,null,null,null,null,null,0,0,0,0,0,0,0]
[null,"کاردکس 49",{"$f":"'تعریف کالا'!$C$53","v":0},{"$f":"'تعریف کالا'!$D$53","v":0},{"$f":"'تعریف کالا'!$E$53","v":0},{"$f":"'تعریف کالا'!$G$53","v":0},null,{"$f":"'تعریف کالا'!$F$53","v":0},null,0,null,null,null,null,null,null,null,null,null,null,null,null,null,null,0,0,0,0,0,0,0]
[null,"کاردکس 55",{"$f":"'تعریف کالا'!$C$59","v":0},{"$f":"'تعریف کالا'!$D$59","v":0},{"$f":"'تعریف کالا'!$E$59","v":0},{"$f":"'تعریف کالا'!$G$59","v":0},null,{"$f":"'تعریف کالا'!$F$59","v":0},null,0,null,null,null,null,null,null,null,null,null,null,null,null,null,null,0,0,0,0,0,0,0]
[null,"کاردکس 58",{"$f":"'تعریف کالا'!$C$62","v":0},{"$f":"'تعریف کالا'!$D$62","v":0},{"$f":"'تعریف کالا'!$E$62","v":0},{"$f":"'تعریف کالا'!$G$62","v":0},null,{"$f":"'تعریف کالا'!$F$62","v":0},null,0,null,null,null,null,null,null,null,null,null,null,null,null,null,null,0,0,0,0,0,0,0]
[null,"کاردکس 66",{"$f":"'تعریف کالا'!$C$70","v":0},{"$f":"'تعریف کالا'!$D$70","v":0},{"$f":"'تعریف کالا'!$E$70","v":0},{"$f":"'تعریف کالا'!$G$70","v":0},null,{"$f":"'تعریف کالا'!$F$70","v":0},null,0,null,null,null,null,null,null,null,null,null,null,null,null,null,null,0,{"$f":"D5708","v":0},{"$f":"E5708","v":0},{"$f":"F5708","v":0},{"$f":"H5708","v":0},{"$f":"I5708","v":0},{"$f":"J5708","v":0}]
[null,"کاردکس 73",{"$f":"'تعریف کالا'!$C$77","v":0},{"$f":"'تعریف کالا'!$D$77","v":0},{"$f":"'تعریف کالا'!$E$77","v":0},{"$f":"'تعریف کالا'!$G$77","v":0},null,{"$f":"'تعریف کالا'!$F$77","v":0},null,0,null,null,null,null,null,null,null,null,null,null,null,null,null,null,0,0,0,0,0,0,0]
[null,"کاردکس 78",{"$f":"'تعریف کالا'!$C$82","v":0},{"$f":"'تعریف کالا'!$D$82","v":0},{"$f":"'تعریف کالا'!$E$82","v":0},{"$f":"'تعریف کالا'!$G$82","v":0},null,{"$f":"'تعریف کالا'!$F$82","v":0},null,0,null,null,null,null,null,null,null,null,null,null,null,null,null,null,0,0,0,0,0,0,0]
[null,"کاردکس 82",{"$f":"'تعریف کالا'!$C$86","v":0},{"$f":"'تعریف کالا'!$D$86","v":0},{"$f":"'تعریف کالا'!$E$86","v":0},{"$f":"'تعریف کالا'!$G$86","v":0},null,{"$f":"'تعریف کالا'!$F$86","v":0},null,0,null,null,null,null,null,null,null,null,null,null,null,null,null,null,0,0,0,0,0,0,0]
[null,"کاردکس 90",{"$f":"'تعریف کالا'!$C$94","v":0},{"$f":"'تعریف کالا'!$D$94","v":0},{"$f":"'تعریف کالا'!$E$94","v":0},{"$f":"'تعریف کالا'!$G$94","v":0},null,{"$f":"'تعریف کالا'!$F$94","v":0},null,0,null,null,null,null,null,null,null,null,null,null,null,null,null,null,0,0,0,0,0,0,0]
[null,"کاردکس 93",{"$f":"'تعریف کالا'!$C$97","v":0},{"$f":"'تعریف کالا'!$D$97","v":0},{"$f":"'تعریف کالا'!$E$97","v":0},{"$f":"'تعریف کالا'!$G$97","v":0},null,{"$f":"'تعریف کالا'!$F$97","v":0},null,0,null,null,null,null,null,null,null,null,null,null,null,null,null,null,0,0,0,0,0,0,0]
[null,"کاردکس 97",{"$f":"'تعریف کالا'!$C$101","v":0},{"$f":"'تعریف کالا'!$D$101","v":0},{"$f":"'تعریف کالا'!$E$101","v":0},{"$f":"'تعریف کالا'!$G$101","v":0},null,{"$f":"'تعریف کالا'!$F$101","v":0},null,0,null,null,null,null,null,null,null,null,null,null,null,null,null,null,0,0,0,0,0,0,0]
[null,"کاردکس 102",{"$f":"'تعریف کالا'!$C$106","v":0},{"$f":"'تعریف کالا'!$D$106","v":0},{"$f":"'تعریف کالا'!$E$106","v":0},{"$f":"'تعریف کالا'!$G$106","v":0},null,{"$f":"'تعریف کالا'!$F$106","v":0},null,0,null,null,null,null,null,null,null,null,null,null,null,null,null,null,0,0,0,0,0,0,0]
[null,"کاردکس 109",{"$f":"'تعریف کالا'!$C$113","v":0},{"$f":"'تعریف کالا'!$D$113","v":0},{"$f":"'تعریف کالا'!$E$113","v":0},{"$f":"'تعریف کالا'!$G$113","v":0},null,{"$f":"'تعریف کالا'!$F$113","v":0},null,0,null,null,null,null,null,null,null,null,null,null,null,null,null,null,0,0,0,0,0,0,0]
[null,"کاردکس 117",{"$f":"'تعریف کالا'!$C$121","v":0},{"$f":"'تعریف کالا'!$D$121","v":0},{"$f":"'تعریف کالا'!$E$121","v":0},{"$f":"'تعریف کالا'!$G$121","v":0},null,{"$f":"'تعریف کالا'!$F$121","v":0},null,0,null,null,null,null,null,null,null,null,null,null,null,null,null,null,0,0,0,0,0,0,0]
[null,"کاردکس 120",{"$f":"'تعریف کالا'!$C$124","v":0},{"$f":"'تعریف کالا'!$D$124","v":0},{"$f":"'تعریف کالا'!$E$124","v":0},{"$f":"'تعریف کالا'!$G$124","v":0},null,{"$f":"'تعریف کالا'!$F$124","v":0},null,0,null,null,null,null,null,null,null,null,null,null,null,null,null,null,0,0,0,0,0,0,0]
[null,"کاردکس 126",{"$f":"'تعریف کالا'!$C$130","v":0},{"$f":"'تعریف کالا'!$D$130","v":0},{"$f":"'تعریف کالا'!$E$130","v":0},{"$f":"'تعریف کالا'!$G$130","v":0},null,{"$f":"'تعریف کالا'!$F$130","v":0},null,0,null,null,null,null,null,null,null,null,null,null,null,null,null,null,0,0,0,0,0,0,0]
[null,"کاردکس 132",{"$f":"'تعریف کالا'!$C$136","v":0},{"$f":"'تعریف کالا'!$D$136","v":0},{"$f":"'تعریف کالا'!$E$136","v":0},{"$f":"'تعریف کالا'!$G$136","v":0},null,{"$f":"'تعریف کالا'!$F$136","v":0},null,0,null,null,null,null,null,null,null,null,null,null,null,null,null,null,0,0,0,0,0,0,0]
[null,"کاردکس 137",{"$f":"'تعریف کالا'!$C$141","v":0},{"$f":"'تعریف کالا'!$D$141","v":0},{"$f":"'تعریف کالا'!$E$141","v":0},{"$f":"'تعریف کالا'!$G$141","v":0},null,{"$f":"'تعریف کالا'!$F$141","v":0},null,0,null,null,null,null,null,null,null,null,null,null,null,null,null,null,0,0,0,0,0,0,0]
[null,"کاردکس 144",{"$f":"'تعریف کالا'!$C$148","v":0},{"$f":"'تعریف کالا'!$D$148","v":0},{"$f":"'تعریف کالا'!$E$148","v":0},{"$f":"'تعریف کالا'!$G$148","v":0},null,{"$f":"'تعریف کالا'!$F$148","v":0},null,0,null,null,null,null,null,null,null,null,null,null,null,null,null,null,0,0,0,0,0,0,0]
[null,"کاردکس 146",{"$f":"'تعریف کالا'!$C$150","v":0},{"$f":"'تعریف کالا'!$D$150","v":0},{"$f":"'تعریف کالا'!$E$150","v":0},{"$f":"'تعریف کالا'!$G$150","v":0},null,{"$f":"'تعریف کالا'!$F$150","v":0},null,0,null,null,null,null,null,null,null,null,null,null,null,null,null,null,0,0,0,0,0,0,0]
[null,"کاردکس 156",{"$f":"'تعریف کالا'!$C$160","v":0},{"$f":"'تعریف کالا'!$D$160","v":0},{"$f":"'تعریف کالا'!$E$160","v":0},{"$f":"'تعریف کالا'!$G$160","v":0},null,{"$f":"'تعریف کالا'!$F$160","v":0},null,0,null,null,null,null,null,null,null,null,null,null,null,null,null,null,0,0,0,0,0,0,0]
[null,"کاردکس 161",{"$f":"'تعریف کالا'!$C$165","v":0},{"$f":"'تعریف کالا'!$D$165","v":0},{"$f":"'تعریف کالا'!$E$165","v":0},{"$f":"'تعریف کالا'!$G$165","v":0},null,{"$f":"'تعریف کالا'!$F$165","v":0},null,0,null,null,null,null,null,null,null,null,null,null,null,null,null,null,0,0,0,0,0,0,0]
[null,"کاردکس 167",{"$f":"'تعریف کالا'!$C$171","v":0},{"$f":"'تعریف کالا'!$D$171","v":0},{"$f":"'تعریف کالا'!$E$171","v":0},{"$f":"'تعریف کالا'!$G$171","v":0},null,{"$f":"'تعریف کالا'!$F$171","v":0},null,0,null,null,null,null,null,null,null,null,null,null,null,null,null,null,0,0,0,0,0,0,0]
[null,"کاردکس 170",{"$f":"'تعریف کالا'!$C$174","v":0},{"$f":"'تعریف کالا'!$D$174","v":0},{"$f":"'تعریف کالا'!$E$174","v":0},{"$f":"'تعریف کالا'!$G$174","v":0},null,{"$f":"'تعریف کالا'!$F$174","v":0},null,0,null,null,null,null,null,null,null,null,null,null,null,null,null,null,0,0,0,0,0,0,0]
[null,"کاردکس 174",{"$f":"'تعریف کالا'!$C$178","v":0},{"$f":"'تعریف کالا'!$D$178","v":0},{"$f":"'تعریف کالا'!$E$178","v":0},{"$f":"'تعریف کالا'!$G$178","v":0},null,{"$f":"'تعریف کالا'!$F$178","v":0},null,0,null,null,null,null,null,null,null,null,null,null,null,null,null,null,0,0,0,0,0,0,0]
[null,"کاردکس 181",{"$f":"'تعریف کالا'!$C$185","v":0},{"$f":"'تعریف کالا'!$D$185","v":0},{"$f":"'تعریف کالا'!$E$185","v":0},{"$f":"'تعریف کالا'!$G$185","v":0},null,{"$f":"'تعریف کالا'!$F$185","v":0},null,0,null,null,null,null,null,null,null,null,null,null,null,null,null,null,0,0,0,0,0,0,0]
[null,"کاردکس 186",{"$f":"'تعریف کالا'!$C$190","v":0},{"$f":"'تعریف کالا'!$D$190","v":0},{"$f":"'تعریف کالا'!$E$190","v":0},{"$f":"'تعریف کالا'!$G$190","v":0},null,{"$f":"'تعریف کالا'!$F$190","v":0},null,0,null,null,null,null,null,null,null,null,null,null,null,null,null,null,0,0,0,0,0,0,0]
[null,"کاردکس 190",{"$f":"'تعریف کالا'!$C$194","v":0},{"$f":"'تعریف کالا'!$D$194","v":0},{"$f":"'تعریف کالا'!$E$194","v":0},{"$f":"'تعریف کالا'!$G$194","v":0},null,{"$f":"'تعریف کالا'!$F$194","v":0},null,0,null,null,null,null,null,null,null,null,null,null,null,null,null,null,0,0,0,0,0,0,0]
[null,"کاردکس 198",{"$f":"'تعریف کالا'!$C$202","v":0},{"$f":"'تعریف کالا'!$D$202","v":0},{"$f":"'تعریف کالا'!$E$202","v":0},{"$f":"'تعریف کالا'!$G$202","v":0},null,{"$f":"'تعریف کالا'!$F$202","v":0},null,0,null,null,null,null,null,null,null,null,null,null,null,null,null,null,0,0,0,0,0,0,0]
[null,null,null,null,null,null,null,null,null,null,null,null,null,null,null,null,null,null,null,null,null,null,null,null,"امضا صادر کننده",null,"امضا فروشنده",null,"امضا مسئول انبار",null,"امضا خریدار"]
[]
[null,"شماره سند ",27,null,null,null,null,null,"تاریخ",null,null,null,null,null,null,null,null,null,null,null,null,null,null,null,null,null,{"$f":"F5855","v":0},null,null,"تاریخ",{"$f":"J5856","v":0}]
[null,null,"پرداخت با چک",null,null,null,null,null,"مانده حساب",{"$f":"J5862-D5862-D5863","v":0}]
[null,null,"ثبت چک","شرح رویداد"]
[null,"کاردکس 8",{"$f":"'تعریف کالا'!$C$12","v":0},{"$f":"'تعریف کالا'!$D$12","v":0},{"$f":"'تعریف کالا'!$E$12","v":0},{"$f":"'تعریف کالا'!$G$12","v":0},null,{"$f":"'تعریف کالا'!$F$12","v":0},null,0,null,null,null,null,null,null,null,null,null,null,null,null,null,null,0,0,0,0,0,0,0]
[null,"کاردکس 9",{"$f":"'تعریف کالا'!$C$13","v":0},{"$f":"'تعریف کالا'!$D$13","v":0},{"$f":"'تعریف کالا'!$E$13","v":0},{"$f":"'تعریف کالا'!$G$13","v":0},null,{"$f":"'تعریف کالا'!$F$13","v":0},null,0,null,null,null,null,null,null,null,null,null,null,null,null,null,null,0,0,0,0,0,0,0]
[null,"کاردکس 15",{"$f":"'تعریف کالا'!$C$19","v":0},{"$f":"'تعریف کالا'!$D$19","v":0},{"$f":"'تعریف کالا'!$E$19","v":0},{"$f":"'تعریف کالا'!$G$19","v":0},null,{"$f":"'تعریف کالا'!$F$19","v":0},null,0,null,null,null,null,null,null,null,null,null,null,null,null,null,null,0,0,0,0,0,0,0]
[null,"کاردکس 24",{"$f":"'تعریف کالا'!$C$28","v":0},{"$f":"'تعریف کالا'!$D$28","v":0},{"$f":"'تعریف کالا'!$E$28","v":0},{"$f":"'تعریف کالا'!$G$28","v":0},null,{"$f":"'تعریف کالا'!$F$28","v":0},null,0,null,null,null,null,null,null,null,null,null,null,null,null,null,null,0,0,0,0,0,0,0]
[null,"کاردکس 26",{"$f":"'تعریف کالا'!$C$30","v":0},{"$f":"'تعریف کالا'!$D$30","v":0},{"$f":"'تعریف کالا'!$E$30","v":0},{"$f":"'تعریف کالا'!$G$30","v":0},null,{"$f":"'تعریف کالا'!$F$30","v":0},null,0,null,null,null,null,null,null,null,null,null,null,null,null,null,null,0,0,0,0,0,0,0]
[null,"کاردکس 33",{"$f":"'تعریف کالا'!$C$37","v":0},{"$f":"'تعریف کالا'!$D$37","v":0},{"$f":"'تعریف کالا'!$E$37","v":0},{"$f":"'تعریف کالا'!$G$37","v":0},null,{"$f":"'تعریف کالا'!$F$37","v":0},null,0,null,null,null,null,null,null,null,null,null,null,null,null,null,null,0,0,0,0,0,0,0]
[null,"کاردکس 38",{"$f":"'تعریف کالا'!$C$42","v":0},{"$f":"'تعریف کالا'!$D$42","v":0},{"$f":"'تعریف کالا'!$E$42","v":0},{"$f":"'تعریف کالا'!$G$42","v":0},null,{"$f":"'تعریف کالا'!$F$42","v":0},null,0,null,null,null,null,null,null,null,null,null,null,null,null,null,null,0,0,0,0,0,0,0]
[null,"کاردکس 42",{"$f":"'تعریف کالا'!$C$46","v":0},{"$f":"'تعریف کالا'!$D$46","v":0},{"$f":"'تعریف کالا'!$E$46","v":0},{"$f":"'تعریف کالا'!$G$46","v":0},null,{"$f":"'تعریف کالا'!$F$46","v":0},null,0,null,null,null,null,null,null,null,null,null,null,null,null,null,null,0,0,0,0,0,0,0]
[null,"کاردکس 50",{"$f":"'تعریف کالا'!$C$54","v":0},{"$f":"'تعریف کالا'!$D$54","v":0},{"$f":"'تعریف کالا'!$E$54","v":0},{"$f":"'تعریف کالا'!$G$54","v":0},null,{"$f":"'تعریف کالا'!$F$54","v":0},null,0,null,null,null,null,null,null,null,null,null,null,null,null,null,null,0,0,0,0,0,0,0]
[null,"کاردکس 53",{"$f":"'تعریف کالا'!$C$57","v":0},{"$f":"'تعریف کالا'!$D$57","v":0},{"$f":"'تعریف کالا'!$E$57","v":0},{"$f":"'تعریف کالا'!$G$57","v":0},null,{"$f":"'تعریف کالا'!$F$57","v":0},null,0,null,null,null,null,null,null,null,null,null,null,null,null,null,null,0,0,0,0,0,0,0]
[null,"کاردکس 62",{"$f":"'تعریف کالا'!$C$66","v":0},{"$f":"'تعریف کالا'!$D$66","v":0},{"$f":"'تعریف کالا'!$E$66","v":0},{"$f":"'تعریف کالا'!$G$66","v":0},null,{"$f":"'تعریف کالا'!$F$66","v":0},null,0,null,null,null,null,null,null,null,null,null,null,null,null,null,null,0,0,0,0,0,0,0]
[null,"کاردکس 68",{"$f":"'تعریف کالا'!$C$72","v":0},{"$f":"'تعریف کالا'!$D$72","v":0},{"$f":"'تعریف کالا'!$E$72","v":0},{"$f":"'تعریف کالا'!$G$72","v":0},null,{"$f":"'تعریف کالا'!$F$72","v":0},null,0,null,null,null,null,null,null,null,null,null,null,null,null,null,null,0,0,0,0,0,0,0]
[null,"کاردکس 74",{"$f":"'تعریف کالا'!$C$78","v":0},{"$f":"'تعریف کالا'!$D$78","v":0},{"$f":"'تعریف کالا'!$E$78","v":0},{"$f":"'تعریف کالا'!$G$78","v":0},null,{"$f":"'تعریف کالا'!$F$78","v":0},null,0,null,null,null,null,null,null,null,null,null,null,null,null,null,null,0,0,0,0,0,0,0]
[null,"کاردکس 77",{"$f":"'تعریف کالا'!$C$81","v":0},{"$f":"'تعریف کالا'!$D$81","v":0},{"$f":"'تعریف کالا'!$E$81","v":0},{"$f":"'تعریف کالا'!$G$81","v":0},null,{"$f":"'تعریف کالا'!$F$81","v":0},null,0,null,null,null,null,null,null,null,null,null,null,null,null,null,null,0,0,0,0,0,0,0]
[null,"کاردکس 85",{"$f":"'تعریف کالا'!$C$89","v":0},{"$f":"'تعریف کالا'!$D$89","v":0},{"$f":"'تعریف کالا'!$E$89","v":0},{"$f":"'تعریف کالا'!$G$89","v":0},null,{"$f":"'تعریف کالا'!$F$89","v":0},null,0,null,null,null,null,null,null,null,null,null,null,null,null,null,null,0,0,0,0,0,0,0]
[null,"کاردکس 86",{"$f":"'تعریف کالا'!$C$90","v":0},{"$f":"'تعریف کالا'!$D$90","v":0},{"$f":"'تعریف کالا'!$E$90","v":0},{"$f":"'تعریف کالا'!$G$90","v":0},null,{"$f":"'تعریف کالا'!$F$90","v":0},null,0,null,null,null,null,null,null,null,null,null,null,null,null,null,null,0,0,0,0,0,0,0]
[null,"کاردکس 92",{"$f":"'تعریف کالا'!$C$96","v":0},{"$f":"'تعریف کالا'!$D$96","v":0},{"$f":"'تعریف کالا'!$E$96","v":0},{"$f":"'تعریف کالا'!$G$96","v":0},null,{"$f":"'تعریف کالا'!$F$96","v":0},null,0,null,null,null,null,null,null,null,null,null,null,null,null,null,null,0,0,0,0,0,0,0]
[null,"کاردکس 97",{"$f":"'تعریف کالا'!$C$101","v":0},{"$f":"'تعریف کالا'!$D$101","v":0},{"$f":"'تعریف کالا'!$E$101","v":0},{"$f":"'تعریف کالا'!$G$101","v":0},null,{"$f":"'تعریف کالا'!$F$101","v":0},null,0,null,null,null,null,null,null,null,null,null,null,null,null,null,null,0,0,0,0,0,0,0]
[null,"کاردکس 104",{"$f":"'تعریف کالا'!$C$108","v":0},{"$f":"'تعریف کالا'!$D$108","v":0},{"$f":"'تعریف کالا'!$E$108","v":0},{"$f":"'تعریف کالا'!$G$108","v":0},null,{"$f":"'تعریف کالا'!$F$108","v":0},null,0,null,null,null,null,null,null,null,null,null,null,null,null,null,null,0,0,0,0,0,0,0]
[null,"کاردکس 112",{"$f":"'تعریف کالا'!$C$116","v":0},{"$f":"'تعریف کالا'!$D$116","v":0},{"$f":"'تعریف کالا'!$E$116","v":0},{"$f":"'تعریف کالا'!$G$116","v":0},null,{"$f":"'تعریف کالا'!$F$116","v":0},null,0,null,null,null,null,null,null,null,null,null,null,null,null,null,null,0,0,0,0,0,0,0]
[null,"کاردکس 116",{"$f":"'تعریف کالا'!$C$120","v":0},{"$f":"'تعریف کالا'!$D$120","v":0},{"$f":"'تعریف کالا'!$E$120","v":0},{"$f":"'تعریف کالا'!$G$120","v":0},null,{"$f":"'تعریف کالا'!$F$120","v":0},null,0,null,null,null,null,null,null,null,null,null,null,null,null,null,null,0,0,0,0,0,0,0]
[null,"کاردکس 121",{"$f":"'تعریف کالا'!$C$125","v":0},{"$f":"'تعریف کالا'!$D$125","v":0},{"$f":"'تعریف کالا'!$E$125","v":0},{"$f":"'تعریف کالا'!$G$125","v":0},null,{"$f":"'تعریف کالا'!$F$125","v":0},null,0,null,null,null,null,null,null,null,null,null,null,null,null,null,null,0,0,0,0,0,0,0]
[null,"کاردکس 127",{"$f":"'تعریف کالا'!$C$131","v":0},{"$f":"'تعریف کالا'!$D$131","v":0},{"$f":"'تعریف کالا'!$E$131","v":0},{"$f":"'تعریف کالا'!$G$131","v":0},null,{"$f":"'تعریف کالا'!$F$131","v":0},null,0,null,null,null,null,null,null,null,null,null,null,null,null,null,null,0,0,0,0,0,0,0]
[null,"کاردکس 130",{"$f":"'تعریف کالا'!$C$134","v":0},{"$f":"'تعریف کالا'!$D$134","v":0},{"$f":"'تعریف کالا'!$E$134","v":0},{"$f":"'تعریف کالا'!$G$134","v":0},null,{"$f":"'تعریف کالا'!$F$134","v":0},null,0,null,null,null,null,null,null,null,null,null,null,null,null,null,null,0,{"$f":"D5997","v":0},{"$f":"E5997","v":0},{"$f":"F5997","v":0},{"$f":"H5997","v":0},{"$f":"I5997","v":0},{"$f":"J5997","v":0}]
[null,"کاردکس 139",{"$f":"'تعریف کالا'!$C$143","v":0},{"$f":"'تعریف کالا'!$D$143","v":0},{"$f":"'تعریف کالا'!$E$143","v":0},{"$f":"'تعریف کالا'!$G$143","v":0},null,{"$f":"'تعریف کالا'!$F$143","v":0},null,0,null,null,null,null,null,null,null,null,null,null,null,null,null,null,0,0,0,0,0,0,0]
[null,"کاردکس 141",{"$f":"'تعریف کالا'!$C$145","v":0},{"$f":"'تعریف کالا'!$D$145","v":0},{"$f":"'تعریف کالا'!$E$145","v":0},{"$f":"'تعریف کالا'!$G$145","v":0},null,{"$f":"'تعریف کالا'!$F$145","v":0},null,0,null,null,null,null,null,null,null,null,null,null,null,null,null,null,0,0,0,0,0,0,0]
[null,"کاردکس 151",{"$f":"'تعریف کالا'!$C$155","v":0},{"$f":"'تعریف کالا'!$D$155","v":0},{"$f":"'تعریف کالا'!$E$155","v":0},{"$f":"'تعریف کالا'!$G$155","v":0},null,{"$f":"'تعریف کالا'!$F$155","v":0},null,0,null,null,null,null,null,null,null,null,null,null,null,null,null,null,0,0,0,0,0,0,0]
[null,"کاردکس 156",{"$f":"'تعریف کالا'!$C$160","v":0},{"$f":"'تعریف کالا'!$D$160","v":0},{"$f":"'تعریف کالا'!$E$160","v":0},{"$f":"'تعریف کالا'!$G$160","v":0},null,{"$f":"'تعریف کالا'!$F$160","v":0},null,0,null,null,null,null,null,null,null,null,null,null,null,null,null,null,0,0,0,0,0,0,0]
[null,"کاردکس 158",{"$f":"'تعریف کالا'!$C$162","v":0},{"$f":"'تعریف کالا'!$D$162","v":0},{"$f":"'تعریف کالا'!$E$162","v":0},{"$f":"'تعریف کالا'!$G$162","v":0},null,{"$f":"'تعریف کالا'!$F$162","v":0},null,0,null,null,null,null,null,null,null,null,null,null,null,null,null,null,0,0,0,0,0,0,0]
[null,"کاردکس 165",{"$f":"'تعریف کالا'!$C$169","v":0},{"$f":"'تعریف کالا'!$D$169","v":0},{"$f":"'تعریف کالا'!$E$169","v":0},{"$f":"'تعریف کالا'!$G$169","v":0},null,{"$f":"'تعریف کالا'!$F$169","v":0},null,0,null,null,null,null,null,null,null,null,null,null,null,null,null,null,0,0,0,0,0,0,0]
[null,"کاردکس 169",{"$f":"'تعریف کالا'!$C$173","v":0},{"$f":"'تعریف کالا'!$D$173","v":0},{"$f":"'تعریف کالا'!$E$173","v":0},{"$f":"'تعریف کالا'!$G$173","v":0},null,{"$f":"'تعریف کالا'!$F$173","v":0},null,0,null,null,null,null,null,null,null,null,null,null,null,null,null,null,0,0,0,0,0,0,0]
[null,"کاردکس 174",{"$f":"'تعریف کالا'!$C$178","v":0},{"$f":"'تعریف کالا'!$D$178","v":0},{"$f":"'تعریف کالا'!$E$178","v":0},{"$f":"'تعریف کالا'!$G$178","v":0},null,{"$f":"'تعریف کالا'!$F$178","v":0},null,0,null,null,null,null,null,null,null,null,null,null,null,null,null,null,0,0,0,0,0,0,0]
[null,"کاردکس 181",{"$f":"'تعریف کالا'!$C$185","v":0},{"$f":"'تعریف کالا'!$D$185","v":0},{"$f":"'تعریف کالا'!$E$185","v":0},{"$f":"'تعریف کالا'!$G$185","v":0},null,{"$f":"'تعریف کالا'!$F$185","v":0},null,0,null,null,null,null,null,null,null,null,null,null,null,null,null,null,0,0,0,0,0,0,0]
[null,"کاردکس 189",{"$f":"'تعریف کالا'!$C$193","v":0},{"$f":"'تعریف کالا'!$D$193","v":0},{"$f":"'تعریف کالا'!$E$193","v":0},{"$f":"'تعریف کالا'!$G$193","v":0},null,{"$f":"'تعریف کالا'!$F$193","v":0},null,0,null,null,null,null,null,null,null,null,null,null,null,null,null,null,0,0,0,0,0,0,0]
[null,"کاردکس 193",{"$f":"'تعریف کالا'!$C$197","v":0},{"$f":"'تعریف کالا'!$D$197","v":0},{"$f":"'تعریف کالا'!$E$197","v":0},{"$f":"'تعریف کالا'!$G$197","v":0},null,{"$f":"'تعریف کالا'!$F$197","v":0},null,0,null,null,null,null,null,null,null,null,null,null,null,null,null,null,0,0,0,0,0,0,0]
[null,"کاردکس 200",{"$f":"'تعریف کالا'!$C$204","v":0},{"$f":"'تعریف کالا'!$D$204","v":0},{"$f":"'تعریف کالا'!$E$204","v":0},{"$f":"'تعریف کالا'!$G$204","v":0},null,{"$f":"'تعریف کالا'!$F$204","v":0},null,0,null,null,null,null,null,null,null,null,null,null,null,null,null,null,0,0,0,0,0,0,0]
[null,null,null,null,null,null,null,null,null,null,null,null,null,null,null,null,null,null,null,null,null,null,null,null,"امضا صادر کننده",null,"امضا فروشنده",null,"امضا مسئول انبار",null,"امضا خریدار"]
[]
[null,null,null,null,null,null,null,null,null,null,null,null,null,null,null,null,null,null,null,null,null,null,null,"شماره سند",{"$f":"C6081","v":28}]
[null,null,"نام خریدار","خسرو جهانشاهی",null,"          کرایه حمل",null,null,"کرایه حمل",{"$f":"G6085","v":0}]
[null,"کاردکس 3",{"$f":"'تعریف کالا'!$C$7","v":9011122},{"$f":"'تعریف کالا'!$D$7","v":"نوت بوک"},{"$f":"'تعریف کالا'!$E$7","v":"سخت افزار"},{"$f":"'تعریف کالا'!$G$7","v":10000000},null,{"$f":"'تعریف کالا'!$F$7","v":"دستگاه"},null,{"$f":"(F6095*I6095)-(F6095*I6095*G6095%)","v":0},null,null,null,null,null,null,null,null,null,null,null,null,null,null,{"$f":"C6095","v":9011122},"نوت بوک","سخت افزار",10000000,"دستگاه",0,0]
[null,"کاردکس 8",{"$f":"'تعریف کالا'!$C$12","v":0},{"$f":"'تعریف کالا'!$D$12","v":0},{"$f":"'تعریف کالا'!$E$12","v":0},{"$f":"'تعریف کالا'!$G$12","v":0},null,{"$f":"'تعریف کالا'!$F$12","v":0},null,0,null,null,null,null,null,null,null,null,null,null,null,null,null,null,0,0,0,0,0,0,0]
[null,"کاردکس 10",{"$f":"'تعریف کالا'!$C$14","v":0},{"$f":"'تعریف کالا'!$D$14","v":0},{"$f":"'تعریف کالا'!$E$14","v":0},{"$f":"'تعریف کالا'!$G$14","v":0},null,{"$f":"'تعریف کالا'!$F$14","v":0},null,0,null,null,null,null,null,null,null,null,null,null,null,null,null,null,0,0,0,0,0,0,0]
[null,"کاردکس 19",{"$f":"'تعریف کالا'!$C$23","v":0},{"$f":"'تعریف کالا'!$D$23","v":0},{"$f":"'تعریف کالا'!$E$23","v":0},{"$f":"'تعریف کالا'!$G$23","v":0},null,{"$f":"'تعریف کالا'!$F$23","v":0},null,0,null,null,null,null,null,null,null,null,null,null,null,null,null,null,0,0,0,0,0,0,0]
[null,"کاردکس 22",{"$f":"'تعریف کالا'!$C$26","v":0},{"$f":"'تعریف کالا'!$D$26","v":0},{"$f":"'تعریف کالا'!$E$26","v":0},{"$f":"'تعریف کالا'!$G$26","v":0},null,{"$f":"'تعریف کالا'!$F$26","v":0},null,0,null,null,null,null,null,null,null,null,null,null,null,null,null,null,0,0,0,0,0,0,0]
[null,"کاردکس 28",{"$f":"'تعریف کالا'!$C$32","v":0},{"$f":"'تعریف کالا'!$D$32","v":0},{"$f":"'تعریف کالا'!$E$32","v":0},{"$f":"'تعریف کالا'!$G$32","v":0},null,{"$f":"'تعریف کالا'!$F$32","v":0},null,0,null,null,null,null,null,null,null,null,null,null,null,null,null,null,0,0,0,0,0,0,0]
[null,"کاردکس 33",{"$f":"'تعریف کالا'!$C$37","v":0},{"$f":"'تعریف کالا'!$D$37","v":0},{"$f":"'تعریف کالا'!$E$37","v":0},{"$f":"'تعریف کالا'!$G$37","v":0},null,{"$f":"'تعریف کالا'!$F$37","v":0},null,0,null,null,null,null,null,null,null,null,null,null,null,null,null,null,0,0,0,0,0,0,0]
[null,"کاردکس 37",{"$f":"'تعریف کالا'!$C$41","v":0},{"$f":"'تعریف کالا'!$D$41","v":0},{"$f":"'تعریف کالا'!$E$41","v":0},{"$f":"'تعریف کالا'!$G$41","v":0},null,{"$f":"'تعریف کالا'!$F$41","v":0},null,0,null,null,null,null,null,null,null,null,null,null,null,null,null,null,0,0,0,0,0,0,0]
[null,"کاردکس 45",{"$f":"'تعریف کالا'!$C$49","v":0},{"$f":"'تعریف کالا'!$D$49","v":0},{"$f":"'تعریف کالا'!$E$49","v":0},{"$f":"'تعریف کالا'!$G$49","v":0},null,{"$f":"'تعریف کالا'!$F$49","v":0},null,0,null,null,null,null,null,null,null,null,null,null,null,null,null,null,0,0,0,0,0,0,0]
[null,"کاردکس 52",{"$f":"'تعریف کالا'!$C$56","v":0},{"$f":"'تعریف کالا'!$D$56","v":0},{"$f":"'تعریف کالا'!$E$56","v":0},{"$f":"'تعریف کالا'!$G$56","v":0},null,{"$f":"'تعریف کالا'!$F$56","v":0},null,0,null,null,null,null,null,null,null,null,null,null,null,null,null,null,0,0,0,0,0,0,0]
[null,"کاردکس 57",{"$f":"'تعریف کالا'!$C$61","v":0},{"$f":"'تعریف کالا'!$D$61","v":0},{"$f":"'تعریف کالا'!$E$61","v":0},{"$f":"'تعریف کالا'!$G$61","v":0},null,{"$f":"'تعریف کالا'!$F$61","v":0},null,0,null,null,null,null,null,null,null,null,null,null,null,null,null,null,0,0,0,0,0,0,0]
[null,"کاردکس 63",{"$f":"'تعریف کالا'!$C$67","v":0},{"$f":"'تعریف کالا'!$D$67","v":0},{"$f":"'تعریف کالا'!$E$67","v":0},{"$f":"'تعریف کالا'!$G$67","v":0},null,{"$f":"'تعریف کالا'!$F$67","v":0},null,0,null,null,null,null,null,null,null,null,null,null,null,null,null,null,0,0,0,0,0,0,0]
[null,"کاردکس 69",{"$f":"'تعریف کالا'!$C$73","v":0},{"$f":"'تعریف کالا'!$D$73","v":0},{"$f":"'تعریف کالا'!$E$73","v":0},{"$f":"'تعریف کالا'!$G$73","v":0},null,{"$f":"'تعریف کالا'!$F$73","v":0},null,0,null,null,null,null,null,null,null,null,null,null,null,null,null,null,0,0,0,0,0,0,0]
[null,"کاردکس 72",{"$f":"'تعریف کالا'!$C$76","v":0},{"$f":"'تعریف کالا'!$D$76","v":0},{"$f":"'تعریف کالا'!$E$76","v":0},{"$f":"'تعریف کالا'!$G$76","v":0},null,{"$f":"'تعریف کالا'!$F$76","v":0},null,0,null,null,null,null,null,null,null,null,null,null,null,null,null,null,0,0,0,0,0,0,0]
[null,"کاردکس 76",{"$f":"'تعریف کالا'!$C$80","v":0},{"$f":"'تعریف کالا'!$D$80","v":0},{"$f":"'تعریف کالا'!$E$80","v":0},{"$f":"'تعریف کالا'!$G$80","v":0},null,{"$f":"'تعریف کالا'!$F$80","v":0},null,0,null,null,null,null,null,null,null,null,null,null,null,null,null,null,0,0,0,0,0,0,0]
[null,"کاردکس 81",{"$f":"'تعریف کالا'!$C$85","v":0},{"$f":"'تعریف کالا'!$D$85","v":0},{"$f":"'تعریف کالا'!$E$85","v":0},{"$f":"'تعریف کالا'!$G$85","v":0},null,{"$f":"'تعریف کالا'!$F$85","v":0},null,0,null,null,null,null,null,null,null,null,null,null,null,null,null,null,0,0,0,0,0,0,0]
[null,"کاردکس 87",{"$f":"'تعریف کالا'!$C$91","v":0},{"$f":"'تعریف کالا'!$D$91","v":0},{"$f":"'تعریف کالا'!$E$91","v":0},{"$f":"'تعریف کالا'!$G$91","v":0},null,{"$f":"'تعریف کالا'!$F$91","v":0},null,0,null,null,null,null,null,null,null,null,null,null,null,null,null,null,0,0,0,0,0,0,0]
[null,"کاردکس 96",{"$f":"'تعریف کالا'!$C$100","v":0},{"$f":"'تعریف کالا'!$D$100","v":0},{"$f":"'تعریف کالا'!$E$100","v":0},{"$f":"'تعریف کالا'!$G$100","v":0},null,{"$f":"'تعریف کالا'!$F$100","v":0},null,0,null,null,null,null,null,null,null,null,null,null,null,null,null,null,0,0,0,0,0,0,0]
[null,"کاردکس 99",{"$f":"'تعریف کالا'!$C$103","v":0},{"$f":"'تعریف کالا'!$D$103","v":0},{"$f":"'تعریف کالا'!$E$103","v":0},{"$f":"'تعریف کالا'!$G$103","v":0},null,{"$f":"'تعریف کالا'!$F$103","v":0},null,0,null,null,null,null,null,null,null,null,null,null,null,null,null,null,0,0,0,0,0,0,0]
[null,"کاردکس 107",{"$f":"'تعریف کالا'!$C$111","v":0},{"$f":"'تعریف کالا'!$D$111","v":0},{"$f":"'تعریف کالا'!$E$111","v":0},{"$f":"'تعریف کالا'!$G$111","v":0},null,{"$f":"'تعریف کالا'!$F$111","v":0},null,0,null,null,null,null,null,null,null,null,null,null,null,null,null,null,0,0,0,0,0,0,0]
[null,"کاردکس 111",{"$f":"'تعریف کالا'!$C$115","v":0},{"$f":"'تعریف کالا'!$D$115","v":0},{"$f":"'تعریف کالا'!$E$115","v":0},{"$f":"'تعریف کالا'!$G$115","v":0},null,{"$f":"'تعریف کالا'!$F$115","v":0},null,0,null,null,null,null,null,null,null,null,null,null,null,null,null,null,0,0,0,0,0,0,0]
[null,"کاردکس 116",{"$f":"'تعریف کالا'!$C$120","v":0},{"$f":"'تعریف کالا'!$D$120","v":0},{"$f":"'تعریف کالا'!$E$120","v":0},{"$f":"'تعریف کالا'!$G$120","v":0},null,{"$f":"'تعریف کالا'!$F$120","v":0},null,0,null,null,null,null,null,null,null,null,null,null,null,null,null,null,0,0,0,0,0,0,0]
[null,"کاردکس 123",{"$f":"'تعریف کالا'!$C$127","v":0},{"$f":"'تعریف کالا'!$D$127","v":0},{"$f":"'تعریف کالا'!$E$127","v":0},{"$f":"'تعریف کالا'!$G$127","v":0},null,{"$f":"'تعریف کالا'!$F$127","v":0},null,0,null,null,null,null,null,null,null,null,null,null,null,null,null,null,0,0,0,0,0,0,0]
[null,"کاردکس 125",{"$f":"'تعریف کالا'!$C$129","v":0},{"$f":"'تعریف کالا'!$D$129","v":0},{"$f":"'تعریف کالا'!$E$129","v":0},{"$f":"'تعریف کالا'!$G$129","v":0},null,{"$f":"'تعریف کالا'!$F$129","v":0},null,0,null,null,null,null,null,null,null,null,null,null,null,null,null,null,0,0,0,0,0,0,0]
[null,"کاردکس 134",{"$f":"'تعریف کالا'!$C$138","v":0},{"$f":"'تعریف کالا'!$D$138","v":0},{"$f":"'تعریف کالا'!$E$138","v":0},{"$f":"'تعریف کالا'!$G$138","v":0},null,{"$f":"'تعریف کالا'!$F$138","v":0},null,0,null,null,null,null,null,null,null,null,null,null,null,null,null,null,0,0,0,0,0,0,0]
[null,"کاردکس 140",{"$f":"'تعریف کالا'!$C$144","v":0},{"$f":"'تعریف کالا'!$D$144","v":0},{"$f":"'تعریف کالا'!$E$144","v":0},{"$f":"'تعریف کالا'!$G$144","v":0},null,{"$f":"'تعریف کالا'!$F$144","v":0},null,0,null,null,null,null,null,null,null,null,null,null,null,null,null,null,0,0,0,0,0,0,0]
[null,"کاردکس 146",{"$f":"'تعریف کالا'!$C$150","v":0},{"$f":"'تعریف کالا'!$D$150","v":0},{"$f":"'تعریف کالا'!$E$150","v":0},{"$f":"'تعریف کالا'!$G$150","v":0},null,{"$f":"'تعریف کالا'!$F$150","v":0},null,0,null,null,null,null,null,null,null,null,null,null,null,null,null,null,0,0,0,0,0,0,0]
[null,"کاردکس 149",{"$f":"'تعریف کالا'!$C$153","v":0},{"$f":"'تعریف کالا'!$D$153","v":0},{"$f":"'تعریف کالا'!$E$153","v":0},{"$f":"'تعریف کالا'!$G$153","v":0},null,{"$f":"'تعریف کالا'!$F$153","v":0},null,0,null,null,null,null,null,null,null,null,null,null,null,null,null,null,0,0,0,0,0,0,0]
[null,"کاردکس 153",{"$f":"'تعریف کالا'!$C$157","v":0},{"$f":"'تعریف کالا'!$D$157","v":0},{"$f":"'تعریف کالا'!$E$157","v":0},{"$f":"'تعریف کالا'!$G$157","v":0},null,{"$f":"'تعریف کالا'!$F$157","v":0},null,0,null,null,null,null,null,null,null,null,null,null,null,null,null,null,0,0,0,0,0,0,0]
[null,"کاردکس 160",{"$f":"'تعریف کالا'!$C$164","v":0},{"$f":"'تعریف کالا'!$D$164","v":0},{"$f":"'تعریف کالا'!$E$164","v":0},{"$f":"'تعریف کالا'!$G$164","v":0},null,{"$f":"'تعریف کالا'!$F$164","v":0},null,0,null,null,null,null,null,null,null,null,null,null,null,null,null,null,0,0,0,0,0,0,0]
[null,"کاردکس 165",{"$f":"'تعریف کالا'!$C$169","v":0},{"$f":"'تعریف کالا'!$D$169","v":0},{"$f":"'تعریف کالا'!$E$169","v":0},{"$f":"'تعریف کالا'!$G$169","v":0},null,{"$f":"'تعریف کالا'!$F$169","v":0},null,0,null,null,null,null,null,null,null,null,null,null,null,null,null,null,0,0,0,0,0,0,0]
[null,"کاردکس 169",{"$f":"'تعریف کالا'!$C$173","v":0},{"$f":"'تعریف کالا'!$D$173","v":0},{"$f":"'تعریف کالا'!$E$173","v":0},{"$f":"'تعریف کالا'!$G$173","v":0},null,{"$f":"'تعریف کالا'!$F$173","v":0},null,0,null,null,null,null,null,null,null,null,null,null,null,null,null,null,0,0,0,0,0,0,0]
[null,"کاردکس 176",{"$f":"'تعریف کالا'!$C$180","v":0},{"$f":"'تعریف کالا'!$D$180","v":0},{"$f":"'تعریف کالا'!$E$180","v":0},{"$f":"'تعریف کالا'!$G$180","v":0},null,{"$f":"'تعریف کالا'!$F$180","v":0},null,0,null,null,null,null,null,null,null,null,null,null,null,null,null,null,0,0,0,0,0,0,0]
[null,"کاردکس 184",{"$f":"'تعریف کالا'!$C$18","v":0},{"$f":"'تعریف کالا'!$D$188","v":0},{"$f":"'تعریف کالا'!$E$188","v":0},{"$f":"'تعریف کالا'!$G$188","v":0},null,{"$f":"'تعریف کالا'!$F$188","v":0},null,0,null,null,null,null,null,null,null,null,null,null,null,null,null,null,0,0,0,0,0,0,0]
[null,"کاردکس 188",{"$f":"'تعریف کالا'!$C$192","v":0},{"$f":"'تعریف کالا'!$D$192","v":0},{"$f":"'تعریف کالا'!$E$192","v":0},{"$f":"'تعریف کالا'!$G$192","v":0},null,{"$f":"'تعریف کالا'!$F$192","v":0},null,0,null,null,null,null,null,null,null,null,null,null,null,null,null,null,0,0,0,0,0,0,0]
[null,"کاردکس 193",{"$f":"'تعریف کالا'!$C$197","v":0},{"$f":"'تعریف کالا'!$D$197","v":0},{"$f":"'تعریف کالا'!$E$197","v":0},{"$f":"'تعریف کالا'!$G$197","v":0},null,{"$f":"'تعریف کالا'!$F$197","v":0},null,0,null,null,null,null,null,null,null,null,null,null,null,null,null,null,0,0,0,0,0,0,0]
[null,"کاردکس 200",{"$f":"'تعریف کالا'!$C$204","v":0},{"$f":"'تعریف کالا'!$D$204","v":0},{"$f":"'تعریف کالا'!$E$204","v":0},{"$f":"'تعریف کالا'!$G$204","v":0},null,{"$f":"'تعریف کالا'!$F$204","v":0},null,0,null,null,null,null,null,null,null,null,null,null,null,null,null,null,0,0,0,0,0,0,0]
[]
[null,null,"فاکتور فروش"]
[null,null,null,null,null,{"$f":"'صفحه اصلی'!$J$4","v":0},null,null,null,null,null,"فاکتور بعدی",null,null,null,null,null,null,null,null,null,null,null,"حواله تحویل کالا"]
[null,null,"ثبت چک","شرح رویداد"]
[null,"کاردکس 3",{"$f":"'تعریف کالا'!$C$7","v":9011122},{"$f":"'تعریف کالا'!$D$7","v":"نوت بوک"},{"$f":"'تعریف کالا'!$E$7","v":"سخت افزار"},{"$f":"'تعریف کالا'!$G$7","v":10000000},null,{"$f":"'تعریف کالا'!$F$7","v":"دستگاه"},null,{"$f":"(F6320*I6320)-(F6320*I6320*G6320%)","v":0},null,null,null,null,null,null,null,null,null,null,null,null,null,null,{"$f":"C6320","v":9011122},"نوت بوک","سخت افزار",10000000,"دستگاه",0,0]
[null,"کاردکس 5",{"$f":"'تعریف کالا'!$C$9","v":0},{"$f":"'تعریف کالا'!$D$9","v":0},{"$f":"'تعریف کالا'!$E$9","v":0},{"$f":"'تعریف کالا'!$G$9","v":0},null,{"$f":"'تعریف کالا'!$F$9","v":0},null,0,null,null,null,null,null,null,null,null,null,null,null,null,null,null,0,0,0,0,0,0,0]
[null,"کاردکس 12",{"$f":"'تعریف کالا'!$C$16","v":0},{"$f":"'تعریف کالا'!$D$16","v":0},{"$f":"'تعریف کالا'!$E$16","v":0},{"$f":"'تعریف کالا'!$G$16","v":0},null,{"$f":"'تعریف کالا'!$F$16","v":0},null,0,null,null,null,null,null,null,null,null,null,null,null,null,null,null,0,0,0,0,0,0,0]
[null,"کاردکس 17",{"$f":"'تعریف کالا'!$C$21","v":0},{"$f":"'تعریف کالا'!$D$21","v":0},{"$f":"'تعریف کالا'!$E$21","v":0},{"$f":"'تعریف کالا'!$G$21","v":0},null,{"$f":"'تعریف کالا'!$F$21","v":0},null,0,null,null,null,null,null,null,null,null,null,null,null,null,null,null,0,0,0,0,0,0,0]
[null,"کاردکس 23",{"$f":"'تعریف کالا'!$C$27","v":0},{"$f":"'تعریف کالا'!$D$27","v":0},{"$f":"'تعریف کالا'!$E$27","v":0},{"$f":"'تعریف کالا'!$G$27","v":0},null,{"$f":"'تعریف کالا'!$F$27","v":0},null,0,null,null,null,null,null,null,null,null,null,null,null,null,null,null,0,0,0,0,0,0,0]
[null,"کاردکس 29",{"$f":"'تعریف کالا'!$C$33","v":0},{"$f":"'تعریف کالا'!$D$33","v":0},{"$f":"'تعریف کالا'!$E$33","v":0},{"$f":"'تعریف کالا'!$G$33","v":0},null,{"$f":"'تعریف کالا'!$F$33","v":0},null,0,null,null,null,null,null,null,null,null,null,null,null,null,null,null,0,0,0,0,0,0,0]
[null,"کاردکس 32",{"$f":"'تعریف کالا'!$C$36","v":0},{"$f":"'تعریف کالا'!$D$36","v":0},{"$f":"'تعریف کالا'!$E$36","v":0},{"$f":"'تعریف کالا'!$G$36","v":0},null,{"$f":"'تعریف کالا'!$F$36","v":0},null,0,null,null,null,null,null,null,null,null,null,null,null,null,null,null,0,0,0,0,0,0,0]
[null,"کاردکس 41",{"$f":"'تعریف کالا'!$C$45","v":0},{"$f":"'تعریف کالا'!$D$45","v":0},{"$f":"'تعریف کالا'!$E$45","v":0},{"$f":"'تعریف کالا'!$G$45","v":0},null,{"$f":"'تعریف کالا'!$F$45","v":0},null,0,null,null,null,null,null,null,null,null,null,null,null,null,null,null,0,0,0,0,0,0,0]
[null,"کاردکس 47",{"$f":"'تعریف کالا'!$C$51","v":0},{"$f":"'تعریف کالا'!$D$51","v":0},{"$f":"'تعریف کالا'!$E$51","v":0},{"$f":"'تعریف کالا'!$G$51","v":0},null,{"$f":"'تعریف کالا'!$F$51","v":0},null,0,null,null,null,null,null,null,null,null,null,null,null,null,null,null,0,0,0,0,0,0,0]
[null,"کاردکس 52",{"$f":"'تعریف کالا'!$C$56","v":0},{"$f":"'تعریف کالا'!$D$56","v":0},{"$f":"'تعریف کالا'!$E$56","v":0},{"$f":"'تعریف کالا'!$G$56","v":0},null,{"$f":"'تعریف کالا'!$F$56","v":0},null,0,null,null,null,null,null,null,null,null,null,null,null,null,null,null,0,0,0,0,0,0,0]
[null,"کاردکس 56",{"$f":"'تعریف کالا'!$C$60","v":0},{"$f":"'تعریف کالا'!$D$60","v":0},{"$f":"'تعریف کالا'!$E$60","v":0},{"$f":"'تعریف کالا'!$G$60","v":0},null,{"$f":"'تعریف کالا'!$F$60","v":0},null,0,null,null,null,null,null,null,null,null,null,null,null,null,null,null,0,0,0,0,0,0,0]
[null,"کاردکس 64",{"$f":"'تعریف کالا'!$C$68","v":0},{"$f":"'تعریف کالا'!$D$68","v":0},{"$f":"'تعریف کالا'!$E$68","v":0},{"$f":"'تعریف کالا'!$G$68","v":0},null,{"$f":"'تعریف کالا'!$F$68","v":0},null,0,null,null,null,null,null,null,null,null,null,null,null,null,null,null,0,0,0,0,0,0,0]
[null,"کاردکس 67",{"$f":"'تعریف کالا'!$C$71","v":0},{"$f":"'تعریف کالا'!$D$71","v":0},{"$f":"'تعریف کالا'!$E$71","v":0},{"$f":"'تعریف کالا'!$G$71","v":0},null,{"$f":"'تعریف کالا'!$F$71","v":0},null,{"$f":"(F6384*I6384)-(F6384*I6384*G6384%)","v":0},null,null,null,null,null,null,null,null,null,null,null,null,null,null,{"$f":"C6384","v":0},0,0,0,0,0,0]
[null,"کاردکس 71",{"$f":"'تعریف کالا'!$C$75","v":0},{"$f":"'تعریف کالا'!$D$75","v":0},{"$f":"'تعریف کالا'!$E$75","v":0},{"$f":"'تعریف کالا'!$G$75","v":0},null,{"$f":"'تعریف کالا'!$F$75","v":0},null,0,null,null,null,null,null,null,null,null,null,null,null,null,null,null,0,0,0,0,0,0,0]
[null,"کاردکس 76",{"$f":"'تعریف کالا'!$C$80","v":0},{"$f":"'تعریف کالا'!$D$80","v":0},{"$f":"'تعریف کالا'!$E$80","v":0},{"$f":"'تعریف کالا'!$G$80","v":0},null,{"$f":"'تعریف کالا'!$F$80","v":0},null,0,null,null,null,null,null,null,null,null,null,null,null,null,null,null,0,0,0,0,0,0,0]
[null,"کاردکس 83",{"$f":"'تعریف کالا'!$C$87","v":0},{"$f":"'تعریف کالا'!$D$87","v":0},{"$f":"'تعریف کالا'!$E$87","v":0},{"$f":"'تعریف کالا'!$G$87","v":0},null,{"$f":"'تعریف کالا'!$F$87","v":0},null,0,null,null,null,null,null,null,null,null,null,null,null,null,null,null,0,0,0,0,0,0,0]
[null,"کاردکس 91",{"$f":"'تعریف کالا'!$C$95","v":0},{"$f":"'تعریف کالا'!$D$95","v":0},{"$f":"'تعریف کالا'!$E$95","v":0},{"$f":"'تعریف کالا'!$G$95","v":0},null,{"$f":"'تعریف کالا'!$F$95","v":0},null,0,null,null,null,null,null,null,null,null,null,null,null,null,null,null,0,0,0,0,0,0,0]
[null,"کاردکس 94",{"$f":"'تعریف کالا'!$C$98","v":0},{"$f":"'تعریف کالا'!$D$98","v":0},{"$f":"'تعریف کالا'!$E$98","v":0},{"$f":"'تعریف کالا'!$G$98","v":0},null,{"$f":"'تعریف کالا'!$F$98","v":0},null,0,null,null,null,null,null,null,null,null,null,null,null,null,null,null,0,0,0,0,0,0,0]
[null,"کاردکس 100",{"$f":"'تعریف کالا'!$C$104","v":0},{"$f":"'تعریف کالا'!$D$104","v":0},{"$f":"'تعریف کالا'!$E$104","v":0},{"$f":"'تعریف کالا'!$G$104","v":0},null,{"$f":"'تعریف کالا'!$F$104","v":0},null,0,null,null,null,null,null,null,null,null,null,null,null,null,null,null,0,0,0,0,0,0,0]
[null,"کاردکس 106",{"$f":"'تعریف کالا'!$C$110","v":0},{"$f":"'تعریف کالا'!$D$110","v":0},{"$f":"'تعریف کالا'!$E$110","v":0},{"$f":"'تعریف کالا'!$G$110","v":0},null,{"$f":"'تعریف کالا'!$F$110","v":0},null,0,null,null,null,null,null,null,null,null,null,null,null,null,null,null,0,0,0,0,0,0,0]
[null,"کاردکس 109",{"$f":"'تعریف کالا'!$C$113","v":0},{"$f":"'تعریف کالا'!$D$113","v":0},{"$f":"'تعریف کالا'!$E$113","v":0},{"$f":"'تعریف کالا'!$G$113","v":0},null,{"$f":"'تعریف کالا'!$F$113","v":0},null,0,null,null,null,null,null,null,null,null,null,null,null,null,null,null,0,0,0,0,0,0,0]
[null,"کاردکس 118",{"$f":"'تعریف کالا'!$C$122","v":0},{"$f":"'تعریف کالا'!$D$122","v":0},{"$f":"'تعریف کالا'!$E$122","v":0},{"$f":"'تعریف کالا'!$G$122","v":0},null,{"$f":"'تعریف کالا'!$F$122","v":0},null,0,null,null,null,null,null,null,null,null,null,null,null,null,null,null,0,0,0,0,0,0,0]
[null,"کاردکس 120",{"$f":"'تعریف کالا'!$C$124","v":0},{"$f":"'تعریف کالا'!$D$124","v":0},{"$f":"'تعریف کالا'!$E$124","v":0},{"$f":"'تعریف کالا'!$G$124","v":0},null,{"$f":"'تعریف کالا'!$F$124","v":0},null,0,null,null,null,null,null,null,null,null,null,null,null,null,null,null,0,0,0,0,0,0,0]
[null,"کاردکس 130",{"$f":"'تعریف کالا'!$C$134","v":0},{"$f":"'تعریف کالا'!$D$134","v":0},{"$f":"'تعریف کالا'!$E$134","v":0},{"$f":"'تعریف کالا'!$G$134","v":0},null,{"$f":"'تعریف کالا'!$F$134","v":0},null,0,null,null,null,null,null,null,null,null,null,null,null,null,null,null,0,{"$f":"D6447","v":0},{"$f":"E6447","v":0},{"$f":"F6447","v":0},{"$f":"H6447","v":0},{"$f":"I6447","v":0},{"$f":"J6447","v":0}]
[null,"کاردکس 135",{"$f":"'تعریف کالا'!$C$139","v":0},{"$f":"'تعریف کالا'!$D$139","v":0},{"$f":"'تعریف کالا'!$E$139","v":0},{"$f":"'تعریف کالا'!$G$139","v":0},null,{"$f":"'تعریف کالا'!$F$139","v":0},null,0,null,null,null,null,null,null,null,null,null,null,null,null,null,null,0,0,0,0,0,0,0]
[null,"کاردکس 141",{"$f":"'تعریف کالا'!$C$145","v":0},{"$f":"'تعریف کالا'!$D$145","v":0},{"$f":"'تعریف کالا'!$E$145","v":0},{"$f":"'تعریف کالا'!$G$145","v":0},null,{"$f":"'تعریف کالا'!$F$145","v":0},null,0,null,null,null,null,null,null,null,null,null,null,null,null,null,null,0,0,0,0,0,0,0]
[null,"کاردکس 144",{"$f":"'تعریف کالا'!$C$148","v":0},{"$f":"'تعریف کالا'!$D$148","v":0},{"$f":"'تعریف کالا'!$E$148","v":0},{"$f":"'تعریف کالا'!$G$148","v":0},null,{"$f":"'تعریف کالا'!$F$148","v":0},null,0,null,null,null,null,null,null,null,null,null,null,null,null,null,null,0,0,0,0,0,0,0]
[null,"کاردکس 148",{"$f":"'تعریف کالا'!$C$152","v":0},{"$f":"'تعریف کالا'!$D$152","v":0},{"$f":"'تعریف کالا'!$E$152","v":0},{"$f":"'تعریف کالا'!$G$152","v":0},null,{"$f":"'تعریف کالا'!$F$152","v":0},null,0,null,null,null,null,null,null,null,null,null,null,null,null,null,null,0,0,0,0,0,0,0]
[null,"کاردکس 153",{"$f":"'تعریف کالا'!$C$157","v":0},{"$f":"'تعریف کالا'!$D$157","v":0},{"$f":"'تعریف کالا'!$E$157","v":0},{"$f":"'تعریف کالا'!$G$157","v":0},null,{"$f":"'تعریف کالا'!$F$157","v":0},null,0,null,null,null,null,null,null,null,null,null,null,null,null,null,null,0,0,0,0,0,0,0]
[null,"کاردکس 160",{"$f":"'تعریف کالا'!$C$164","v":0},{"$f":"'تعریف کالا'!$D$164","v":0},{"$f":"'تعریف کالا'!$E$164","v":0},{"$f":"'تعریف کالا'!$G$164","v":0},null,{"$f":"'تعریف کالا'!$F$164","v":0},null,0,null,null,null,null,null,null,null,null,null,null,null,null,null,null,0,0,0,0,0,0,0]
[null,"کاردکس 164",{"$f":"'تعریف کالا'!$C$168","v":0},{"$f":"'تعریف کالا'!$D$168","v":0},{"$f":"'تعریف کالا'!$E$168","v":0},{"$f":"'تعریف کالا'!$G$168","v":0},null,{"$f":"'تعریف کالا'!$F$168","v":0},null,0,null,null,null,null,null,null,null,null,null,null,null,null,null,null,0,0,0,0,0,0,0]
[null,"کاردکس 172",{"$f":"'تعریف کالا'!$C$176","v":0},{"$f":"'تعریف کالا'!$D$176","v":0},{"$f":"'تعریف کالا'!$E$176","v":0},{"$f":"'تعریف کالا'!$G$176","v":0},null,{"$f":"'تعریف کالا'!$F$176","v":0},null,0,null,null,null,null,null,null,null,null,null,null,null,null,null,null,0,0,0,0,0,0,0]
[null,"کاردکس 179",{"$f":"'تعریف کالا'!$C$183","v":0},{"$f":"'تعریف کالا'!$D$183","v":0},{"$f":"'تعریف کالا'!$E$183","v":0},{"$f":"'تعریف کالا'!$G$183","v":0},null,{"$f":"'تعریف کالا'!$F$183","v":0},null,0,null,null,null,null,null,null,null,null,null,null,null,null,null,null,0,0,0,0,0,0,0]
[null,"کاردکس 181",{"$f":"'تعریف کالا'!$C$185","v":0},{"$f":"'تعریف کالا'!$D$185","v":0},{"$f":"'تعریف کالا'!$E$185","v":0},{"$f":"'تعریف کالا'!$G$185","v":0},null,{"$f":"'تعریف کالا'!$F$185","v":0},null,0,null,null,null,null,null,null,null,null,null,null,null,null,null,null,0,0,0,0,0,0,0]
[null,"کاردکس 182",{"$f":"'تعریف کالا'!$C$186","v":0},{"$f":"'تعریف کالا'!$D$186","v":0},{"$f":"'تعریف کالا'!$E$186","v":0},{"$f":"'تعریف کالا'!$G$186","v":0},null,{"$f":"'تعریف کالا'!$F$186","v":0},null,0,null,null,null,null,null,null,null,null,null,null,null,null,null,null,0,0,0,0,0,0,0]
[null,"کاردکس 183",{"$f":"'تعریف کالا'!$C$187","v":0},{"$f":"'تعریف کالا'!$D$187","v":0},{"$f":"'تعریف کالا'!$E$187","v":0},{"$f":"'تعریف کالا'!$G$187","v":0},null,{"$f":"'تعریف کالا'!$F$187","v":0},null,0,null,null,null,null,null,null,null,null,null,null,null,null,null,null,0,0,0,0,0,0,0]
[null,"کاردکس 184",{"$f":"'تعریف کالا'!$C$18","v":0},{"$f":"'تعریف کالا'!$D$188","v":0},{"$f":"'تعریف کالا'!$E$188","v":0},{"$f":"'تعریف کالا'!$G$188","v":0},null,{"$f":"'تعریف کالا'!$F$188","v":0},null,0,null,null,null,null,null,null,null,null,null,null,null,null,null,null,0,0,0,0,0,0,0]
[null,"کاردکس 185",{"$f":"'تعریف کالا'!$C$189","v":0},{"$f":"'تعریف کالا'!$D$189","v":0},{"$f":"'تعریف کالا'!$E$189","v":0},{"$f":"'تعریف کالا'!$G$189","v":0},null,{"$f":"'تعریف کالا'!$F$189","v":0},null,0,null,null,null,null,null,null,null,null,null,null,null,null,null,null,0,0,0,0,0,0,0]
[null,"کاردکس 186",{"$f":"'تعریف کالا'!$C$190","v":0},{"$f":"'تعریف کالا'!$D$190","v":0},{"$f":"'تعریف کالا'!$E$190","v":0},{"$f":"'تعریف کالا'!$G$190","v":0},null,{"$f":"'تعریف کالا'!$F$190","v":0},null,0,null,null,null,null,null,null,null,null,null,null,null,null,null,null,0,0,0,0,0,0,0]
[null,"کاردکس 187",{"$f":"'تعریف کالا'!$C$191","v":0},{"$f":"'تعریف کالا'!$D$191","v":0},{"$f":"'تعریف کالا'!$E$191","v":0},{"$f":"'تعریف کالا'!$G$191","v":0},null,{"$f":"'تعریف کالا'!$F$191","v":0},null,0,null,null,null,null,null,null,null,null,null,null,null,null,null,null,0,0,0,0,0,0,0]
[null,"کاردکس 188",{"$f":"'تعریف کالا'!$C$192","v":0},{"$f":"'تعریف کالا'!$D$192","v":0},{"$f":"'تعریف کالا'!$E$192","v":0},{"$f":"'تعریف کالا'!$G$192","v":0},null,{"$f":"'تعریف کالا'!$F$192","v":0},null,0,null,null,null,null,null,null,null,null,null,null,null,null,null,null,0,0,0,0,0,0,0]
[null,"کاردکس 189",{"$f":"'تعریف کالا'!$C$193","v":0},{"$f":"'تعریف کالا'!$D$193","v":0},{"$f":"'تعریف کالا'!$E$193","v":0},{"$f":"'تعریف کالا'!$G$193","v":0},null,{"$f":"'تعریف کالا'!$F$193","v":0},null,0,null,null,null,null,null,null,null,null,null,null,null,null,null,null,0,0,0,0,0,0,0]
[null,"کاردکس 190",{"$f":"'تعریف کالا'!$C$194","v":0},{"$f":"'تعریف کالا'!$D$194","v":0},{"$f":"'تعریف کالا'!$E$194","v":0},{"$f":"'تعریف کالا'!$G$194","v":0},null,{"$f":"'تعریف کالا'!$F$194","v":0},null,0,null,null,null,null,null,null,null,null,null,null,null,null,null,null,0,0,0,0,0,0,0]
[null,"کاردکس 191",{"$f":"'تعریف کالا'!$C$195","v":0},{"$f":"'تعریف کالا'!$D$195","v":0},{"$f":"'تعریف کالا'!$E$195","v":0},{"$f":"'تعریف کالا'!$G$195","v":0},null,{"$f":"'تعریف کالا'!$F$195","v":0},null,0,null,null,null,null,null,null,null,null,null,null,null,null,null,null,0,0,0,0,0,0,0]
[null,"کاردکس 192",{"$f":"'تعریف کالا'!$C$196","v":0},{"$f":"'تعریف کالا'!$D$196","v":0},{"$f":"'تعریف کالا'!$E$196","v":0},{"$f":"'تعریف کالا'!$G$196","v":0},null,{"$f":"'تعریف کالا'!$F$196","v":0},null,0,null,null,null,null,null,null,null,null,null,null,null,null,null,null,0,0,0,0,0,0,0]
[null,"کاردکس 193",{"$f":"'تعریف کالا'!$C$197","v":0},{"$f":"'تعریف کالا'!$D$197","v":0},{"$f":"'تعریف کالا'!$E$197","v":0},{"$f":"'تعریف کالا'!$G$197","v":0},null,{"$f":"'تعریف کالا'!$F$197","v":0},null,0,null,null,null,null,null,null,null,null,null,null,null,null,null,null,0,0,0,0,0,0,0]
[null,"کاردکس 194",{"$f":"'تعریف کالا'!$C$198","v":0},{"$f":"'تعریف کالا'!$D$198","v":0},{"$f":"'تعریف کالا'!$E$198","v":0},{"$f":"'تعریف کالا'!$G$198","v":0},null,{"$f":"'تعریف کالا'!$F$198","v":0},null,0,null,null,null,null,null,null,null,null,null,null,null,null,null,null,0,{"$f":"D6511","v":0},{"$f":"E6511","v":0},{"$f":"F6511","v":0},{"$f":"H6511","v":0},{"$f":"I6511","v":0},{"$f":"J6511","v":0}]
[null,"کاردکس 195",{"$f":"'تعریف کالا'!$C$199","v":0},{"$f":"'تعریف کالا'!$D$199","v":0},{"$f":"'تعریف کالا'!$E$199","v":0},{"$f":"'تعریف کالا'!$G$199","v":0},null,{"$f":"'تعریف کالا'!$F$199","v":0},null,{"$f":"(F6512*I6512)-(F6512*I6512*G6512%)","v":0},null,null,null,null,null,null,null,null,null,null,null,null,null,null,{"$f":"C6512","v":0},0,0,0,0,0,0]
[null,"کاردکس 196",{"$f":"'تعریف کالا'!$C$200","v":0},{"$f":"'تعریف کالا'!$D$200","v":0},{"$f":"'تعریف کالا'!$E$200","v":0},{"$f":"'تعریف کالا'!$G$200","v":0},null,{"$f":"'تعریف کالا'!$F$200","v":0},null,0,null,null,null,null,null,null,null,null,null,null,null,null,null,null,0,0,0,0,0,0,0]
[null,"کاردکس 197",{"$f":"'تعریف کالا'!$C$201","v":0},{"$f":"'تعریف کالا'!$D$201","v":0},{"$f":"'تعریف کالا'!$E$201","v":0},{"$f":"'تعریف کالا'!$G$201","v":0},null,{"$f":"'تعریف کالا'!$F$201","v":0},null,0,null,null,null,null,null,null,null,null,null,null,null,null,null,null,0,0,0,0,0,0,0]
[null,"کاردکس 198",{"$f":"'تعریف کالا'!$C$202","v":0},{"$f":"'تعریف کالا'!$D$202","v":0},{"$f":"'تعریف کالا'!$E$202","v":0},{"$f":"'تعریف کالا'!$G$202","v":0},null,{"$f":"'تعریف کالا'!$F$202","v":0},null,0,null,null,null,null,null,null,null,null,null,null,null,null,null,null,0,0,0,0,0,0,0]
[null,"کاردکس 199",{"$f":"'تعریف کالا'!$C$203","v":0},{"$f":"'تعریف کالا'!$D$203","v":0},{"$f":"'تعریف کالا'!$E$203","v":0},{"$f":"'تعریف کالا'!$G$203","v":0},null,{"$f":"'تعریف کالا'!$F$203","v":0},null,0,null,null,null,null,null,null,null,null,null,null,null,null,null,null,0,0,0,0,0,0,0]
[null,"کاردکس 200",{"$f":"'تعریف کالا'!$C$204","v":0},{"$f":"'تعریف کالا'!$D$204","v":0},{"$f":"'تعریف کالا'!$E$204","v":0},{"$f":"'تعریف کالا'!$G$204","v":0},null,{"$f":"'تعریف کالا'!$F$204","v":0},null,0,null,null,null,null,null,null,null,null,null,null,null,null,null,null,0,0,0,0,0,0,0]
[null,"     جمع کل",null,{"$f":"abh(I6518)&L6514","v":"منفي "},null,null,null,null,{"$f":"SUM(J6318:J6517)","v":0},null,null,null,null,null,null,null,null,null,null,null,null,null,null,"مانده حساب",null,{"$f":"abh(AD6518)& \"ریال\"","v":"منفي ریال"},null,null,null,{"$f":"I6520","v":0}]
[null,"                  مبلغ قابل  پرداخت        ",null,{"$f":"abh(I6519)&\"ریال\"","v":"منفي ریال"},null,null,null,null,{"$f":"J6312","v":0},null,null,null,null,null,null,null,null,null,null,null,null,null,null,"شرح رویداد :",null,{"$f":"E6315","v":0}]
[null,"مانده حساب",null,{"$f":"abh(I6520)&\"ریال\"","v":"منفي ریال"},null,null,null,null,{"$f":"J6313","v":0},null,null,null,null,null,null,null,null,null,null,null,null,null,null,"اقلام این فاکتور سالم تحویل اینجانب  ....................  شد.               "]
[]
[null,null,null,null,null,null,null,null,null,null,null,null,null,null,null,null,null,null,null,null,null,null,null,null,"امضا صادر کننده",null,"امضا فروشنده",null,"امضا مسئول انبار",null,"امضا خریدار"]
[]
[]
[]
[]
[]
[]
[null,null,"فاکتور فروش"]
[null,null,null,null,null,{"$f":"'صفحه اصلی'!$J$4","v":0},null,null,null,null,null,null,null,null,null,null,null,null,null,null,null,null,null,"حواله تحویل کالا"]
[null,"شماره سند ",30,null,null,null,null,null,"تاریخ",null,null,null,null,null,null,null,null,null,null,null,null,null,null,null,null,null,{"$f":"F6530","v":0},null,null,"تاریخ",{"$f":"J6531","v":0}]
[null,"شماره فاکتور",30,null,null,null,null,null,"انبار",null,null,"مشاهده حواله",null,null,null,null,null,null,null,null,null,null,null,"شماره حواله",{"$f":"C6532","v":30}]
[null,null,null,null,null,null,null,null,null,null,null,null,null,null,null,null,null,null,null,null,null,null,null,"شماره سند",{"$f":"C6531","v":30}]
[null,null,null,null,null,"           درصد تخفیف  ",null,null,"تخفیف ",{"$f":"(I6743*G6534%)","v":0}]
[null,null,"نام خریدار","خسرو جهانشاهی",null,"          کرایه حمل",null,null,"کرایه حمل",{"$f":"G6535","v":0}]
[null,null,null,null,null,"          مالیات",null,null,"مالیات",{"$f":"(I6743-J6534+J6535)*G6536%","v":0}]
[null,null,"پرداخت نقدی",null,null,null,null,null,"مبلغ قابل پرداخت",{"$f":"I6743-J6534+J6535+J6536","v":0},null,null,null,null,null,null,null,null,null,null,null,null,null,null,"خریدار:",{"$f":"D6535","v":"خسرو جهانشاهی"}]
[null,null,"پرداخت با چک",null,null,null,null,null,"مانده حساب",{"$f":"J6537-D6537-D6538","v":0}]
[null,null,null,null,null,null,null,null,null,null,null,null,null,null,null,null,null,null,null,null,null,null,null,null,"آدرس :",{"$f":"VLOOKUP(Z6537,'مشخصات مشتریان'!$C$2:$D$502,2,FALSE)","v":0}]
[null,null,"ثبت چک","شرح رویداد"]
[]
[null,"شماره کاردکس","کد کالا","نام کالا","گروه بندی","قیمت واحد","درصد تخفیف","واحد شمارش","تعداد","قیمت کل",null,null,null,null,null,null,null,null,null,null,null,null,null,"ردیف","کد کالا","نام کالا","گروه بندی","قیمت واحد","واحد شمارش","تعداد","قیمت کل"]
[null,"کاردکس 1",{"$f":"'تعریف کالا'!$C$5","v":9011120},{"$f":"'تعریف کالا'!$D$5","v":"سی دی"},{"$f":"'تعریف کالا'!$E$5","v":"سخت افزار"},{"$f":"'تعریف کالا'!$G$5","v":3000},null,{"$f":"'تعریف کالا'!$F$5","v":"حلقه"},null,{"$f":"(F6543*I6543)-(F6543*I6543*G6543%)","v":0},null,null,null,null,null,null,null,null,null,null,null,null,null,null,{"$f":"C6543","v":9011120},{"$f":"D6543","v":"سی دی"},{"$f":"E6543","v":"سخت افزار"},{"$f":"F6543","v":3000},{"$f":"H6543","v":"حلقه"},{"$f":"I6543","v":0},{"$f":"J6543","v":0}]
[null,"کاردکس 2",{"$f":"'تعریف کالا'!$C$6","v":9011121},{"$f":"'تعریف کالا'!$D$6","v":"دی وی دی"},{"$f":"'تعریف کالا'!$E$6","v":"سخت افزار"},{"$f":"'تعریف کالا'!$G$6","v":7000},null,{"$f":"'تعریف کالا'!$F$6","v":"حلقه"},null,{"$f":"(F6544*I6544)-(F6544*I6544*G6544%)","v":0},null,null,null,null,null,null,null,null,null,null,null,null,null,null,{"$f":"C6544","v":9011121},{"$f":"D6544","v":"دی وی دی"},{"$f":"E6544","v":"سخت افزار"},{"$f":"F6544","v":7000},{"$f":"H6544","v":"حلقه"},{"$f":"I6544","v":0},{"$f":"J6544","v":0}]
[null,"کاردکس 3",{"$f":"'تعریف کالا'!$C$7","v":9011122},{"$f":"'تعریف کالا'!$D$7","v":"نوت بوک"},{"$f":"'تعریف کالا'!$E$7","v":"سخت افزار"},{"$f":"'تعریف کالا'!$G$7","v":10000000},null,{"$f":"'تعریف کالا'!$F$7","v":"دستگاه"},null,{"$f":"(F6545*I6545)-(F6545*I6545*G6545%)","v":0},null,null,null,null,null,null,null,null,null,null,null,null,null,null,{"$f":"C6545","v":9011122},"نوت بوک","سخت افزار",10000000,"دستگاه",0,0]
[null,"کاردکس 4",{"$f":"'تعریف کالا'!$C$8","v":0},{"$f":"'تعریف کالا'!$D$8","v":0},{"$f":"'تعریف کالا'!$E$8","v":0},{"$f":"'تعریف کالا'!$G$8","v":0},null,{"$f":"'تعریف کالا'!$F$8","v":0},null,0,null,null,null,null,null,null,null,null,null,null,null,null,null,null,0,0,0,0,0,0,0]
[null,"کاردکس 5",{"$f":"'تعریف کالا'!$C$9","v":0},{"$f":"'تعریف کالا'!$D$9","v":0},{"$f":"'تعریف کالا'!$E$9","v":0},{"$f":"'تعریف کالا'!$G$9","v":0},null,{"$f":"'تعریف کالا'!$F$9","v":0},null,0,null,null,null,null,null,null,null,null,null,null,null,null,null,null,0,0,0,0,0,0,0]
[null,"کاردکس 6",{"$f":"'تعریف کالا'!$C$10","v":0},{"$f":"'تعریف کالا'!$D$10","v":0},{"$f":"'تعریف کالا'!$E$10","v":0},{"$f":"'تعریف کالا'!$G$10","v":0},null,{"$f":"'تعریف کالا'!$F$10","v":0},null,0,null,null,null,null,null,null,null,null,null,null,null,null,null,null,0,0,0,0,0,0,0]
[null,"کاردکس 7",{"$f":"'تعریف کالا'!$C$11","v":0},{"$f":"'تعریف کالا'!$D$11","v":0},{"$f":"'تعریف کالا'!$E$11","v":0},{"$f":"'تعریف کالا'!$G$11","v":0},null,{"$f":"'تعریف کالا'!$F$11","v":0},null,0,null,null,null,null,null,null,null,null,null,null,null,null,null,null,0,0,0,0,0,0,0]
[null,"کاردکس 8",{"$f":"'تعریف کالا'!$C$12","v":0},{"$f":"'تعریف کالا'!$D$12","v":0},{"$f":"'تعریف کالا'!$E$12","v":0},{"$f":"'تعریف کالا'!$G$12","v":0},null,{"$f":"'تعریف کالا'!$F$12","v":0},null,0,null,null,null,null,null,null,null,null,null,null,null,null,null,null,0,0,0,0,0,0,0]
[null,"کاردکس 9",{"$f":"'تعریف کالا'!$C$13","v":0},{"$f":"'تعریف کالا'!$D$13","v":0},{"$f":"'تعریف کالا'!$E$13","v":0},{"$f":"'تعریف کالا'!$G$13","v":0},null,{"$f":"'تعریف کالا'!$F$13","v":0},null,0,null,null,null,null,null,null,null,null,null,null,null,null,null,null,0,0,0,0,0,0,0]
[null,"کاردکس 10",{"$f":"'تعریف کالا'!$C$14","v":0},{"$f":"'تعریف کالا'!$D$14","v":0},{"$f":"'تعریف کالا'!$E$14","v":0},{"$f":"'تعریف کالا'!$G$14","v":0},null,{"$f":"'تعریف کالا'!$F$14","v":0},null,0,null,null,null,null,null,null,null,null,null,null,null,null,null,null,0,0,0,0,0,0,0]
[null,"کاردکس 11",{"$f":"'تعریف کالا'!$C$15","v":0},{"$f":"'تعریف کالا'!$D$15","v":0},{"$f":"'تعریف کالا'!$E$15","v":0},{"$f":"'تعریف کالا'!$G$15","v":0},null,{"$f":"'تعریف کالا'!$F$15","v":0},null,0,null,null,null,null,null,null,null,null,null,null,null,null,null,null,0,0,0,0,0,0,0]
[null,"کاردکس 12",{"$f":"'تعریف کالا'!$C$16","v":0},{"$f":"'تعریف کالا'!$D$16","v":0},{"$f":"'تعریف کالا'!$E$16","v":0},{"$f":"'تعریف کالا'!$G$16","v":0},null,{"$f":"'تعریف کالا'!$F$16","v":0},null,0,null,null,null,null,null,null,null,null,null,null,null,null,null,null,0,0,0,0,0,0,0]
[null,"کاردکس 13",{"$f":"'تعریف کالا'!$C$17","v":0},{"$f":"'تعریف کالا'!$D$17","v":0},{"$f":"'تعریف کالا'!$E$17","v":0},{"$f":"'تعریف کالا'!$G$17","v":0},null,{"$f":"'تعریف کالا'!$F$17","v":0},null,0,null,null,null,null,null,null,null,null,null,null,null,null,null,null,0,0,0,0,0,0,0]
[null,"کاردکس 14",{"$f":"'تعریف کالا'!$C$18","v":0},{"$f":"'تعریف کالا'!$D$18","v":0},{"$f":"'تعریف کالا'!$E$18","v":0},{"$f":"'تعریف کالا'!$G$18","v":0},null,{"$f":"'تعریف کالا'!$F$18","v":0},null,0,null,null,null,null,null,null,null,null,null,null,null,null,null,null,0,0,0,0,0,0,0]
[null,"کاردکس 15",{"$f":"'تعریف کالا'!$C$19","v":0},{"$f":"'تعریف کالا'!$D$19","v":0},{"$f":"'تعریف کالا'!$E$19","v":0},{"$f":"'تعریف کالا'!$G$19","v":0},null,{"$f":"'تعریف کالا'!$F$19","v":0},null,0,null,null,null,null,null,null,null,null,null,null,null,null,null,null,0,0,0,0,0,0,0]
[null,"کاردکس 16",{"$f":"'تعریف کالا'!$C$20","v":0},{"$f":"'تعریف کالا'!$D$20","v":0},{"$f":"'تعریف کالا'!$E$20","v":0},{"$f":"'تعریف کالا'!$G$20","v":0},null,{"$f":"'تعریف کالا'!$F$20","v":0},null,0,null,null,null,null,null,null,null,null,null,null,null,null,null,null,0,0,0,0,0,0,0]
[null,"کاردکس 17",{"$f":"'تعریف کالا'!$C$21","v":0},{"$f":"'تعریف کالا'!$D$21","v":0},{"$f":"'تعریف کالا'!$E$21","v":0},{"$f":"'تعریف کالا'!$G$21","v":0},null,{"$f":"'تعریف کالا'!$F$21","v":0},null,0,null,null,null,null,null,null,null,null,null,null,null,null,null,null,0,0,0,0,0,0,0]
[null,"کاردکس 18",{"$f":"'تعریف کالا'!$C$22","v":0},{"$f":"'تعریف کالا'!$D$22","v":0},{"$f":"'تعریف کالا'!$E$22","v":0},{"$f":"'تعریف کالا'!$G$22","v":0},null,{"$f":"'تعریف کالا'!$F$22","v":0},null,0,null,null,null,null,null,null,null,null,null,null,null,null,null,null,0,0,0,0,0,0,0]
[null,"کاردکس 19",{"$f":"'تعریف کالا'!$C$23","v":0},{"$f":"'تعریف کالا'!$D$23","v":0},{"$f":"'تعریف کالا'!$E$23","v":0},{"$f":"'تعریف کالا'!$G$23","v":0},null,{"$f":"'تعریف کالا'!$F$23","v":0},null,0,null,null,null,null,null,null,null,null,null,null,null,null,null,null,0,0,0,0,0,0,0]
[null,"کاردکس 20",{"$f":"'تعریف کالا'!$C$24","v":0},{"$f":"'تعریف کالا'!$D$24","v":0},{"$f":"'تعریف کالا'!$E$24","v":0},{"$f":"'تعریف کالا'!$G$24","v":0},null,{"$f":"'تعریف کالا'!$F$24","v":0},null,0,null,null,null,null,null,null,null,null,null,null,null,null,null,null,0,0,0,0,0,0,0]
[null,"کاردکس 21",{"$f":"'تعریف کالا'!$C$25","v":0},{"$f":"'تعریف کالا'!$D$25","v":0},{"$f":"'تعریف کالا'!$E$25","v":0},{"$f":"'تعریف کالا'!$G$25","v":0},null,{"$f":"'تعریف کالا'!$F$25","v":0},null,0,null,null,null,null,null,null,null,null,null,null,null,null,null,null,0,0,0,0,0,0,0]
[null,"کاردکس 22",{"$f":"'تعریف کالا'!$C$26","v":0},{"$f":"'تعریف کالا'!$D$26","v":0},{"$f":"'تعریف کالا'!$E$26","v":0},{"$f":"'تعریف کالا'!$G$26","v":0},null,{"$f":"'تعریف کالا'!$F$26","v":0},null,0,null,null,null,null,null,null,null,null,null,null,null,null,null,null,0,0,0,0,0,0,0]
[null,"کاردکس 23",{"$f":"'تعریف کالا'!$C$27","v":0},{"$f":"'تعریف کالا'!$D$27","v":0},{"$f":"'تعریف کالا'!$E$27","v":0},{"$f":"'تعریف کالا'!$G$27","v":0},null,{"$f":"'تعریف کالا'!$F$27","v":0},null,0,null,null,null,null,null,null,null,null,null,null,null,null,null,null,0,0,0,0,0,0,0]
[null,"کاردکس 24",{"$f":"'تعریف کالا'!$C$28","v":0},{"$f":"'تعریف کالا'!$D$28","v":0},{"$f":"'تعریف کالا'!$E$28","v":0},{"$f":"'تعریف کالا'!$G$28","v":0},null,{"$f":"'تعریف کالا'!$F$28","v":0},null,0,null,null,null,null,null,null,null,null,null,null,null,null,null,null,0,0,0,0,0,0,0]
[null,"کاردکس 25",{"$f":"'تعریف کالا'!$C$29","v":0},{"$f":"'تعریف کالا'!$D$29","v":0},{"$f":"'تعریف کالا'!$E$29","v":0},{"$f":"'تعریف کالا'!$G$29","v":0},null,{"$f":"'تعریف کالا'!$F$29","v":0},null,0,null,null,null,null,null,null,null,null,null,null,null,null,null,null,0,0,0,0,0,0,0]
[null,"کاردکس 26",{"$f":"'تعریف کالا'!$C$30","v":0},{"$f":"'تعریف کالا'!$D$30","v":0},{"$f":"'تعریف کالا'!$E$30","v":0},{"$f":"'تعریف کالا'!$G$30","v":0},null,{"$f":"'تعریف کالا'!$F$30","v":0},null,0,null,null,null,null,null,null,null,null,null,null,null,null,null,null,0,0,0,0,0,0,0]
[null,"کاردکس 27",{"$f":"'تعریف کالا'!$C$31","v":0},{"$f":"'تعریف کالا'!$D$31","v":0},{"$f":"'تعریف کالا'!$E$31","v":0},{"$f":"'تعریف کالا'!$G$31","v":0},null,{"$f":"'تعریف کالا'!$F$31","v":0},null,0,null,null,null,null,null,null,null,null,null,null,null,null,null,null,0,0,0,0,0,0,0]
[null,"کاردکس 28",{"$f":"'تعریف کالا'!$C$32","v":0},{"$f":"'تعریف کالا'!$D$32","v":0},{"$f":"'تعریف کالا'!$E$32","v":0},{"$f":"'تعریف کالا'!$G$32","v":0},null,{"$f":"'تعریف کالا'!$F$32","v":0},null,0,null,null,null,null,null,null,null,null,null,null,null,null,null,null,0,0,0,0,0,0,0]
[null,"کاردکس 29",{"$f":"'تعریف کالا'!$C$33","v":0},{"$f":"'تعریف کالا'!$D$33","v":0},{"$f":"'تعریف کالا'!$E$33","v":0},{"$f":"'تعریف کالا'!$G$33","v":0},null,{"$f":"'تعریف کالا'!$F$33","v":0},null,0,null,null,null,null,null,null,null,null,null,null,null,null,null,null,0,0,0,0,0,0,0]
[null,"کاردکس 30",{"$f":"'تعریف کالا'!$C$34","v":0},{"$f":"'تعریف کالا'!$D$34","v":0},{"$f":"'تعریف کالا'!$E$34","v":0},{"$f":"'تعریف کالا'!$G$34","v":0},null,{"$f":"'تعریف کالا'!$F$34","v":0},null,0,null,null,null,null,null,null,null,null,null,null,null,null,null,null,0,0,0,0,0,0,0]
[null,"کاردکس 31",{"$f":"'تعریف کالا'!$C$35","v":0},{"$f":"'تعریف کالا'!$D$35","v":0},{"$f":"'تعریف کالا'!$E$35","v":0},{"$f":"'تعریف کالا'!$G$35","v":0},null,{"$f":"'تعریف کالا'!$F$35","v":0},null,0,null,null,null,null,null,null,null,null,null,null,null,null,null,null,0,0,0,0,0,0,0]
[null,"کاردکس 32",{"$f":"'تعریف کالا'!$C$36","v":0},{"$f":"'تعریف کالا'!$D$36","v":0},{"$f":"'تعریف کالا'!$E$36","v":0},{"$f":"'تعریف کالا'!$G$36","v":0},null,{"$f":"'تعریف کالا'!$F$36","v":0},null,0,null,null,null,null,null,null,null,null,null,null,null,null,null,null,0,0,0,0,0,0,0]
[null,"کاردکس 33",{"$f":"'تعریف کالا'!$C$37","v":0},{"$f":"'تعریف کالا'!$D$37","v":0},{"$f":"'تعریف کالا'!$E$37","v":0},{"$f":"'تعریف کالا'!$G$37","v":0},null,{"$f":"'تعریف کالا'!$F$37","v":0},null,0,null,null,null,null,null,null,null,null,null,null,null,null,null,null,0,0,0,0,0,0,0]
[null,"کاردکس 34",{"$f":"'تعریف کالا'!$C$38","v":0},{"$f":"'تعریف کالا'!$D$38","v":0},{"$f":"'تعریف کالا'!$E$38","v":0},{"$f":"'تعریف کالا'!$G$38","v":0},null,{"$f":"'تعریف کالا'!$F$38","v":0},null,0,null,null,null,null,null,null,null,null,null,null,null,null,null,null,0,0,0,0,0,0,0]
[null,"کاردکس 35",{"$f":"'تعریف کالا'!$C$39","v":0},{"$f":"'تعریف کالا'!$D$39","v":0},{"$f":"'تعریف کالا'!$E$39","v":0},{"$f":"'تعریف کالا'!$G$39","v":0},null,{"$f":"'تعریف کالا'!$F$39","v":0},null,0,null,null,null,null,null,null,null,null,null,null,null,null,null,null,0,0,0,0,0,0,0]
[null,"کاردکس 36",{"$f":"'تعریف کالا'!$C$40","v":0},{"$f":"'تعریف کالا'!$D$40","v":0},{"$f":"'تعریف کالا'!$E$40","v":0},{"$f":"'تعریف کالا'!$G$40","v":0},null,{"$f":"'تعریف کالا'!$F$40","v":0},null,0,null,null,null,null,null,null,null,null,null,null,null,null,null,null,0,0,0,0,0,0,0]
[null,"کاردکس 37",{"$f":"'تعریف کالا'!$C$41","v":0},{"$f":"'تعریف کالا'!$D$41","v":0},{"$f":"'تعریف کالا'!$E$41","v":0},{"$f":"'تعریف کالا'!$G$41","v":0},null,{"$f":"'تعریف کالا'!$F$41","v":0},null,0,null,null,null,null,null,null,null,null,null,null,null,null,null,null,0,0,0,0,0,0,0]
[null,"کاردکس 38",{"$f":"'تعریف کالا'!$C$42","v":0},{"$f":"'تعریف کالا'!$D$42","v":0},{"$f":"'تعریف کالا'!$E$42","v":0},{"$f":"'تعریف کالا'!$G$42","v":0},null,{"$f":"'تعریف کالا'!$F$42","v":0},null,0,null,null,null,null,null,null,null,null,null,null,null,null,null,null,0,0,0,0,0,0,0]
[null,"کاردکس 39",{"$f":"'تعریف کالا'!$C$43","v":0},{"$f":"'تعریف کالا'!$D$43","v":0},{"$f":"'تعریف کالا'!$E$43","v":0},{"$f":"'تعریف کالا'!$G$43","v":0},null,{"$f":"'تعریف کالا'!$F$43","v":0},null,0,null,null,null,null,null,null,null,null,null,null,null,null,null,null,0,0,0,0,0,0,0]
[null,"کاردکس 40",{"$f":"'تعریف کالا'!$C$44","v":0},{"$f":"'تعریف کالا'!$D$44","v":0},{"$f":"'تعریف کالا'!$E$44","v":0},{"$f":"'تعریف کالا'!$G$44","v":0},null,{"$f":"'تعریف کالا'!$F$44","v":0},null,0,null,null,null,null,null,null,null,null,null,null,null,null,null,null,0,0,0,0,0,0,0]
[null,"کاردکس 41",{"$f":"'تعریف کالا'!$C$45","v":0},{"$f":"'تعریف کالا'!$D$45","v":0},{"$f":"'تعریف کالا'!$E$45","v":0},{"$f":"'تعریف کالا'!$G$45","v":0},null,{"$f":"'تعریف کالا'!$F$45","v":0},null,0,null,null,null,null,null,null,null,null,null,null,null,null,null,null,0,0,0,0,0,0,0]
[null,"کاردکس 42",{"$f":"'تعریف کالا'!$C$46","v":0},{"$f":"'تعریف کالا'!$D$46","v":0},{"$f":"'تعریف کالا'!$E$46","v":0},{"$f":"'تعریف کالا'!$G$46","v":0},null,{"$f":"'تعریف کالا'!$F$46","v":0},null,0,null,null,null,null,null,null,null,null,null,null,null,null,null,null,0,0,0,0,0,0,0]
[null,"کاردکس 43",{"$f":"'تعریف کالا'!$C$47","v":0},{"$f":"'تعریف کالا'!$D$47","v":0},{"$f":"'تعریف کالا'!$E$47","v":0},{"$f":"'تعریف کالا'!$G$47","v":0},null,{"$f":"'تعریف کالا'!$F$47","v":0},null,0,null,null,null,null,null,null,null,null,null,null,null,null,null,null,0,0,0,0,0,0,0]
[null,"کاردکس 44",{"$f":"'تعریف کالا'!$C$48","v":0},{"$f":"'تعریف کالا'!$D$48","v":0},{"$f":"'تعریف کالا'!$E$48","v":0},{"$f":"'تعریف کالا'!$G$48","v":0},null,{"$f":"'تعریف کالا'!$F$48","v":0},null,0,null,null,null,null,null,null,null,null,null,null,null,null,null,null,0,0,0,0,0,0,0]
[null,"کاردکس 45",{"$f":"'تعریف کالا'!$C$49","v":0},{"$f":"'تعریف کالا'!$D$49","v":0},{"$f":"'تعریف کالا'!$E$49","v":0},{"$f":"'تعریف کالا'!$G$49","v":0},null,{"$f":"'تعریف کالا'!$F$49","v":0},null,0,null,null,null,null,null,null,null,null,null,null,null,null,null,null,0,0,0,0,0,0,0]
[null,"کاردکس 46",{"$f":"'تعریف کالا'!$C$50","v":0},{"$f":"'تعریف کالا'!$D$50","v":0},{"$f":"'تعریف کالا'!$E$50","v":0},{"$f":"'تعریف کالا'!$G$50","v":0},null,{"$f":"'تعریف کالا'!$F$50","v":0},null,0,null,null,null,null,null,null,null,null,null,null,null,null,null,null,0,0,0,0,0,0,0]
[null,"کاردکس 47",{"$f":"'تعریف کالا'!$C$51","v":0},{"$f":"'تعریف کالا'!$D$51","v":0},{"$f":"'تعریف کالا'!$E$51","v":0},{"$f":"'تعریف کالا'!$G$51","v":0},null,{"$f":"'تعریف کالا'!$F$51","v":0},null,0,null,null,null,null,null,null,null,null,null,null,null,null,null,null,0,0,0,0,0,0,0]
[null,"کاردکس 48",{"$f":"'تعریف کالا'!$C$52","v":0},{"$f":"'تعریف کالا'!$D$52","v":0},{"$f":"'تعریف کالا'!$E$52","v":0},{"$f":"'تعریف کالا'!$G$52","v":0},null,{"$f":"'تعریف کالا'!$F$52","v":0},null,0,null,null,null,null,null,null,null,null,null,null,null,null,null,null,0,0,0,0,0,0,0]
[null,"کاردکس 49",{"$f":"'تعریف کالا'!$C$53","v":0},{"$f":"'تعریف کالا'!$D$53","v":0},{"$f":"'تعریف کالا'!$E$53","v":0},{"$f":"'تعریف کالا'!$G$53","v":0},null,{"$f":"'تعریف کالا'!$F$53","v":0},null,0,null,null,null,null,null,null,null,null,null,null,null,null,null,null,0,0,0,0,0,0,0]
[null,"کاردکس 50",{"$f":"'تعریف کالا'!$C$54","v":0},{"$f":"'تعریف کالا'!$D$54","v":0},{"$f":"'تعریف کالا'!$E$54","v":0},{"$f":"'تعریف کالا'!$G$54","v":0},null,{"$f":"'تعریف کالا'!$F$54","v":0},null,0,null,null,null,null,null,null,null,null,null,null,null,null,null,null,0,0,0,0,0,0,0]
[null,"کاردکس 51",{"$f":"'تعریف کالا'!$C$55","v":0},{"$f":"'تعریف کالا'!$D$55","v":0},{"$f":"'تعریف کالا'!$E$55","v":0},{"$f":"'تعریف کالا'!$G$55","v":0},null,{"$f":"'تعریف کالا'!$F$55","v":0},null,0,null,null,null,null,null,null,null,null,null,null,null,null,null,null,0,0,0,0,0,0,0]
[null,"کاردکس 52",{"$f":"'تعریف کالا'!$C$56","v":0},{"$f":"'تعریف کالا'!$D$56","v":0},{"$f":"'تعریف کالا'!$E$56","v":0},{"$f":"'تعریف کالا'!$G$56","v":0},null,{"$f":"'تعریف کالا'!$F$56","v":0},null,0,null,null,null,null,null,null,null,null,null,null,null,null,null,null,0,0,0,0,0,0,0]
[null,"کاردکس 53",{"$f":"'تعریف کالا'!$C$57","v":0},{"$f":"'تعریف کالا'!$D$57","v":0},{"$f":"'تعریف کالا'!$E$57","v":0},{"$f":"'تعریف کالا'!$G$57","v":0},null,{"$f":"'تعریف کالا'!$F$57","v":0},null,0,null,null,null,null,null,null,null,null,null,null,null,null,null,null,0,0,0,0,0,0,0]
[null,"کاردکس 54",{"$f":"'تعریف کالا'!$C$58","v":0},{"$f":"'تعریف کالا'!$D$58","v":0},{"$f":"'تعریف کالا'!$E$58","v":0},{"$f":"'تعریف کالا'!$G$58","v":0},null,{"$f":"'تعریف کالا'!$F$58","v":0},null,0,null,null,null,null,null,null,null,null,null,null,null,null,null,null,0,0,0,0,0,0,0]
[null,"کاردکس 55",{"$f":"'تعریف کالا'!$C$59","v":0},{"$f":"'تعریف کالا'!$D$59","v":0},{"$f":"'تعریف کالا'!$E$59","v":0},{"$f":"'تعریف کالا'!$G$59","v":0},null,{"$f":"'تعریف کالا'!$F$59","v":0},null,0,null,null,null,null,null,null,null,null,null,null,null,null,null,null,0,0,0,0,0,0,0]
[null,"کاردکس 56",{"$f":"'تعریف کالا'!$C$60","v":0},{"$f":"'تعریف کالا'!$D$60","v":0},{"$f":"'تعریف کالا'!$E$60","v":0},{"$f":"'تعریف کالا'!$G$60","v":0},null,{"$f":"'تعریف کالا'!$F$60","v":0},null,0,null,null,null,null,null,null,null,null,null,null,null,null,null,null,0,0,0,0,0,0,0]
[null,"کاردکس 57",{"$f":"'تعریف کالا'!$C$61","v":0},{"$f":"'تعریف کالا'!$D$61","v":0},{"$f":"'تعریف کالا'!$E$61","v":0},{"$f":"'تعریف کالا'!$G$61","v":0},null,{"$f":"'تعریف کالا'!$F$61","v":0},null,0,null,null,null,null,null,null,null,null,null,null,null,null,null,null,0,0,0,0,0,0,0]
[null,"کاردکس 58",{"$f":"'تعریف کالا'!$C$62","v":0},{"$f":"'تعریف کالا'!$D$62","v":0},{"$f":"'تعریف کالا'!$E$62","v":0},{"$f":"'تعریف کالا'!$G$62","v":0},null,{"$f":"'تعریف کالا'!$F$62","v":0},null,0,null,null,null,null,null,null,null,null,null,null,null,null,null,null,0,0,0,0,0,0,0]
[null,"کاردکس 59",{"$f":"'تعریف کالا'!$C$63","v":0},{"$f":"'تعریف کالا'!$D$63","v":0},{"$f":"'تعریف کالا'!$E$63","v":0},{"$f":"'تعریف کالا'!$G$63","v":0},null,{"$f":"'تعریف کالا'!$F$63","v":0},null,0,null,null,null,null,null,null,null,null,null,null,null,null,null,null,0,0,0,0,0,0,0]
[null,"کاردکس 60",{"$f":"'تعریف کالا'!$C$64","v":0},{"$f":"'تعریف کالا'!$D$64","v":0},{"$f":"'تعریف کالا'!$E$64","v":0},{"$f":"'تعریف کالا'!$G$64","v":0},null,{"$f":"'تعریف کالا'!$F$64","v":0},null,0,null,null,null,null,null,null,null,null,null,null,null,null,null,null,0,0,0,0,0,0,0]
[null,"کاردکس 61",{"$f":"'تعریف کالا'!$C$65","v":0},{"$f":"'تعریف کالا'!$D$65","v":0},{"$f":"'تعریف کالا'!$E$65","v":0},{"$f":"'تعریف کالا'!$G$65","v":0},null,{"$f":"'تعریف کالا'!$F$65","v":0},null,0,null,null,null,null,null,null,null,null,null,null,null,null,null,null,0,0,0,0,0,0,0]
[null,"کاردکس 62",{"$f":"'تعریف کالا'!$C$66","v":0},{"$f":"'تعریف کالا'!$D$66","v":0},{"$f":"'تعریف کالا'!$E$66","v":0},{"$f":"'تعریف کالا'!$G$66","v":0},null,{"$f":"'تعریف کالا'!$F$66","v":0},null,0,null,null,null,null,null,null,null,null,null,null,null,null,null,null,0,0,0,0,0,0,0]
[null,"کاردکس 63",{"$f":"'تعریف کالا'!$C$67","v":0},{"$f":"'تعریف کالا'!$D$67","v":0},{"$f":"'تعریف کالا'!$E$67","v":0},{"$f":"'تعریف کالا'!$G$67","v":0},null,{"$f":"'تعریف کالا'!$F$67","v":0},null,0,null,null,null,null,null,null,null,null,null,null,null,null,null,null,0,0,0,0,0,0,0]
[null,"کاردکس 64",{"$f":"'تعریف کالا'!$C$68","v":0},{"$f":"'تعریف کالا'!$D$68","v":0},{"$f":"'تعریف کالا'!$E$68","v":0},{"$f":"'تعریف کالا'!$G$68","v":0},null,{"$f":"'تعریف کالا'!$F$68","v":0},null,0,null,null,null,null,null,null,null,null,null,null,null,null,null,null,0,0,0,0,0,0,0]
[null,"کاردکس 65",{"$f":"'تعریف کالا'!$C$69","v":0},{"$f":"'تعریف کالا'!$D$69","v":0},{"$f":"'تعریف کالا'!$E$69","v":0},{"$f":"'تعریف کالا'!$G$69","v":0},null,{"$f":"'تعریف کالا'!$F$69","v":0},null,0,null,null,null,null,null,null,null,null,null,null,null,null,null,null,0,0,0,0,0,0,0]
[null,"کاردکس 66",{"$f":"'تعریف کالا'!$C$70","v":0},{"$f":"'تعریف کالا'!$D$70","v":0},{"$f":"'تعریف کالا'!$E$70","v":0},{"$f":"'تعریف کالا'!$G$70","v":0},null,{"$f":"'تعریف کالا'!$F$70","v":0},null,0,null,null,null,null,null,null,null,null,null,null,null,null,null,null,0,{"$f":"D6608","v":0},{"$f":"E6608","v":0},{"$f":"F6608","v":0},{"$f":"H6608","v":0},{"$f":"I6608","v":0},{"$f":"J6608","v":0}]
[null,"کاردکس 67",{"$f":"'تعریف کالا'!$C$71","v":0},{"$f":"'تعریف کالا'!$D$71","v":0},{"$f":"'تعریف کالا'!$E$71","v":0},{"$f":"'تعریف کالا'!$G$71","v":0},null,{"$f":"'تعریف کالا'!$F$71","v":0},null,{"$f":"(F6609*I6609)-(F6609*I6609*G6609%)","v":0},null,null,null,null,null,null,null,null,null,null,null,null,null,null,{"$f":"C6609","v":0},0,0,0,0,0,0]
[null,"کاردکس 68",{"$f":"'تعریف کالا'!$C$72","v":0},{"$f":"'تعریف کالا'!$D$72","v":0},{"$f":"'تعریف کالا'!$E$72","v":0},{"$f":"'تعریف کالا'!$G$72","v":0},null,{"$f":"'تعریف کالا'!$F$72","v":0},null,0,null,null,null,null,null,null,null,null,null,null,null,null,null,null,0,0,0,0,0,0,0]
[null,"کاردکس 69",{"$f":"'تعریف کالا'!$C$73","v":0},{"$f":"'تعریف کالا'!$D$73","v":0},{"$f":"'تعریف کالا'!$E$73","v":0},{"$f":"'تعریف کالا'!$G$73","v":0},null,{"$f":"'تعریف کالا'!$F$73","v":0},null,0,null,null,null,null,null,null,null,null,null,null,null,null,null,null,0,0,0,0,0,0,0]
[null,"کاردکس 70",{"$f":"'تعریف کالا'!$C$74","v":0},{"$f":"'تعریف کالا'!$D$74","v":0},{"$f":"'تعریف کالا'!$E$74","v":0},{"$f":"'تعریف کالا'!$G$74","v":0},null,{"$f":"'تعریف کالا'!$F$74","v":0},null,0,null,null,null,null,null,null,null,null,null,null,null,null,null,null,0,0,0,0,0,0,0]
[null,"کاردکس 71",{"$f":"'تعریف کالا'!$C$75","v":0},{"$f":"'تعریف کالا'!$D$75","v":0},{"$f":"'تعریف کالا'!$E$75","v":0},{"$f":"'تعریف کالا'!$G$75","v":0},null,{"$f":"'تعریف کالا'!$F$75","v":0},null,0,null,null,null,null,null,null,null,null,null,null,null,null,null,null,0,0,0,0,0,0,0]
[null,"کاردکس 72",{"$f":"'تعریف کالا'!$C$76","v":0},{"$f":"'تعریف کالا'!$D$76","v":0},{"$f":"'تعریف کالا'!$E$76","v":0},{"$f":"'تعریف کالا'!$G$76","v":0},null,{"$f":"'تعریف کالا'!$F$76","v":0},null,0,null,null,null,null,null,null,null,null,null,null,null,null,null,null,0,0,0,0,0,0,0]
[null,"کاردکس 73",{"$f":"'تعریف کالا'!$C$77","v":0},{"$f":"'تعریف کالا'!$D$77","v":0},{"$f":"'تعریف کالا'!$E$77","v":0},{"$f":"'تعریف کالا'!$G$77","v":0},null,{"$f":"'تعریف کالا'!$F$77","v":0},null,0,null,null,null,null,null,null,null,null,null,null,null,null,null,null,0,0,0,0,0,0,0]
[null,"کاردکس 74",{"$f":"'تعریف کالا'!$C$78","v":0},{"$f":"'تعریف کالا'!$D$78","v":0},{"$f":"'تعریف کالا'!$E$78","v":0},{"$f":"'تعریف کالا'!$G$78","v":0},null,{"$f":"'تعریف کالا'!$F$78","v":0},null,0,null,null,null,null,null,null,null,null,null,null,null,null,null,null,0,0,0,0,0,0,0]
[null,"کاردکس 75",{"$f":"'تعریف کالا'!$C$79","v":0},{"$f":"'تعریف کالا'!$D$79","v":0},{"$f":"'تعریف کالا'!$E$79","v":0},{"$f":"'تعریف کالا'!$G$79","v":0},null,{"$f":"'تعریف کالا'!$F$79","v":0},null,0,null,null,null,null,null,null,null,null,null,null,null,null,null,null,0,0,0,0,0,0,0]
[null,"کاردکس 76",{"$f":"'تعریف کالا'!$C$80","v":0},{"$f":"'تعریف کالا'!$D$80","v":0},{"$f":"'تعریف کالا'!$E$80","v":0},{"$f":"'تعریف کالا'!$G$80","v":0},null,{"$f":"'تعریف کالا'!$F$80","v":0},null,0,null,null,null,null,null,null,null,null,null,null,null,null,null,null,0,0,0,0,0,0,0]
[null,"کاردکس 77",{"$f":"'تعریف کالا'!$C$81","v":0},{"$f":"'تعریف کالا'!$D$81","v":0},{"$f":"'تعریف کالا'!$E$81","v":0},{"$f":"'تعریف کالا'!$G$81","v":0},null,{"$f":"'تعریف کالا'!$F$81","v":0},null,0,null,null,null,null,null,null,null,null,null,null,null,null,null,null,0,0,0,0,0,0,0]
[null,"کاردکس 78",{"$f":"'تعریف کالا'!$C$82","v":0},{"$f":"'تعریف کالا'!$D$82","v":0},{"$f":"'تعریف کالا'!$E$82","v":0},{"$f":"'تعریف کالا'!$G$82","v":0},null,{"$f":"'تعریف کالا'!$F$82","v":0},null,0,null,null,null,null,null,null,null,null,null,null,null,null,null,null,0,0,0,0,0,0,0]
[null,"کاردکس 79",{"$f":"'تعریف کالا'!$C$83","v":0},{"$f":"'تعریف کالا'!$D$83","v":0},{"$f":"'تعریف کالا'!$E$83","v":0},{"$f":"'تعریف کالا'!$G$83","v":0},null,{"$f":"'تعریف کالا'!$F$83","v":0},null,0,null,null,null,null,null,null,null,null,null,null,null,null,null,null,0,0,0,0,0,0,0]
[null,"کاردکس 80",{"$f":"'تعریف کالا'!$C$84","v":0},{"$f":"'تعریف کالا'!$D$84","v":0},{"$f":"'تعریف کالا'!$E$84","v":0},{"$f":"'تعریف کالا'!$G$84","v":0},null,{"$f":"'تعریف کالا'!$F$84","v":0},null,0,null,null,null,null,null,null,null,null,null,null,null,null,null,null,0,0,0,0,0,0,0]
[null,"کاردکس 81",{"$f":"'تعریف کالا'!$C$85","v":0},{"$f":"'تعریف کالا'!$D$85","v":0},{"$f":"'تعریف کالا'!$E$85","v":0},{"$f":"'تعریف کالا'!$G$85","v":0},null,{"$f":"'تعریف کالا'!$F$85","v":0},null,0,null,null,null,null,null,null,null,null,null,null,null,null,null,null,0,0,0,0,0,0,0]
[null,"کاردکس 82",{"$f":"'تعریف کالا'!$C$86","v":0},{"$f":"'تعریف کالا'!$D$86","v":0},{"$f":"'تعریف کالا'!$E$86","v":0},{"$f":"'تعریف کالا'!$G$86","v":0},null,{"$f":"'تعریف کالا'!$F$86","v":0},null,0,null,null,null,null,null,null,null,null,null,null,null,null,null,null,0,0,0,0,0,0,0]
[null,"کاردکس 83",{"$f":"'تعریف کالا'!$C$87","v":0},{"$f":"'تعریف کالا'!$D$87","v":0},{"$f":"'تعریف کالا'!$E$87","v":0},{"$f":"'تعریف کالا'!$G$87","v":0},null,{"$f":"'تعریف کالا'!$F$87","v":0},null,0,null,null,null,null,null,null,null,null,null,null,null,null,null,null,0,0,0,0,0,0,0]
[null,"کاردکس 84",{"$f":"'تعریف کالا'!$C$88","v":0},{"$f":"'تعریف کالا'!$D$88","v":0},{"$f":"'تعریف کالا'!$E$88","v":0},{"$f":"'تعریف کالا'!$G$88","v":0},null,{"$f":"'تعریف کالا'!$F$88","v":0},null,0,null,null,null,null,null,null,null,null,null,null,null,null,null,null,0,0,0,0,0,0,0]
[null,"کاردکس 85",{"$f":"'تعریف کالا'!$C$89","v":0},{"$f":"'تعریف کالا'!$D$89","v":0},{"$f":"'تعریف کالا'!$E$89","v":0},{"$f":"'تعریف کالا'!$G$89","v":0},null,{"$f":"'تعریف کالا'!$F$89","v":0},null,0,null,null,null,null,null,null,null,null,null,null,null,null,null,null,0,0,0,0,0,0,0]
[null,"کاردکس 86",{"$f":"'تعریف کالا'!$C$90","v":0},{"$f":"'تعریف کالا'!$D$90","v":0},{"$f":"'تعریف کالا'!$E$90","v":0},{"$f":"'تعریف کالا'!$G$90","v":0},null,{"$f":"'تعریف کالا'!$F$90","v":0},null,0,null,null,null,null,null,null,null,null,null,null,null,null,null,null,0,0,0,0,0,0,0]
[null,"کاردکس 87",{"$f":"'تعریف کالا'!$C$91","v":0},{"$f":"'تعریف کالا'!$D$91","v":0},{"$f":"'تعریف کالا'!$E$91","v":0},{"$f":"'تعریف کالا'!$G$91","v":0},null,{"$f":"'تعریف کالا'!$F$91","v":0},null,0,null,null,null,null,null,null,null,null,null,null,null,null,null,null,0,0,0,0,0,0,0]
[null,"کاردکس 88",{"$f":"'تعریف کالا'!$C$92","v":0},{"$f":"'تعریف کالا'!$D$92","v":0},{"$f":"'تعریف کالا'!$E$92","v":0},{"$f":"'تعریف کالا'!$G$92","v":0},null,{"$f":"'تعریف کالا'!$F$92","v":0},null,0,null,null,null,null,null,null,null,null,null,null,null,null,null,null,0,0,0,0,0,0,0]
[null,"کاردکس 89",{"$f":"'تعریف کالا'!$C$93","v":0},{"$f":"'تعریف کالا'!$D$93","v":0},{"$f":"'تعریف کالا'!$E$93","v":0},{"$f":"'تعریف کالا'!$G$93","v":0},null,{"$f":"'تعریف کالا'!$F$93","v":0},null,0,null,null,null,null,null,null,null,null,null,null,null,null,null,null,0,0,0,0,0,0,0]
[null,"کاردکس 90",{"$f":"'تعریف کالا'!$C$94","v":0},{"$f":"'تعریف کالا'!$D$94","v":0},{"$f":"'تعریف کالا'!$E$94","v":0},{"$f":"'تعریف کالا'!$G$94","v":0},null,{"$f":"'تعریف کالا'!$F$94","v":0},null,0,null,null,null,null,null,null,null,null,null,null,null,null,null,null,0,0,0,0,0,0,0]
[null,"کاردکس 91",{"$f":"'تعریف کالا'!$C$95","v":0},{"$f":"'تعریف کالا'!$D$95","v":0},{"$f":"'تعریف کالا'!$E$95","v":0},{"$f":"'تعریف کالا'!$G$95","v":0},null,{"$f":"'تعریف کالا'!$F$95","v":0},null,0,null,null,null,null,null,null,null,null,null,null,null,null,null,null,0,0,0,0,0,0,0]
[null,"کاردکس 92",{"$f":"'تعریف کالا'!$C$96","v":0},{"$f":"'تعریف کالا'!$D$96","v":0},{"$f":"'تعریف کالا'!$E$96","v":0},{"$f":"'تعریف کالا'!$G$96","v":0},null,{"$f":"'تعریف کالا'!$F$96","v":0},null,0,null,null,null,null,null,null,null,null,null,null,null,null,null,null,0,0,0,0,0,0,0]
[null,"کاردکس 93",{"$f":"'تعریف کالا'!$C$97","v":0},{"$f":"'تعریف کالا'!$D$97","v":0},{"$f":"'تعریف کالا'!$E$97","v":0},{"$f":"'تعریف کالا'!$G$97","v":0},null,{"$f":"'تعریف کالا'!$F$97","v":0},null,0,null,null,null,null,null,null,null,null,null,null,null,null,null,null,0,0,0,0,0,0,0]
[null,"کاردکس 94",{"$f":"'تعریف کالا'!$C$98","v":0},{"$f":"'تعریف کالا'!$D$98","v":0},{"$f":"'تعریف کالا'!$E$98","v":0},{"$f":"'تعریف کالا'!$G$98","v":0},null,{"$f":"'تعریف کالا'!$F$98","v":0},null,0,null,null,null,null,null,null,null,null,null,null,null,null,null,null,0,0,0,0,0,0,0]
[null,"کاردکس 95",{"$f":"'تعریف کالا'!$C$99","v":0},{"$f":"'تعریف کالا'!$D$99","v":0},{"$f":"'تعریف کالا'!$E$99","v":0},{"$f":"'تعریف کالا'!$G$99","v":0},null,{"$f":"'تعریف کالا'!$F$99","v":0},null,0,null,null,null,null,null,null,null,null,null,null,null,null,null,null,0,0,0,0,0,0,0]
[null,"کاردکس 96",{"$f":"'تعریف کالا'!$C$100","v":0},{"$f":"'تعریف کالا'!$D$100","v":0},{"$f":"'تعریف کالا'!$E$100","v":0},{"$f":"'تعریف کالا'!$G$100","v":0},null,{"$f":"'تعریف کالا'!$F$100","v":0},null,0,null,null,null,null,null,null,null,null,null,null,null,null,null,null,0,0,0,0,0,0,0]
[null,"کاردکس 97",{"$f":"'تعریف کالا'!$C$101","v":0},{"$f":"'تعریف کالا'!$D$101","v":0},{"$f":"'تعریف کالا'!$E$101","v":0},{"$f":"'تعریف کالا'!$G$101","v":0},null,{"$f":"'تعریف کالا'!$F$101","v":0},null,0,null,null,null,null,null,null,null,null,null,null,null,null,null,null,0,0,0,0,0,0,0]
[null,"کاردکس 98",{"$f":"'تعریف کالا'!$C$102","v":0},{"$f":"'تعریف کالا'!$D$102","v":0},{"$f":"'تعریف کالا'!$E$102","v":0},{"$f":"'تعریف کالا'!$G$102","v":0},null,{"$f":"'تعریف کالا'!$F$102","v":0},null,0,null,null,null,null,null,null,null,null,null,null,null,null,null,null,0,0,0,0,0,0,0]
[null,"کاردکس 99",{"$f":"'تعریف کالا'!$C$103","v":0},{"$f":"'تعریف کالا'!$D$103","v":0},{"$f":"'تعریف کالا'!$E$103","v":0},{"$f":"'تعریف کالا'!$G$103","v":0},null,{"$f":"'تعریف کالا'!$F$103","v":0},null,0,null,null,null,null,null,null,null,null,null,null,null,null,null,null,0,0,0,0,0,0,0]
[null,"کاردکس 100",{"$f":"'تعریف کالا'!$C$104","v":0},{"$f":"'تعریف کالا'!$D$104","v":0},{"$f":"'تعریف کالا'!$E$104","v":0},{"$f":"'تعریف کالا'!$G$104","v":0},null,{"$f":"'تعریف کالا'!$F$104","v":0},null,0,null,null,null,null,null,null,null,null,null,null,null,null,null,null,0,0,0,0,0,0,0]
[null,"کاردکس 101",{"$f":"'تعریف کالا'!$C$105","v":0},{"$f":"'تعریف کالا'!$D$105","v":0},{"$f":"'تعریف کالا'!$E$105","v":0},{"$f":"'تعریف کالا'!$G$105","v":0},null,{"$f":"'تعریف کالا'!$F$105","v":0},null,0,null,null,null,null,null,null,null,null,null,null,null,null,null,null,0,0,0,0,0,0,0]
[null,"کاردکس 102",{"$f":"'تعریف کالا'!$C$106","v":0},{"$f":"'تعریف کالا'!$D$106","v":0},{"$f":"'تعریف کالا'!$E$106","v":0},{"$f":"'تعریف کالا'!$G$106","v":0},null,{"$f":"'تعریف کالا'!$F$106","v":0},null,0,null,null,null,null,null,null,null,null,null,null,null,null,null,null,0,0,0,0,0,0,0]
[null,"کاردکس 103",{"$f":"'تعریف کالا'!$C$107","v":0},{"$f":"'تعریف کالا'!$D$107","v":0},{"$f":"'تعریف کالا'!$E$107","v":0},{"$f":"'تعریف کالا'!$G$107","v":0},null,{"$f":"'تعریف کالا'!$F$107","v":0},null,0,null,null,null,null,null,null,null,null,null,null,null,null,null,null,0,0,0,0,0,0,0]
[null,"کاردکس 104",{"$f":"'تعریف کالا'!$C$108","v":0},{"$f":"'تعریف کالا'!$D$108","v":0},{"$f":"'تعریف کالا'!$E$108","v":0},{"$f":"'تعریف کالا'!$G$108","v":0},null,{"$f":"'تعریف کالا'!$F$108","v":0},null,0,null,null,null,null,null,null,null,null,null,null,null,null,null,null,0,0,0,0,0,0,0]
[null,"کاردکس 105",{"$f":"'تعریف کالا'!$C$109","v":0},{"$f":"'تعریف کالا'!$D$109","v":0},{"$f":"'تعریف کالا'!$E$109","v":0},{"$f":"'تعریف کالا'!$G$109","v":0},null,{"$f":"'تعریف کالا'!$F$109","v":0},null,0,null,null,null,null,null,null,null,null,null,null,null,null,null,null,0,0,0,0,0,0,0]
[null,"کاردکس 106",{"$f":"'تعریف کالا'!$C$110","v":0},{"$f":"'تعریف کالا'!$D$110","v":0},{"$f":"'تعریف کالا'!$E$110","v":0},{"$f":"'تعریف کالا'!$G$110","v":0},null,{"$f":"'تعریف کالا'!$F$110","v":0},null,0,null,null,null,null,null,null,null,null,null,null,null,null,null,null,0,0,0,0,0,0,0]
[null,"کاردکس 107",{"$f":"'تعریف کالا'!$C$111","v":0},{"$f":"'تعریف کالا'!$D$111","v":0},{"$f":"'تعریف کالا'!$E$111","v":0},{"$f":"'تعریف کالا'!$G$111","v":0},null,{"$f":"'تعریف کالا'!$F$111","v":0},null,0,null,null,null,null,null,null,null,null,null,null,null,null,null,null,0,0,0,0,0,0,0]
[null,"کاردکس 108",{"$f":"'تعریف کالا'!$C$112","v":0},{"$f":"'تعریف کالا'!$D$112","v":0},{"$f":"'تعریف کالا'!$E$112","v":0},{"$f":"'تعریف کالا'!$G$112","v":0},null,{"$f":"'تعریف کالا'!$F$112","v":0},null,0,null,null,null,null,null,null,null,null,null,null,null,null,null,null,0,0,0,0,0,0,0]
[null,"کاردکس 109",{"$f":"'تعریف کالا'!$C$113","v":0},{"$f":"'تعریف کالا'!$D$113","v":0},{"$f":"'تعریف کالا'!$E$113","v":0},{"$f":"'تعریف کالا'!$G$113","v":0},null,{"$f":"'تعریف کالا'!$F$113","v":0},null,0,null,null,null,null,null,null,null,null,null,null,null,null,null,null,0,0,0,0,0,0,0]
[null,"کاردکس 110",{"$f":"'تعریف کالا'!$C$114","v":0},{"$f":"'تعریف کالا'!$D$114","v":0},{"$f":"'تعریف کالا'!$E$114","v":0},{"$f":"'تعریف کالا'!$G$114","v":0},null,{"$f":"'تعریف کالا'!$F$114","v":0},null,0,null,null,null,null,null,null,null,null,null,null,null,null,null,null,0,0,0,0,0,0,0]
[null,"کاردکس 111",{"$f":"'تعریف کالا'!$C$115","v":0},{"$f":"'تعریف کالا'!$D$115","v":0},{"$f":"'تعریف کالا'!$E$115","v":0},{"$f":"'تعریف کالا'!$G$115","v":0},null,{"$f":"'تعریف کالا'!$F$115","v":0},null,0,null,null,null,null,null,null,null,null,null,null,null,null,null,null,0,0,0,0,0,0,0]
[null,"کاردکس 112",{"$f":"'تعریف کالا'!$C$116","v":0},{"$f":"'تعریف کالا'!$D$116","v":0},{"$f":"'تعریف کالا'!$E$116","v":0},{"$f":"'تعریف کالا'!$G$116","v":0},null,{"$f":"'تعریف کالا'!$F$116","v":0},null,0,null,null,null,null,null,null,null,null,null,null,null,null,null,null,0,0,0,0,0,0,0]
[null,"کاردکس 113",{"$f":"'تعریف کالا'!$C$117","v":0},{"$f":"'تعریف کالا'!$D$117","v":0},{"$f":"'تعریف کالا'!$E$117","v":0},{"$f":"'تعریف کالا'!$G$117","v":0},null,{"$f":"'تعریف کالا'!$F$117","v":0},null,0,null,null,null,null,null,null,null,null,null,null,null,null,null,null,0,0,0,0,0,0,0]
[null,"کاردکس 114",{"$f":"'تعریف کالا'!$C$118","v":0},{"$f":"'تعریف کالا'!$D$118","v":0},{"$f":"'تعریف کالا'!$E$118","v":0},{"$f":"'تعریف کالا'!$G$118","v":0},null,{"$f":"'تعریف کالا'!$F$118","v":0},null,0,null,null,null,null,null,null,null,null,null,null,null,null,null,null,0,0,0,0,0,0,0]
[null,"کاردکس 115",{"$f":"'تعریف کالا'!$C$119","v":0},{"$f":"'تعریف کالا'!$D$119","v":0},{"$f":"'تعریف کالا'!$E$119","v":0},{"$f":"'تعریف کالا'!$G$119","v":0},null,{"$f":"'تعریف کالا'!$F$119","v":0},null,0,null,null,null,null,null,null,null,null,null,null,null,null,null,null,0,0,0,0,0,0,0]
[null,"کاردکس 116",{"$f":"'تعریف کالا'!$C$120","v":0},{"$f":"'تعریف کالا'!$D$120","v":0},{"$f":"'تعریف کالا'!$E$120","v":0},{"$f":"'تعریف کالا'!$G$120","v":0},null,{"$f":"'تعریف کالا'!$F$120","v":0},null,0,null,null,null,null,null,null,null,null,null,null,null,null,null,null,0,0,0,0,0,0,0]
[null,"کاردکس 117",{"$f":"'تعریف کالا'!$C$121","v":0},{"$f":"'تعریف کالا'!$D$121","v":0},{"$f":"'تعریف کالا'!$E$121","v":0},{"$f":"'تعریف کالا'!$G$121","v":0},null,{"$f":"'تعریف کالا'!$F$121","v":0},null,0,null,null,null,null,null,null,null,null,null,null,null,null,null,null,0,0,0,0,0,0,0]
[null,"کاردکس 118",{"$f":"'تعریف کالا'!$C$122","v":0},{"$f":"'تعریف کالا'!$D$122","v":0},{"$f":"'تعریف کالا'!$E$122","v":0},{"$f":"'تعریف کالا'!$G$122","v":0},null,{"$f":"'تعریف کالا'!$F$122","v":0},null,0,null,null,null,null,null,null,null,null,null,null,null,null,null,null,0,0,0,0,0,0,0]
[null,"کاردکس 119",{"$f":"'تعریف کالا'!$C$123","v":0},{"$f":"'تعریف کالا'!$D$123","v":0},{"$f":"'تعریف کالا'!$E$123","v":0},{"$f":"'تعریف کالا'!$G$123","v":0},null,{"$f":"'تعریف کالا'!$F$123","v":0},null,0,null,null,null,null,null,null,null,null,null,null,null,null,null,null,0,0,0,0,0,0,0]
[null,"کاردکس 120",{"$f":"'تعریف کالا'!$C$124","v":0},{"$f":"'تعریف کالا'!$D$124","v":0},{"$f":"'تعریف کالا'!$E$124","v":0},{"$f":"'تعریف کالا'!$G$124","v":0},null,{"$f":"'تعریف کالا'!$F$124","v":0},null,0,null,null,null,null,null,null,null,null,null,null,null,null,null,null,0,0,0,0,0,0,0]
[null,"کاردکس 121",{"$f":"'تعریف کالا'!$C$125","v":0},{"$f":"'تعریف کالا'!$D$125","v":0},{"$f":"'تعریف کالا'!$E$125","v":0},{"$f":"'تعریف کالا'!$G$125","v":0},null,{"$f":"'تعریف کالا'!$F$125","v":0},null,0,null,null,null,null,null,null,null,null,null,null,null,null,null,null,0,0,0,0,0,0,0]
[null,"کاردکس 122",{"$f":"'تعریف کالا'!$C$126","v":0},{"$f":"'تعریف کالا'!$D$126","v":0},{"$f":"'تعریف کالا'!$E$126","v":0},{"$f":"'تعریف کالا'!$G$126","v":0},null,{"$f":"'تعریف کالا'!$F$126","v":0},null,0,null,null,null,null,null,null,null,null,null,null,null,null,null,null,0,0,0,0,0,0,0]
[null,"کاردکس 123",{"$f":"'تعریف کالا'!$C$127","v":0},{"$f":"'تعریف کالا'!$D$127","v":0},{"$f":"'تعریف کالا'!$E$127","v":0},{"$f":"'تعریف کالا'!$G$127","v":0},null,{"$f":"'تعریف کالا'!$F$127","v":0},null,0,null,null,null,null,null,null,null,null,null,null,null,null,null,null,0,0,0,0,0,0,0]
[null,"کاردکس 124",{"$f":"'تعریف کالا'!$C$128","v":0},{"$f":"'تعریف کالا'!$D$128","v":0},{"$f":"'تعریف کالا'!$E$128","v":0},{"$f":"'تعریف کالا'!$G$128","v":0},null,{"$f":"'تعریف کالا'!$F$128","v":0},null,0,null,null,null,null,null,null,null,null,null,null,null,null,null,null,0,0,0,0,0,0,0]
[null,"کاردکس 125",{"$f":"'تعریف کالا'!$C$129","v":0},{"$f":"'تعریف کالا'!$D$129","v":0},{"$f":"'تعریف کالا'!$E$129","v":0},{"$f":"'تعریف کالا'!$G$129","v":0},null,{"$f":"'تعریف کالا'!$F$129","v":0},null,0,null,null,null,null,null,null,null,null,null,null,null,null,null,null,0,0,0,0,0,0,0]
[null,"کاردکس 126",{"$f":"'تعریف کالا'!$C$130","v":0},{"$f":"'تعریف کالا'!$D$130","v":0},{"$f":"'تعریف کالا'!$E$130","v":0},{"$f":"'تعریف کالا'!$G$130","v":0},null,{"$f":"'تعریف کالا'!$F$130","v":0},null,0,null,null,null,null,null,null,null,null,null,null,null,null,null,null,0,0,0,0,0,0,0]
[null,"کاردکس 127",{"$f":"'تعریف کالا'!$C$131","v":0},{"$f":"'تعریف کالا'!$D$131","v":0},{"$f":"'تعریف کالا'!$E$131","v":0},{"$f":"'تعریف کالا'!$G$131","v":0},null,{"$f":"'تعریف کالا'!$F$131","v":0},null,0,null,null,null,null,null,null,null,null,null,null,null,null,null,null,0,0,0,0,0,0,0]
[null,"کاردکس 128",{"$f":"'تعریف کالا'!$C$132","v":0},{"$f":"'تعریف کالا'!$D$132","v":0},{"$f":"'تعریف کالا'!$E$132","v":0},{"$f":"'تعریف کالا'!$G$132","v":0},null,{"$f":"'تعریف کالا'!$F$132","v":0},null,0,null,null,null,null,null,null,null,null,null,null,null,null,null,null,0,0,0,0,0,0,0]
[null,"کاردکس 129",{"$f":"'تعریف کالا'!$C$133","v":0},{"$f":"'تعریف کالا'!$D$133","v":0},{"$f":"'تعریف کالا'!$E$133","v":0},{"$f":"'تعریف کالا'!$G$133","v":0},null,{"$f":"'تعریف کالا'!$F$133","v":0},null,0,null,null,null,null,null,null,null,null,null,null,null,null,null,null,0,0,0,0,0,0,0]
[null,"کاردکس 130",{"$f":"'تعریف کالا'!$C$134","v":0},{"$f":"'تعریف کالا'!$D$134","v":0},{"$f":"'تعریف کالا'!$E$134","v":0},{"$f":"'تعریف کالا'!$G$134","v":0},null,{"$f":"'تعریف کالا'!$F$134","v":0},null,0,null,null,null,null,null,null,null,null,null,null,null,null,null,null,0,{"$f":"D6672","v":0},{"$f":"E6672","v":0},{"$f":"F6672","v":0},{"$f":"H6672","v":0},{"$f":"I6672","v":0},{"$f":"J6672","v":0}]
[null,"کاردکس 131",{"$f":"'تعریف کالا'!$C$135","v":0},{"$f":"'تعریف کالا'!$D$135","v":0},{"$f":"'تعریف کالا'!$E$135","v":0},{"$f":"'تعریف کالا'!$G$135","v":0},null,{"$f":"'تعریف کالا'!$F$135","v":0},null,{"$f":"(F6673*I6673)-(F6673*I6673*G6673%)","v":0},null,null,null,null,null,null,null,null,null,null,null,null,null,null,{"$f":"C6673","v":0},0,0,0,0,0,0]
[null,"کاردکس 132",{"$f":"'تعریف کالا'!$C$136","v":0},{"$f":"'تعریف کالا'!$D$136","v":0},{"$f":"'تعریف کالا'!$E$136","v":0},{"$f":"'تعریف کالا'!$G$136","v":0},null,{"$f":"'تعریف کالا'!$F$136","v":0},null,0,null,null,null,null,null,null,null,null,null,null,null,null,null,null,0,0,0,0,0,0,0]
[null,"کاردکس 133",{"$f":"'تعریف کالا'!$C$137","v":0},{"$f":"'تعریف کالا'!$D$137","v":0},{"$f":"'تعریف کالا'!$E$137","v":0},{"$f":"'تعریف کالا'!$G$137","v":0},null,{"$f":"'تعریف کالا'!$F$137","v":0},null,0,null,null,null,null,null,null,null,null,null,null,null,null,null,null,0,0,0,0,0,0,0]
[null,"کاردکس 134",{"$f":"'تعریف کالا'!$C$138","v":0},{"$f":"'تعریف کالا'!$D$138","v":0},{"$f":"'تعریف کالا'!$E$138","v":0},{"$f":"'تعریف کالا'!$G$138","v":0},null,{"$f":"'تعریف کالا'!$F$138","v":0},null,0,null,null,null,null,null,null,null,null,null,null,null,null,null,null,0,0,0,0,0,0,0]
[null,"کاردکس 135",{"$f":"'تعریف کالا'!$C$139","v":0},{"$f":"'تعریف کالا'!$D$139","v":0},{"$f":"'تعریف کالا'!$E$139","v":0},{"$f":"'تعریف کالا'!$G$139","v":0},null,{"$f":"'تعریف کالا'!$F$139","v":0},null,0,null,null,null,null,null,null,null,null,null,null,null,null,null,null,0,0,0,0,0,0,0]
[null,"کاردکس 136",{"$f":"'تعریف کالا'!$C$140","v":0},{"$f":"'تعریف کالا'!$D$140","v":0},{"$f":"'تعریف کالا'!$E$140","v":0},{"$f":"'تعریف کالا'!$G$140","v":0},null,{"$f":"'تعریف کالا'!$F$140","v":0},null,0,null,null,null,null,null,null,null,null,null,null,null,null,null,null,0,0,0,0,0,0,0]
[null,"کاردکس 137",{"$f":"'تعریف کالا'!$C$141","v":0},{"$f":"'تعریف کالا'!$D$141","v":0},{"$f":"'تعریف کالا'!$E$141","v":0},{"$f":"'تعریف کالا'!$G$141","v":0},null,{"$f":"'تعریف کالا'!$F$141","v":0},null,0,null,null,null,null,null,null,null,null,null,null,null,null,null,null,0,0,0,0,0,0,0]
[null,"کاردکس 138",{"$f":"'تعریف کالا'!$C$142","v":0},{"$f":"'تعریف کالا'!$D$142","v":0},{"$f":"'تعریف کالا'!$E$142","v":0},{"$f":"'تعریف کالا'!$G$142","v":0},null,{"$f":"'تعریف کالا'!$F$142","v":0},null,0,null,null,null,null,null,null,null,null,null,null,null,null,null,null,0,0,0,0,0,0,0]
[null,"کاردکس 139",{"$f":"'تعریف کالا'!$C$143","v":0},{"$f":"'تعریف کالا'!$D$143","v":0},{"$f":"'تعریف کالا'!$E$143","v":0},{"$f":"'تعریف کالا'!$G$143","v":0},null,{"$f":"'تعریف کالا'!$F$143","v":0},null,0,null,null,null,null,null,null,null,null,null,null,null,null,null,null,0,0,0,0,0,0,0]
[null,"کاردکس 140",{"$f":"'تعریف کالا'!$C$144","v":0},{"$f":"'تعریف کالا'!$D$144","v":0},{"$f":"'تعریف کالا'!$E$144","v":0},{"$f":"'تعریف کالا'!$G$144","v":0},null,{"$f":"'تعریف کالا'!$F$144","v":0},null,0,null,null,null,null,null,null,null,null,null,null,null,null,null,null,0,0,0,0,0,0,0]
[null,"کاردکس 141",{"$f":"'تعریف کالا'!$C$145","v":0},{"$f":"'تعریف کالا'!$D$145","v":0},{"$f":"'تعریف کالا'!$E$145","v":0},{"$f":"'تعریف کالا'!$G$145","v":0},null,{"$f":"'تعریف کالا'!$F$145","v":0},null,0,null,null,null,null,null,null,null,null,null,null,null,null,null,null,0,0,0,0,0,0,0]
[null,"کاردکس 142",{"$f":"'تعریف کالا'!$C$146","v":0},{"$f":"'تعریف کالا'!$D$146","v":0},{"$f":"'تعریف کالا'!$E$146","v":0},{"$f":"'تعریف کالا'!$G$146","v":0},null,{"$f":"'تعریف کالا'!$F$146","v":0},null,0,null,null,null,null,null,null,null,null,null,null,null,null,null,null,0,0,0,0,0,0,0]
[null,"کاردکس 143",{"$f":"'تعریف کالا'!$C$147","v":0},{"$f":"'تعریف کالا'!$D$147","v":0},{"$f":"'تعریف کالا'!$E$147","v":0},{"$f":"'تعریف کالا'!$G$147","v":0},null,{"$f":"'تعریف کالا'!$F$147","v":0},null,0,null,null,null,null,null,null,null,null,null,null,null,null,null,null,0,0,0,0,0,0,0]
[null,"کاردکس 144",{"$f":"'تعریف کالا'!$C$148","v":0},{"$f":"'تعریف کالا'!$D$148","v":0},{"$f":"'تعریف کالا'!$E$148","v":0},{"$f":"'تعریف کالا'!$G$148","v":0},null,{"$f":"'تعریف کالا'!$F$148","v":0},null,0,null,null,null,null,null,null,null,null,null,null,null,null,null,null,0,0,0,0,0,0,0]
[null,"کاردکس 145",{"$f":"'تعریف کالا'!$C$149","v":0},{"$f":"'تعریف کالا'!$D$149","v":0},{"$f":"'تعریف کالا'!$E$149","v":0},{"$f":"'تعریف کالا'!$G$149","v":0},null,{"$f":"'تعریف کالا'!$F$149","v":0},null,0,null,null,null,null,null,null,null,null,null,null,null,null,null,null,0,0,0,0,0,0,0]
[null,"کاردکس 146",{"$f":"'تعریف کالا'!$C$150","v":0},{"$f":"'تعریف کالا'!$D$150","v":0},{"$f":"'تعریف کالا'!$E$150","v":0},{"$f":"'تعریف کالا'!$G$150","v":0},null,{"$f":"'تعریف کالا'!$F$150","v":0},null,0,null,null,null,null,null,null,null,null,null,null,null,null,null,null,0,0,0,0,0,0,0]
[null,"کاردکس 147",{"$f":"'تعریف کالا'!$C$151","v":0},{"$f":"'تعریف کالا'!$D$151","v":0},{"$f":"'تعریف کالا'!$E$151","v":0},{"$f":"'تعریف کالا'!$G$151","v":0},null,{"$f":"'تعریف کالا'!$F$151","v":0},null,0,null,null,null,null,null,null,null,null,null,null,null,null,null,null,0,0,0,0,0,0,0]
[null,"کاردکس 148",{"$f":"'تعریف کالا'!$C$152","v":0},{"$f":"'تعریف کالا'!$D$152","v":0},{"$f":"'تعریف کالا'!$E$152","v":0},{"$f":"'تعریف کالا'!$G$152","v":0},null,{"$f":"'تعریف کالا'!$F$152","v":0},null,0,null,null,null,null,null,null,null,null,null,null,null,null,null,null,0,0,0,0,0,0,0]
[null,"کاردکس 149",{"$f":"'تعریف کالا'!$C$153","v":0},{"$f":"'تعریف کالا'!$D$153","v":0},{"$f":"'تعریف کالا'!$E$153","v":0},{"$f":"'تعریف کالا'!$G$153","v":0},null,{"$f":"'تعریف کالا'!$F$153","v":0},null,0,null,null,null,null,null,null,null,null,null,null,null,null,null,null,0,0,0,0,0,0,0]
[null,"کاردکس 150",{"$f":"'تعریف کالا'!$C$154","v":0},{"$f":"'تعریف کالا'!$D$154","v":0},{"$f":"'تعریف کالا'!$E$154","v":0},{"$f":"'تعریف کالا'!$G$154","v":0},null,{"$f":"'تعریف کالا'!$F$154","v":0},null,0,null,null,null,null,null,null,null,null,null,null,null,null,null,null,0,0,0,0,0,0,0]
[null,"کاردکس 151",{"$f":"'تعریف کالا'!$C$155","v":0},{"$f":"'تعریف کالا'!$D$155","v":0},{"$f":"'تعریف کالا'!$E$155","v":0},{"$f":"'تعریف کالا'!$G$155","v":0},null,{"$f":"'تعریف کالا'!$F$155","v":0},null,0,null,null,null,null,null,null,null,null,null,null,null,null,null,null,0,0,0,0,0,0,0]
[null,"کاردکس 152",{"$f":"'تعریف کالا'!$C$156","v":0},{"$f":"'تعریف کالا'!$D$156","v":0},{"$f":"'تعریف کالا'!$E$156","v":0},{"$f":"'تعریف کالا'!$G$156","v":0},null,{"$f":"'تعریف کالا'!$F$156","v":0},null,0,null,null,null,null,null,null,null,null,null,null,null,null,null,null,0,0,0,0,0,0,0]
[null,"کاردکس 153",{"$f":"'تعریف کالا'!$C$157","v":0},{"$f":"'تعریف کالا'!$D$157","v":0},{"$f":"'تعریف کالا'!$E$157","v":0},{"$f":"'تعریف کالا'!$G$157","v":0},null,{"$f":"'تعریف کالا'!$F$157","v":0},null,0,null,null,null,null,null,null,null,null,null,null,null,null,null,null,0,0,0,0,0,0,0]
[null,"کاردکس 154",{"$f":"'تعریف کالا'!$C$158","v":0},{"$f":"'تعریف کالا'!$D$158","v":0},{"$f":"'تعریف کالا'!$E$158","v":0},{"$f":"'تعریف کالا'!$G$158","v":0},null,{"$f":"'تعریف کالا'!$F$158","v":0},null,0,null,null,null,null,null,null,null,null,null,null,null,null,null,null,0,0,0,0,0,0,0]
[null,"کاردکس 155",{"$f":"'تعریف کالا'!$C$159","v":0},{"$f":"'تعریف کالا'!$D$159","v":0},{"$f":"'تعریف کالا'!$E$159","v":0},{"$f":"'تعریف کالا'!$G$159","v":0},null,{"$f":"'تعریف کالا'!$F$159","v":0},null,0,null,null,null,null,null,null,null,null,null,null,null,null,null,null,0,0,0,0,0,0,0]
[null,"کاردکس 156",{"$f":"'تعریف کالا'!$C$160","v":0},{"$f":"'تعریف کالا'!$D$160","v":0},{"$f":"'تعریف کالا'!$E$160","v":0},{"$f":"'تعریف کالا'!$G$160","v":0},null,{"$f":"'تعریف کالا'!$F$160","v":0},null,0,null,null,null,null,null,null,null,null,null,null,null,null,null,null,0,0,0,0,0,0,0]
[null,"کاردکس 157",{"$f":"'تعریف کالا'!$C$161","v":0},{"$f":"'تعریف کالا'!$D$161","v":0},{"$f":"'تعریف کالا'!$E$161","v":0},{"$f":"'تعریف کالا'!$G$161","v":0},null,{"$f":"'تعریف کالا'!$F$161","v":0},null,0,null,null,null,null,null,null,null,null,null,null,null,null,null,null,0,0,0,0,0,0,0]
[null,"کاردکس 158",{"$f":"'تعریف کالا'!$C$162","v":0},{"$f":"'تعریف کالا'!$D$162","v":0},{"$f":"'تعریف کالا'!$E$162","v":0},{"$f":"'تعریف کالا'!$G$162","v":0},null,{"$f":"'تعریف کالا'!$F$162","v":0},null,0,null,null,null,null,null,null,null,null,null,null,null,null,null,null,0,0,0,0,0,0,0]
[null,"کاردکس 159",{"$f":"'تعریف کالا'!$C$163","v":0},{"$f":"'تعریف کالا'!$D$163","v":0},{"$f":"'تعریف کالا'!$E$163","v":0},{"$f":"'تعریف کالا'!$G$163","v":0},null,{"$f":"'تعریف کالا'!$F$163","v":0},null,0,null,null,null,null,null,null,null,null,null,null,null,null,null,null,0,0,0,0,0,0,0]
[null,"کاردکس 160",{"$f":"'تعریف کالا'!$C$164","v":0},{"$f":"'تعریف کالا'!$D$164","v":0},{"$f":"'تعریف کالا'!$E$164","v":0},{"$f":"'تعریف کالا'!$G$164","v":0},null,{"$f":"'تعریف کالا'!$F$164","v":0},null,0,null,null,null,null,null,null,null,null,null,null,null,null,null,null,0,0,0,0,0,0,0]
[null,"کاردکس 161",{"$f":"'تعریف کالا'!$C$165","v":0},{"$f":"'تعریف کالا'!$D$165","v":0},{"$f":"'تعریف کالا'!$E$165","v":0},{"$f":"'تعریف کالا'!$G$165","v":0},null,{"$f":"'تعریف کالا'!$F$165","v":0},null,0,null,null,null,null,null,null,null,null,null,null,null,null,null,null,0,0,0,0,0,0,0]
[null,"کاردکس 162",{"$f":"'تعریف کالا'!$C$166","v":0},{"$f":"'تعریف کالا'!$D$166","v":0},{"$f":"'تعریف کالا'!$E$166","v":0},{"$f":"'تعریف کالا'!$G$166","v":0},null,{"$f":"'تعریف کالا'!$F$166","v":0},null,0,null,null,null,null,null,null,null,null,null,null,null,null,null,null,0,0,0,0,0,0,0]
[null,"کاردکس 163",{"$f":"'تعریف کالا'!$C$167","v":0},{"$f":"'تعریف کالا'!$D$167","v":0},{"$f":"'تعریف کالا'!$E$167","v":0},{"$f":"'تعریف کالا'!$G$167","v":0},null,{"$f":"'تعریف کالا'!$F$167","v":0},null,0,null,null,null,null,null,null,null,null,null,null,null,null,null,null,0,0,0,0,0,0,0]
[null,"کاردکس 164",{"$f":"'تعریف کالا'!$C$168","v":0},{"$f":"'تعریف کالا'!$D$168","v":0},{"$f":"'تعریف کالا'!$E$168","v":0},{"$f":"'تعریف کالا'!$G$168","v":0},null,{"$f":"'تعریف کالا'!$F$168","v":0},null,0,null,null,null,null,null,null,null,null,null,null,null,null,null,null,0,0,0,0,0,0,0]
[null,"کاردکس 165",{"$f":"'تعریف کالا'!$C$169","v":0},{"$f":"'تعریف کالا'!$D$169","v":0},{"$f":"'تعریف کالا'!$E$169","v":0},{"$f":"'تعریف کالا'!$G$169","v":0},null,{"$f":"'تعریف کالا'!$F$169","v":0},null,0,null,null,null,null,null,null,null,null,null,null,null,null,null,null,0,0,0,0,0,0,0]
[null,"کاردکس 166",{"$f":"'تعریف کالا'!$C$170","v":0},{"$f":"'تعریف کالا'!$D$170","v":0},{"$f":"'تعریف کالا'!$E$170","v":0},{"$f":"'تعریف کالا'!$G$170","v":0},null,{"$f":"'تعریف کالا'!$F$170","v":0},null,0,null,null,null,null,null,null,null,null,null,null,null,null,null,null,0,0,0,0,0,0,0]
[null,"کاردکس 167",{"$f":"'تعریف کالا'!$C$171","v":0},{"$f":"'تعریف کالا'!$D$171","v":0},{"$f":"'تعریف کالا'!$E$171","v":0},{"$f":"'تعریف کالا'!$G$171","v":0},null,{"$f":"'تعریف کالا'!$F$171","v":0},null,0,null,null,null,null,null,null,null,null,null,null,null,null,null,null,0,0,0,0,0,0,0]
[null,"کاردکس 168",{"$f":"'تعریف کالا'!$C$172","v":0},{"$f":"'تعریف کالا'!$D$172","v":0},{"$f":"'تعریف کالا'!$E$172","v":0},{"$f":"'تعریف کالا'!$G$172","v":0},null,{"$f":"'تعریف کالا'!$F$172","v":0},null,0,null,null,null,null,null,null,null,null,null,null,null,null,null,null,0,0,0,0,0,0,0]
[null,"کاردکس 169",{"$f":"'تعریف کالا'!$C$173","v":0},{"$f":"'تعریف کالا'!$D$173","v":0},{"$f":"'تعریف کالا'!$E$173","v":0},{"$f":"'تعریف کالا'!$G$173","v":0},null,{"$f":"'تعریف کالا'!$F$173","v":0},null,0,null,null,null,null,null,null,null,null,null,null,null,null,null,null,0,0,0,0,0,0,0]
[null,"کاردکس 170",{"$f":"'تعریف کالا'!$C$174","v":0},{"$f":"'تعریف کالا'!$D$174","v":0},{"$f":"'تعریف کالا'!$E$174","v":0},{"$f":"'تعریف کالا'!$G$174","v":0},null,{"$f":"'تعریف کالا'!$F$174","v":0},null,0,null,null,null,null,null,null,null,null,null,null,null,null,null,null,0,0,0,0,0,0,0]
[null,"کاردکس 171",{"$f":"'تعریف کالا'!$C$175","v":0},{"$f":"'تعریف کالا'!$D$175","v":0},{"$f":"'تعریف کالا'!$E$175","v":0},{"$f":"'تعریف کالا'!$G$175","v":0},null,{"$f":"'تعریف کالا'!$F$175","v":0},null,0,null,null,null,null,null,null,null,null,null,null,null,null,null,null,0,0,0,0,0,0,0]
[null,"کاردکس 172",{"$f":"'تعریف کالا'!$C$176","v":0},{"$f":"'تعریف کالا'!$D$176","v":0},{"$f":"'تعریف کالا'!$E$176","v":0},{"$f":"'تعریف کالا'!$G$176","v":0},null,{"$f":"'تعریف کالا'!$F$176","v":0},null,0,null,null,null,null,null,null,null,null,null,null,null,null,null,null,0,0,0,0,0,0,0]
[null,"کاردکس 173",{"$f":"'تعریف کالا'!$C$177","v":0},{"$f":"'تعریف کالا'!$D$177","v":0},{"$f":"'تعریف کالا'!$E$177","v":0},{"$f":"'تعریف کالا'!$G$177","v":0},null,{"$f":"'تعریف کالا'!$F$177","v":0},null,0,null,null,null,null,null,null,null,null,null,null,null,null,null,null,0,0,0,0,0,0,0]
[null,"کاردکس 174",{"$f":"'تعریف کالا'!$C$178","v":0},{"$f":"'تعریف کالا'!$D$178","v":0},{"$f":"'تعریف کالا'!$E$178","v":0},{"$f":"'تعریف کالا'!$G$178","v":0},null,{"$f":"'تعریف کالا'!$F$178","v":0},null,0,null,null,null,null,null,null,null,null,null,null,null,null,null,null,0,0,0,0,0,0,0]
[null,"کاردکس 175",{"$f":"'تعریف کالا'!$C$179","v":0},{"$f":"'تعریف کالا'!$D$179","v":0},{"$f":"'تعریف کالا'!$E$179","v":0},{"$f":"'تعریف کالا'!$G$179","v":0},null,{"$f":"'تعریف کالا'!$F$179","v":0},null,0,null,null,null,null,null,null,null,null,null,null,null,null,null,null,0,0,0,0,0,0,0]
[null,"کاردکس 176",{"$f":"'تعریف کالا'!$C$180","v":0},{"$f":"'تعریف کالا'!$D$180","v":0},{"$f":"'تعریف کالا'!$E$180","v":0},{"$f":"'تعریف کالا'!$G$180","v":0},null,{"$f":"'تعریف کالا'!$F$180","v":0},null,0,null,null,null,null,null,null,null,null,null,null,null,null,null,null,0,0,0,0,0,0,0]
[null,"کاردکس 177",{"$f":"'تعریف کالا'!$C$181","v":0},{"$f":"'تعریف کالا'!$D$181","v":0},{"$f":"'تعریف کالا'!$E$181","v":0},{"$f":"'تعریف کالا'!$G$181","v":0},null,{"$f":"'تعریف کالا'!$F$181","v":0},null,0,null,null,null,null,null,null,null,null,null,null,null,null,null,null,0,0,0,0,0,0,0]
[null,"کاردکس 178",{"$f":"'تعریف کالا'!$C$182","v":0},{"$f":"'تعریف کالا'!$D$182","v":0},{"$f":"'تعریف کالا'!$E$182","v":0},{"$f":"'تعریف کالا'!$G$182","v":0},null,{"$f":"'تعریف کالا'!$F$182","v":0},null,0,null,null,null,null,null,null,null,null,null,null,null,null,null,null,0,0,0,0,0,0,0]
[null,"کاردکس 179",{"$f":"'تعریف کالا'!$C$183","v":0},{"$f":"'تعریف کالا'!$D$183","v":0},{"$f":"'تعریف کالا'!$E$183","v":0},{"$f":"'تعریف کالا'!$G$183","v":0},null,{"$f":"'تعریف کالا'!$F$183","v":0},null,0,null,null,null,null,null,null,null,null,null,null,null,null,null,null,0,0,0,0,0,0,0]
[null,"کاردکس 180",{"$f":"'تعریف کالا'!$C$184","v":0},{"$f":"'تعریف کالا'!$D$184","v":0},{"$f":"'تعریف کالا'!$E$184","v":0},{"$f":"'تعریف کالا'!$G$184","v":0},null,{"$f":"'تعریف کالا'!$F$184","v":0},null,0,null,null,null,null,null,null,null,null,null,null,null,null,null,null,0,0,0,0,0,0,0]
[null,"کاردکس 181",{"$f":"'تعریف کالا'!$C$185","v":0},{"$f":"'تعریف کالا'!$D$185","v":0},{"$f":"'تعریف کالا'!$E$185","v":0},{"$f":"'تعریف کالا'!$G$185","v":0},null,{"$f":"'تعریف کالا'!$F$185","v":0},null,0,null,null,null,null,null,null,null,null,null,null,null,null,null,null,0,0,0,0,0,0,0]
[null,"کاردکس 182",{"$f":"'تعریف کالا'!$C$186","v":0},{"$f":"'تعریف کالا'!$D$186","v":0},{"$f":"'تعریف کالا'!$E$186","v":0},{"$f":"'تعریف کالا'!$G$186","v":0},null,{"$f":"'تعریف کالا'!$F$186","v":0},null,0,null,null,null,null,null,null,null,null,null,null,null,null,null,null,0,0,0,0,0,0,0]
[null,"کاردکس 183",{"$f":"'تعریف کالا'!$C$187","v":0},{"$f":"'تعریف کالا'!$D$187","v":0},{"$f":"'تعریف کالا'!$E$187","v":0},{"$f":"'تعریف کالا'!$G$187","v":0},null,{"$f":"'تعریف کالا'!$F$187","v":0},null,0,null,null,null,null,null,null,null,null,null,null,null,null,null,null,0,0,0,0,0,0,0]
[null,"کاردکس 184",{"$f":"'تعریف کالا'!$C$18","v":0},{"$f":"'تعریف کالا'!$D$188","v":0},{"$f":"'تعریف کالا'!$E$188","v":0},{"$f":"'تعریف کالا'!$G$188","v":0},null,{"$f":"'تعریف کالا'!$F$188","v":0},null,0,null,null,null,null,null,null,null,null,null,null,null,null,null,null,0,0,0,0,0,0,0]
[null,"کاردکس 185",{"$f":"'تعریف کالا'!$C$189","v":0},{"$f":"'تعریف کالا'!$D$189","v":0},{"$f":"'تعریف کالا'!$E$189","v":0},{"$f":"'تعریف کالا'!$G$189","v":0},null,{"$f":"'تعریف کالا'!$F$189","v":0},null,0,null,null,null,null,null,null,null,null,null,null,null,null,null,null,0,0,0,0,0,0,0]
[null,"کاردکس 186",{"$f":"'تعریف کالا'!$C$190","v":0},{"$f":"'تعریف کالا'!$D$190","v":0},{"$f":"'تعریف کالا'!$E$190","v":0},{"$f":"'تعریف کالا'!$G$190","v":0},null,{"$f":"'تعریف کالا'!$F$190","v":0},null,0,null,null,null,null,null,null,null,null,null,null,null,null,null,null,0,0,0,0,0,0,0]
[null,"کاردکس 187",{"$f":"'تعریف کالا'!$C$191","v":0},{"$f":"'تعریف کالا'!$D$191","v":0},{"$f":"'تعریف کالا'!$E$191","v":0},{"$f":"'تعریف کالا'!$G$191","v":0},null,{"$f":"'تعریف کالا'!$F$191","v":0},null,0,null,null,null,null,null,null,null,null,null,null,null,null,null,null,0,0,0,0,0,0,0]
[null,"کاردکس 188",{"$f":"'تعریف کالا'!$C$192","v":0},{"$f":"'تعریف کالا'!$D$192","v":0},{"$f":"'تعریف کالا'!$E$192","v":0},{"$f":"'تعریف کالا'!$G$192","v":0},null,{"$f":"'تعریف کالا'!$F$192","v":0},null,0,null,null,null,null,null,null,null,null,null,null,null,null,null,null,0,0,0,0,0,0,0]
[null,"کاردکس 189",{"$f":"'تعریف کالا'!$C$193","v":0},{"$f":"'تعریف کالا'!$D$193","v":0},{"$f":"'تعریف کالا'!$E$193","v":0},{"$f":"'تعریف کالا'!$G$193","v":0},null,{"$f":"'تعریف کالا'!$F$193","v":0},null,0,null,null,null,null,null,null,null,null,null,null,null,null,null,null,0,0,0,0,0,0,0]
[null,"کاردکس 190",{"$f":"'تعریف کالا'!$C$194","v":0},{"$f":"'تعریف کالا'!$D$194","v":0},{"$f":"'تعریف کالا'!$E$194","v":0},{"$f":"'تعریف کالا'!$G$194","v":0},null,{"$f":"'تعریف کالا'!$F$194","v":0},null,0,null,null,null,null,null,null,null,null,null,null,null,null,null,null,0,0,0,0,0,0,0]
[null,"کاردکس 191",{"$f":"'تعریف کالا'!$C$195","v":0},{"$f":"'تعریف کالا'!$D$195","v":0},{"$f":"'تعریف کالا'!$E$195","v":0},{"$f":"'تعریف کالا'!$G$195","v":0},null,{"$f":"'تعریف کالا'!$F$195","v":0},null,0,null,null,null,null,null,null,null,null,null,null,null,null,null,null,0,0,0,0,0,0,0]
[null,"کاردکس 192",{"$f":"'تعریف کالا'!$C$196","v":0},{"$f":"'تعریف کالا'!$D$196","v":0},{"$f":"'تعریف کالا'!$E$196","v":0},{"$f":"'تعریف کالا'!$G$196","v":0},null,{"$f":"'تعریف کالا'!$F$196","v":0},null,0,null,null,null,null,null,null,null,null,null,null,null,null,null,null,0,0,0,0,0,0,0]
[null,"کاردکس 193",{"$f":"'تعریف کالا'!$C$197","v":0},{"$f":"'تعریف کالا'!$D$197","v":0},{"$f":"'تعریف کالا'!$E$197","v":0},{"$f":"'تعریف کالا'!$G$197","v":0},null,{"$f":"'تعریف کالا'!$F$197","v":0},null,0,null,null,null,null,null,null,null,null,null,null,null,null,null,null,0,0,0,0,0,0,0]
[null,"کاردکس 194",{"$f":"'تعریف کالا'!$C$198","v":0},{"$f":"'تعریف کالا'!$D$198","v":0},{"$f":"'تعریف کالا'!$E$198","v":0},{"$f":"'تعریف کالا'!$G$198","v":0},null,{"$f":"'تعریف کالا'!$F$198","v":0},null,0,null,null,null,null,null,null,null,null,null,null,null,null,null,null,0,{"$f":"D6736","v":0},{"$f":"E6736","v":0},{"$f":"F6736","v":0},{"$f":"H6736","v":0},{"$f":"I6736","v":0},{"$f":"J6736","v":0}]
[null,"کاردکس 195",{"$f":"'تعریف کالا'!$C$199","v":0},{"$f":"'تعریف کالا'!$D$199","v":0},{"$f":"'تعریف کالا'!$E$199","v":0},{"$f":"'تعریف کالا'!$G$199","v":0},null,{"$f":"'تعریف کالا'!$F$199","v":0},null,{"$f":"(F6737*I6737)-(F6737*I6737*G6737%)","v":0},null,null,null,null,null,null,null,null,null,null,null,null,null,null,{"$f":"C6737","v":0},0,0,0,0,0,0]
[null,"کاردکس 196",{"$f":"'تعریف کالا'!$C$200","v":0},{"$f":"'تعریف کالا'!$D$200","v":0},{"$f":"'تعریف کالا'!$E$200","v":0},{"$f":"'تعریف کالا'!$G$200","v":0},null,{"$f":"'تعریف کالا'!$F$200","v":0},null,0,null,null,null,null,null,null,null,null,null,null,null,null,null,null,0,0,0,0,0,0,0]
[null,"کاردکس 197",{"$f":"'تعریف کالا'!$C$201","v":0},{"$f":"'تعریف کالا'!$D$201","v":0},{"$f":"'تعریف کالا'!$E$201","v":0},{"$f":"'تعریف کالا'!$G$201","v":0},null,{"$f":"'تعریف کالا'!$F$201","v":0},null,0,null,null,null,null,null,null,null,null,null,null,null,null,null,null,0,0,0,0,0,0,0]
[null,"کاردکس 198",{"$f":"'تعریف کالا'!$C$202","v":0},{"$f":"'تعریف کالا'!$D$202","v":0},{"$f":"'تعریف کالا'!$E$202","v":0},{"$f":"'تعریف کالا'!$G$202","v":0},null,{"$f":"'تعریف کالا'!$F$202","v":0},null,0,null,null,null,null,null,null,null,null,null,null,null,null,null,null,0,0,0,0,0,0,0]
[null,"کاردکس 199",{"$f":"'تعریف کالا'!$C$203","v":0},{"$f":"'تعریف کالا'!$D$203","v":0},{"$f":"'تعریف کالا'!$E$203","v":0},{"$f":"'تعریف کالا'!$G$203","v":0},null,{"$f":"'تعریف کالا'!$F$203","v":0},null,0,null,null,null,null,null,null,null,null,null,null,null,null,null,null,0,0,0,0,0,0,0]
[null,"کاردکس 200",{"$f":"'تعریف کالا'!$C$204","v":0},{"$f":"'تعریف کالا'!$D$204","v":0},{"$f":"'تعریف کالا'!$E$204","v":0},{"$f":"'تعریف کالا'!$G$204","v":0},null,{"$f":"'تعریف کالا'!$F$204","v":0},null,0,null,null,null,null,null,null,null,null,null,null,null,null,null,null,0,0,0,0,0,0,0]
[null,"     جمع کل",null,{"$f":"abh(I6743)&L6739","v":"منفي "},null,null,null,null,{"$f":"SUM(J6543:J6742)","v":0},null,null,null,null,null,null,null,null,null,null,null,null,null,null,"مانده حساب",null,{"$f":"abh(AD6743)& \"ریال\"","v":"منفي ریال"},null,null,null,{"$f":"I6745","v":0}]
[null,"                  مبلغ قابل  پرداخت        ",null,{"$f":"abh(I6744)&\"ریال\"","v":"منفي ریال"},null,null,null,null,{"$f":"J6537","v":0},null,null,null,null,null,null,null,null,null,null,null,null,null,null,"شرح رویداد :",null,{"$f":"E6540","v":0}]
[null,"مانده حساب",null,{"$f":"abh(I6745)&\"ریال\"","v":"منفي ریال"},null,null,null,null,{"$f":"J6538","v":0},null,null,null,null,null,null,null,null,null,null,null,null,null,null,"اقلام این فاکتور سالم تحویل اینجانب  ....................  شد.               "]
[]
[null,null,null,null,null,null,null,null,null,null,null,null,null,null,null,null,null,null,null,null,null,null,null,null,"امضا صادر کننده",null,"امضا فروشنده",null,"امضا مسئول انبار",null,"امضا خریدار"]

{"sheet":"فاکتور خرید ","index":6,"n_rows":6747,"n_cols":31,"rows_kept":2250,"cut":true,"hidden":false,"merged":[[6744,1,6744,2],[6744,3,6744,7],[6744,8,6744,9],[6744,23,6744,27],[6742,25,6742,28],[6742,29,6742,30],[6743,1,6743,2],[6743,3,6743,7],[6743,8,6743,9],[6743,23,6743,24],[6743,25,6743,30],[6540,3,6540,5],[6742,1,6742,2],[6742,3,6742,7],[6742,8,6742,9],[6742,23,6742,24],[6529,23,6529,24],[6530,26,6530,27],[6536,25,6536,26],[6538,25,6538,29],[6539,4,6539,8],[6519,1,6519,2],[6519,3,6519,7],[6519,8,6519,9],[6519,23,6519,27],[6528,5,6528,7],[6517,25,6517,28],[6517,29,6517,30],[6518,1,6518,2],[6518,3,6518,7],[6518,8,6518,9],[6518,23,6518,24],[6518,25,6518,30],[6315,3,6315,5],[6517,1,6517,2],[6517,3,6517,7],[6517,8,6517,9],[6517,23,6517,24],[6304,23,6304,24],[6305,26,6305,27],[6311,25,6311,26],[6313,25,6313,29],[6314,4,6314,8],[6294,1,6294,2],[6294,3,6294,7],[6294,8,6294,9],[6294,23,6294,27],[6303,5,6303,7],[6292,25,6292,28],[6292,29,6292,30],[6293,1,6293,2],[6293,3,6293,7],[6293,8,6293,9],[6293,23,6293,24],[6293,25,6293,30],[6090,3,6090,5],[6292,1,6292,2],[6292,3,6292,7],[6292,8,6292,9],[6292,23,6292,24],[6079,23,6079,24],[6080,26,6080,27],[6086,25,6086,26],[6088,25,6088,29],[6089,4,6089,8],[6069,1,6069,2],[6069,3,6069,7],[6069,8,6069,9],[6069,23,6069,27],[6078,5,6078,7],[6067,25,6067,28],[6067,29,6067,30],[6068,1,6068,2],[6068,3,6068,7],[6068,8,6068,9],[6068,23,6068,24],[6068,25,6068,30],[5865,3,5865,5],[6067,1,6067,2],[6067,3,6067,7],[6067,8,6067,9],[6067,23,6067,24],[5854,23,5854,24],[5855,26,5855,27],[5861,25,5861,26],[5863,25,5863,29],[5864,4,5864,8],[5844,1,5844,2],[5844,3,5844,7],[5844,8,5844,9],[5844,23,5844,27],[5853,5,5853,7],[5842,25,5842,28],[5842,29,5842,30],[5843,1,5843,2],[5843,3,5843,7],[5843,8,5843,9],[5843,23,5843,24],[5843,25,5843,30],[5640,3,5640,5],[5842,1,5842,2],[5842,3,5842,7],[5842,8,5842,9],[5842,23,5842,24],[5629,23,5629,24],[5630,26,5630,27],[5636,25,5636,26],[5638,25,5638,29],[5639,4,5639,8],[5619,1,5619,2],[5619,3,5619,7],[5619,8,5619,9],[5619,23,5619,27],[5628,5,5628,7],[5617,25,5617,28],[5617,29,5617,30],[5618,1,5618,2],[5618,3,5618,7],[5618,8,5618,9],[5618,23,5618,24],[5618,25,5618,30],[5415,3,5415,5],[5617,1,5617,2],[5617,3,5617,7],[5617,8,5617,9],[5617,23,5617,24],[5404,23,5404,24],[5405,26,5405,27],[5411,25,5411,26],[5413,25,5413,29],[5414,4,5414,8],[5394,1,5394,2],[5394,3,5394,7],[5394,8,5394,9],[5394,23,5394,27],[5403,5,5403,7],[5392,25,5392,28],[5392,29,5392,30],[5393,1,5393,2],[5393,3,5393,7],[5393,8,5393,9],[5393,23,5393,24],[5393,25,5393,30],[5190,3,5190,5],[5392,1,5392,2],[5392,3,5392,7],[5392,8,5392,9],[5392,23,5392,24],[5179,23,5179,24],[5180,26,5180,27],[5186,25,5186,26],[5188,25,5188,29],[5189,4,5189,8],[5169,1,5169,2],[5169,3,5169,7],[5169,8,5169,9],[5169,23,5169,27],[5178,5,5178,7],[5167,25,5167,28],[5167,29,5167,30],[5168,1,5168,2],[5168,3,5168,7],[5168,8,5168,9],[5168,23,5168,24],[5168,25,5168,30],[4965,3,4965,5],[5167,1,5167,2],[5167,3,5167,7],[5167,8,5167,9],[5167,23,5167,24],[4954,23,4954,24],[4955,26,4955,27],[4961,25,4961,26],[4963,25,4963,29],[4964,4,4964,8],[4944,1,4944,2],[4944,3,4944,7],[4944,8,4944,9],[4944,23,4944,27],[4953,5,4953,7],[4942,25,4942,28],[4942,29,4942,30],[4943,1,4943,2],[4943,3,4943,7],[4943,8,4943,9],[4943,23,4943,24],[4943,25,4943,30],[4740,3,4740,5],[4942,1,4942,2],[4942,3,4942,7],[4942,8,4942,9],[4942,23,4942,24],[4729,23,4729,24],[4730,26,4730,27],[4736,25,4736,26],[4738,25,4738,29],[4739,4,4739,8],[4719,1,4719,2],[4719,3,4719,7],[4719,8,4719,9],[4719,23,4719,27],[4728,5,4728,7],[4717,25,4717,28],[4717,29,4717,30],[4718,1,4718,2],[4718,3,4718,7],[4718,8,4718,9],[4718,23,4718,24],[4718,25,4718,30],[4515,3,4515,5],[4717,1,4717,2],[4717,3,4717,7],[4717,8,4717,9],[4717,23,4717,24],[4504,23,4504,24],[4505,26,4505,27],[4511,25,4511,26],[4513,25,4513,29],[4514,4,4514,8],[4494,1,4494,2],[4494,3,4494,7],[4494,8,4494,9],[4494,23,4494,27],[4503,5,4503,7],[4492,25,4492,28],[4492,29,4492,30],[4493,1,4493,2],[4493,3,4493,7],[4493,8,4493,9],[4493,23,4493,24],[4493,25,4493,30],[4290,3,4290,5],[4492,1,4492,2],[4492,3,4492,7],[4492,8,4492,9],[4492,23,4492,24],[4279,23,4279,24],[4280,26,4280,27],[4286,25,4286,26],[4288,25,4288,29],[4289,4,4289,8],[4269,1,4269,2],[4269,3,4269,7],[4269,8,4269,9],[4269,23,4269,27],[4278,5,4278,7],[4267,25,4267,28],[4267,29,4267,30],[4268,1,4268,2],[4268,3,4268,7],[4268,8,4268,9],[4268,23,4268,24],[4268,25,4268,30],[4065,3,4065,5],[4267,1,4267,2],[4267,3,4267,7],[4267,8,4267,9],[4267,23,4267,24],[4054,23,4054,24],[4055,26,4055,27],[4061,25,4061,26],[4063,25,4063,29],[4064,4,4064,8],[4044,1,4044,2],[4044,3,4044,7],[4044,8,4044,9],[4044,23,4044,27],[4053,5,4053,7],[4042,25,4042,28],[4042,29,4042,30],[4043,1,4043,2],[4043,3,4043,7],[4043,8,4043,9],[4043,23,4043,24],[4043,25,4043,30],[3840,3,3840,5],[4042,1,4042,2],[4042,3,4042,7],[4042,8,4042,9],[4042,23,4042,24],[3829,23,3829,24],[3830,26,3830,27],[3836,25,3836,26],[3838,25,3838,29],[3839,4,3839,8],[3819,1,3819,2],[3819,3,3819,7],[3819,8,3819,9],[3819,23,3819,27],[3828,5,3828,7],[3817,25,3817,28],[3817,29,3817,30],[3818,1,3818,2],[3818,3,3818,7],[3818,8,3818,9],[3818,23,3818,24],[3818,25,3818,30],[3615,3,3615,5],[3817,1,3817,2],[3817,3,3817,7],[3817,8,3817,9],[3817,23,3817,24],[3604,23,3604,24],[3605,26,3605,27],[3611,25,3611,26],[3613,25,3613,29],[3614,4,3614,8],[3594,1,3594,2],[3594,3,3594,7],[3594,8,3594,9],[3594,23,3594,27],[3603,5,3603,7],[3592,25,3592,28],[3592,29,3592,30],[3593,1,3593,2],[3593,3,3593,7],[3593,8,3593,9],[3593,23,3593,24],[3593,25,3593,30],[3390,3,3390,5],[3592,1,3592,2],[3592,3,3592,7],[3592,8,3592,9],[3592,23,3592,24],[3379,23,3379,24],[3380,26,3380,27],[3386,25,3386,26],[3388,25,3388,29],[3389,4,3389,8],[3369,1,3369,2],[3369,3,3369,7],[3369,8,3369,9],[3369,23,3369,27],[3378,5,3378,7],[3367,25,3367,28],[3367,29,3367,30],[3368,1,3368,2],[3368,3,3368,7],[3368,8,3368,9],[3368,23,3368,24],[3368,25,3368,30],[3165,3,3165,5],[3367,1,3367,2],[3367,3,3367,7],[3367,8,3367,9],[3367,23,3367,24],[3154,23,3154,24],[3155,26,3155,27],[3161,25,3161,26],[3163,25,3163,29],[3164,4,3164,8],[3144,1,3144,2],[3144,3,3144,7],[3144,8,3144,9],[3144,23,3144,27],[3153,5,3153,7],[3142,25,3142,28],[3142,29,3142,30],[3143,1,3143,2],[3143,3,3143,7],[3143,8,3143,9],[3143,23,3143,24],[3143,25,3143,30],[2940,3,2940,5],[3142,1,3142,2],[3142,3,3142,7],[3142,8,3142,9],[3142,23,3142,24],[2929,23,2929,24],[2930,26,2930,27],[2936,25,2936,26],[2938,25,2938,29],[2939,4,2939,8],[2919,1,2919,2],[2919,3,2919,7],[2919,8,2919,9],[2919,23,2919,27],[2928,5,2928,7],[2917,25,2917,28],[2917,29,2917,30],[2918,1,2918,2],[2918,3,2918,7],[2918,8,2918,9],[2918,23,2918,24],[2918,25,2918,30],[2715,3,2715,5],[2917,1,2917,2],[2917,3,2917,7],[2917,8,2917,9],[2917,23,2917,24],[2704,23,2704,24],[2705,26,2705,27],[2711,25,2711,26],[2713,25,2713,29],[2714,4,2714,8],[2694,1,2694,2],[2694,3,2694,7],[2694,8,2694,9],[2694,23,2694,27],[2703,5,2703,7],[2692,25,2692,28],[2692,29,2692,30],[2693,1,2693,2],[2693,3,2693,7],[2693,8,2693,9],[2693,23,2693,24],[2693,25,2693,30],[2490,3,2490,5],[2692,1,2692,2],[2692,3,2692,7],[2692,8,2692,9],[2692,23,2692,24],[2479,23,2479,24],[2480,26,2480,27],[2486,25,2486,26],[2488,25,2488,29],[2489,4,2489,8],[2469,1,2469,2],[2469,3,2469,7],[2469,8,2469,9],[2469,23,2469,27],[2478,5,2478,7],[2467,25,2467,28],[2467,29,2467,30],[2468,1,2468,2],[2468,3,2468,7],[2468,8,2468,9],[2468,23,2468,24],[2468,25,2468,30],[2265,3,2265,5],[2467,1,2467,2],[2467,3,2467,7],[2467,8,2467,9],[2467,23,2467,24],[2254,23,2254,24],[2255,26,2255,27],[2261,25,2261,26],[2263,25,2263,29],[2264,4,2264,8],[2244,1,2244,2],[2244,3,2244,7],[2244,8,2244,9],[2244,23,2244,27],[2253,5,2253,7],[2242,25,2242,28],[2242,29,2242,30],[2243,1,2243,2],[2243,3,2243,7],[2243,8,2243,9],[2243,23,2243,24],[2243,25,2243,30],[2040,3,2040,5],[2242,1,2242,2],[2242,3,2242,7],[2242,8,2242,9],[2242,23,2242,24],[2029,23,2029,24],[2030,26,2030,27],[2036,25,2036,26],[2038,25,2038,29],[2039,4,2039,8],[2019,1,2019,2],[2019,3,2019,7],[2019,8,2019,9],[2019,23,2019,27],[2028,5,2028,7],[2017,25,2017,28],[2017,29,2017,30],[2018,1,2018,2],[2018,3,2018,7],[2018,8,2018,9],[2018,23,2018,24],[2018,25,2018,30],[1815,3,1815,5],[2017,1,2017,2],[2017,3,2017,7],[2017,8,2017,9],[2017,23,2017,24],[1804,23,1804,24],[1805,26,1805,27],[1811,25,1811,26],[1813,25,1813,29],[1814,4,1814,8],[1794,1,1794,2],[1794,3,1794,7],[1794,8,1794,9],[1794,23,1794,27],[1803,5,1803,7],[1792,25,1792,28],[1792,29,1792,30],[1793,1,1793,2],[1793,3,1793,7],[1793,8,1793,9],[1793,23,1793,24],[1793,25,1793,30],[1590,3,1590,5],[1792,1,1792,2],[1792,3,1792,7],[1792,8,1792,9],[1792,23,1792,24],[1579,23,1579,24],[1580,26,1580,27],[1586,25,1586,26],[1588,25,1588,29],[1589,4,1589,8],[1569,1,1569,2],[1569,3,1569,7],[1569,8,1569,9],[1569,23,1569,27],[1578,5,1578,7],[1567,25,1567,28],[1567,29,1567,30],[1568,1,1568,2],[1568,3,1568,7],[1568,8,1568,9],[1568,23,1568,24],[1568,25,1568,30],[1365,3,1365,5],[1567,1,1567,2],[1567,3,1567,7],[1567,8,1567,9],[1567,23,1567,24],[1354,23,1354,24],[1355,26,1355,27],[1361,25,1361,26],[1363,25,1363,29],[1364,4,1364,8],[1344,1,1344,2],[1344,3,1344,7],[1344,8,1344,9],[1344,23,1344,27],[1353,5,1353,7],[1342,25,1342,28],[1342,29,1342,30],[1343,1,1343,2],[1343,3,1343,7],[1343,8,1343,9],[1343,23,1343,24],[1343,25,1343,30],[1140,3,1140,5],[1342,1,1342,2],[1342,3,1342,7],[1342,8,1342,9],[1342,23,1342,24],[1129,23,1129,24],[1130,26,1130,27],[1136,25,1136,26],[1138,25,1138,29],[1139,4,1139,8],[1119,1,1119,2],[1119,3,1119,7],[1119,8,1119,9],[1119,23,1119,27],[1128,5,1128,7],[1117,25,1117,28],[1117,29,1117,30],[1118,1,1118,2],[1118,3,1118,7],[1118,8,1118,9],[1118,23,1118,24],[1118,25,1118,30],[915,3,915,5],[1117,1,1117,2],[1117,3,1117,7],[1117,8,1117,9],[1117,23,1117,24],[904,23,904,24],[905,26,905,27],[911,25,911,26],[913,25,913,29],[914,4,914,8],[894,1,894,2],[894,3,894,7],[894,8,894,9],[894,23,894,27],[903,5,903,7],[892,25,892,28],[892,29,892,30],[893,1,893,2],[893,3,893,7],[893,8,893,9],[893,23,893,24],[893,25,893,30],[690,3,690,5],[892,1,892,2],[892,3,892,7],[892,8,892,9],[892,23,892,24],[679,23,679,24],[680,26,680,27],[686,25,686,26],[688,25,688,29],[689,4,689,8],[669,1,669,2],[669,3,669,7],[669,8,669,9],[669,23,669,27],[678,5,678,7],[667,25,667,28],[667,29,667,30],[668,1,668,2],[668,3,668,7],[668,8,668,9],[668,23,668,24],[668,25,668,30],[465,3,465,5],[667,1,667,2],[667,3,667,7],[667,8,667,9],[667,23,667,24],[454,23,454,24],[455,26,455,27],[461,25,461,26],[463,25,463,29],[464,4,464,8],[444,1,444,2],[444,3,444,7],[444,8,444,9],[444,23,444,27],[453,5,453,7],[442,23,442,24],[442,25,442,28],[442,29,442,30],[443,1,443,2],[443,3,443,7],[443,8,443,9],[443,23,443,24],[443,25,443,30],[239,4,239,8],[240,3,240,5],[442,1,442,2],[442,3,442,7],[442,8,442,9],[228,5,228,7],[229,23,229,24],[230,26,230,27],[236,25,236,26],[238,25,238,29],[3,5,3,7],[14,4,14,8],[15,3,15,5],[218,23,218,24],[218,25,218,30],[219,23,219,27],[219,1,219,2],[219,3,219,7],[219,8,219,9],[218,1,218,2],[218,3,218,7],[218,8,218,9],[217,1,217,2],[217,3,217,7],[217,8,217,9],[4,23,4,24],[5,26,5,27],[11,25,11,26],[13,25,13,29],[217,23,217,24],[217,25,217,28],[217,29,217,30]],"bounds":{"rows_first":1000,"rows_last":250,"rows_between":1000,"halvings":1}}
[]
[]
[]
[null,null,"فاکتور خرید"]
[null,null,null,null,null,{"$f":"'صفحه اصلی'!$J$4","v":0},null,null,null,null,null,"فاکتور بعدی",null,"صفحه اصلی",null,null,null,null,null,null,null,null,null,"رسید کالا"]
[null,"شماره سند ",1,null,null,null,null,null,"تاریخ",null,null,null,null,null,null,null,null,null,null,null,null,null,null,null,null,null,{"$f":"F5","v":0},null,null,"تاریخ",{"$f":"J6","v":0}]
[null,"شماره فاکتور",1,null,null,null,null,null,"انبار",null,null,"مشاهده رسید",null,"ورود اطلاعات اولیه",null,null,null,null,null,null,null,null,null,"شماره رسید",{"$f":"C7","v":1}]
[null,null,null,null,null,null,null,null,null,null,null,null,null,null,null,null,null,null,null,null,null,null,null,"شماره سند",{"$f":"C6","v":1}]
[null,null,null,null,null,"           درصد تخفیف  ",null,null,"تخفیف ",{"$f":"(I218*G9%)","v":0}]
[null,null,"نام فروشنده","علی منصوری",null,"          کرایه حمل",null,null,"کرایه حمل",{"$f":"G10","v":0}]
[null,null,null,null,null,"          مالیات",null,null,"مالیات",{"$f":"(I218-J9+J10)*G11%","v":0}]
[null,null,"پرداخت نقدی",null,null,null,null,null,"مبلغ قابل پرداخت",{"$f":"I218-J9+J10+J11","v":0},null,null,null,null,null,null,null,null,null,null,null,null,null,null,"فروشنده :",{"$f":"D10","v":"علی منصوری"}]
[null,null,"پرداخت با چک",null,null,null,null,null,"مانده حساب",{"$f":"J12-D12-D13","v":0}]
[null,null,null,null,null,null,null,null,null,null,null,null,null,null,null,null,null,null,null,null,null,null,null,null,"آدرس :",{"$f":"VLOOKUP(Z12,'مشخصات فروشندگان'!$B$2:$C$502,2,FALSE)","v":0}]
[null,null,"ثبت چک","شرح رویداد"]
[]
[null,"شماره کاردکس","کد کالا","نام کالا","گروه بندی","قیمت واحد","درصد تخفیف","واحد شمارش","تعداد","قیمت کل",null,null,null,null,null,null,null,null,null,null,null,null,null,"ردیف","کد کالا","نام کالا","گروه بندی","قیمت واحد","واحد شمارش","تعداد","قیمت کل"]
[null,"کاردکس 1",{"$f":"'تعریف کالا'!$C$5","v":9011120},{"$f":"'تعریف کالا'!$D$5","v":"سی دی"},{"$f":"'تعریف کالا'!$E$5","v":"سخت افزار"},{"$f":"'تعریف کالا'!$G$5","v":3000},null,{"$f":"'تعریف کالا'!$F$5","v":"حلقه"},null,{"$f":"(F18*I18)-(F18*I18*G18%)","v":0},null,null,null,null,null,null,null,null,null,null,null,null,null,null,{"$f":"C18","v":9011120},{"$f":"D18","v":"سی دی"},{"$f":"E18","v":"سخت افزار"},{"$f":"F18","v":3000},{"$f":"H18","v":"حلقه"},{"$f":"I18","v":0},{"$f":"J18","v":0}]
[null,"کاردکس 2",{"$f":"'تعریف کالا'!$C$6","v":9011121},{"$f":"'تعریف کالا'!$D$6","v":"دی وی دی"},{"$f":"'تعریف کالا'!$E$6","v":"سخت افزار"},{"$f":"'تعریف کالا'!$G$6","v":7000},null,{"$f":"'تعریف کالا'!$F$6","v":"حلقه"},null,{"$f":"(F19*I19)-(F19*I19*G19%)","v":0},null,null,null,null,null,null,null,null,null,null,null,null,null,null,{"$f":"C19","v":9011121},{"$f":"D19","v":"دی وی دی"},"سخت افزار",7000,{"$f":"H19","v":"حلقه"},0,0]
[null,"کاردکس 3",{"$f":"'تعریف کالا'!$C$7","v":9011122},{"$f":"'تعریف کالا'!$D$7","v":"نوت بوک"},{"$f":"'تعریف کالا'!$E$7","v":"سخت افزار"},{"$f":"'تعریف کالا'!$G$7","v":10000000},null,{"$f":"'تعریف کالا'!$F$7","v":"دستگاه"},null,{"$f":"(F20*I20)-(F20*I20*G20%)","v":0},null,null,null,null,null,null,null,null,null,null,null,null,null,null,{"$f":"C20","v":9011122},"نوت بوک","سخت افزار",10000000,"دستگاه",0,0]
[null,"کاردکس 4",{"$f":"'تعریف کالا'!$C$8","v":0},{"$f":"'تعریف کالا'!$D$8","v":0},{"$f":"'تعریف کالا'!$E$8","v":0},{"$f":"'تعریف کالا'!$G$8","v":0},null,{"$f":"'تعریف کالا'!$F$8","v":0},null,0,null,null,null,null,null,null,null,null,null,null,null,null,null,null,0,0,0,0,0,0,0]
[null,"کاردکس 5",{"$f":"'تعریف کالا'!$C$9","v":0},{"$f":"'تعریف کالا'!$D$9","v":0},{"$f":"'تعریف کالا'!$E$9","v":0},{"$f":"'تعریف کالا'!$G$9","v":0},null,{"$f":"'تعریف کالا'!$F$9","v":0},null,0,null,null,null,null,null,null,null,null,null,null,null,null,null,null,0,0,0,0,0,0,0]
[null,"کاردکس 6",{"$f":"'تعریف کالا'!$C$10","v":0},{"$f":"'تعریف کالا'!$D$10","v":0},{"$f":"'تعریف کالا'!$E$10","v":0},{"$f":"'تعریف کالا'!$G$10","v":0},null,{"$f":"'تعریف کالا'!$F$10","v":0},null,0,null,null,null,null,null,null,null,null,null,null,null,null,null,null,0,0,0,0,0,0,0]
[null,"کاردکس 7",{"$f":"'تعریف کالا'!$C$11","v":0},{"$f":"'تعریف کالا'!$D$11","v":0},{"$f":"'تعریف کالا'!$E$11","v":0},{"$f":"'تعریف کالا'!$G$11","v":0},null,{"$f":"'تعریف کالا'!$F$11","v":0},null,0,null,null,null,null,null,null,null,null,null,null,null,null,null,null,0,0,0,0,0,0,0]
[null,"کاردکس 8",{"$f":"'تعریف کالا'!$C$12","v":0},{"$f":"'تعریف کالا'!$D$12","v":0},{"$f":"'تعریف کالا'!$E$12","v":0},{"$f":"'تعریف کالا'!$G$12","v":0},null,{"$f":"'تعریف کالا'!$F$12","v":0},null,0,null,null,null,null,null,null,null,null,null,null,null,null,null,null,0,0,0,0,0,0,0]
[null,"کاردکس 9",{"$f":"'تعریف کالا'!$C$13","v":0},{"$f":"'تعریف کالا'!$D$13","v":0},{"$f":"'تعریف کالا'!$E$13","v":0},{"$f":"'تعریف کالا'!$G$13","v":0},null,{"$f":"'تعریف کالا'!$F$13","v":0},null,0,null,null,null,null,null,null,null,null,null,null,null,null,null,null,0,0,0,0,0,0,0]
[null,"کاردکس 10",{"$f":"'تعریف کالا'!$C$14","v":0},{"$f":"'تعریف کالا'!$D$14","v":0},{"$f":"'تعریف کالا'!$E$14","v":0},{"$f":"'تعریف کالا'!$G$14","v":0},null,{"$f":"'تعریف کالا'!$F$14","v":0},null,0,null,null,null,null,null,null,null,null,null,null,null,null,null,null,0,0,0,0,0,0,0]
[null,"کاردکس 11",{"$f":"'تعریف کالا'!$C$15","v":0},{"$f":"'تعریف کالا'!$D$15","v":0},{"$f":"'تعریف کالا'!$E$15","v":0},{"$f":"'تعریف کالا'!$G$15","v":0},null,{"$f":"'تعریف کالا'!$F$15","v":0},null,0,null,null,null,null,null,null,null,null,null,null,null,null,null,null,0,0,0,0,0,0,0]
[null,"کاردکس 12",{"$f":"'تعریف کالا'!$C$16","v":0},{"$f":"'تعریف کالا'!$D$16","v":0},{"$f":"'تعریف کالا'!$E$16","v":0},{"$f":"'تعریف کالا'!$G$16","v":0},null,{"$f":"'تعریف کالا'!$F$16","v":0},null,0,null,null,null,null,null,null,null,null,null,null,null,null,null,null,0,0,0,0,0,0,0]
[null,"کاردکس 13",{"$f":"'تعریف کالا'!$C$17","v":0},{"$f":"'تعریف کالا'!$D$17","v":0},{"$f":"'تعریف کالا'!$E$17","v":0},{"$f":"'تعریف کالا'!$G$17","v":0},null,{"$f":"'تعریف کالا'!$F$17","v":0},null,0,null,null,null,null,null,null,null,null,null,null,null,null,null,null,0,0,0,0,0,0,0]
[null,"کاردکس 14",{"$f":"'تعریف کالا'!$C$18","v":0},{"$f":"'تعریف کالا'!$D$18","v":0},{"$f":"'تعریف کالا'!$E$18","v":0},{"$f":"'تعریف کالا'!$G$18","v":0},null,{"$f":"'تعریف کالا'!$F$18","v":0},null,0,null,null,null,null,null,null,null,null,null,null,null,null,null,null,0,0,0,0,0,0,0]
[null,"کاردکس 15",{"$f":"'تعریف کالا'!$C$19","v":0},{"$f":"'تعریف کالا'!$D$19","v":0},{"$f":"'تعریف کالا'!$E$19","v":0},{"$f":"'تعریف کالا'!$G$19","v":0},null,{"$f":"'تعریف کالا'!$F$19","v":0},null,0,null,null,null,null,null,null,null,null,null,null,null,null,null,null,0,0,0,0,0,0,0]
[null,"کاردکس 16",{"$f":"'تعریف کالا'!$C$20","v":0},{"$f":"'تعریف کالا'!$D$20","v":0},{"$f":"'تعریف کالا'!$E$20","v":0},{"$f":"'تعریف کالا'!$G$20","v":0},null,{"$f":"'تعریف کالا'!$F$20","v":0},null,0,null,null,null,null,null,null,null,null,null,null,null,null,null,null,0,0,0,0,0,0,0]
[null,"کاردکس 17",{"$f":"'تعریف کالا'!$C$21","v":0},{"$f":"'تعریف کالا'!$D$21","v":0},{"$f":"'تعریف کالا'!$E$21","v":0},{"$f":"'تعریف کالا'!$G$21","v":0},null,{"$f":"'تعریف کالا'!$F$21","v":0},null,0,null,null,null,null,null,null,null,null,null,null,null,null,null,null,0,0,0,0,0,0,0]
[null,"کاردکس 18",{"$f":"'تعریف کالا'!$C$22","v":0},{"$f":"'تعریف کالا'!$D$22","v":0},{"$f":"'تعریف کالا'!$E$22","v":0},{"$f":"'تعریف کالا'!$G$22","v":0},null,{"$f":"'تعریف کالا'!$F$22","v":0},null,0,null,null,null,null,null,null,null,null,null,null,null,null,null,null,0,0,0,0,0,0,0]
[null,"کاردکس 19",{"$f":"'تعریف کالا'!$C$23","v":0},{"$f":"'تعریف کالا'!$D$23","v":0},{"$f":"'تعریف کالا'!$E$23","v":0},{"$f":"'تعریف کالا'!$G$23","v":0},null,{"$f":"'تعریف کالا'!$F$23","v":0},null,0,null,null,null,null,null,null,null,null,null,null,null,null,null,null,0,0,0,0,0,0,0]
[null,"کاردکس 20",{"$f":"'تعریف کالا'!$C$24","v":0},{"$f":"'تعریف کالا'!$D$24","v":0},{"$f":"'تعریف کالا'!$E$24","v":0},{"$f":"'تعریف کالا'!$G$24","v":0},null,{"$f":"'تعریف کالا'!$F$24","v":0},null,0,null,null,null,null,null,null,null,null,null,null,null,null,null,null,0,0,0,0,0,0,0]
[null,"کاردکس 21",{"$f":"'تعریف کالا'!$C$25","v":0},{"$f":"'تعریف کالا'!$D$25","v":0},{"$f":"'تعریف کالا'!$E$25","v":0},{"$f":"'تعریف کالا'!$G$25","v":0},null,{"$f":"'تعریف کالا'!$F$25","v":0},null,0,null,null,null,null,null,null,null,null,null,null,null,null,null,null,0,0,0,0,0,0,0]
[null,"کاردکس 22",{"$f":"'تعریف کالا'!$C$26","v":0},{"$f":"'تعریف کالا'!$D$26","v":0},{"$f":"'تعریف کالا'!$E$26","v":0},{"$f":"'تعریف کالا'!$G$26","v":0},null,{"$f":"'تعریف کالا'!$F$26","v":0},null,0,null,null,null,null,null,null,null,null,null,null,null,null,null,null,0,0,0,0,0,0,0]
[null,"کاردکس 23",{"$f":"'تعریف کالا'!$C$27","v":0},{"$f":"'تعریف کالا'!$D$27","v":0},{"$f":"'تعریف کالا'!$E$27","v":0},{"$f":"'تعریف کالا'!$G$27","v":0},null,{"$f":"'تعریف کالا'!$F$27","v":0},null,0,null,null,null,null,null,null,null,null,null,null,null,null,null,null,0,0,0,0,0,0,0]
[null,"کاردکس 24",{"$f":"'تعریف کالا'!$C$28","v":0},{"$f":"'تعریف کالا'!$D$28","v":0},{"$f":"'تعریف کالا'!$E$28","v":0},{"$f":"'تعریف کالا'!$G$28","v":0},null,{"$f":"'تعریف کالا'!$F$28","v":0},null,0,null,null,null,null,null,null,null,null,null,null,null,null,null,null,0,0,0,0,0,0,0]
[null,"کاردکس 25",{"$f":"'تعریف کالا'!$C$29","v":0},{"$f":"'تعریف کالا'!$D$29","v":0},{"$f":"'تعریف کالا'!$E$29","v":0},{"$f":"'تعریف کالا'!$G$29","v":0},null,{"$f":"'تعریف کالا'!$F$29","v":0},null,0,null,null,null,null,null,null,null,null,null,null,null,null,null,null,0,0,0,0,0,0,0]
[null,"کاردکس 26",{"$f":"'تعریف کالا'!$C$30","v":0},{"$f":"'تعریف کالا'!$D$30","v":0},{"$f":"'تعریف کالا'!$E$30","v":0},{"$f":"'تعریف کالا'!$G$30","v":0},null,{"$f":"'تعریف کالا'!$F$30","v":0},null,0,null,null,null,null,null,null,null,null,null,null,null,null,null,null,0,0,0,0,0,0,0]
[null,"کاردکس 27",{"$f":"'تعریف کالا'!$C$31","v":0},{"$f":"'تعریف کالا'!$D$31","v":0},{"$f":"'تعریف کالا'!$E$31","v":0},{"$f":"'تعریف کالا'!$G$31","v":0},null,{"$f":"'تعریف کالا'!$F$31","v":0},null,0,null,null,null,null,null,null,null,null,null,null,null,null,null,null,0,0,0,0,0,0,0]
[null,"کاردکس 28",{"$f":"'تعریف کالا'!$C$32","v":0},{"$f":"'تعریف کالا'!$D$32","v":0},{"$f":"'تعریف کالا'!$E$32","v":0},{"$f":"'تعریف کالا'!$G$32","v":0},null,{"$f":"'تعریف کالا'!$F$32","v":0},null,0,null,null,null,null,null,null,null,null,null,null,null,null,null,null,0,0,0,0,0,0,0]
[null,"کاردکس 29",{"$f":"'تعریف کالا'!$C$33","v":0},{"$f":"'تعریف کالا'!$D$33","v":0},{"$f":"'تعریف کالا'!$E$33","v":0},{"$f":"'تعریف کالا'!$G$33","v":0},null,{"$f":"'تعریف کالا'!$F$33","v":0},null,0,null,null,null,null,null,null,null,null,null,null,null,null,null,null,0,0,0,0,0,0,0]
[null,"کاردکس 30",{"$f":"'تعریف کالا'!$C$34","v":0},{"$f":"'تعریف کالا'!$D$34","v":0},{"$f":"'تعریف کالا'!$E$34","v":0},{"$f":"'تعریف کالا'!$G$34","v":0},null,{"$f":"'تعریف کالا'!$F$34","v":0},null,0,null,null,null,null,null,null,null,null,null,null,null,null,null,null,0,0,0,0,0,0,0]
[null,"کاردکس 31",{"$f":"'تعریف کالا'!$C$35","v":0},{"$f":"'تعریف کالا'!$D$35","v":0},{"$f":"'تعریف کالا'!$E$35","v":0},{"$f":"'تعریف کالا'!$G$35","v":0},null,{"$f":"'تعریف کالا'!$F$35","v":0},null,0,null,null,null,null,null,null,null,null,null,null,null,null,null,null,0,0,0,0,0,0,0]
[null,"کاردکس 32",{"$f":"'تعریف کالا'!$C$36","v":0},{"$f":"'تعریف کالا'!$D$36","v":0},{"$f":"'تعریف کالا'!$E$36","v":0},{"$f":"'تعریف کالا'!$G$36","v":0},null,{"$f":"'تعریف کالا'!$F$36","v":0},null,0,null,null,null,null,null,null,null,null,null,null,null,null,null,null,0,0,0,0,0,0,0]
[null,"کاردکس 33",{"$f":"'تعریف کالا'!$C$37","v":0},{"$f":"'تعریف کالا'!$D$37","v":0},{"$f":"'تعریف کالا'!$E$37","v":0},{"$f":"'تعریف کالا'!$G$37","v":0},null,{"$f":"'تعریف کالا'!$F$37","v":0},null,0,null,null,null,null,null,null,null,null,null,null,null,null,null,null,0,0,0,0,0,0,0]
[null,"کاردکس 34",{"$f":"'تعریف کالا'!$C$38","v":0},{"$f":"'تعریف کالا'!$D$38","v":0},{"$f":"'تعریف کالا'!$E$38","v":0},{"$f":"'تعریف کالا'!$G$38","v":0},null,{"$f":"'تعریف کالا'!$F$38","v":0},null,0,null,null,null,null,null,null,null,null,null,null,null,null,null,null,0,0,0,0,0,0,0]
[null,"کاردکس 35",{"$f":"'تعریف کالا'!$C$39","v":0},{"$f":"'تعریف کالا'!$D$39","v":0},{"$f":"'تعریف کالا'!$E$39","v":0},{"$f":"'تعریف کالا'!$G$39","v":0},null,{"$f":"'تعریف کالا'!$F$39","v":0},null,0,null,null,null,null,null,null,null,null,null,null,null,null,null,null,0,0,0,0,0,0,0]
[null,"کاردکس 36",{"$f":"'تعریف کالا'!$C$40","v":0},{"$f":"'تعریف کالا'!$D$40","v":0},{"$f":"'تعریف کالا'!$E$40","v":0},{"$f":"'تعریف کالا'!$G$40","v":0},null,{"$f":"'تعریف کالا'!$F$40","v":0},null,0,null,null,null,null,null,null,null,null,null,null,null,null,null,null,0,0,0,0,0,0,0]
[null,"کاردکس 37",{"$f":"'تعریف کالا'!$C$41","v":0},{"$f":"'تعریف کالا'!$D$41","v":0},{"$f":"'تعریف کالا'!$E$41","v":0},{"$f":"'تعریف کالا'!$G$41","v":0},null,{"$f":"'تعریف کالا'!$F$41","v":0},null,0,null,null,null,null,null,null,null,null,null,null,null,null,null,null,0,0,0,0,0,0,0]
[null,"کاردکس 38",{"$f":"'تعریف کالا'!$C$42","v":0},{"$f":"'تعریف کالا'!$D$42","v":0},{"$f":"'تعریف کالا'!$E$42","v":0},{"$f":"'تعریف کالا'!$G$42","v":0},null,{"$f":"'تعریف کالا'!$F$42","v":0},null,0,null,null,null,null,null,null,null,null,null,null,null,null,null,null,0,0,0,0,0,0,0]
[null,"کاردکس 39",{"$f":"'تعریف کالا'!$C$43","v":0},{"$f":"'تعریف کالا'!$D$43","v":0},{"$f":"'تعریف کالا'!$E$43","v":0},{"$f":"'تعریف کالا'!$G$43","v":0},null,{"$f":"'تعریف کالا'!$F$43","v":0},null,0,null,null,null,null,null,null,null,null,null,null,null,null,null,null,0,0,0,0,0,0,0]
[null,"کاردکس 40",{"$f":"'تعریف کالا'!$C$44","v":0},{"$f":"'تعریف کالا'!$D$44","v":0},{"$f":"'تعریف کالا'!$E$44","v":0},{"$f":"'تعریف کالا'!$G$44","v":0},null,{"$f":"'تعریف کالا'!$F$44","v":0},null,0,null,null,null,null,null,null,null,null,null,null,null,null,null,null,0,0,0,0,0,0,0]
[null,"کاردکس 41",{"$f":"'تعریف کالا'!$C$45","v":0},{"$f":"'تعریف کالا'!$D$45","v":0},{"$f":"'تعریف کالا'!$E$45","v":0},{"$f":"'تعریف کالا'!$G$45","v":0},null,{"$f":"'تعریف کالا'!$F$45","v":0},null,0,null,null,null,null,null,null,null,null,null,null,null,null,null,null,0,0,0,0,0,0,0]
[null,"کاردکس 42",{"$f":"'تعریف کالا'!$C$46","v":0},{"$f":"'تعریف کالا'!$D$46","v":0},{"$f":"'تعریف کالا'!$E$46","v":0},{"$f":"'تعریف کالا'!$G$46","v":0},null,{"$f":"'تعریف کالا'!$F$46","v":0},null,0,null,null,null,null,null,null,null,null,null,null,null,null,null,null,0,0,0,0,0,0,0]
[null,"کاردکس 43",{"$f":"'تعریف کالا'!$C$47","v":0},{"$f":"'تعریف کالا'!$D$47","v":0},{"$f":"'تعریف کالا'!$E$47","v":0},{"$f":"'تعریف کالا'!$G$47","v":0},null,{"$f":"'تعریف کالا'!$F$47","v":0},null,0,null,null,null,null,null,null,null,null,null,null,null,null,null,null,0,0,0,0,0,0,0]
[null,"کاردکس 44",{"$f":"'تعریف کالا'!$C$48","v":0},{"$f":"'تعریف کالا'!$D$48","v":0},{"$f":"'تعریف کالا'!$E$48","v":0},{"$f":"'تعریف کالا'!$G$48","v":0},null,{"$f":"'تعریف کالا'!$F$48","v":0},null,0,null,null,null,null,null,null,null,null,null,null,null,null,null,null,0,0,0,0,0,0,0]
[null,"کاردکس 45",{"$f":"'تعریف کالا'!$C$49","v":0},{"$f":"'تعریف کالا'!$D$49","v":0},{"$f":"'تعریف کالا'!$E$49","v":0},{"$f":"'تعریف کالا'!$G$49","v":0},null,{"$f":"'تعریف کالا'!$F$49","v":0},null,0,null,null,null,null,null,null,null,null,null,null,null,null,null,null,0,0,0,0,0,0,0]
[null,"کاردکس 46",{"$f":"'تعریف کالا'!$C$50","v":0},{"$f":"'تعریف کالا'!$D$50","v":0},{"$f":"'تعریف کالا'!$E$50","v":0},{"$f":"'تعریف کالا'!$G$50","v":0},null,{"$f":"'تعریف کالا'!$F$50","v":0},null,0,null,null,null,null,null,null,null,null,null,null,null,null,null,null,0,0,0,0,0,0,0]
[null,"کاردکس 47",{"$f":"'تعریف کالا'!$C$51","v":0},{"$f":"'تعریف کالا'!$D$51","v":0},{"$f":"'تعریف کالا'!$E$51","v":0},{"$f":"'تعریف کالا'!$G$51","v":0},null,{"$f":"'تعریف کالا'!$F$51","v":0},null,0,null,null,null,null,null,null,null,null,null,null,null,null,null,null,0,0,0,0,0,0,0]
[null,"کاردکس 48",{"$f":"'تعریف کالا'!$C$52","v":0},{"$f":"'تعریف کالا'!$D$52","v":0},{"$f":"'تعریف کالا'!$E$52","v":0},{"$f":"'تعریف کالا'!$G$52","v":0},null,{"$f":"'تعریف کالا'!$F$52","v":0},null,0,null,null,null,null,null,null,null,null,null,null,null,null,null,null,0,0,0,0,0,0,0]
[null,"کاردکس 49",{"$f":"'تعریف کالا'!$C$53","v":0},{"$f":"'تعریف کالا'!$D$53","v":0},{"$f":"'تعریف کالا'!$E$53","v":0},{"$f":"'تعریف کالا'!$G$53","v":0},null,{"$f":"'تعریف کالا'!$F$53","v":0},null,0,null,null,null,null,null,null,null,null,null,null,null,null,null,null,0,0,0,0,0,0,0]
[null,"کاردکس 50",{"$f":"'تعریف کالا'!$C$54","v":0},{"$f":"'تعریف کالا'!$D$54","v":0},{"$f":"'تعریف کالا'!$E$54","v":0},{"$f":"'تعریف کالا'!$G$54","v":0},null,{"$f":"'تعریف کالا'!$F$54","v":0},null,0,null,null,null,null,null,null,null,null,null,null,null,null,null,null,0,0,0,0,0,0,0]
[null,"کاردکس 51",{"$f":"'تعریف کالا'!$C$55","v":0},{"$f":"'تعریف کالا'!$D$55","v":0},{"$f":"'تعریف کالا'!$E$55","v":0},{"$f":"'تعریف کالا'!$G$55","v":0},null,{"$f":"'تعریف کالا'!$F$55","v":0},null,0,null,null,null,null,null,null,null,null,null,null,null,null,null,null,0,0,0,0,0,0,0]
[null,"کاردکس 52",{"$f":"'تعریف کالا'!$C$56","v":0},{"$f":"'تعریف کالا'!$D$56","v":0},{"$f":"'تعریف کالا'!$E$56","v":0},{"$f":"'تعریف کالا'!$G$56","v":0},null,{"$f":"'تعریف کالا'!$F$56","v":0},null,0,null,null,null,null,null,null,null,null,null,null,null,null,null,null,0,0,0,0,0,0,0]
[null,"کاردکس 53",{"$f":"'تعریف کالا'!$C$57","v":0},{"$f":"'تعریف کالا'!$D$57","v":0},{"$f":"'تعریف کالا'!$E$57","v":0},{"$f":"'تعریف کالا'!$G$57","v":0},null,{"$f":"'تعریف کالا'!$F$57","v":0},null,0,null,null,null,null,null,null,null,null,null,null,null,null,null,null,0,0,0,0,0,0,0]
[null,"کاردکس 54",{"$f":"'تعریف کالا'!$C$58","v":0},{"$f":"'تعریف کالا'!$D$58","v":0},{"$f":"'تعریف کالا'!$E$58","v":0},{"$f":"'تعریف کالا'!$G$58","v":0},null,{"$f":"'تعریف کالا'!$F$58","v":0},null,0,null,null,null,null,null,null,null,null,null,null,null,null,null,null,0,0,0,0,0,0,0]
[null,"کاردکس 55",{"$f":"'تعریف کالا'!$C$59","v":0},{"$f":"'تعریف کالا'!$D$59","v":0},{"$f":"'تعریف کالا'!$E$59","v":0},{"$f":"'تعریف کالا'!$G$59","v":0},null,{"$f":"'تعریف کالا'!$F$59","v":0},null,0,null,null,null,null,null,null,null,null,null,null,null,null,null,null,0,0,0,0,0,0,0]
[null,"کاردکس 56",{"$f":"'تعریف کالا'!$C$60","v":0},{"$f":"'تعریف کالا'!$D$60","v":0},{"$f":"'تعریف کالا'!$E$60","v":0},{"$f":"'تعریف کالا'!$G$60","v":0},null,{"$f":"'تعریف کالا'!$F$60","v":0},null,0,null,null,null,null,null,null,null,null,null,null,null,null,null,null,0,0,0,0,0,0,0]
[null,"کاردکس 57",{"$f":"'تعریف کالا'!$C$61","v":0},{"$f":"'تعریف کالا'!$D$61","v":0},{"$f":"'تعریف کالا'!$E$61","v":0},{"$f":"'تعریف کالا'!$G$61","v":0},null,{"$f":"'تعریف کالا'!$F$61","v":0},null,0,null,null,null,null,null,null,null,null,null,null,null,null,null,null,0,0,0,0,0,0,0]
[null,"کاردکس 58",{"$f":"'تعریف کالا'!$C$62","v":0},{"$f":"'تعریف کالا'!$D$62","v":0},{"$f":"'تعریف کالا'!$E$62","v":0},{"$f":"'تعریف کالا'!$G$62","v":0},null,{"$f":"'تعریف کالا'!$F$62","v":0},null,0,null,null,null,null,null,null,null,null,null,null,null,null,null,null,0,0,0,0,0,0,0]
[null,"کاردکس 59",{"$f":"'تعریف کالا'!$C$63","v":0},{"$f":"'تعریف کالا'!$D$63","v":0},{"$f":"'تعریف کالا'!$E$63","v":0},{"$f":"'تعریف کالا'!$G$63","v":0},null,{"$f":"'تعریف کالا'!$F$63","v":0},null,0,null,null,null,null,null,null,null,null,null,null,null,null,null,null,0,0,0,0,0,0,0]
[null,"کاردکس 60",{"$f":"'تعریف کالا'!$C$64","v":0},{"$f":"'تعریف کالا'!$D$64","v":0},{"$f":"'تعریف کالا'!$E$64","v":0},{"$f":"'تعریف کالا'!$G$64","v":0},null,{"$f":"'تعریف کالا'!$F$64","v":0},null,0,null,null,null,null,null,null,null,null,null,null,null,null,null,null,0,0,0,0,0,0,0]
[null,"کاردکس 61",{"$f":"'تعریف کالا'!$C$65","v":0},{"$f":"'تعریف کالا'!$D$65","v":0},{"$f":"'تعریف کالا'!$E$65","v":0},{"$f":"'تعریف کالا'!$G$65","v":0},null,{"$f":"'تعریف کالا'!$F$65","v":0},null,0,null,null,null,null,null,null,null,null,null,null,null,null,null,null,0,0,0,0,0,0,0]
[null,"کاردکس 62",{"$f":"'تعریف کالا'!$C$66","v":0},{"$f":"'تعریف کالا'!$D$66","v":0},{"$f":"'تعریف کالا'!$E$66","v":0},{"$f":"'تعریف کالا'!$G$66","v":0},null,{"$f":"'تعریف کالا'!$F$66","v":0},null,0,null,null,null,null,null,null,null,null,null,null,null,null,null,null,0,0,0,0,0,0,0]
[null,"کاردکس 63",{"$f":"'تعریف کالا'!$C$67","v":0},{"$f":"'تعریف کالا'!$D$67","v":0},{"$f":"'تعریف کالا'!$E$67","v":0},{"$f":"'تعریف کالا'!$G$67","v":0},null,{"$f":"'تعریف کالا'!$F$67","v":0},null,0,null,null,null,null,null,null,null,null,null,null,null,null,null,null,0,0,0,0,0,0,0]
[null,"کاردکس 64",{"$f":"'تعریف کالا'!$C$68","v":0},{"$f":"'تعریف کالا'!$D$68","v":0},{"$f":"'تعریف کالا'!$E$68","v":0},{"$f":"'تعریف کالا'!$G$68","v":0},null,{"$f":"'تعریف کالا'!$F$68","v":0},null,0,null,null,null,null,null,null,null,null,null,null,null,null,null,null,0,0,0,0,0,0,0]
[null,"کاردکس 65",{"$f":"'تعریف کالا'!$C$69","v":0},{"$f":"'تعریف کالا'!$D$69","v":0},{"$f":"'تعریف کالا'!$E$69","v":0},{"$f":"'تعریف کالا'!$G$69","v":0},null,{"$f":"'تعریف کالا'!$F$69","v":0},null,0,null,null,null,null,null,null,null,null,null,null,null,null,null,null,0,0,0,0,0,0,0]
[null,"کاردکس 66",{"$f":"'تعریف کالا'!$C$70","v":0},{"$f":"'تعریف کالا'!$D$70","v":0},{"$f":"'تعریف کالا'!$E$70","v":0},{"$f":"'تعریف کالا'!$G$70","v":0},null,{"$f":"'تعریف کالا'!$F$70","v":0},null,0,null,null,null,null,null,null,null,null,null,null,null,null,null,null,0,0,0,0,{"$f":"H83","v":0},0,0]
[null,"کاردکس 67",{"$f":"'تعریف کالا'!$C$71","v":0},{"$f":"'تعریف کالا'!$D$71","v":0},{"$f":"'تعریف کالا'!$E$71","v":0},{"$f":"'تعریف کالا'!$G$71","v":0},null,{"$f":"'تعریف کالا'!$F$71","v":0},null,{"$f":"(F84*I84)-(F84*I84*G84%)","v":0},null,null,null,null,null,null,null,null,null,null,null,null,null,null,{"$f":"C84","v":0},0,0,0,0,0,0]
[null,"کاردکس 68",{"$f":"'تعریف کالا'!$C$72","v":0},{"$f":"'تعریف کالا'!$D$72","v":0},{"$f":"'تعریف کالا'!$E$72","v":0},{"$f":"'تعریف کالا'!$G$72","v":0},null,{"$f":"'تعریف کالا'!$F$72","v":0},null,0,null,null,null,null,null,null,null,null,null,null,null,null,null,null,0,0,0,0,0,0,0]
[null,"کاردکس 69",{"$f":"'تعریف کالا'!$C$73","v":0},{"$f":"'تعریف کالا'!$D$73","v":0},{"$f":"'تعریف کالا'!$E$73","v":0},{"$f":"'تعریف کالا'!$G$73","v":0},null,{"$f":"'تعریف کالا'!$F$73","v":0},null,0,null,null,null,null,null,null,null,null,null,null,null,null,null,null,0,0,0,0,0,0,0]
[null,"کاردکس 70",{"$f":"'تعریف کالا'!$C$74","v":0},{"$f":"'تعریف کالا'!$D$74","v":0},{"$f":"'تعریف کالا'!$E$74","v":0},{"$f":"'تعریف کالا'!$G$74","v":0},null,{"$f":"'تعریف کالا'!$F$74","v":0},null,0,null,null,null,null,null,null,null,null,null,null,null,null,null,null,0,0,0,0,0,0,0]
[null,"کاردکس 71",{"$f":"'تعریف کالا'!$C$75","v":0},{"$f":"'تعریف کالا'!$D$75","v":0},{"$f":"'تعریف کالا'!$E$75","v":0},{"$f":"'تعریف کالا'!$G$75","v":0},null,{"$f":"'تعریف کالا'!$F$75","v":0},null,0,null,null,null,null,null,null,null,null,null,null,null,null,null,null,0,0,0,0,0,0,0]
[null,"کاردکس 72",{"$f":"'تعریف کالا'!$C$76","v":0},{"$f":"'تعریف کالا'!$D$76","v":0},{"$f":"'تعریف کالا'!$E$76","v":0},{"$f":"'تعریف کالا'!$G$76","v":0},null,{"$f":"'تعریف کالا'!$F$76","v":0},null,0,null,null,null,null,null,null,null,null,null,null,null,null,null,null,0,0,0,0,0,0,0]
[null,"کاردکس 73",{"$f":"'تعریف کالا'!$C$77","v":0},{"$f":"'تعریف کالا'!$D$77","v":0},{"$f":"'تعریف کالا'!$E$77","v":0},{"$f":"'تعریف کالا'!$G$77","v":0},null,{"$f":"'تعریف کالا'!$F$77","v":0},null,0,null,null,null,null,null,null,null,null,null,null,null,null,null,null,0,0,0,0,0,0,0]
[null,"کاردکس 74",{"$f":"'تعریف کالا'!$C$78","v":0},{"$f":"'تعریف کالا'!$D$78","v":0},{"$f":"'تعریف کالا'!$E$78","v":0},{"$f":"'تعریف کالا'!$G$78","v":0},null,{"$f":"'تعریف کالا'!$F$78","v":0},null,0,null,null,null,null,null,null,null,null,null,null,null,null,null,null,0,0,0,0,0,0,0]
[null,"کاردکس 75",{"$f":"'تعریف کالا'!$C$79","v":0},{"$f":"'تعریف کالا'!$D$79","v":0},{"$f":"'تعریف کالا'!$E$79","v":0},{"$f":"'تعریف کالا'!$G$79","v":0},null,{"$f":"'تعریف کالا'!$F$79","v":0},null,0,null,null,null,null,null,null,null,null,null,null,null,null,null,null,0,0,0,0,0,0,0]
[null,"کاردکس 76",{"$f":"'تعریف کالا'!$C$80","v":0},{"$f":"'تعریف کالا'!$D$80","v":0},{"$f":"'تعریف کالا'!$E$80","v":0},{"$f":"'تعریف کالا'!$G$80","v":0},null,{"$f":"'تعریف کالا'!$F$80","v":0},null,0,null,null,null,null,null,null,null,null,null,null,null,null,null,null,0,0,0,0,0,0,0]
[null,"کاردکس 77",{"$f":"'تعریف کالا'!$C$81","v":0},{"$f":"'تعریف کالا'!$D$81","v":0},{"$f":"'تعریف کالا'!$E$81","v":0},{"$f":"'تعریف کالا'!$G$81","v":0},null,{"$f":"'تعریف کالا'!$F$81","v":0},null,0,null,null,null,null,null,null,null,null,null,null,null,null,null,null,0,0,0,0,0,0,0]
[null,"کاردکس 78",{"$f":"'تعریف کالا'!$C$82","v":0},{"$f":"'تعریف کالا'!$D$82","v":0},{"$f":"'تعریف کالا'!$E$82","v":0},{"$f":"'تعریف کالا'!$G$82","v":0},null,{"$f":"'تعریف کالا'!$F$82","v":0},null,0,null,null,null,null,null,null,null,null,null,null,null,null,null,null,0,0,0,0,0,0,0]
[null,"کاردکس 79",{"$f":"'تعریف کالا'!$C$83","v":0},{"$f":"'تعریف کالا'!$D$83","v":0},{"$f":"'تعریف کالا'!$E$83","v":0},{"$f":"'تعریف کالا'!$G$83","v":0},null,{"$f":"'تعریف کالا'!$F$83","v":0},null,0,null,null,null,null,null,null,null,null,null,null,null,null,null,null,0,0,0,0,0,0,0]
[null,"کاردکس 80",{"$f":"'تعریف کالا'!$C$84","v":0},{"$f":"'تعریف کالا'!$D$84","v":0},{"$f":"'تعریف کالا'!$E$84","v":0},{"$f":"'تعریف کالا'!$G$84","v":0},null,{"$f":"'تعریف کالا'!$F$84","v":0},null,0,null,null,null,null,null,null,null,null,null,null,null,null,null,null,0,0,0,0,0,0,0]
[null,"کاردکس 81",{"$f":"'تعریف کالا'!$C$85","v":0},{"$f":"'تعریف کالا'!$D$85","v":0},{"$f":"'تعریف کالا'!$E$85","v":0},{"$f":"'تعریف کالا'!$G$85","v":0},null,{"$f":"'تعریف کالا'!$F$85","v":0},null,0,null,null,null,null,null,null,null,null,null,null,null,null,null,null,0,0,0,0,0,0,0]
[null,"کاردکس 82",{"$f":"'تعریف کالا'!$C$86","v":0},{"$f":"'تعریف کالا'!$D$86","v":0},{"$f":"'تعریف کالا'!$E$86","v":0},{"$f":"'تعریف کالا'!$G$86","v":0},null,{"$f":"'تعریف کالا'!$F$86","v":0},null,0,null,null,null,null,null,null,null,null,null,null,null,null,null,null,0,0,0,0,0,0,0]
[null,"کاردکس 83",{"$f":"'تعریف کالا'!$C$87","v":0},{"$f":"'تعریف کالا'!$D$87","v":0},{"$f":"'تعریف کالا'!$E$87","v":0},{"$f":"'تعریف کالا'!$G$87","v":0},null,{"$f":"'تعریف کالا'!$F$87","v":0},null,0,null,null,null,null,null,null,null,null,null,null,null,null,null,null,0,0,0,0,0,0,0]
[null,"کاردکس 84",{"$f":"'تعریف کالا'!$C$88","v":0},{"$f":"'تعریف کالا'!$D$88","v":0},{"$f":"'تعریف کالا'!$E$88","v":0},{"$f":"'تعریف کالا'!$G$88","v":0},null,{"$f":"'تعریف کالا'!$F$88","v":0},null,0,null,null,null,null,null,null,null,null,null,null,null,null,null,null,0,0,0,0,0,0,0]
[null,"کاردکس 85",{"$f":"'تعریف کالا'!$C$89","v":0},{"$f":"'تعریف کالا'!$D$89","v":0},{"$f":"'تعریف کالا'!$E$89","v":0},{"$f":"'تعریف کالا'!$G$89","v":0},null,{"$f":"'تعریف کالا'!$F$89","v":0},null,0,null,null,null,null,null,null,null,null,null,null,null,null,null,null,0,0,0,0,0,0,0]
[null,"کاردکس 86",{"$f":"'تعریف کالا'!$C$90","v":0},{"$f":"'تعریف کالا'!$D$90","v":0},{"$f":"'تعریف کالا'!$E$90","v":0},{"$f":"'تعریف کالا'!$G$90","v":0},null,{"$f":"'تعریف کالا'!$F$90","v":0},null,0,null,null,null,null,null,null,null,null,null,null,null,null,null,null,0,0,0,0,0,0,0]
[null,"کاردکس 87",{"$f":"'تعریف کالا'!$C$91","v":0},{"$f":"'تعریف کالا'!$D$91","v":0},{"$f":"'تعریف کالا'!$E$91","v":0},{"$f":"'تعریف کالا'!$G$91","v":0},null,{"$f":"'تعریف کالا'!$F$91","v":0},null,0,null,null,null,null,null,null,null,null,null,null,null,null,null,null,0,0,0,0,0,0,0]
[null,"کاردکس 88",{"$f":"'تعریف کالا'!$C$92","v":0},{"$f":"'تعریف کالا'!$D$92","v":0},{"$f":"'تعریف کالا'!$E$92","v":0},{"$f":"'تعریف کالا'!$G$92","v":0},null,{"$f":"'تعریف کالا'!$F$92","v":0},null,0,null,null,null,null,null,null,null,null,null,null,null,null,null,null,0,0,0,0,0,0,0]
[null,"کاردکس 89",{"$f":"'تعریف کالا'!$C$93","v":0},{"$f":"'تعریف کالا'!$D$93","v":0},{"$f":"'تعریف کالا'!$E$93","v":0},{"$f":"'تعریف کالا'!$G$93","v":0},null,{"$f":"'تعریف کالا'!$F$93","v":0},null,0,null,null,null,null,null,null,null,null,null,null,null,null,null,null,0,0,0,0,0,0,0]
[null,"کاردکس 90",{"$f":"'تعریف کالا'!$C$94","v":0},{"$f":"'تعریف کالا'!$D$94","v":0},{"$f":"'تعریف کالا'!$E$94","v":0},{"$f":"'تعریف کالا'!$G$94","v":0},null,{"$f":"'تعریف کالا'!$F$94","v":0},null,0,null,null,null,null,null,null,null,null,null,null,null,null,null,null,0,0,0,0,0,0,0]
[null,"کاردکس 91",{"$f":"'تعریف کالا'!$C$95","v":0},{"$f":"'تعریف کالا'!$D$95","v":0},{"$f":"'تعریف کالا'!$E$95","v":0},{"$f":"'تعریف کالا'!$G$95","v":0},null,{"$f":"'تعریف کالا'!$F$95","v":0},null,0,null,null,null,null,null,null,null,null,null,null,null,null,null,null,0,0,0,0,0,0,0]
[null,"کاردکس 92",{"$f":"'تعریف کالا'!$C$96","v":0},{"$f":"'تعریف کالا'!$D$96","v":0},{"$f":"'تعریف کالا'!$E$96","v":0},{"$f":"'تعریف کالا'!$G$96","v":0},null,{"$f":"'تعریف کالا'!$F$96","v":0},null,0,null,null,null,null,null,null,null,null,null,null,null,null,null,null,0,0,0,0,0,0,0]
[null,"کاردکس 93",{"$f":"'تعریف کالا'!$C$97","v":0},{"$f":"'تعریف کالا'!$D$97","v":0},{"$f":"'تعریف کالا'!$E$97","v":0},{"$f":"'تعریف کالا'!$G$97","v":0},null,{"$f":"'تعریف کالا'!$F$97","v":0},null,0,null,null,null,null,null,null,null,null,null,null,null,null,null,null,0,0,0,0,0,0,0]
[null,"کاردکس 94",{"$f":"'تعریف کالا'!$C$98","v":0},{"$f":"'تعریف کالا'!$D$98","v":0},{"$f":"'تعریف کالا'!$E$98","v":0},{"$f":"'تعریف کالا'!$G$98","v":0},null,{"$f":"'تعریف کالا'!$F$98","v":0},null,0,null,null,null,null,null,null,null,null,null,null,null,null,null,null,0,0,0,0,0,0,0]
[null,"کاردکس 95",{"$f":"'تعریف کالا'!$C$99","v":0},{"$f":"'تعریف کالا'!$D$99","v":0},{"$f":"'تعریف کالا'!$E$99","v":0},{"$f":"'تعریف کالا'!$G$99","v":0},null,{"$f":"'تعریف کالا'!$F$99","v":0},null,0,null,null,null,null,null,null,null,null,null,null,null,null,null,null,0,0,0,0,0,0,0]
[null,"کاردکس 96",{"$f":"'تعریف کالا'!$C$100","v":0},{"$f":"'تعریف کالا'!$D$100","v":0},{"$f":"'تعریف کالا'!$E$100","v":0},{"$f":"'تعریف کالا'!$G$100","v":0},null,{"$f":"'تعریف کالا'!$F$100","v":0},null,0,null,null,null,null,null,null,null,null,null,null,null,null,null,null,0,0,0,0,0,0,0]
[null,"کاردکس 97",{"$f":"'تعریف کالا'!$C$101","v":0},{"$f":"'تعریف کالا'!$D$101","v":0},{"$f":"'تعریف کالا'!$E$101","v":0},{"$f":"'تعریف کالا'!$G$101","v":0},null,{"$f":"'تعریف کالا'!$F$101","v":0},null,0,null,null,null,null,null,null,null,null,null,null,null,null,null,null,0,0,0,0,0,0,0]
[null,"کاردکس 98",{"$f":"'تعریف کالا'!$C$102","v":0},{"$f":"'تعریف کالا'!$D$102","v":0},{"$f":"'تعریف کالا'!$E$102","v":0},{"$f":"'تعریف کالا'!$G$102","v":0},null,{"$f":"'تعریف کالا'!$F$102","v":0},null,0,null,null,null,null,null,null,null,null,null,null,null,null,null,null,0,0,0,0,0,0,0]
[null,"کاردکس 99",{"$f":"'تعریف کالا'!$C$103","v":0},{"$f":"'تعریف کالا'!$D$103","v":0},{"$f":"'تعریف کالا'!$E$103","v":0},{"$f":"'تعریف کالا'!$G$103","v":0},null,{"$f":"'تعریف کالا'!$F$103","v":0},null,0,null,null,null,null,null,null,null,null,null,null,null,null,null,null,0,0,0,0,0,0,0]
[null,"کاردکس 100",{"$f":"'تعریف کالا'!$C$104","v":0},{"$f":"'تعریف کالا'!$D$104","v":0},{"$f":"'تعریف کالا'!$E$104","v":0},{"$f":"'تعریف کالا'!$G$104","v":0},null,{"$f":"'تعریف کالا'!$F$104","v":0},null,0,null,null,null,null,null,null,null,null,null,null,null,null,null,null,0,0,0,0,0,0,0]
[null,"کاردکس 101",{"$f":"'تعریف کالا'!$C$105","v":0},{"$f":"'تعریف کالا'!$D$105","v":0},{"$f":"'تعریف کالا'!$E$105","v":0},{"$f":"'تعریف کالا'!$G$105","v":0},null,{"$f":"'تعریف کالا'!$F$105","v":0},null,0,null,null,null,null,null,null,null,null,null,null,null,null,null,null,0,0,0,0,0,0,0]
[null,"کاردکس 102",{"$f":"'تعریف کالا'!$C$106","v":0},{"$f":"'تعریف کالا'!$D$106","v":0},{"$f":"'تعریف کالا'!$E$106","v":0},{"$f":"'تعریف کالا'!$G$106","v":0},null,{"$f":"'تعریف کالا'!$F$106","v":0},null,0,null,null,null,null,null,null,null,null,null,null,null,null,null,null,0,0,0,0,0,0,0]
[null,"کاردکس 103",{"$f":"'تعریف کالا'!$C$107","v":0},{"$f":"'تعریف کالا'!$D$107","v":0},{"$f":"'تعریف کالا'!$E$107","v":0},{"$f":"'تعریف کالا'!$G$107","v":0},null,{"$f":"'تعریف کالا'!$F$107","v":0},null,0,null,null,null,null,null,null,null,null,null,null,null,null,null,null,0,0,0,0,0,0,0]
[null,"کاردکس 104",{"$f":"'تعریف کالا'!$C$108","v":0},{"$f":"'تعریف کالا'!$D$108","v":0},{"$f":"'تعریف کالا'!$E$108","v":0},{"$f":"'تعریف کالا'!$G$108","v":0},null,{"$f":"'تعریف کالا'!$F$108","v":0},null,0,null,null,null,null,null,null,null,null,null,null,null,null,null,null,0,0,0,0,0,0,0]
[null,"کاردکس 105",{"$f":"'تعریف کالا'!$C$109","v":0},{"$f":"'تعریف کالا'!$D$109","v":0},{"$f":"'تعریف کالا'!$E$109","v":0},{"$f":"'تعریف کالا'!$G$109","v":0},null,{"$f":"'تعریف کالا'!$F$109","v":0},null,0,null,null,null,null,null,null,null,null,null,null,null,null,null,null,0,0,0,0,0,0,0]
[null,"کاردکس 106",{"$f":"'تعریف کالا'!$C$110","v":0},{"$f":"'تعریف کالا'!$D$110","v":0},{"$f":"'تعریف کالا'!$E$110","v":0},{"$f":"'تعریف کالا'!$G$110","v":0},null,{"$f":"'تعریف کالا'!$F$110","v":0},null,0,null,null,null,null,null,null,null,null,null,null,null,null,null,null,0,0,0,0,0,0,0]
[null,"کاردکس 107",{"$f":"'تعریف کالا'!$C$111","v":0},{"$f":"'تعریف کالا'!$D$111","v":0},{"$f":"'تعریف کالا'!$E$111","v":0},{"$f":"'تعریف کالا'!$G$111","v":0},null,{"$f":"'تعریف کالا'!$F$111","v":0},null,0,null,null,null,null,null,null,null,null,null,null,null,null,null,null,0,0,0,0,0,0,0]
[null,"کاردکس 108",{"$f":"'تعریف کالا'!$C$112","v":0},{"$f":"'تعریف کالا'!$D$112","v":0},{"$f":"'تعریف کالا'!$E$112","v":0},{"$f":"'تعریف کالا'!$G$112","v":0},null,{"$f":"'تعریف کالا'!$F$112","v":0},null,0,null,null,null,null,null,null,null,null,null,null,null,null,null,null,0,0,0,0,0,0,0]
[null,"کاردکس 109",{"$f":"'تعریف کالا'!$C$113","v":0},{"$f":"'تعریف کالا'!$D$113","v":0},{"$f":"'تعریف کالا'!$E$113","v":0},{"$f":"'تعریف کالا'!$G$113","v":0},null,{"$f":"'تعریف کالا'!$F$113","v":0},null,0,null,null,null,null,null,null,null,null,null,null,null,null,null,null,0,0,0,0,0,0,0]
[null,"کاردکس 110",{"$f":"'تعریف کالا'!$C$114","v":0},{"$f":"'تعریف کالا'!$D$114","v":0},{"$f":"'تعریف کالا'!$E$114","v":0},{"$f":"'تعریف کالا'!$G$114","v":0},null,{"$f":"'تعریف کالا'!$F$114","v":0},null,0,null,null,null,null,null,null,null,null,null,null,null,null,null,null,0,0,0,0,0,0,0]
[null,"کاردکس 111",{"$f":"'تعریف کالا'!$C$115","v":0},{"$f":"'تعریف کالا'!$D$115","v":0},{"$f":"'تعریف کالا'!$E$115","v":0},{"$f":"'تعریف کالا'!$G$115","v":0},null,{"$f":"'تعریف کالا'!$F$115","v":0},null,0,null,null,null,null,null,null,null,null,null,null,null,null,null,null,0,0,0,0,0,0,0]
[null,"کاردکس 112",{"$f":"'تعریف کالا'!$C$116","v":0},{"$f":"'تعریف کالا'!$D$116","v":0},{"$f":"'تعریف کالا'!$E$116","v":0},{"$f":"'تعریف کالا'!$G$116","v":0},null,{"$f":"'تعریف کالا'!$F$116","v":0},null,0,null,null,null,null,null,null,null,null,null,null,null,null,null,null,0,0,0,0,0,0,0]
[null,"کاردکس 113",{"$f":"'تعریف کالا'!$C$117","v":0},{"$f":"'تعریف کالا'!$D$117","v":0},{"$f":"'تعریف کالا'!$E$117","v":0},{"$f":"'تعریف کالا'!$G$117","v":0},null,{"$f":"'تعریف کالا'!$F$117","v":0},null,0,null,null,null,null,null,null,null,null,null,null,null,null,null,null,0,0,0,0,0,0,0]
[null,"کاردکس 114",{"$f":"'تعریف کالا'!$C$118","v":0},{"$f":"'تعریف کالا'!$D$118","v":0},{"$f":"'تعریف کالا'!$E$118","v":0},{"$f":"'تعریف کالا'!$G$118","v":0},null,{"$f":"'تعریف کالا'!$F$118","v":0},null,0,null,null,null,null,null,null,null,null,null,null,null,null,null,null,0,0,0,0,0,0,0]
[null,"کاردکس 115",{"$f":"'تعریف کالا'!$C$119","v":0},{"$f":"'تعریف کالا'!$D$119","v":0},{"$f":"'تعریف کالا'!$E$119","v":0},{"$f":"'تعریف کالا'!$G$119","v":0},null,{"$f":"'تعریف کالا'!$F$119","v":0},null,0,null,null,null,null,null,null,null,null,null,null,null,null,null,null,0,0,0,0,0,0,0]
[null,"کاردکس 116",{"$f":"'تعریف کالا'!$C$120","v":0},{"$f":"'تعریف کالا'!$D$120","v":0},{"$f":"'تعریف کالا'!$E$120","v":0},{"$f":"'تعریف کالا'!$G$120","v":0},null,{"$f":"'تعریف کالا'!$F$120","v":0},null,0,null,null,null,null,null,null,null,null,null,null,null,null,null,null,0,0,0,0,0,0,0]
[null,"کاردکس 117",{"$f":"'تعریف کالا'!$C$121","v":0},{"$f":"'تعریف کالا'!$D$121","v":0},{"$f":"'تعریف کالا'!$E$121","v":0},{"$f":"'تعریف کالا'!$G$121","v":0},null,{"$f":"'تعریف کالا'!$F$121","v":0},null,0,null,null,null,null,null,null,null,null,null,null,null,null,null,null,0,0,0,0,0,0,0]
[null,"کاردکس 118",{"$f":"'تعریف کالا'!$C$122","v":0},{"$f":"'تعریف کالا'!$D$122","v":0},{"$f":"'تعریف کالا'!$E$122","v":0},{"$f":"'تعریف کالا'!$G$122","v":0},null,{"$f":"'تعریف کالا'!$F$122","v":0},null,0,null,null,null,null,null,null,null,null,null,null,null,null,null,null,0,0,0,0,0,0,0]
[null,"کاردکس 119",{"$f":"'تعریف کالا'!$C$123","v":0},{"$f":"'تعریف کالا'!$D$123","v":0},{"$f":"'تعریف کالا'!$E$123","v":0},{"$f":"'تعریف کالا'!$G$123","v":0},null,{"$f":"'تعریف کالا'!$F$123","v":0},null,0,null,null,null,null,null,null,null,null,null,null,null,null,null,null,0,0,0,0,0,0,0]
[null,"کاردکس 120",{"$f":"'تعریف کالا'!$C$124","v":0},{"$f":"'تعریف کالا'!$D$124","v":0},{"$f":"'تعریف کالا'!$E$124","v":0},{"$f":"'تعریف کالا'!$G$124","v":0},null,{"$f":"'تعریف کالا'!$F$124","v":0},null,0,null,null,null,null,null,null,null,null,null,null,null,null,null,null,0,0,0,0,0,0,0]
[null,"کاردکس 121",{"$f":"'تعریف کالا'!$C$125","v":0},{"$f":"'تعریف کالا'!$D$125","v":0},{"$f":"'تعریف کالا'!$E$125","v":0},{"$f":"'تعریف کالا'!$G$125","v":0},null,{"$f":"'تعریف کالا'!$F$125","v":0},null,0,null,null,null,null,null,null,null,null,null,null,null,null,null,null,0,0,0,0,0,0,0]
[null,"کاردکس 122",{"$f":"'تعریف کالا'!$C$126","v":0},{"$f":"'تعریف کالا'!$D$126","v":0},{"$f":"'تعریف کالا'!$E$126","v":0},{"$f":"'تعریف کالا'!$G$126","v":0},null,{"$f":"'تعریف کالا'!$F$126","v":0},null,0,null,null,null,null,null,null,null,null,null,null,null,null,null,null,0,0,0,0,0,0,0]
[null,"کاردکس 123",{"$f":"'تعریف کالا'!$C$127","v":0},{"$f":"'تعریف کالا'!$D$127","v":0},{"$f":"'تعریف کالا'!$E$127","v":0},{"$f":"'تعریف کالا'!$G$127","v":0},null,{"$f":"'تعریف کالا'!$F$127","v":0},null,0,null,null,null,null,null,null,null,null,null,null,null,null,null,null,0,0,0,0,0,0,0]
[null,"کاردکس 124",{"$f":"'تعریف کالا'!$C$128","v":0},{"$f":"'تعریف کالا'!$D$128","v":0},{"$f":"'تعریف کالا'!$E$128","v":0},{"$f":"'تعریف کالا'!$G$128","v":0},null,{"$f":"'تعریف کالا'!$F$128","v":0},null,0,null,null,null,null,null,null,null,null,null,null,null,null,null,null,0,0,0,0,0,0,0]
[null,"کاردکس 125",{"$f":"'تعریف کالا'!$C$129","v":0},{"$f":"'تعریف کالا'!$D$129","v":0},{"$f":"'تعریف کالا'!$E$129","v":0},{"$f":"'تعریف کالا'!$G$129","v":0},null,{"$f":"'تعریف کالا'!$F$129","v":0},null,0,null,null,null,null,null,null,null,null,null,null,null,null,null,null,0,0,0,0,0,0,0]
[null,"کاردکس 126",{"$f":"'تعریف کالا'!$C$130","v":0},{"$f":"'تعریف کالا'!$D$130","v":0},{"$f":"'تعریف کالا'!$E$130","v":0},{"$f":"'تعریف کالا'!$G$130","v":0},null,{"$f":"'تعریف کالا'!$F$130","v":0},null,0,null,null,null,null,null,null,null,null,null,null,null,null,null,null,0,0,0,0,0,0,0]
[null,"کاردکس 127",{"$f":"'تعریف کالا'!$C$131","v":0},{"$f":"'تعریف کالا'!$D$131","v":0},{"$f":"'تعریف کالا'!$E$131","v":0},{"$f":"'تعریف کالا'!$G$131","v":0},null,{"$f":"'تعریف کالا'!$F$131","v":0},null,0,null,null,null,null,null,null,null,null,null,null,null,null,null,null,0,0,0,0,0,0,0]
[null,"کاردکس 128",{"$f":"'تعریف کالا'!$C$132","v":0},{"$f":"'تعریف کالا'!$D$132","v":0},{"$f":"'تعریف کالا'!$E$132","v":0},{"$f":"'تعریف کالا'!$G$132","v":0},null,{"$f":"'تعریف کالا'!$F$132","v":0},null,0,null,null,null,null,null,null,null,null,null,null,null,null,null,null,0,0,0,0,0,0,0]
[null,"کاردکس 129",{"$f":"'تعریف کالا'!$C$133","v":0},{"$f":"'تعریف کالا'!$D$133","v":0},{"$f":"'تعریف کالا'!$E$133","v":0},{"$f":"'تعریف کالا'!$G$133","v":0},null,{"$f":"'تعریف کالا'!$F$133","v":0},null,0,null,null,null,null,null,null,null,null,null,null,null,null,null,null,0,0,0,0,0,0,0]
[null,"کاردکس 130",{"$f":"'تعریف کالا'!$C$134","v":0},{"$f":"'تعریف کالا'!$D$134","v":0},{"$f":"'تعریف کالا'!$E$134","v":0},{"$f":"'تعریف کالا'!$G$134","v":0},null,{"$f":"'تعریف کالا'!$F$134","v":0},null,0,null,null,null,null,null,null,null,null,null,null,null,null,null,null,0,0,0,{"$f":"F147","v":0},{"$f":"H147","v":0},0,0]
[null,"کاردکس 131",{"$f":"'تعریف کالا'!$C$135","v":0},{"$f":"'تعریف کالا'!$D$135","v":0},{"$f":"'تعریف کالا'!$E$135","v":0},{"$f":"'تعریف کالا'!$G$135","v":0},null,{"$f":"'تعریف کالا'!$F$135","v":0},null,{"$f":"(F148*I148)-(F148*I148*G148%)","v":0},null,null,null,null,null,null,null,null,null,null,null,null,null,null,{"$f":"C148","v":0},0,0,0,0,0,0]
[null,"کاردکس 132",{"$f":"'تعریف کالا'!$C$136","v":0},{"$f":"'تعریف کالا'!$D$136","v":0},{"$f":"'تعریف کالا'!$E$136","v":0},{"$f":"'تعریف کالا'!$G$136","v":0},null,{"$f":"'تعریف کالا'!$F$136","v":0},null,0,null,null,null,null,null,null,null,null,null,null,null,null,null,null,0,0,0,0,0,0,0]
[null,"کاردکس 133",{"$f":"'تعریف کالا'!$C$137","v":0},{"$f":"'تعریف کالا'!$D$137","v":0},{"$f":"'تعریف کالا'!$E$137","v":0},{"$f":"'تعریف کالا'!$G$137","v":0},null,{"$f":"'تعریف کالا'!$F$137","v":0},null,0,null,null,null,null,null,null,null,null,null,null,null,null,null,null,0,0,0,0,0,0,0]
[null,"کاردکس 134",{"$f":"'تعریف کالا'!$C$138","v":0},{"$f":"'تعریف کالا'!$D$138","v":0},{"$f":"'تعریف کالا'!$E$138","v":0},{"$f":"'تعریف کالا'!$G$138","v":0},null,{"$f":"'تعریف کالا'!$F$138","v":0},null,0,null,null,null,null,null,null,null,null,null,null,null,null,null,null,0,0,0,0,0,0,0]
[null,"کاردکس 135",{"$f":"'تعریف کالا'!$C$139","v":0},{"$f":"'تعریف کالا'!$D$139","v":0},{"$f":"'تعریف کالا'!$E$139","v":0},{"$f":"'تعریف کالا'!$G$139","v":0},null,{"$f":"'تعریف کالا'!$F$139","v":0},null,0,null,null,null,null,null,null,null,null,null,null,null,null,null,null,0,0,0,0,0,0,0]
[null,"کاردکس 136",{"$f":"'تعریف کالا'!$C$140","v":0},{"$f":"'تعریف کالا'!$D$140","v":0},{"$f":"'تعریف کالا'!$E$140","v":0},{"$f":"'تعریف کالا'!$G$140","v":0},null,{"$f":"'تعریف کالا'!$F$140","v":0},null,0,null,null,null,null,null,null,null,null,null,null,null,null,null,null,0,0,0,0,0,0,0]
[null,"کاردکس 137",{"$f":"'تعریف کالا'!$C$141","v":0},{"$f":"'تعریف کالا'!$D$141","v":0},{"$f":"'تعریف کالا'!$E$141","v":0},{"$f":"'تعریف کالا'!$G$141","v":0},null,{"$f":"'تعریف کالا'!$F$141","v":0},null,0,null,null,null,null,null,null,null,null,null,null,null,null,null,null,0,0,0,0,0,0,0]
[null,"کاردکس 138",{"$f":"'تعریف کالا'!$C$142","v":0},{"$f":"'تعریف کالا'!$D$142","v":0},{"$f":"'تعریف کالا'!$E$142","v":0},{"$f":"'تعریف کالا'!$G$142","v":0},null,{"$f":"'تعریف کالا'!$F$142","v":0},null,0,null,null,null,null,null,null,null,null,null,null,null,null,null,null,0,0,0,0,0,0,0]
[null,"کاردکس 139",{"$f":"'تعریف کالا'!$C$143","v":0},{"$f":"'تعریف کالا'!$D$143","v":0},{"$f":"'تعریف کالا'!$E$143","v":0},{"$f":"'تعریف کالا'!$G$143","v":0},null,{"$f":"'تعریف کالا'!$F$143","v":0},null,0,null,null,null,null,null,null,null,null,null,null,null,null,null,null,0,0,0,0,0,0,0]
[null,"کاردکس 140",{"$f":"'تعریف کالا'!$C$144","v":0},{"$f":"'تعریف کالا'!$D$144","v":0},{"$f":"'تعریف کالا'!$E$144","v":0},{"$f":"'تعریف کالا'!$G$144","v":0},null,{"$f":"'تعریف کالا'!$F$144","v":0},null,0,null,null,null,null,null,null,null,null,null,null,null,null,null,null,0,0,0,0,0,0,0]
[null,"کاردکس 141",{"$f":"'تعریف کالا'!$C$145","v":0},{"$f":"'تعریف کالا'!$D$145","v":0},{"$f":"'تعریف کالا'!$E$145","v":0},{"$f":"'تعریف کالا'!$G$145","v":0},null,{"$f":"'تعریف کالا'!$F$145","v":0},null,0,null,null,null,null,null,null,null,null,null,null,null,null,null,null,0,0,0,0,0,0,0]
[null,"کاردکس 142",{"$f":"'تعریف کالا'!$C$146","v":0},{"$f":"'تعریف کالا'!$D$146","v":0},{"$f":"'تعریف کالا'!$E$146","v":0},{"$f":"'تعریف کالا'!$G$146","v":0},null,{"$f":"'تعریف کالا'!$F$146","v":0},null,0,null,null,null,null,null,null,null,null,null,null,null,null,null,null,0,0,0,0,0,0,0]
[null,"کاردکس 143",{"$f":"'تعریف کالا'!$C$147","v":0},{"$f":"'تعریف کالا'!$D$147","v":0},{"$f":"'تعریف کالا'!$E$147","v":0},{"$f":"'تعریف کالا'!$G$147","v":0},null,{"$f":"'تعریف کالا'!$F$147","v":0},null,0,null,null,null,null,null,null,null,null,null,null,null,null,null,null,0,0,0,0,0,0,0]
[null,"کاردکس 144",{"$f":"'تعریف کالا'!$C$148","v":0},{"$f":"'تعریف کالا'!$D$148","v":0},{"$f":"'تعریف کالا'!$E$148","v":0},{"$f":"'تعریف کالا'!$G$148","v":0},null,{"$f":"'تعریف کالا'!$F$148","v":0},null,0,null,null,null,null,null,null,null,null,null,null,null,null,null,null,0,0,0,0,0,0,0]
[null,"کاردکس 145",{"$f":"'تعریف کالا'!$C$149","v":0},{"$f":"'تعریف کالا'!$D$149","v":0},{"$f":"'تعریف کالا'!$E$149","v":0},{"$f":"'تعریف کالا'!$G$149","v":0},null,{"$f":"'تعریف کالا'!$F$149","v":0},null,0,null,null,null,null,null,null,null,null,null,null,null,null,null,null,0,0,0,0,0,0,0]
[null,"کاردکس 146",{"$f":"'تعریف کالا'!$C$150","v":0},{"$f":"'تعریف کالا'!$D$150","v":0},{"$f":"'تعریف کالا'!$E$150","v":0},{"$f":"'تعریف کالا'!$G$150","v":0},null,{"$f":"'تعریف کالا'!$F$150","v":0},null,0,null,null,null,null,null,null,null,null,null,null,null,null,null,null,0,0,0,0,0,0,0]
[null,"کاردکس 147",{"$f":"'تعریف کالا'!$C$151","v":0},{"$f":"'تعریف کالا'!$D$151","v":0},{"$f":"'تعریف کالا'!$E$151","v":0},{"$f":"'تعریف کالا'!$G$151","v":0},null,{"$f":"'تعریف کالا'!$F$151","v":0},null,0,null,null,null,null,null,null,null,null,null,null,null,null,null,null,0,0,0,0,0,0,0]
[null,"کاردکس 148",{"$f":"'تعریف کالا'!$C$152","v":0},{"$f":"'تعریف کالا'!$D$152","v":0},{"$f":"'تعریف کالا'!$E$152","v":0},{"$f":"'تعریف کالا'!$G$152","v":0},null,{"$f":"'تعریف کالا'!$F$152","v":0},null,0,null,null,null,null,null,null,null,null,null,null,null,null,null,null,0,0,0,0,0,0,0]
[null,"کاردکس 149",{"$f":"'تعریف کالا'!$C$153","v":0},{"$f":"'تعریف کالا'!$D$153","v":0},{"$f":"'تعریف کالا'!$E$153","v":0},{"$f":"'تعریف کالا'!$G$153","v":0},null,{"$f":"'تعریف کالا'!$F$153","v":0},null,0,null,null,null,null,null,null,null,null,null,null,null,null,null,null,0,0,0,0,0,0,0]
[null,"کاردکس 150",{"$f":"'تعریف کالا'!$C$154","v":0},{"$f":"'تعریف کالا'!$D$154","v":0},{"$f":"'تعریف کالا'!$E$154","v":0},{"$f":"'تعریف کالا'!$G$154","v":0},null,{"$f":"'تعریف کالا'!$F$154","v":0},null,0,null,null,null,null,null,null,null,null,null,null,null,null,null,null,0,0,0,0,0,0,0]
[null,"کاردکس 151",{"$f":"'تعریف کالا'!$C$155","v":0},{"$f":"'تعریف کالا'!$D$155","v":0},{"$f":"'تعریف کالا'!$E$155","v":0},{"$f":"'تعریف کالا'!$G$155","v":0},null,{"$f":"'تعریف کالا'!$F$155","v":0},null,0,null,null,null,null,null,null,null,null,null,null,null,null,null,null,0,0,0,0,0,0,0]
[null,"کاردکس 152",{"$f":"'تعریف کالا'!$C$156","v":0},{"$f":"'تعریف کالا'!$D$156","v":0},{"$f":"'تعریف کالا'!$E$156","v":0},{"$f":"'تعریف کالا'!$G$156","v":0},null,{"$f":"'تعریف کالا'!$F$156","v":0},null,0,null,null,null,null,null,null,null,null,null,null,null,null,null,null,0,0,0,0,0,0,0]
[null,"کاردکس 153",{"$f":"'تعریف کالا'!$C$157","v":0},{"$f":"'تعریف کالا'!$D$157","v":0},{"$f":"'تعریف کالا'!$E$157","v":0},{"$f":"'تعریف کالا'!$G$157","v":0},null,{"$f":"'تعریف کالا'!$F$157","v":0},null,0,null,null,null,null,null,null,null,null,null,null,null,null,null,null,0,0,0,0,0,0,0]
[null,"کاردکس 154",{"$f":"'تعریف کالا'!$C$158","v":0},{"$f":"'تعریف کالا'!$D$158","v":0},{"$f":"'تعریف کالا'!$E$158","v":0},{"$f":"'تعریف کالا'!$G$158","v":0},null,{"$f":"'تعریف کالا'!$F$158","v":0},null,0,null,null,null,null,null,null,null,null,null,null,null,null,null,null,0,0,0,0,0,0,0]
[null,"کاردکس 155",{"$f":"'تعریف کالا'!$C$159","v":0},{"$f":"'تعریف کالا'!$D$159","v":0},{"$f":"'تعریف کالا'!$E$159","v":0},{"$f":"'تعریف کالا'!$G$159","v":0},null,{"$f":"'تعریف کالا'!$F$159","v":0},null,0,null,null,null,null,null,null,null,null,null,null,null,null,null,null,0,0,0,0,0,0,0]
[null,"کاردکس 156",{"$f":"'تعریف کالا'!$C$160","v":0},{"$f":"'تعریف کالا'!$D$160","v":0},{"$f":"'تعریف کالا'!$E$160","v":0},{"$f":"'تعریف کالا'!$G$160","v":0},null,{"$f":"'تعریف کالا'!$F$160","v":0},null,0,null,null,null,null,null,null,null,null,null,null,null,null,null,null,0,0,0,0,0,0,0]
[null,"کاردکس 157",{"$f":"'تعریف کالا'!$C$161","v":0},{"$f":"'تعریف کالا'!$D$161","v":0},{"$f":"'تعریف کالا'!$E$161","v":0},{"$f":"'تعریف کالا'!$G$161","v":0},null,{"$f":"'تعریف کالا'!$F$161","v":0},null,0,null,null,null,null,null,null,null,null,null,null,null,null,null,null,0,0,0,0,0,0,0]
[null,"کاردکس 158",{"$f":"'تعریف کالا'!$C$162","v":0},{"$f":"'تعریف کالا'!$D$162","v":0},{"$f":"'تعریف کالا'!$E$162","v":0},{"$f":"'تعریف کالا'!$G$162","v":0},null,{"$f":"'تعریف کالا'!$F$162","v":0},null,0,null,null,null,null,null,null,null,null,null,null,null,null,null,null,0,0,0,0,0,0,0]
[null,"کاردکس 159",{"$f":"'تعریف کالا'!$C$163","v":0},{"$f":"'تعریف کالا'!$D$163","v":0},{"$f":"'تعریف کالا'!$E$163","v":0},{"$f":"'تعریف کالا'!$G$163","v":0},null,{"$f":"'تعریف کالا'!$F$163","v":0},null,0,null,null,null,null,null,null,null,null,null,null,null,null,null,null,0,0,0,0,0,0,0]
[null,"کاردکس 160",{"$f":"'تعریف کالا'!$C$164","v":0},{"$f":"'تعریف کالا'!$D$164","v":0},{"$f":"'تعریف کالا'!$E$164","v":0},{"$f":"'تعریف کالا'!$G$164","v":0},null,{"$f":"'تعریف کالا'!$F$164","v":0},null,0,null,null,null,null,null,null,null,null,null,null,null,null,null,null,0,0,0,0,0,0,0]
[null,"کاردکس 161",{"$f":"'تعریف کالا'!$C$165","v":0},{"$f":"'تعریف کالا'!$D$165","v":0},{"$f":"'تعریف کالا'!$E$165","v":0},{"$f":"'تعریف کالا'!$G$165","v":0},null,{"$f":"'تعریف کالا'!$F$165","v":0},null,0,null,null,null,null,null,null,null,null,null,null,null,null,null,null,0,0,0,0,0,0,0]
[null,"کاردکس 162",{"$f":"'تعریف کالا'!$C$166","v":0},{"$f":"'تعریف کالا'!$D$166","v":0},{"$f":"'تعریف کالا'!$E$166","v":0},{"$f":"'تعریف کالا'!$G$166","v":0},null,{"$f":"'تعریف کالا'!$F$166","v":0},null,0,null,null,null,null,null,null,null,null,null,null,null,null,null,null,0,0,0,0,0,0,0]
[null,"کاردکس 163",{"$f":"'تعریف کالا'!$C$167","v":0},{"$f":"'تعریف کالا'!$D$167","v":0},{"$f":"'تعریف کالا'!$E$167","v":0},{"$f":"'تعریف کالا'!$G$167","v":0},null,{"$f":"'تعریف کالا'!$F$167","v":0},null,0,null,null,null,null,null,null,null,null,null,null,null,null,null,null,0,0,0,0,0,0,0]
[null,"کاردکس 164",{"$f":"'تعریف کالا'!$C$168","v":0},{"$f":"'تعریف کالا'!$D$168","v":0},{"$f":"'تعریف کالا'!$E$168","v":0},{"$f":"'تعریف کالا'!$G$168","v":0},null,{"$f":"'تعریف کالا'!$F$168","v":0},null,0,null,null,null,null,null,null,null,null,null,null,null,null,null,null,0,0,0,0,0,0,0]
[null,"کاردکس 165",{"$f":"'تعریف کالا'!$C$169","v":0},{"$f":"'تعریف کالا'!$D$169","v":0},{"$f":"'تعریف کالا'!$E$169","v":0},{"$f":"'تعریف کالا'!$G$169","v":0},null,{"$f":"'تعریف کالا'!$F$169","v":0},null,0,null,null,null,null,null,null,null,null,null,null,null,null,null,null,0,0,0,0,0,0,0]
[null,"کاردکس 166",{"$f":"'تعریف کالا'!$C$170","v":0},{"$f":"'تعریف کالا'!$D$170","v":0},{"$f":"'تعریف کالا'!$E$170","v":0},{"$f":"'تعریف کالا'!$G$170","v":0},null,{"$f":"'تعریف کالا'!$F$170","v":0},null,0,null,null,null,null,null,null,null,null,null,null,null,null,null,null,0,0,0,0,0,0,0]
[null,"کاردکس 167",{"$f":"'تعریف کالا'!$C$171","v":0},{"$f":"'تعریف کالا'!$D$171","v":0},{"$f":"'تعریف کالا'!$E$171","v":0},{"$f":"'تعریف کالا'!$G$171","v":0},null,{"$f":"'تعریف کالا'!$F$171","v":0},null,0,null,null,null,null,null,null,null,null,null,null,null,null,null,null,0,0,0,0,0,0,0]
[null,"کاردکس 168",{"$f":"'تعریف کالا'!$C$172","v":0},{"$f":"'تعریف کالا'!$D$172","v":0},{"$f":"'تعریف کالا'!$E$172","v":0},{"$f":"'تعریف کالا'!$G$172","v":0},null,{"$f":"'تعریف کالا'!$F$172","v":0},null,0,null,null,null,null,null,null,null,null,null,null,null,null,null,null,0,0,0,0,0,0,0]
[null,"کاردکس 169",{"$f":"'تعریف کالا'!$C$173","v":0},{"$f":"'تعریف کالا'!$D$173","v":0},{"$f":"'تعریف کالا'!$E$173","v":0},{"$f":"'تعریف کالا'!$G$173","v":0},null,{"$f":"'تعریف کالا'!$F$173","v":0},null,0,null,null,null,null,null,null,null,null,null,null,null,null,null,null,0,0,0,0,0,0,0]
[null,"کاردکس 170",{"$f":"'تعریف کالا'!$C$174","v":0},{"$f":"'تعریف کالا'!$D$174","v":0},{"$f":"'تعریف کالا'!$E$174","v":0},{"$f":"'تعریف کالا'!$G$174","v":0},null,{"$f":"'تعریف کالا'!$F$174","v":0},null,0,null,null,null,null,null,null,null,null,null,null,null,null,null,null,0,0,0,0,0,0,0]
[null,"کاردکس 171",{"$f":"'تعریف کالا'!$C$175","v":0},{"$f":"'تعریف کالا'!$D$175","v":0},{"$f":"'تعریف کالا'!$E$175","v":0},{"$f":"'تعریف کالا'!$G$175","v":0},null,{"$f":"'تعریف کالا'!$F$175","v":0},null,0,null,null,null,null,null,null,null,null,null,null,null,null,null,null,0,0,0,0,0,0,0]
[null,"کاردکس 172",{"$f":"'تعریف کالا'!$C$176","v":0},{"$f":"'تعریف کالا'!$D$176","v":0},{"$f":"'تعریف کالا'!$E$176","v":0},{"$f":"'تعریف کالا'!$G$176","v":0},null,{"$f":"'تعریف کالا'!$F$176","v":0},null,0,null,null,null,null,null,null,null,null,null,null,null,null,null,null,0,0,0,0,0,0,0]
[null,"کاردکس 173",{"$f":"'تعریف کالا'!$C$177","v":0},{"$f":"'تعریف کالا'!$D$177","v":0},{"$f":"'تعریف کالا'!$E$177","v":0},{"$f":"'تعریف کالا'!$G$177","v":0},null,{"$f":"'تعریف کالا'!$F$177","v":0},null,0,null,null,null,null,null,null,null,null,null,null,null,null,null,null,0,0,0,0,0,0,0]
[null,"کاردکس 174",{"$f":"'تعریف کالا'!$C$178","v":0},{"$f":"'تعریف کالا'!$D$178","v":0},{"$f":"'تعریف کالا'!$E$178","v":0},{"$f":"'تعریف کالا'!$G$178","v":0},null,{"$f":"'تعریف کالا'!$F$178","v":0},null,0,null,null,null,null,null,null,null,null,null,null,null,null,null,null,0,0,0,0,0,0,0]
[null,"کاردکس 175",{"$f":"'تعریف کالا'!$C$179","v":0},{"$f":"'تعریف کالا'!$D$179","v":0},{"$f":"'تعریف کالا'!$E$179","v":0},{"$f":"'تعریف کالا'!$G$179","v":0},null,{"$f":"'تعریف کالا'!$F$179","v":0},null,0,null,null,null,null,null,null,null,null,null,null,null,null,null,null,0,0,0,0,0,0,0]
[null,"کاردکس 176",{"$f":"'تعریف کالا'!$C$180","v":0},{"$f":"'تعریف کالا'!$D$180","v":0},{"$f":"'تعریف کالا'!$E$180","v":0},{"$f":"'تعریف کالا'!$G$180","v":0},null,{"$f":"'تعریف کالا'!$F$180","v":0},null,0,null,null,null,null,null,null,null,null,null,null,null,null,null,null,0,0,0,0,0,0,0]
[null,"کاردکس 177",{"$f":"'تعریف کالا'!$C$181","v":0},{"$f":"'تعریف کالا'!$D$181","v":0},{"$f":"'تعریف کالا'!$E$181","v":0},{"$f":"'تعریف کالا'!$G$181","v":0},null,{"$f":"'تعریف کالا'!$F$181","v":0},null,0,null,null,null,null,null,null,null,null,null,null,null,null,null,null,0,0,0,0,0,0,0]
[null,"کاردکس 178",{"$f":"'تعریف کالا'!$C$182","v":0},{"$f":"'تعریف کالا'!$D$182","v":0},{"$f":"'تعریف کالا'!$E$182","v":0},{"$f":"'تعریف کالا'!$G$182","v":0},null,{"$f":"'تعریف کالا'!$F$182","v":0},null,0,null,null,null,null,null,null,null,null,null,null,null,null,null,null,0,0,0,0,0,0,0]
[null,"کاردکس 179",{"$f":"'تعریف کالا'!$C$183","v":0},{"$f":"'تعریف کالا'!$D$183","v":0},{"$f":"'تعریف کالا'!$E$183","v":0},{"$f":"'تعریف کالا'!$G$183","v":0},null,{"$f":"'تعریف کالا'!$F$183","v":0},null,0,null,null,null,null,null,null,null,null,null,null,null,null,null,null,0,0,0,0,0,0,0]
[null,"کاردکس 180",{"$f":"'تعریف کالا'!$C$184","v":0},{"$f":"'تعریف کالا'!$D$184","v":0},{"$f":"'تعریف کالا'!$E$184","v":0},{"$f":"'تعریف کالا'!$G$184","v":0},null,{"$f":"'تعریف کالا'!$F$184","v":0},null,0,null,null,null,null,null,null,null,null,null,null,null,null,null,null,0,0,0,0,0,0,0]
[null,"کاردکس 181",{"$f":"'تعریف کالا'!$C$185","v":0},{"$f":"'تعریف کالا'!$D$185","v":0},{"$f":"'تعریف کالا'!$E$185","v":0},{"$f":"'تعریف کالا'!$G$185","v":0},null,{"$f":"'تعریف کالا'!$F$185","v":0},null,0,null,null,null,null,null,null,null,null,null,null,null,null,null,null,0,0,0,0,0,0,0]
[null,"کاردکس 182",{"$f":"'تعریف کالا'!$C$186","v":0},{"$f":"'تعریف کالا'!$D$186","v":0},{"$f":"'تعریف کالا'!$E$186","v":0},{"$f":"'تعریف کالا'!$G$186","v":0},null,{"$f":"'تعریف کالا'!$F$186","v":0},null,0,null,null,null,null,null,null,null,null,null,null,null,null,null,null,0,0,0,0,0,0,0]
[null,"کاردکس 183",{"$f":"'تعریف کالا'!$C$187","v":0},{"$f":"'تعریف کالا'!$D$187","v":0},{"$f":"'تعریف کالا'!$E$187","v":0},{"$f":"'تعریف کالا'!$G$187","v":0},null,{"$f":"'تعریف کالا'!$F$187","v":0},null,0,null,null,null,null,null,null,null,null,null,null,null,null,null,null,0,0,0,0,0,0,0]
[null,"کاردکس 184",{"$f":"'تعریف کالا'!$C$18","v":0},{"$f":"'تعریف کالا'!$D$188","v":0},{"$f":"'تعریف کالا'!$E$188","v":0},{"$f":"'تعریف کالا'!$G$188","v":0},null,{"$f":"'تعریف کالا'!$F$188","v":0},null,0,null,null,null,null,null,null,null,null,null,null,null,null,null,null,0,0,0,0,0,0,0]
[null,"کاردکس 185",{"$f":"'تعریف کالا'!$C$189","v":0},{"$f":"'تعریف کالا'!$D$189","v":0},{"$f":"'تعریف کالا'!$E$189","v":0},{"$f":"'تعریف کالا'!$G$189","v":0},null,{"$f":"'تعریف کالا'!$F$189","v":0},null,0,null,null,null,null,null,null,null,null,null,null,null,null,null,null,0,0,0,0,0,0,0]
[null,"کاردکس 186",{"$f":"'تعریف کالا'!$C$190","v":0},{"$f":"'تعریف کالا'!$D$190","v":0},{"$f":"'تعریف کالا'!$E$190","v":0},{"$f":"'تعریف کالا'!$G$190","v":0},null,{"$f":"'تعریف کالا'!$F$190","v":0},null,0,null,null,null,null,null,null,null,null,null,null,null,null,null,null,0,0,0,0,0,0,0]
[null,"کاردکس 187",{"$f":"'تعریف کالا'!$C$191","v":0},{"$f":"'تعریف کالا'!$D$191","v":0},{"$f":"'تعریف کالا'!$E$191","v":0},{"$f":"'تعریف کالا'!$G$191","v":0},null,{"$f":"'تعریف کالا'!$F$191","v":0},null,0,null,null,null,null,null,null,null,null,null,null,null,null,null,null,0,0,0,0,0,0,0]
[null,"کاردکس 188",{"$f":"'تعریف کالا'!$C$192","v":0},{"$f":"'تعریف کالا'!$D$192","v":0},{"$f":"'تعریف کالا'!$E$192","v":0},{"$f":"'تعریف کالا'!$G$192","v":0},null,{"$f":"'تعریف کالا'!$F$192","v":0},null,0,null,null,null,null,null,null,null,null,null,null,null,null,null,null,0,0,0,0,0,0,0]
[null,"کاردکس 189",{"$f":"'تعریف کالا'!$C$193","v":0},{"$f":"'تعریف کالا'!$D$193","v":0},{"$f":"'تعریف کالا'!$E$193","v":0},{"$f":"'تعریف کالا'!$G$193","v":0},null,{"$f":"'تعریف کالا'!$F$193","v":0},null,0,null,null,null,null,null,null,null,null,null,null,null,null,null,null,0,0,0,0,0,0,0]
[null,"کاردکس 190",{"$f":"'تعریف کالا'!$C$194","v":0},{"$f":"'تعریف کالا'!$D$194","v":0},{"$f":"'تعریف کالا'!$E$194","v":0},{"$f":"'تعریف کالا'!$G$194","v":0},null,{"$f":"'تعریف کالا'!$F$194","v":0},null,0,null,null,null,null,null,null,null,null,null,null,null,null,null,null,0,0,0,0,0,0,0]
[null,"کاردکس 191",{"$f":"'تعریف کالا'!$C$195","v":0},{"$f":"'تعریف کالا'!$D$195","v":0},{"$f":"'تعریف کالا'!$E$195","v":0},{"$f":"'تعریف کالا'!$G$195","v":0},null,{"$f":"'تعریف کالا'!$F$195","v":0},null,0,null,null,null,null,null,null,null,null,null,null,null,null,null,null,0,0,0,0,0,0,0]
[null,"کاردکس 192",{"$f":"'تعریف کالا'!$C$196","v":0},{"$f":"'تعریف کالا'!$D$196","v":0},{"$f":"'تعریف کالا'!$E$196","v":0},{"$f":"'تعریف کالا'!$G$196","v":0},null,{"$f":"'تعریف کالا'!$F$196","v":0},null,0,null,null,null,null,null,null,null,null,null,null,null,null,null,null,0,0,0,0,0,0,0]
[null,"کاردکس 193",{"$f":"'تعریف کالا'!$C$197","v":0},{"$f":"'تعریف کالا'!$D$197","v":0},{"$f":"'تعریف کالا'!$E$197","v":0},{"$f":"'تعریف کالا'!$G$197","v":0},null,{"$f":"'تعریف کالا'!$F$197","v":0},null,0,null,null,null,null,null,null,null,null,null,null,null,null,null,null,0,0,0,0,0,0,0]
[null,"کاردکس 194",{"$f":"'تعریف کالا'!$C$198","v":0},{"$f":"'تعریف کالا'!$D$198","v":0},{"$f":"'تعریف کالا'!$E$198","v":0},{"$f":"'تعریف کالا'!$G$198","v":0},null,{"$f":"'تعریف کالا'!$F$198","v":0},null,0,null,null,null,null,null,null,null,null,null,null,null,null,null,null,0,0,0,0,{"$f":"H211","v":0},0,0]
[null,"کاردکس 195",{"$f":"'تعریف کالا'!$C$199","v":0},{"$f":"'تعریف کالا'!$D$199","v":0},{"$f":"'تعریف کالا'!$E$199","v":0},{"$f":"'تعریف کالا'!$G$199","v":0},null,{"$f":"'تعریف کالا'!$F$199","v":0},null,{"$f":"(F212*I212)-(F212*I212*G212%)","v":0},null,null,null,null,null,null,null,null,null,null,null,null,null,null,{"$f":"C212","v":0},0,0,0,0,0,0]
[null,"کاردکس 196",{"$f":"'تعریف کالا'!$C$200","v":0},{"$f":"'تعریف کالا'!$D$200","v":0},{"$f":"'تعریف کالا'!$E$200","v":0},{"$f":"'تعریف کالا'!$G$200","v":0},null,{"$f":"'تعریف کالا'!$F$200","v":0},null,0,null,null,null,null,null,null,null,null,null,null,null,null,null,null,0,0,0,0,0,0,0]
[null,"کاردکس 197",{"$f":"'تعریف کالا'!$C$201","v":0},{"$f":"'تعریف کالا'!$D$201","v":0},{"$f":"'تعریف کالا'!$E$201","v":0},{"$f":"'تعریف کالا'!$G$201","v":0},null,{"$f":"'تعریف کالا'!$F$201","v":0},null,0,null,null,null,null,null,null,null,null,null,null,null,null,null,null,0,0,0,0,0,0,0]
[null,"کاردکس 198",{"$f":"'تعریف کالا'!$C$202","v":0},{"$f":"'تعریف کالا'!$D$202","v":0},{"$f":"'تعریف کالا'!$E$202","v":0},{"$f":"'تعریف کالا'!$G$202","v":0},null,{"$f":"'تعریف کالا'!$F$202","v":0},null,0,null,null,null,null,null,null,null,null,null,null,null,null,null,null,0,0,0,0,0,0,0]
[null,"کاردکس 199",{"$f":"'تعریف کالا'!$C$203","v":0},{"$f":"'تعریف کالا'!$D$203","v":0},{"$f":"'تعریف کالا'!$E$203","v":0},{"$f":"'تعریف کالا'!$G$203","v":0},null,{"$f":"'تعریف کالا'!$F$203","v":0},null,0,null,null,null,null,null,null,null,null,null,null,null,null,null,null,0,0,0,0,0,0,0]
[null,"کاردکس 200",{"$f":"'تعریف کالا'!$C$204","v":0},{"$f":"'تعریف کالا'!$D$204","v":0},{"$f":"'تعریف کالا'!$E$204","v":0},{"$f":"'تعریف کالا'!$G$204","v":0},null,{"$f":"'تعریف کالا'!$F$204","v":0},null,0,null,null,null,null,null,null,null,null,null,null,null,null,null,null,0,0,0,0,0,0,0]
[null,"     جمع کل",null,{"$f":"abh(I218)&L214","v":"منفي "},null,null,null,null,{"$f":"SUM(J18:J217)","v":0},null,null,null,null,null,null,null,null,null,null,null,null,null,null,"مانده حساب",null,{"$f":"abh(AD218)& \"ریال\"","v":"منفي ریال"},null,null,null,{"$f":"I220","v":0}]
[null,"                  مبلغ قابل  پرداخت        ",null,{"$f":"abh(I219)&\"ریال\"","v":"منفي ریال"},null,null,null,null,{"$f":"J12","v":0},null,null,null,null,null,null,null,null,null,null,null,null,null,null,"شرح رویداد :",null,{"$f":"E15","v":0}]
[null,"مانده حساب",null,{"$f":"abh(I220)&\"ریال\"","v":"منفي ریال"},null,null,null,null,{"$f":"J13","v":0},null,null,null,null,null,null,null,null,null,null,null,null,null,null,"اقلام این فاکتور سالم تحویل اینجانب  ....................  شد.               "]
[]
[null,null,null,null,null,null,null,null,null,null,null,null,null,null,null,null,null,null,null,null,null,null,null,null,"امضا صادر کننده",null,"امضا فروشنده",null,"امضا مسئول انبار",null,"امضا خریدار"]
[]
[]
[]
[]
[]
[]
[null,null,"فاکتور خرید"]
[null,null,null,null,null,{"$f":"'صفحه اصلی'!$J$4","v":0},null,null,null,null,null,"فاکتور بعدی",null,null,null,null,null,null,null,null,null,null,null,"رسید کالا"]
[null,"شماره سند ",2,null,null,null,null,null,"تاریخ",null,null,null,null,null,null,null,null,null,null,null,null,null,null,null,null,null,{"$f":"F230","v":0},null,null,"تاریخ",{"$f":"J231","v":0}]
[null,"شماره فاکتور",2,null,null,null,null,null,"انبار",null,null,"مشاهده رسید",null,null,null,null,null,null,null,null,null,null,null,"شماره رسید",{"$f":"C232","v":2}]
[null,null,null,null,null,null,null,null,null,null,null,null,null,null,null,null,null,null,null,null,null,null,null,"شماره سند",{"$f":"C231","v":2}]
[null,null,null,null,null,"           درصد تخفیف  ",null,null,"تخفیف ",{"$f":"(I443*G234%)","v":0}]
[null,null,"نام فروشنده","علی منصوری",null,"          کرایه حمل",null,null,"کرایه حمل",{"$f":"G235","v":0}]
[null,null,null,null,null,"          مالیات",null,null,"مالیات",{"$f":"(I443-J234+J235)*G236%","v":0}]
[null,null,"پرداخت نقدی",null,null,null,null,null,"مبلغ قابل پرداخت",{"$f":"I443-J234+J235+J236","v":0},null,null,null,null,null,null,null,null,null,null,null,null,null,null,"فروشنده :",{"$f":"D235","v":"علی منصوری"}]
[null,null,"پرداخت با چک",null,null,null,null,null,"مانده حساب",{"$f":"J237-D237-D238","v":0}]
[null,null,null,null,null,null,null,null,null,null,null,null,null,null,null,null,null,null,null,null,null,null,null,null,"آدرس :",{"$f":"VLOOKUP(Z237,'مشخصات فروشندگان'!$B$2:$C$502,2,FALSE)","v":0}]
[null,null,"ثبت چک","شرح رویداد"]
[]
[null,"شماره کاردکس","کد کالا","نام کالا","گروه بندی","قیمت واحد","درصد تخفیف","واحد شمارش","تعداد","قیمت کل",null,null,null,null,null,null,null,null,null,null,null,null,null,"ردیف","کد کالا","نام کالا","گروه بندی","قیمت واحد","واحد شمارش","تعداد","قیمت کل"]
[null,"کاردکس 1",{"$f":"'تعریف کالا'!$C$5","v":9011120},{"$f":"'تعریف کالا'!$D$5","v":"سی دی"},{"$f":"'تعریف کالا'!$E$5","v":"سخت افزار"},{"$f":"'تعریف کالا'!$G$5","v":3000},null,{"$f":"'تعریف کالا'!$F$5","v":"حلقه"},null,{"$f":"(F243*I243)-(F243*I243*G243%)","v":0},null,null,null,null,null,null,null,null,null,null,null,null,null,null,{"$f":"C243","v":9011120},{"$f":"D243","v":"سی دی"},{"$f":"E243","v":"سخت افزار"},{"$f":"F243","v":3000},{"$f":"H243","v":"حلقه"},{"$f":"I243","v":0},{"$f":"J243","v":0}]
[null,"کاردکس 2",{"$f":"'تعریف کالا'!$C$6","v":9011121},{"$f":"'تعریف کالا'!$D$6","v":"دی وی دی"},{"$f":"'تعریف کالا'!$E$6","v":"سخت افزار"},{"$f":"'تعریف کالا'!$G$6","v":7000},null,{"$f":"'تعریف کالا'!$F$6","v":"حلقه"},null,{"$f":"(F244*I244)-(F244*I244*G244%)","v":0},null,null,null,null,null,null,null,null,null,null,null,null,null,null,{"$f":"C244","v":9011121},{"$f":"D244","v":"دی وی دی"},{"$f":"E244","v":"سخت افزار"},{"$f":"F244","v":7000},{"$f":"H244","v":"حلقه"},{"$f":"I244","v":0},{"$f":"J244","v":0}]
[null,"کاردکس 3",{"$f":"'تعریف کالا'!$C$7","v":9011122},{"$f":"'تعریف کالا'!$D$7","v":"نوت بوک"},{"$f":"'تعریف کالا'!$E$7","v":"سخت افزار"},{"$f":"'تعریف کالا'!$G$7","v":10000000},null,{"$f":"'تعریف کالا'!$F$7","v":"دستگاه"},null,{"$f":"(F245*I245)-(F245*I245*G245%)","v":0},null,null,null,null,null,null,null,null,null,null,null,null,null,null,{"$f":"C245","v":9011122},"نوت بوک","سخت افزار",10000000,"دستگاه",0,0]
[null,"کاردکس 4",{"$f":"'تعریف کالا'!$C$8","v":0},{"$f":"'تعریف کالا'!$D$8","v":0},{"$f":"'تعریف کالا'!$E$8","v":0},{"$f":"'تعریف کالا'!$G$8","v":0},null,{"$f":"'تعریف کالا'!$F$8","v":0},null,0,null,null,null,null,null,null,null,null,null,null,null,null,null,null,0,0,0,0,0,0,0]
[null,"کاردکس 5",{"$f":"'تعریف کالا'!$C$9","v":0},{"$f":"'تعریف کالا'!$D$9","v":0},{"$f":"'تعریف کالا'!$E$9","v":0},{"$f":"'تعریف کالا'!$G$9","v":0},null,{"$f":"'تعریف کالا'!$F$9","v":0},null,0,null,null,null,null,null,null,null,null,null,null,null,null,null,null,0,0,0,0,0,0,0]
[null,"کاردکس 6",{"$f":"'تعریف کالا'!$C$10","v":0},{"$f":"'تعریف کالا'!$D$10","v":0},{"$f":"'تعریف کالا'!$E$10","v":0},{"$f":"'تعریف کالا'!$G$10","v":0},null,{"$f":"'تعریف کالا'!$F$10","v":0},null,0,null,null,null,null,null,null,null,null,null,null,null,null,null,null,0,0,0,0,0,0,0]
[null,"کاردکس 7",{"$f":"'تعریف کالا'!$C$11","v":0},{"$f":"'تعریف کالا'!$D$11","v":0},{"$f":"'تعریف کالا'!$E$11","v":0},{"$f":"'تعریف کالا'!$G$11","v":0},null,{"$f":"'تعریف کالا'!$F$11","v":0},null,0,null,null,null,null,null,null,null,null,null,null,null,null,null,null,0,0,0,0,0,0,0]
[null,"کاردکس 8",{"$f":"'تعریف کالا'!$C$12","v":0},{"$f":"'تعریف کالا'!$D$12","v":0},{"$f":"'تعریف کالا'!$E$12","v":0},{"$f":"'تعریف کالا'!$G$12","v":0},null,{"$f":"'تعریف کالا'!$F$12","v":0},null,0,null,null,null,null,null,null,null,null,null,null,null,null,null,null,0,0,0,0,0,0,0]
[null,"کاردکس 9",{"$f":"'تعریف کالا'!$C$13","v":0},{"$f":"'تعریف کالا'!$D$13","v":0},{"$f":"'تعریف کالا'!$E$13","v":0},{"$f":"'تعریف کالا'!$G$13","v":0},null,{"$f":"'تعریف کالا'!$F$13","v":0},null,0,null,null,null,null,null,null,null,null,null,null,null,null,null,null,0,0,0,0,0,0,0]
[null,"کاردکس 10",{"$f":"'تعریف کالا'!$C$14","v":0},{"$f":"'تعریف کالا'!$D$14","v":0},{"$f":"'تعریف کالا'!$E$14","v":0},{"$f":"'تعریف کالا'!$G$14","v":0},null,{"$f":"'تعریف کالا'!$F$14","v":0},null,0,null,null,null,null,null,null,null,null,null,null,null,null,null,null,0,0,0,0,0,0,0]
[null,"کاردکس 11",{"$f":"'تعریف کالا'!$C$15","v":0},{"$f":"'تعریف کالا'!$D$15","v":0},{"$f":"'تعریف کالا'!$E$15","v":0},{"$f":"'تعریف کالا'!$G$15","v":0},null,{"$f":"'تعریف کالا'!$F$15","v":0},null,0,null,null,null,null,null,null,null,null,null,null,null,null,null,null,0,0,0,0,0,0,0]
[null,"کاردکس 12",{"$f":"'تعریف کالا'!$C$16","v":0},{"$f":"'تعریف کالا'!$D$16","v":0},{"$f":"'تعریف کالا'!$E$16","v":0},{"$f":"'تعریف کالا'!$G$16","v":0},null,{"$f":"'تعریف کالا'!$F$16","v":0},null,0,null,null,null,null,null,null,null,null,null,null,null,null,null,null,0,0,0,0,0,0,0]
[null,"کاردکس 13",{"$f":"'تعریف کالا'!$C$17","v":0},{"$f":"'تعریف کالا'!$D$17","v":0},{"$f":"'تعریف کالا'!$E$17","v":0},{"$f":"'تعریف کالا'!$G$17","v":0},null,{"$f":"'تعریف کالا'!$F$17","v":0},null,0,null,null,null,null,null,null,null,null,null,null,null,null,null,null,0,0,0,0,0,0,0]
[null,"کاردکس 14",{"$f":"'تعریف کالا'!$C$18","v":0},{"$f":"'تعریف کالا'!$D$18","v":0},{"$f":"'تعریف کالا'!$E$18","v":0},{"$f":"'تعریف کالا'!$G$18","v":0},null,{"$f":"'تعریف کالا'!$F$18","v":0},null,0,null,null,null,null,null,null,null,null,null,null,null,null,null,null,0,0,0,0,0,0,0]
[null,"کاردکس 15",{"$f":"'تعریف کالا'!$C$19","v":0},{"$f":"'تعریف کالا'!$D$19","v":0},{"$f":"'تعریف کالا'!$E$19","v":0},{"$f":"'تعریف کالا'!$G$19","v":0},null,{"$f":"'تعریف کالا'!$F$19","v":0},null,0,null,null,null,null,null,null,null,null,null,null,null,null,null,null,0,0,0,0,0,0,0]
[null,"کاردکس 16",{"$f":"'تعریف کالا'!$C$20","v":0},{"$f":"'تعریف کالا'!$D$20","v":0},{"$f":"'تعریف کالا'!$E$20","v":0},{"$f":"'تعریف کالا'!$G$20","v":0},null,{"$f":"'تعریف کالا'!$F$20","v":0},null,0,null,null,null,null,null,null,null,null,null,null,null,null,null,null,0,0,0,0,0,0,0]
[null,"کاردکس 17",{"$f":"'تعریف کالا'!$C$21","v":0},{"$f":"'تعریف کالا'!$D$21","v":0},{"$f":"'تعریف کالا'!$E$21","v":0},{"$f":"'تعریف کالا'!$G$21","v":0},null,{"$f":"'تعریف کالا'!$F$21","v":0},null,0,null,null,null,null,null,null,null,null,null,null,null,null,null,null,0,0,0,0,0,0,0]
[null,"کاردکس 18",{"$f":"'تعریف کالا'!$C$22","v":0},{"$f":"'تعریف کالا'!$D$22","v":0},{"$f":"'تعریف کالا'!$E$22","v":0},{"$f":"'تعریف کالا'!$G$22","v":0},null,{"$f":"'تعریف کالا'!$F$22","v":0},null,0,null,null,null,null,null,null,null,null,null,null,null,null,null,null,0,0,0,0,0,0,0]
[null,"کاردکس 19",{"$f":"'تعریف کالا'!$C$23","v":0},{"$f":"'تعریف کالا'!$D$23","v":0},{"$f":"'تعریف کالا'!$E$23","v":0},{"$f":"'تعریف کالا'!$G$23","v":0},null,{"$f":"'تعریف کالا'!$F$23","v":0},null,0,null,null,null,null,null,null,null,null,null,null,null,null,null,null,0,0,0,0,0,0,0]
[null,"کاردکس 20",{"$f":"'تعریف کالا'!$C$24","v":0},{"$f":"'تعریف کالا'!$D$24","v":0},{"$f":"'تعریف کالا'!$E$24","v":0},{"$f":"'تعریف کالا'!$G$24","v":0},null,{"$f":"'تعریف کالا'!$F$24","v":0},null,0,null,null,null,null,null,null,null,null,null,null,null,null,null,null,0,0,0,0,0,0,0]
[null,"کاردکس 21",{"$f":"'تعریف کالا'!$C$25","v":0},{"$f":"'تعریف کالا'!$D$25","v":0},{"$f":"'تعریف کالا'!$E$25","v":0},{"$f":"'تعریف کالا'!$G$25","v":0},null,{"$f":"'تعریف کالا'!$F$25","v":0},null,0,null,null,null,null,null,null,null,null,null,null,null,null,null,null,0,0,0,0,0,0,0]
[null,"کاردکس 22",{"$f":"'تعریف کالا'!$C$26","v":0},{"$f":"'تعریف کالا'!$D$26","v":0},{"$f":"'تعریف کالا'!$E$26","v":0},{"$f":"'تعریف کالا'!$G$26","v":0},null,{"$f":"'تعریف کالا'!$F$26","v":0},null,0,null,null,null,null,null,null,null,null,null,null,null,null,null,null,0,0,0,0,0,0,0]
[null,"کاردکس 23",{"$f":"'تعریف کالا'!$C$27","v":0},{"$f":"'تعریف کالا'!$D$27","v":0},{"$f":"'تعریف کالا'!$E$27","v":0},{"$f":"'تعریف کالا'!$G$27","v":0},null,{"$f":"'تعریف کالا'!$F$27","v":0},null,0,null,null,null,null,null,null,null,null,null,null,null,null,null,null,0,0,0,0,0,0,0]
[null,"کاردکس 24",{"$f":"'تعریف کالا'!$C$28","v":0},{"$f":"'تعریف کالا'!$D$28","v":0},{"$f":"'تعریف کالا'!$E$28","v":0},{"$f":"'تعریف کالا'!$G$28","v":0},null,{"$f":"'تعریف کالا'!$F$28","v":0},null,0,null,null,null,null,null,null,null,null,null,null,null,null,null,null,0,0,0,0,0,0,0]
[null,"کاردکس 25",{"$f":"'تعریف کالا'!$C$29","v":0},{"$f":"'تعریف کالا'!$D$29","v":0},{"$f":"'تعریف کالا'!$E$29","v":0},{"$f":"'تعریف کالا'!$G$29","v":0},null,{"$f":"'تعریف کالا'!$F$29","v":0},null,0,null,null,null,null,null,null,null,null,null,null,null,null,null,null,0,0,0,0,0,0,0]
[null,"کاردکس 26",{"$f":"'تعریف کالا'!$C$30","v":0},{"$f":"'تعریف کالا'!$D$30","v":0},{"$f":"'تعریف کالا'!$E$30","v":0},{"$f":"'تعریف کالا'!$G$30","v":0},null,{"$f":"'تعریف کالا'!$F$30","v":0},null,0,null,null,null,null,null,null,null,null,null,null,null,null,null,null,0,0,0,0,0,0,0]
[null,"کاردکس 27",{"$f":"'تعریف کالا'!$C$31","v":0},{"$f":"'تعریف کالا'!$D$31","v":0},{"$f":"'تعریف کالا'!$E$31","v":0},{"$f":"'تعریف کالا'!$G$31","v":0},null,{"$f":"'تعریف کالا'!$F$31","v":0},null,0,null,null,null,null,null,null,null,null,null,null,null,null,null,null,0,0,0,0,0,0,0]
[null,"کاردکس 28",{"$f":"'تعریف کالا'!$C$32","v":0},{"$f":"'تعریف کالا'!$D$32","v":0},{"$f":"'تعریف کالا'!$E$32","v":0},{"$f":"'تعریف کالا'!$G$32","v":0},null,{"$f":"'تعریف کالا'!$F$32","v":0},null,0,null,null,null,null,null,null,null,null,null,null,null,null,null,null,0,0,0,0,0,0,0]
[null,"کاردکس 29",{"$f":"'تعریف کالا'!$C$33","v":0},{"$f":"'تعریف کالا'!$D$33","v":0},{"$f":"'تعریف کالا'!$E$33","v":0},{"$f":"'تعریف کالا'!$G$33","v":0},null,{"$f":"'تعریف کالا'!$F$33","v":0},null,0,null,null,null,null,null,null,null,null,null,null,null,null,null,null,0,0,0,0,0,0,0]
[null,"کاردکس 30",{"$f":"'تعریف کالا'!$C$34","v":0},{"$f":"'تعریف کالا'!$D$34","v":0},{"$f":"'تعریف کالا'!$E$34","v":0},{"$f":"'تعریف کالا'!$G$34","v":0},null,{"$f":"'تعریف کالا'!$F$34","v":0},null,0,null,null,null,null,null,null,null,null,null,null,null,null,null,null,0,0,0,0,0,0,0]
[null,"کاردکس 31",{"$f":"'تعریف کالا'!$C$35","v":0},{"$f":"'تعریف کالا'!$D$35","v":0},{"$f":"'تعریف کالا'!$E$35","v":0},{"$f":"'تعریف کالا'!$G$35","v":0},null,{"$f":"'تعریف کالا'!$F$35","v":0},null,0,null,null,null,null,null,null,null,null,null,null,null,null,null,null,0,0,0,0,0,0,0]
[null,"کاردکس 32",{"$f":"'تعریف کالا'!$C$36","v":0},{"$f":"'تعریف کالا'!$D$36","v":0},{"$f":"'تعریف کالا'!$E$36","v":0},{"$f":"'تعریف کالا'!$G$36","v":0},null,{"$f":"'تعریف کالا'!$F$36","v":0},null,0,null,null,null,null,null,null,null,null,null,null,null,null,null,null,0,0,0,0,0,0,0]
[null,"کاردکس 33",{"$f":"'تعریف کالا'!$C$37","v":0},{"$f":"'تعریف کالا'!$D$37","v":0},{"$f":"'تعریف کالا'!$E$37","v":0},{"$f":"'تعریف کالا'!$G$37","v":0},null,{"$f":"'تعریف کالا'!$F$37","v":0},null,0,null,null,null,null,null,null,null,null,null,null,null,null,null,null,0,0,0,0,0,0,0]
[null,"کاردکس 34",{"$f":"'تعریف کالا'!$C$38","v":0},{"$f":"'تعریف کالا'!$D$38","v":0},{"$f":"'تعریف کالا'!$E$38","v":0},{"$f":"'تعریف کالا'!$G$38","v":0},null,{"$f":"'تعریف کالا'!$F$38","v":0},null,0,null,null,null,null,null,null,null,null,null,null,null,null,null,null,0,0,0,0,0,0,0]
[null,"کاردکس 35",{"$f":"'تعریف کالا'!$C$39","v":0},{"$f":"'تعریف کالا'!$D$39","v":0},{"$f":"'تعریف کالا'!$E$39","v":0},{"$f":"'تعریف کالا'!$G$39","v":0},null,{"$f":"'تعریف کالا'!$F$39","v":0},null,0,null,null,null,null,null,null,null,null,null,null,null,null,null,null,0,0,0,0,0,0,0]
[null,"کاردکس 36",{"$f":"'تعریف کالا'!$C$40","v":0},{"$f":"'تعریف کالا'!$D$40","v":0},{"$f":"'تعریف کالا'!$E$40","v":0},{"$f":"'تعریف کالا'!$G$40","v":0},null,{"$f":"'تعریف کالا'!$F$40","v":0},null,0,null,null,null,null,null,null,null,null,null,null,null,null,null,null,0,0,0,0,0,0,0]
[null,"کاردکس 37",{"$f":"'تعریف کالا'!$C$41","v":0},{"$f":"'تعریف کالا'!$D$41","v":0},{"$f":"'تعریف کالا'!$E$41","v":0},{"$f":"'تعریف کالا'!$G$41","v":0},null,{"$f":"'تعریف کالا'!$F$41","v":0},null,0,null,null,null,null,null,null,null,null,null,null,null,null,null,null,0,0,0,0,0,0,0]
[null,"کاردکس 38",{"$f":"'تعریف کالا'!$C$42","v":0},{"$f":"'تعریف کالا'!$D$42","v":0},{"$f":"'تعریف کالا'!$E$42","v":0},{"$f":"'تعریف کالا'!$G$42","v":0},null,{"$f":"'تعریف کالا'!$F$42","v":0},null,0,null,null,null,null,null,null,null,null,null,null,null,null,null,null,0,0,0,0,0,0,0]
[null,"کاردکس 39",{"$f":"'تعریف کالا'!$C$43","v":0},{"$f":"'تعریف کالا'!$D$43","v":0},{"$f":"'تعریف کالا'!$E$43","v":0},{"$f":"'تعریف کالا'!$G$43","v":0},null,{"$f":"'تعریف کالا'!$F$43","v":0},null,0,null,null,null,null,null,null,null,null,null,null,null,null,null,null,0,0,0,0,0,0,0]
[null,"کاردکس 40",{"$f":"'تعریف کالا'!$C$44","v":0},{"$f":"'تعریف کالا'!$D$44","v":0},{"$f":"'تعریف کالا'!$E$44","v":0},{"$f":"'تعریف کالا'!$G$44","v":0},null,{"$f":"'تعریف کالا'!$F$44","v":0},null,0,null,null,null,null,null,null,null,null,null,null,null,null,null,null,0,0,0,0,0,0,0]
[null,"کاردکس 41",{"$f":"'تعریف کالا'!$C$45","v":0},{"$f":"'تعریف کالا'!$D$45","v":0},{"$f":"'تعریف کالا'!$E$45","v":0},{"$f":"'تعریف کالا'!$G$45","v":0},null,{"$f":"'تعریف کالا'!$F$45","v":0},null,0,null,null,null,null,null,null,null,null,null,null,null,null,null,null,0,0,0,0,0,0,0]
[null,"کاردکس 42",{"$f":"'تعریف کالا'!$C$46","v":0},{"$f":"'تعریف کالا'!$D$46","v":0},{"$f":"'تعریف کالا'!$E$46","v":0},{"$f":"'تعریف کالا'!$G$46","v":0},null,{"$f":"'تعریف کالا'!$F$46","v":0},null,0,null,null,null,null,null,null,null,null,null,null,null,null,null,null,0,0,0,0,0,0,0]
[null,"کاردکس 43",{"$f":"'تعریف کالا'!$C$47","v":0},{"$f":"'تعریف کالا'!$D$47","v":0},{"$f":"'تعریف کالا'!$E$47","v":0},{"$f":"'تعریف کالا'!$G$47","v":0},null,{"$f":"'تعریف کالا'!$F$47","v":0},null,0,null,null,null,null,null,null,null,null,null,null,null,null,null,null,0,0,0,0,0,0,0]
[null,"کاردکس 44",{"$f":"'تعریف کالا'!$C$48","v":0},{"$f":"'تعریف کالا'!$D$48","v":0},{"$f":"'تعریف کالا'!$E$48","v":0},{"$f":"'تعریف کالا'!$G$48","v":0},null,{"$f":"'تعریف کالا'!$F$48","v":0},null,0,null,null,null,null,null,null,null,null,null,null,null,null,null,null,0,0,0,0,0,0,0]
[null,"کاردکس 45",{"$f":"'تعریف کالا'!$C$49","v":0},{"$f":"'تعریف کالا'!$D$49","v":0},{"$f":"'تعریف کالا'!$E$49","v":0},{"$f":"'تعریف کالا'!$G$49","v":0},null,{"$f":"'تعریف کالا'!$F$49","v":0},null,0,null,null,null,null,null,null,null,null,null,null,null,null,null,null,0,0,0,0,0,0,0]
[null,"کاردکس 46",{"$f":"'تعریف کالا'!$C$50","v":0},{"$f":"'تعریف کالا'!$D$50","v":0},{"$f":"'تعریف کالا'!$E$50","v":0},{"$f":"'تعریف کالا'!$G$50","v":0},null,{"$f":"'تعریف کالا'!$F$50","v":0},null,0,null,null,null,null,null,null,null,null,null,null,null,null,null,null,0,0,0,0,0,0,0]
[null,"کاردکس 47",{"$f":"'تعریف کالا'!$C$51","v":0},{"$f":"'تعریف کالا'!$D$51","v":0},{"$f":"'تعریف کالا'!$E$51","v":0},{"$f":"'تعریف کالا'!$G$51","v":0},null,{"$f":"'تعریف کالا'!$F$51","v":0},null,0,null,null,null,null,null,null,null,null,null,null,null,null,null,null,0,0,0,0,0,0,0]
[null,"کاردکس 48",{"$f":"'تعریف کالا'!$C$52","v":0},{"$f":"'تعریف کالا'!$D$52","v":0},{"$f":"'تعریف کالا'!$E$52","v":0},{"$f":"'تعریف کالا'!$G$52","v":0},null,{"$f":"'تعریف کالا'!$F$52","v":0},null,0,null,null,null,null,null,null,null,null,null,null,null,null,null,null,0,0,0,0,0,0,0]
[null,"کاردکس 49",{"$f":"'تعریف کالا'!$C$53","v":0},{"$f":"'تعریف کالا'!$D$53","v":0},{"$f":"'تعریف کالا'!$E$53","v":0},{"$f":"'تعریف کالا'!$G$53","v":0},null,{"$f":"'تعریف کالا'!$F$53","v":0},null,0,null,null,null,null,null,null,null,null,null,null,null,null,null,null,0,0,0,0,0,0,0]
[null,"کاردکس 50",{"$f":"'تعریف کالا'!$C$54","v":0},{"$f":"'تعریف کالا'!$D$54","v":0},{"$f":"'تعریف کالا'!$E$54","v":0},{"$f":"'تعریف کالا'!$G$54","v":0},null,{"$f":"'تعریف کالا'!$F$54","v":0},null,0,null,null,null,null,null,null,null,null,null,null,null,null,null,null,0,0,0,0,0,0,0]
[null,"کاردکس 51",{"$f":"'تعریف کالا'!$C$55","v":0},{"$f":"'تعریف کالا'!$D$55","v":0},{"$f":"'تعریف کالا'!$E$55","v":0},{"$f":"'تعریف کالا'!$G$55","v":0},null,{"$f":"'تعریف کالا'!$F$55","v":0},null,0,null,null,null,null,null,null,null,null,null,null,null,null,null,null,0,0,0,0,0,0,0]
[null,"کاردکس 52",{"$f":"'تعریف کالا'!$C$56","v":0},{"$f":"'تعریف کالا'!$D$56","v":0},{"$f":"'تعریف کالا'!$E$56","v":0},{"$f":"'تعریف کالا'!$G$56","v":0},null,{"$f":"'تعریف کالا'!$F$56","v":0},null,0,null,null,null,null,null,null,null,null,null,null,null,null,null,null,0,0,0,0,0,0,0]
[null,"کاردکس 53",{"$f":"'تعریف کالا'!$C$57","v":0},{"$f":"'تعریف کالا'!$D$57","v":0},{"$f":"'تعریف کالا'!$E$57","v":0},{"$f":"'تعریف کالا'!$G$57","v":0},null,{"$f":"'تعریف کالا'!$F$57","v":0},null,0,null,null,null,null,null,null,null,null,null,null,null,null,null,null,0,0,0,0,0,0,0]
[null,"کاردکس 54",{"$f":"'تعریف کالا'!$C$58","v":0},{"$f":"'تعریف کالا'!$D$58","v":0},{"$f":"'تعریف کالا'!$E$58","v":0},{"$f":"'تعریف کالا'!$G$58","v":0},null,{"$f":"'تعریف کالا'!$F$58","v":0},null,0,null,null,null,null,null,null,null,null,null,null,null,null,null,null,0,0,0,0,0,0,0]
[null,"کاردکس 55",{"$f":"'تعریف کالا'!$C$59","v":0},{"$f":"'تعریف کالا'!$D$59","v":0},{"$f":"'تعریف کالا'!$E$59","v":0},{"$f":"'تعریف کالا'!$G$59","v":0},null,{"$f":"'تعریف کالا'!$F$59","v":0},null,0,null,null,null,null,null,null,null,null,null,null,null,null,null,null,0,0,0,0,0,0,0]
[null,"کاردکس 56",{"$f":"'تعریف کالا'!$C$60","v":0},{"$f":"'تعریف کالا'!$D$60","v":0},{"$f":"'تعریف کالا'!$E$60","v":0},{"$f":"'تعریف کالا'!$G$60","v":0},null,{"$f":"'تعریف کالا'!$F$60","v":0},null,0,null,null,null,null,null,null,null,null,null,null,null,null,null,null,0,0,0,0,0,0,0]
[null,"کاردکس 57",{"$f":"'تعریف کالا'!$C$61","v":0},{"$f":"'تعریف کالا'!$D$61","v":0},{"$f":"'تعریف کالا'!$E$61","v":0},{"$f":"'تعریف کالا'!$G$61","v":0},null,{"$f":"'تعریف کالا'!$F$61","v":0},null,0,null,null,null,null,null,null,null,null,null,null,null,null,null,null,0,0,0,0,0,0,0]
[null,"کاردکس 58",{"$f":"'تعریف کالا'!$C$62","v":0},{"$f":"'تعریف کالا'!$D$62","v":0},{"$f":"'تعریف کالا'!$E$62","v":0},{"$f":"'تعریف کالا'!$G$62","v":0},null,{"$f":"'تعریف کالا'!$F$62","v":0},null,0,null,null,null,null,null,null,null,null,null,null,null,null,null,null,0,0,0,0,0,0,0]
[null,"کاردکس 59",{"$f":"'تعریف کالا'!$C$63","v":0},{"$f":"'تعریف کالا'!$D$63","v":0},{"$f":"'تعریف کالا'!$E$63","v":0},{"$f":"'تعریف کالا'!$G$63","v":0},null,{"$f":"'تعریف کالا'!$F$63","v":0},null,0,null,null,null,null,null,null,null,null,null,null,null,null,null,null,0,0,0,0,0,0,0]
[null,"کاردکس 60",{"$f":"'تعریف کالا'!$C$64","v":0},{"$f":"'تعریف کالا'!$D$64","v":0},{"$f":"'تعریف کالا'!$E$64","v":0},{"$f":"'تعریف کالا'!$G$64","v":0},null,{"$f":"'تعریف کالا'!$F$64","v":0},null,0,null,null,null,null,null,null,null,null,null,null,null,null,null,null,0,0,0,0,0,0,0]
[null,"کاردکس 61",{"$f":"'تعریف کالا'!$C$65","v":0},{"$f":"'تعریف کالا'!$D$65","v":0},{"$f":"'تعریف کالا'!$E$65","v":0},{"$f":"'تعریف کالا'!$G$65","v":0},null,{"$f":"'تعریف کالا'!$F$65","v":0},null,0,null,null,null,null,null,null,null,null,null,null,null,null,null,null,0,0,0,0,0,0,0]
[null,"کاردکس 62",{"$f":"'تعریف کالا'!$C$66","v":0},{"$f":"'تعریف کالا'!$D$66","v":0},{"$f":"'تعریف کالا'!$E$66","v":0},{"$f":"'تعریف کالا'!$G$66","v":0},null,{"$f":"'تعریف کالا'!$F$66","v":0},null,0,null,null,null,null,null,null,null,null,null,null,null,null,null,null,0,0,0,0,0,0,0]
[null,"کاردکس 63",{"$f":"'تعریف کالا'!$C$67","v":0},{"$f":"'تعریف کالا'!$D$67","v":0},{"$f":"'تعریف کالا'!$E$67","v":0},{"$f":"'تعریف کالا'!$G$67","v":0},null,{"$f":"'تعریف کالا'!$F$67","v":0},null,0,null,null,null,null,null,null,null,null,null,null,null,null,null,null,0,0,0,0,0,0,0]
[null,"کاردکس 64",{"$f":"'تعریف کالا'!$C$68","v":0},{"$f":"'تعریف کالا'!$D$68","v":0},{"$f":"'تعریف کالا'!$E$68","v":0},{"$f":"'تعریف کالا'!$G$68","v":0},null,{"$f":"'تعریف کالا'!$F$68","v":0},null,0,null,null,null,null,null,null,null,null,null,null,null,null,null,null,0,0,0,0,0,0,0]
[null,"کاردکس 65",{"$f":"'تعریف کالا'!$C$69","v":0},{"$f":"'تعریف کالا'!$D$69","v":0},{"$f":"'تعریف کالا'!$E$69","v":0},{"$f":"'تعریف کالا'!$G$69","v":0},null,{"$f":"'تعریف کالا'!$F$69","v":0},null,0,null,null,null,null,null,null,null,null,null,null,null,null,null,null,0,0,0,0,0,0,0]
[null,"کاردکس 66",{"$f":"'تعریف کالا'!$C$70","v":0},{"$f":"'تعریف کالا'!$D$70","v":0},{"$f":"'تعریف کالا'!$E$70","v":0},{"$f":"'تعریف کالا'!$G$70","v":0},null,{"$f":"'تعریف کالا'!$F$70","v":0},null,0,null,null,null,null,null,null,null,null,null,null,null,null,null,null,0,{"$f":"D308","v":0},{"$f":"E308","v":0},{"$f":"F308","v":0},{"$f":"H308","v":0},{"$f":"I308","v":0},{"$f":"J308","v":0}]
[null,"کاردکس 67",{"$f":"'تعریف کالا'!$C$71","v":0},{"$f":"'تعریف کالا'!$D$71","v":0},{"$f":"'تعریف کالا'!$E$71","v":0},{"$f":"'تعریف کالا'!$G$71","v":0},null,{"$f":"'تعریف کالا'!$F$71","v":0},null,{"$f":"(F309*I309)-(F309*I309*G309%)","v":0},null,null,null,null,null,null,null,null,null,null,null,null,null,null,{"$f":"C309","v":0},0,0,0,0,0,0]
[null,"کاردکس 68",{"$f":"'تعریف کالا'!$C$72","v":0},{"$f":"'تعریف کالا'!$D$72","v":0},{"$f":"'تعریف کالا'!$E$72","v":0},{"$f":"'تعریف کالا'!$G$72","v":0},null,{"$f":"'تعریف کالا'!$F$72","v":0},null,0,null,null,null,null,null,null,null,null,null,null,null,null,null,null,0,0,0,0,0,0,0]
[null,"کاردکس 69",{"$f":"'تعریف کالا'!$C$73","v":0},{"$f":"'تعریف کالا'!$D$73","v":0},{"$f":"'تعریف کالا'!$E$73","v":0},{"$f":"'تعریف کالا'!$G$73","v":0},null,{"$f":"'تعریف کالا'!$F$73","v":0},null,0,null,null,null,null,null,null,null,null,null,null,null,null,null,null,0,0,0,0,0,0,0]
[null,"کاردکس 70",{"$f":"'تعریف کالا'!$C$74","v":0},{"$f":"'تعریف کالا'!$D$74","v":0},{"$f":"'تعریف کالا'!$E$74","v":0},{"$f":"'تعریف کالا'!$G$74","v":0},null,{"$f":"'تعریف کالا'!$F$74","v":0},null,0,null,null,null,null,null,null,null,null,null,null,null,null,null,null,0,0,0,0,0,0,0]
[null,"کاردکس 71",{"$f":"'تعریف کالا'!$C$75","v":0},{"$f":"'تعریف کالا'!$D$75","v":0},{"$f":"'تعریف کالا'!$E$75","v":0},{"$f":"'تعریف کالا'!$G$75","v":0},null,{"$f":"'تعریف کالا'!$F$75","v":0},null,0,null,null,null,null,null,null,null,null,null,null,null,null,null,null,0,0,0,0,0,0,0]
[null,"کاردکس 72",{"$f":"'تعریف کالا'!$C$76","v":0},{"$f":"'تعریف کالا'!$D$76","v":0},{"$f":"'تعریف کالا'!$E$76","v":0},{"$f":"'تعریف کالا'!$G$76","v":0},null,{"$f":"'تعریف کالا'!$F$76","v":0},null,0,null,null,null,null,null,null,null,null,null,null,null,null,null,null,0,0,0,0,0,0,0]
[null,"کاردکس 73",{"$f":"'تعریف کالا'!$C$77","v":0},{"$f":"'تعریف کالا'!$D$77","v":0},{"$f":"'تعریف کالا'!$E$77","v":0},{"$f":"'تعریف کالا'!$G$77","v":0},null,{"$f":"'تعریف کالا'!$F$77","v":0},null,0,null,null,null,null,null,null,null,null,null,null,null,null,null,null,0,0,0,0,0,0,0]
[null,"کاردکس 74",{"$f":"'تعریف کالا'!$C$78","v":0},{"$f":"'تعریف کالا'!$D$78","v":0},{"$f":"'تعریف کالا'!$E$78","v":0},{"$f":"'تعریف کالا'!$G$78","v":0},null,{"$f":"'تعریف کالا'!$F$78","v":0},null,0,null,null,null,null,null,null,null,null,null,null,null,null,null,null,0,0,0,0,0,0,0]
[null,"کاردکس 75",{"$f":"'تعریف کالا'!$C$79","v":0},{"$f":"'تعریف کالا'!$D$79","v":0},{"$f":"'تعریف کالا'!$E$79","v":0},{"$f":"'تعریف کالا'!$G$79","v":0},null,{"$f":"'تعریف کالا'!$F$79","v":0},null,0,null,null,null,null,null,null,null,null,null,null,null,null,null,null,0,0,0,0,0,0,0]
[null,"کاردکس 76",{"$f":"'تعریف کالا'!$C$80","v":0},{"$f":"'تعریف کالا'!$D$80","v":0},{"$f":"'تعریف کالا'!$E$80","v":0},{"$f":"'تعریف کالا'!$G$80","v":0},null,{"$f":"'تعریف کالا'!$F$80","v":0},null,0,null,null,null,null,null,null,null,null,null,null,null,null,null,null,0,0,0,0,0,0,0]
[null,"کاردکس 77",{"$f":"'تعریف کالا'!$C$81","v":0},{"$f":"'تعریف کالا'!$D$81","v":0},{"$f":"'تعریف کالا'!$E$81","v":0},{"$f":"'تعریف کالا'!$G$81","v":0},null,{"$f":"'تعریف کالا'!$F$81","v":0},null,0,null,null,null,null,null,null,null,null,null,null,null,null,null,null,0,0,0,0,0,0,0]
[null,"کاردکس 78",{"$f":"'تعریف کالا'!$C$82","v":0},{"$f":"'تعریف کالا'!$D$82","v":0},{"$f":"'تعریف کالا'!$E$82","v":0},{"$f":"'تعریف کالا'!$G$82","v":0},null,{"$f":"'تعریف کالا'!$F$82","v":0},null,0,null,null,null,null,null,null,null,null,null,null,null,null,null,null,0,0,0,0,0,0,0]
[null,"کاردکس 79",{"$f":"'تعریف کالا'!$C$83","v":0},{"$f":"'تعریف کالا'!$D$83","v":0},{"$f":"'تعریف کالا'!$E$83","v":0},{"$f":"'تعریف کالا'!$G$83","v":0},null,{"$f":"'تعریف کالا'!$F$83","v":0},null,0,null,null,null,null,null,null,null,null,null,null,null,null,null,null,0,0,0,0,0,0,0]
[null,"کاردکس 80",{"$f":"'تعریف کالا'!$C$84","v":0},{"$f":"'تعریف کالا'!$D$84","v":0},{"$f":"'تعریف کالا'!$E$84","v":0},{"$f":"'تعریف کالا'!$G$84","v":0},null,{"$f":"'تعریف کالا'!$F$84","v":0},null,0,null,null,null,null,null,null,null,null,null,null,null,null,null,null,0,0,0,0,0,0,0]
[null,"کاردکس 81",{"$f":"'تعریف کالا'!$C$85","v":0},{"$f":"'تعریف کالا'!$D$85","v":0},{"$f":"'تعریف کالا'!$E$85","v":0},{"$f":"'تعریف کالا'!$G$85","v":0},null,{"$f":"'تعریف کالا'!$F$85","v":0},null,0,null,null,null,null,null,null,null,null,null,null,null,null,null,null,0,0,0,0,0,0,0]
[null,"کاردکس 82",{"$f":"'تعریف کالا'!$C$86","v":0},{"$f":"'تعریف کالا'!$D$86","v":0},{"$f":"'تعریف کالا'!$E$86","v":0},{"$f":"'تعریف کالا'!$G$86","v":0},null,{"$f":"'تعریف کالا'!$F$86","v":0},null,0,null,null,null,null,null,null,null,null,null,null,null,null,null,null,0,0,0,0,0,0,0]
[null,"کاردکس 83",{"$f":"'تعریف کالا'!$C$87","v":0},{"$f":"'تعریف کالا'!$D$87","v":0},{"$f":"'تعریف کالا'!$E$87","v":0},{"$f":"'تعریف کالا'!$G$87","v":0},null,{"$f":"'تعریف کالا'!$F$87","v":0},null,0,null,null,null,null,null,null,null,null,null,null,null,null,null,null,0,0,0,0,0,0,0]
[null,"کاردکس 84",{"$f":"'تعریف کالا'!$C$88","v":0},{"$f":"'تعریف کالا'!$D$88","v":0},{"$f":"'تعریف کالا'!$E$88","v":0},{"$f":"'تعریف کالا'!$G$88","v":0},null,{"$f":"'تعریف کالا'!$F$88","v":0},null,0,null,null,null,null,null,null,null,null,null,null,null,null,null,null,0,0,0,0,0,0,0]
[null,"کاردکس 85",{"$f":"'تعریف کالا'!$C$89","v":0},{"$f":"'تعریف کالا'!$D$89","v":0},{"$f":"'تعریف کالا'!$E$89","v":0},{"$f":"'تعریف کالا'!$G$89","v":0},null,{"$f":"'تعریف کالا'!$F$89","v":0},null,0,null,null,null,null,null,null,null,null,null,null,null,null,null,null,0,0,0,0,0,0,0]
[null,"کاردکس 86",{"$f":"'تعریف کالا'!$C$90","v":0},{"$f":"'تعریف کالا'!$D$90","v":0},{"$f":"'تعریف کالا'!$E$90","v":0},{"$f":"'تعریف کالا'!$G$90","v":0},null,{"$f":"'تعریف کالا'!$F$90","v":0},null,0,null,null,null,null,null,null,null,null,null,null,null,null,null,null,0,0,0,0,0,0,0]
[null,"کاردکس 87",{"$f":"'تعریف کالا'!$C$91","v":0},{"$f":"'تعریف کالا'!$D$91","v":0},{"$f":"'تعریف کالا'!$E$91","v":0},{"$f":"'تعریف کالا'!$G$91","v":0},null,{"$f":"'تعریف کالا'!$F$91","v":0},null,0,null,null,null,null,null,null,null,null,null,null,null,null,null,null,0,0,0,0,0,0,0]
[null,"کاردکس 88",{"$f":"'تعریف کالا'!$C$92","v":0},{"$f":"'تعریف کالا'!$D$92","v":0},{"$f":"'تعریف کالا'!$E$92","v":0},{"$f":"'تعریف کالا'!$G$92","v":0},null,{"$f":"'تعریف کالا'!$F$92","v":0},null,0,null,null,null,null,null,null,null,null,null,null,null,null,null,null,0,0,0,0,0,0,0]
[null,"کاردکس 89",{"$f":"'تعریف کالا'!$C$93","v":0},{"$f":"'تعریف کالا'!$D$93","v":0},{"$f":"'تعریف کالا'!$E$93","v":0},{"$f":"'تعریف کالا'!$G$93","v":0},null,{"$f":"'تعریف کالا'!$F$93","v":0},null,0,null,null,null,null,null,null,null,null,null,null,null,null,null,null,0,0,0,0,0,0,0]
[null,"کاردکس 90",{"$f":"'تعریف کالا'!$C$94","v":0},{"$f":"'تعریف کالا'!$D$94","v":0},{"$f":"'تعریف کالا'!$E$94","v":0},{"$f":"'تعریف کالا'!$G$94","v":0},null,{"$f":"'تعریف کالا'!$F$94","v":0},null,0,null,null,null,null,null,null,null,null,null,null,null,null,null,null,0,0,0,0,0,0,0]
[null,"کاردکس 91",{"$f":"'تعریف کالا'!$C$95","v":0},{"$f":"'تعریف کالا'!$D$95","v":0},{"$f":"'تعریف کالا'!$E$95","v":0},{"$f":"'تعریف کالا'!$G$95","v":0},null,{"$f":"'تعریف کالا'!$F$95","v":0},null,0,null,null,null,null,null,null,null,null,null,null,null,null,null,null,0,0,0,0,0,0,0]
[null,"کاردکس 92",{"$f":"'تعریف کالا'!$C$96","v":0},{"$f":"'تعریف کالا'!$D$96","v":0},{"$f":"'تعریف کالا'!$E$96","v":0},{"$f":"'تعریف کالا'!$G$96","v":0},null,{"$f":"'تعریف کالا'!$F$96","v":0},null,0,null,null,null,null,null,null,null,null,null,null,null,null,null,null,0,0,0,0,0,0,0]
[null,"کاردکس 93",{"$f":"'تعریف کالا'!$C$97","v":0},{"$f":"'تعریف کالا'!$D$97","v":0},{"$f":"'تعریف کالا'!$E$97","v":0},{"$f":"'تعریف کالا'!$G$97","v":0},null,{"$f":"'تعریف کالا'!$F$97","v":0},null,0,null,null,null,null,null,null,null,null,null,null,null,null,null,null,0,0,0,0,0,0,0]
[null,"کاردکس 94",{"$f":"'تعریف کالا'!$C$98","v":0},{"$f":"'تعریف کالا'!$D$98","v":0},{"$f":"'تعریف کالا'!$E$98","v":0},{"$f":"'تعریف کالا'!$G$98","v":0},null,{"$f":"'تعریف کالا'!$F$98","v":0},null,0,null,null,null,null,null,null,null,null,null,null,null,null,null,null,0,0,0,0,0,0,0]
[null,"کاردکس 95",{"$f":"'تعریف کالا'!$C$99","v":0},{"$f":"'تعریف کالا'!$D$99","v":0},{"$f":"'تعریف کالا'!$E$99","v":0},{"$f":"'تعریف کالا'!$G$99","v":0},null,{"$f":"'تعریف کالا'!$F$99","v":0},null,0,null,null,null,null,null,null,null,null,null,null,null,null,null,null,0,0,0,0,0,0,0]
[null,"کاردکس 96",{"$f":"'تعریف کالا'!$C$100","v":0},{"$f":"'تعریف کالا'!$D$100","v":0},{"$f":"'تعریف کالا'!$E$100","v":0},{"$f":"'تعریف کالا'!$G$100","v":0},null,{"$f":"'تعریف کالا'!$F$100","v":0},null,0,null,null,null,null,null,null,null,null,null,null,null,null,null,null,0,0,0,0,0,0,0]
[null,"کاردکس 97",{"$f":"'تعریف کالا'!$C$101","v":0},{"$f":"'تعریف کالا'!$D$101","v":0},{"$f":"'تعریف کالا'!$E$101","v":0},{"$f":"'تعریف کالا'!$G$101","v":0},null,{"$f":"'تعریف کالا'!$F$101","v":0},null,0,null,null,null,null,null,null,null,null,null,null,null,null,null,null,0,0,0,0,0,0,0]
[null,"کاردکس 98",{"$f":"'تعریف کالا'!$C$102","v":0},{"$f":"'تعریف کالا'!$D$102","v":0},{"$f":"'تعریف کالا'!$E$102","v":0},{"$f":"'تعریف کالا'!$G$102","v":0},null,{"$f":"'تعریف کالا'!$F$102","v":0},null,0,null,null,null,null,null,null,null,null,null,null,null,null,null,null,0,0,0,0,0,0,0]
[null,"کاردکس 99",{"$f":"'تعریف کالا'!$C$103","v":0},{"$f":"'تعریف کالا'!$D$103","v":0},{"$f":"'تعریف کالا'!$E$103","v":0},{"$f":"'تعریف کالا'!$G$103","v":0},null,{"$f":"'تعریف کالا'!$F$103","v":0},null,0,null,null,null,null,null,null,null,null,null,null,null,null,null,null,0,0,0,0,0,0,0]
[null,"کاردکس 100",{"$f":"'تعریف کالا'!$C$104","v":0},{"$f":"'تعریف کالا'!$D$104","v":0},{"$f":"'تعریف کالا'!$E$104","v":0},{"$f":"'تعریف کالا'!$G$104","v":0},null,{"$f":"'تعریف کالا'!$F$104","v":0},null,0,null,null,null,null,null,null,null,null,null,null,null,null,null,null,0,0,0,0,0,0,0]
[null,"کاردکس 101",{"$f":"'تعریف کالا'!$C$105","v":0},{"$f":"'تعریف کالا'!$D$105","v":0},{"$f":"'تعریف کالا'!$E$105","v":0},{"$f":"'تعریف کالا'!$G$105","v":0},null,{"$f":"'تعریف کالا'!$F$105","v":0},null,0,null,null,null,null,null,null,null,null,null,null,null,null,null,null,0,0,0,0,0,0,0]
[null,"کاردکس 102",{"$f":"'تعریف کالا'!$C$106","v":0},{"$f":"'تعریف کالا'!$D$106","v":0},{"$f":"'تعریف کالا'!$E$106","v":0},{"$f":"'تعریف کالا'!$G$106","v":0},null,{"$f":"'تعریف کالا'!$F$106","v":0},null,0,null,null,null,null,null,null,null,null,null,null,null,null,null,null,0,0,0,0,0,0,0]
[null,"کاردکس 103",{"$f":"'تعریف کالا'!$C$107","v":0},{"$f":"'تعریف کالا'!$D$107","v":0},{"$f":"'تعریف کالا'!$E$107","v":0},{"$f":"'تعریف کالا'!$G$107","v":0},null,{"$f":"'تعریف کالا'!$F$107","v":0},null,0,null,null,null,null,null,null,null,null,null,null,null,null,null,null,0,0,0,0,0,0,0]
[null,"کاردکس 104",{"$f":"'تعریف کالا'!$C$108","v":0},{"$f":"'تعریف کالا'!$D$108","v":0},{"$f":"'تعریف کالا'!$E$108","v":0},{"$f":"'تعریف کالا'!$G$108","v":0},null,{"$f":"'تعریف کالا'!$F$108","v":0},null,0,null,null,null,null,null,null,null,null,null,null,null,null,null,null,0,0,0,0,0,0,0]
[null,"کاردکس 105",{"$f":"'تعریف کالا'!$C$109","v":0},{"$f":"'تعریف کالا'!$D$109","v":0},{"$f":"'تعریف کالا'!$E$109","v":0},{"$f":"'تعریف کالا'!$G$109","v":0},null,{"$f":"'تعریف کالا'!$F$109","v":0},null,0,null,null,null,null,null,null,null,null,null,null,null,null,null,null,0,0,0,0,0,0,0]
[null,"کاردکس 106",{"$f":"'تعریف کالا'!$C$110","v":0},{"$f":"'تعریف کالا'!$D$110","v":0},{"$f":"'تعریف کالا'!$E$110","v":0},{"$f":"'تعریف کالا'!$G$110","v":0},null,{"$f":"'تعریف کالا'!$F$110","v":0},null,0,null,null,null,null,null,null,null,null,null,null,null,null,null,null,0,0,0,0,0,0,0]
[null,"کاردکس 107",{"$f":"'تعریف کالا'!$C$111","v":0},{"$f":"'تعریف کالا'!$D$111","v":0},{"$f":"'تعریف کالا'!$E$111","v":0},{"$f":"'تعریف کالا'!$G$111","v":0},null,{"$f":"'تعریف کالا'!$F$111","v":0},null,0,null,null,null,null,null,null,null,null,null,null,null,null,null,null,0,0,0,0,0,0,0]
[null,"کاردکس 108",{"$f":"'تعریف کالا'!$C$112","v":0},{"$f":"'تعریف کالا'!$D$112","v":0},{"$f":"'تعریف کالا'!$E$112","v":0},{"$f":"'تعریف کالا'!$G$112","v":0},null,{"$f":"'تعریف کالا'!$F$112","v":0},null,0,null,null,null,null,null,null,null,null,null,null,null,null,null,null,0,0,0,0,0,0,0]
[null,"کاردکس 109",{"$f":"'تعریف کالا'!$C$113","v":0},{"$f":"'تعریف کالا'!$D$113","v":0},{"$f":"'تعریف کالا'!$E$113","v":0},{"$f":"'تعریف کالا'!$G$113","v":0},null,{"$f":"'تعریف کالا'!$F$113","v":0},null,0,null,null,null,null,null,null,null,null,null,null,null,null,null,null,0,0,0,0,0,0,0]
[null,"کاردکس 110",{"$f":"'تعریف کالا'!$C$114","v":0},{"$f":"'تعریف کالا'!$D$114","v":0},{"$f":"'تعریف کالا'!$E$114","v":0},{"$f":"'تعریف کالا'!$G$114","v":0},null,{"$f":"'تعریف کالا'!$F$114","v":0},null,0,null,null,null,null,null,null,null,null,null,null,null,null,null,null,0,0,0,0,0,0,0]
[null,"کاردکس 111",{"$f":"'تعریف کالا'!$C$115","v":0},{"$f":"'تعریف کالا'!$D$115","v":0},{"$f":"'تعریف کالا'!$E$115","v":0},{"$f":"'تعریف کالا'!$G$115","v":0},null,{"$f":"'تعریف کالا'!$F$115","v":0},null,0,null,null,null,null,null,null,null,null,null,null,null,null,null,null,0,0,0,0,0,0,0]
[null,"کاردکس 112",{"$f":"'تعریف کالا'!$C$116","v":0},{"$f":"'تعریف کالا'!$D$116","v":0},{"$f":"'تعریف کالا'!$E$116","v":0},{"$f":"'تعریف کالا'!$G$116","v":0},null,{"$f":"'تعریف کالا'!$F$116","v":0},null,0,null,null,null,null,null,null,null,null,null,null,null,null,null,null,0,0,0,0,0,0,0]
[null,"کاردکس 113",{"$f":"'تعریف کالا'!$C$117","v":0},{"$f":"'تعریف کالا'!$D$117","v":0},{"$f":"'تعریف کالا'!$E$117","v":0},{"$f":"'تعریف کالا'!$G$117","v":0},null,{"$f":"'تعریف کالا'!$F$117","v":0},null,0,null,null,null,null,null,null,null,null,null,null,null,null,null,null,0,0,0,0,0,0,0]
[null,"کاردکس 114",{"$f":"'تعریف کالا'!$C$118","v":0},{"$f":"'تعریف کالا'!$D$118","v":0},{"$f":"'تعریف کالا'!$E$118","v":0},{"$f":"'تعریف کالا'!$G$118","v":0},null,{"$f":"'تعریف کالا'!$F$118","v":0},null,0,null,null,null,null,null,null,null,null,null,null,null,null,null,null,0,0,0,0,0,0,0]
[null,"کاردکس 115",{"$f":"'تعریف کالا'!$C$119","v":0},{"$f":"'تعریف کالا'!$D$119","v":0},{"$f":"'تعریف کالا'!$E$119","v":0},{"$f":"'تعریف کالا'!$G$119","v":0},null,{"$f":"'تعریف کالا'!$F$119","v":0},null,0,null,null,null,null,null,null,null,null,null,null,null,null,null,null,0,0,0,0,0,0,0]
[null,"کاردکس 116",{"$f":"'تعریف کالا'!$C$120","v":0},{"$f":"'تعریف کالا'!$D$120","v":0},{"$f":"'تعریف کالا'!$E$120","v":0},{"$f":"'تعریف کالا'!$G$120","v":0},null,{"$f":"'تعریف کالا'!$F$120","v":0},null,0,null,null,null,null,null,null,null,null,null,null,null,null,null,null,0,0,0,0,0,0,0]
[null,"کاردکس 117",{"$f":"'تعریف کالا'!$C$121","v":0},{"$f":"'تعریف کالا'!$D$121","v":0},{"$f":"'تعریف کالا'!$E$121","v":0},{"$f":"'تعریف کالا'!$G$121","v":0},null,{"$f":"'تعریف کالا'!$F$121","v":0},null,0,null,null,null,null,null,null,null,null,null,null,null,null,null,null,0,0,0,0,0,0,0]
[null,"کاردکس 118",{"$f":"'تعریف کالا'!$C$122","v":0},{"$f":"'تعریف کالا'!$D$122","v":0},{"$f":"'تعریف کالا'!$E$122","v":0},{"$f":"'تعریف کالا'!$G$122","v":0},null,{"$f":"'تعریف کالا'!$F$122","v":0},null,0,null,null,null,null,null,null,null,null,null,null,null,null,null,null,0,0,0,0,0,0,0]
[null,"کاردکس 119",{"$f":"'تعریف کالا'!$C$123","v":0},{"$f":"'تعریف کالا'!$D$123","v":0},{"$f":"'تعریف کالا'!$E$123","v":0},{"$f":"'تعریف کالا'!$G$123","v":0},null,{"$f":"'تعریف کالا'!$F$123","v":0},null,0,null,null,null,null,null,null,null,null,null,null,null,null,null,null,0,0,0,0,0,0,0]
[null,"کاردکس 120",{"$f":"'تعریف کالا'!$C$124","v":0},{"$f":"'تعریف کالا'!$D$124","v":0},{"$f":"'تعریف کالا'!$E$124","v":0},{"$f":"'تعریف کالا'!$G$124","v":0},null,{"$f":"'تعریف کالا'!$F$124","v":0},null,0,null,null,null,null,null,null,null,null,null,null,null,null,null,null,0,0,0,0,0,0,0]
[null,"کاردکس 121",{"$f":"'تعریف کالا'!$C$125","v":0},{"$f":"'تعریف کالا'!$D$125","v":0},{"$f":"'تعریف کالا'!$E$125","v":0},{"$f":"'تعریف کالا'!$G$125","v":0},null,{"$f":"'تعریف کالا'!$F$125","v":0},null,0,null,null,null,null,null,null,null,null,null,null,null,null,null,null,0,0,0,0,0,0,0]
[null,"کاردکس 122",{"$f":"'تعریف کالا'!$C$126","v":0},{"$f":"'تعریف کالا'!$D$126","v":0},{"$f":"'تعریف کالا'!$E$126","v":0},{"$f":"'تعریف کالا'!$G$126","v":0},null,{"$f":"'تعریف کالا'!$F$126","v":0},null,0,null,null,null,null,null,null,null,null,null,null,null,null,null,null,0,0,0,0,0,0,0]
[null,"کاردکس 123",{"$f":"'تعریف کالا'!$C$127","v":0},{"$f":"'تعریف کالا'!$D$127","v":0},{"$f":"'تعریف کالا'!$E$127","v":0},{"$f":"'تعریف کالا'!$G$127","v":0},null,{"$f":"'تعریف کالا'!$F$127","v":0},null,0,null,null,null,null,null,null,null,null,null,null,null,null,null,null,0,0,0,0,0,0,0]
[null,"کاردکس 124",{"$f":"'تعریف کالا'!$C$128","v":0},{"$f":"'تعریف کالا'!$D$128","v":0},{"$f":"'تعریف کالا'!$E$128","v":0},{"$f":"'تعریف کالا'!$G$128","v":0},null,{"$f":"'تعریف کالا'!$F$128","v":0},null,0,null,null,null,null,null,null,null,null,null,null,null,null,null,null,0,0,0,0,0,0,0]
[null,"کاردکس 125",{"$f":"'تعریف کالا'!$C$129","v":0},{"$f":"'تعریف کالا'!$D$129","v":0},{"$f":"'تعریف کالا'!$E$129","v":0},{"$f":"'تعریف کالا'!$G$129","v":0},null,{"$f":"'تعریف کالا'!$F$129","v":0},null,0,null,null,null,null,null,null,null,null,null,null,null,null,null,null,0,0,0,0,0,0,0]
[null,"کاردکس 126",{"$f":"'تعریف کالا'!$C$130","v":0},{"$f":"'تعریف کالا'!$D$130","v":0},{"$f":"'تعریف کالا'!$E$130","v":0},{"$f":"'تعریف کالا'!$G$130","v":0},null,{"$f":"'تعریف کالا'!$F$130","v":0},null,0,null,null,null,null,null,null,null,null,null,null,null,null,null,null,0,0,0,0,0,0,0]
[null,"کاردکس 127",{"$f":"'تعریف کالا'!$C$131","v":0},{"$f":"'تعریف کالا'!$D$131","v":0},{"$f":"'تعریف کالا'!$E$131","v":0},{"$f":"'تعریف کالا'!$G$131","v":0},null,{"$f":"'تعریف کالا'!$F$131","v":0},null,0,null,null,null,null,null,null,null,null,null,null,null,null,null,null,0,0,0,0,0,0,0]
[null,"کاردکس 128",{"$f":"'تعریف کالا'!$C$132","v":0},{"$f":"'تعریف کالا'!$D$132","v":0},{"$f":"'تعریف کالا'!$E$132","v":0},{"$f":"'تعریف کالا'!$G$132","v":0},null,{"$f":"'تعریف کالا'!$F$132","v":0},null,0,null,null,null,null,null,null,null,null,null,null,null,null,null,null,0,0,0,0,0,0,0]
[null,"کاردکس 129",{"$f":"'تعریف کالا'!$C$133","v":0},{"$f":"'تعریف کالا'!$D$133","v":0},{"$f":"'تعریف کالا'!$E$133","v":0},{"$f":"'تعریف کالا'!$G$133","v":0},null,{"$f":"'تعریف کالا'!$F$133","v":0},null,0,null,null,null,null,null,null,null,null,null,null,null,null,null,null,0,0,0,0,0,0,0]
[null,"کاردکس 130",{"$f":"'تعریف کالا'!$C$134","v":0},{"$f":"'تعریف کالا'!$D$134","v":0},{"$f":"'تعریف کالا'!$E$134","v":0},{"$f":"'تعریف کالا'!$G$134","v":0},null,{"$f":"'تعریف کالا'!$F$134","v":0},null,0,null,null,null,null,null,null,null,null,null,null,null,null,null,null,0,0,0,{"$f":"F372","v":0},{"$f":"H372","v":0},{"$f":"I372","v":0},{"$f":"J372","v":0}]
[null,"کاردکس 131",{"$f":"'تعریف کالا'!$C$135","v":0},{"$f":"'تعریف کالا'!$D$135","v":0},{"$f":"'تعریف کالا'!$E$135","v":0},{"$f":"'تعریف کالا'!$G$135","v":0},null,{"$f":"'تعریف کالا'!$F$135","v":0},null,{"$f":"(F373*I373)-(F373*I373*G373%)","v":0},null,null,null,null,null,null,null,null,null,null,null,null,null,null,{"$f":"C373","v":0},{"$f":"D373","v":0},{"$f":"E373","v":0},0,0,0,0]
[null,"کاردکس 132",{"$f":"'تعریف کالا'!$C$136","v":0},{"$f":"'تعریف کالا'!$D$136","v":0},{"$f":"'تعریف کالا'!$E$136","v":0},{"$f":"'تعریف کالا'!$G$136","v":0},null,{"$f":"'تعریف کالا'!$F$136","v":0},null,0,null,null,null,null,null,null,null,null,null,null,null,null,null,null,0,0,0,0,0,0,0]
[null,"کاردکس 133",{"$f":"'تعریف کالا'!$C$137","v":0},{"$f":"'تعریف کالا'!$D$137","v":0},{"$f":"'تعریف کالا'!$E$137","v":0},{"$f":"'تعریف کالا'!$G$137","v":0},null,{"$f":"'تعریف کالا'!$F$137","v":0},null,0,null,null,null,null,null,null,null,null,null,null,null,null,null,null,0,0,0,0,0,0,0]
[null,"کاردکس 134",{"$f":"'تعریف کالا'!$C$138","v":0},{"$f":"'تعریف کالا'!$D$138","v":0},{"$f":"'تعریف کالا'!$E$138","v":0},{"$f":"'تعریف کالا'!$G$138","v":0},null,{"$f":"'تعریف کالا'!$F$138","v":0},null,0,null,null,null,null,null,null,null,null,null,null,null,null,null,null,0,0,0,0,0,0,0]
[null,"کاردکس 135",{"$f":"'تعریف کالا'!$C$139","v":0},{"$f":"'تعریف کالا'!$D$139","v":0},{"$f":"'تعریف کالا'!$E$139","v":0},{"$f":"'تعریف کالا'!$G$139","v":0},null,{"$f":"'تعریف کالا'!$F$139","v":0},null,0,null,null,null,null,null,null,null,null,null,null,null,null,null,null,0,0,0,0,0,0,0]
[null,"کاردکس 136",{"$f":"'تعریف کالا'!$C$140","v":0},{"$f":"'تعریف کالا'!$D$140","v":0},{"$f":"'تعریف کالا'!$E$140","v":0},{"$f":"'تعریف کالا'!$G$140","v":0},null,{"$f":"'تعریف کالا'!$F$140","v":0},null,0,null,null,null,null,null,null,null,null,null,null,null,null,null,null,0,0,0,0,0,0,0]
[null,"کاردکس 137",{"$f":"'تعریف کالا'!$C$141","v":0},{"$f":"'تعریف کالا'!$D$141","v":0},{"$f":"'تعریف کالا'!$E$141","v":0},{"$f":"'تعریف کالا'!$G$141","v":0},null,{"$f":"'تعریف کالا'!$F$141","v":0},null,0,null,null,null,null,null,null,null,null,null,null,null,null,null,null,0,0,0,0,0,0,0]
[null,"کاردکس 138",{"$f":"'تعریف کالا'!$C$142","v":0},{"$f":"'تعریف کالا'!$D$142","v":0},{"$f":"'تعریف کالا'!$E$142","v":0},{"$f":"'تعریف کالا'!$G$142","v":0},null,{"$f":"'تعریف کالا'!$F$142","v":0},null,0,null,null,null,null,null,null,null,null,null,null,null,null,null,null,0,0,0,0,0,0,0]
[null,"کاردکس 139",{"$f":"'تعریف کالا'!$C$143","v":0},{"$f":"'تعریف کالا'!$D$143","v":0},{"$f":"'تعریف کالا'!$E$143","v":0},{"$f":"'تعریف کالا'!$G$143","v":0},null,{"$f":"'تعریف کالا'!$F$143","v":0},null,0,null,null,null,null,null,null,null,null,null,null,null,null,null,null,0,0,0,0,0,0,0]
[null,"کاردکس 140",{"$f":"'تعریف کالا'!$C$144","v":0},{"$f":"'تعریف کالا'!$D$144","v":0},{"$f":"'تعریف کالا'!$E$144","v":0},{"$f":"'تعریف کالا'!$G$144","v":0},null,{"$f":"'تعریف کالا'!$F$144","v":0},null,0,null,null,null,null,null,null,null,null,null,null,null,null,null,null,0,0,0,0,0,0,0]
[null,"کاردکس 141",{"$f":"'تعریف کالا'!$C$145","v":0},{"$f":"'تعریف کالا'!$D$145","v":0},{"$f":"'تعریف کالا'!$E$145","v":0},{"$f":"'تعریف کالا'!$G$145","v":0},null,{"$f":"'تعریف کالا'!$F$145","v":0},null,0,null,null,null,null,null,null,null,null,null,null,null,null,null,null,0,0,0,0,0,0,0]
[null,"کاردکس 142",{"$f":"'تعریف کالا'!$C$146","v":0},{"$f":"'تعریف کالا'!$D$146","v":0},{"$f":"'تعریف کالا'!$E$146","v":0},{"$f":"'تعریف کالا'!$G$146","v":0},null,{"$f":"'تعریف کالا'!$F$146","v":0},null,0,null,null,null,null,null,null,null,null,null,null,null,null,null,null,0,0,0,0,0,0,0]
[null,"کاردکس 143",{"$f":"'تعریف کالا'!$C$147","v":0},{"$f":"'تعریف کالا'!$D$147","v":0},{"$f":"'تعریف کالا'!$E$147","v":0},{"$f":"'تعریف کالا'!$G$147","v":0},null,{"$f":"'تعریف کالا'!$F$147","v":0},null,0,null,null,null,null,null,null,null,null,null,null,null,null,null,null,0,0,0,0,0,0,0]
[null,"کاردکس 144",{"$f":"'تعریف کالا'!$C$148","v":0},{"$f":"'تعریف کالا'!$D$148","v":0},{"$f":"'تعریف کالا'!$E$148","v":0},{"$f":"'تعریف کالا'!$G$148","v":0},null,{"$f":"'تعریف کالا'!$F$148","v":0},null,0,null,null,null,null,null,null,null,null,null,null,null,null,null,null,0,0,0,0,0,0,0]
[null,"کاردکس 145",{"$f":"'تعریف کالا'!$C$149","v":0},{"$f":"'تعریف کالا'!$D$149","v":0},{"$f":"'تعریف کالا'!$E$149","v":0},{"$f":"'تعریف کالا'!$G$149","v":0},null,{"$f":"'تعریف کالا'!$F$149","v":0},null,0,null,null,null,null,null,null,null,null,null,null,null,null,null,null,0,0,0,0,0,0,0]
[null,"کاردکس 146",{"$f":"'تعریف کالا'!$C$150","v":0},{"$f":"'تعریف کالا'!$D$150","v":0},{"$f":"'تعریف کالا'!$E$150","v":0},{"$f":"'تعریف کالا'!$G$150","v":0},null,{"$f":"'تعریف کالا'!$F$150","v":0},null,0,null,null,null,null,null,null,null,null,null,null,null,null,null,null,0,0,0,0,0,0,0]
[null,"کاردکس 147",{"$f":"'تعریف کالا'!$C$151","v":0},{"$f":"'تعریف کالا'!$D$151","v":0},{"$f":"'تعریف کالا'!$E$151","v":0},{"$f":"'تعریف کالا'!$G$151","v":0},null,{"$f":"'تعریف کالا'!$F$151","v":0},null,0,null,null,null,null,null,null,null,null,null,null,null,null,null,null,0,0,0,0,0,0,0]
[null,"کاردکس 148",{"$f":"'تعریف کالا'!$C$152","v":0},{"$f":"'تعریف کالا'!$D$152","v":0},{"$f":"'تعریف کالا'!$E$152","v":0},{"$f":"'تعریف کالا'!$G$152","v":0},null,{"$f":"'تعریف کالا'!$F$152","v":0},null,0,null,null,null,null,null,null,null,null,null,null,null,null,null,null,0,0,0,0,0,0,0]
[null,"کاردکس 149",{"$f":"'تعریف کالا'!$C$153","v":0},{"$f":"'تعریف کالا'!$D$153","v":0},{"$f":"'تعریف کالا'!$E$153","v":0},{"$f":"'تعریف کالا'!$G$153","v":0},null,{"$f":"'تعریف کالا'!$F$153","v":0},null,0,null,null,null,null,null,null,null,null,null,null,null,null,null,null,0,0,0,0,0,0,0]
[null,"کاردکس 150",{"$f":"'تعریف کالا'!$C$154","v":0},{"$f":"'تعریف کالا'!$D$154","v":0},{"$f":"'تعریف کالا'!$E$154","v":0},{"$f":"'تعریف کالا'!$G$154","v":0},null,{"$f":"'تعریف کالا'!$F$154","v":0},null,0,null,null,null,null,null,null,null,null,null,null,null,null,null,null,0,0,0,0,0,0,0]
[null,"کاردکس 151",{"$f":"'تعریف کالا'!$C$155","v":0},{"$f":"'تعریف کالا'!$D$155","v":0},{"$f":"'تعریف کالا'!$E$155","v":0},{"$f":"'تعریف کالا'!$G$155","v":0},null,{"$f":"'تعریف کالا'!$F$155","v":0},null,0,null,null,null,null,null,null,null,null,null,null,null,null,null,null,0,0,0,0,0,0,0]
[null,"کاردکس 152",{"$f":"'تعریف کالا'!$C$156","v":0},{"$f":"'تعریف کالا'!$D$156","v":0},{"$f":"'تعریف کالا'!$E$156","v":0},{"$f":"'تعریف کالا'!$G$156","v":0},null,{"$f":"'تعریف کالا'!$F$156","v":0},null,0,null,null,null,null,null,null,null,null,null,null,null,null,null,null,0,0,0,0,0,0,0]
[null,"کاردکس 153",{"$f":"'تعریف کالا'!$C$157","v":0},{"$f":"'تعریف کالا'!$D$157","v":0},{"$f":"'تعریف کالا'!$E$157","v":0},{"$f":"'تعریف کالا'!$G$157","v":0},null,{"$f":"'تعریف کالا'!$F$157","v":0},null,0,null,null,null,null,null,null,null,null,null,null,null,null,null,null,0,0,0,0,0,0,0]
[null,"کاردکس 154",{"$f":"'تعریف کالا'!$C$158","v":0},{"$f":"'تعریف کالا'!$D$158","v":0},{"$f":"'تعریف کالا'!$E$158","v":0},{"$f":"'تعریف کالا'!$G$158","v":0},null,{"$f":"'تعریف کالا'!$F$158","v":0},null,0,null,null,null,null,null,null,null,null,null,null,null,null,null,null,0,0,0,0,0,0,0]
[null,"کاردکس 155",{"$f":"'تعریف کالا'!$C$159","v":0},{"$f":"'تعریف کالا'!$D$159","v":0},{"$f":"'تعریف کالا'!$E$159","v":0},{"$f":"'تعریف کالا'!$G$159","v":0},null,{"$f":"'تعریف کالا'!$F$159","v":0},null,0,null,null,null,null,null,null,null,null,null,null,null,null,null,null,0,0,0,0,0,0,0]
[null,"کاردکس 156",{"$f":"'تعریف کالا'!$C$160","v":0},{"$f":"'تعریف کالا'!$D$160","v":0},{"$f":"'تعریف کالا'!$E$160","v":0},{"$f":"'تعریف کالا'!$G$160","v":0},null,{"$f":"'تعریف کالا'!$F$160","v":0},null,0,null,null,null,null,null,null,null,null,null,null,null,null,null,null,0,0,0,0,0,0,0]
[null,"کاردکس 157",{"$f":"'تعریف کالا'!$C$161","v":0},{"$f":"'تعریف کالا'!$D$161","v":0},{"$f":"'تعریف کالا'!$E$161","v":0},{"$f":"'تعریف کالا'!$G$161","v":0},null,{"$f":"'تعریف کالا'!$F$161","v":0},null,0,null,null,null,null,null,null,null,null,null,null,null,null,null,null,0,0,0,0,0,0,0]
[null,"کاردکس 158",{"$f":"'تعریف کالا'!$C$162","v":0},{"$f":"'تعریف کالا'!$D$162","v":0},{"$f":"'تعریف کالا'!$E$162","v":0},{"$f":"'تعریف کالا'!$G$162","v":0},null,{"$f":"'تعریف کالا'!$F$162","v":0},null,0,null,null,null,null,null,null,null,null,null,null,null,null,null,null,0,0,0,0,0,0,0]
[null,"کاردکس 159",{"$f":"'تعریف کالا'!$C$163","v":0},{"$f":"'تعریف کالا'!$D$163","v":0},{"$f":"'تعریف کالا'!$E$163","v":0},{"$f":"'تعریف کالا'!$G$163","v":0},null,{"$f":"'تعریف کالا'!$F$163","v":0},null,0,null,null,null,null,null,null,null,null,null,null,null,null,null,null,0,0,0,0,0,0,0]
[null,"کاردکس 160",{"$f":"'تعریف کالا'!$C$164","v":0},{"$f":"'تعریف کالا'!$D$164","v":0},{"$f":"'تعریف کالا'!$E$164","v":0},{"$f":"'تعریف کالا'!$G$164","v":0},null,{"$f":"'تعریف کالا'!$F$164","v":0},null,0,null,null,null,null,null,null,null,null,null,null,null,null,null,null,0,0,0,0,0,0,0]
[null,"کاردکس 161",{"$f":"'تعریف کالا'!$C$165","v":0},{"$f":"'تعریف کالا'!$D$165","v":0},{"$f":"'تعریف کالا'!$E$165","v":0},{"$f":"'تعریف کالا'!$G$165","v":0},null,{"$f":"'تعریف کالا'!$F$165","v":0},null,0,null,null,null,null,null,null,null,null,null,null,null,null,null,null,0,0,0,0,0,0,0]
[null,"کاردکس 162",{"$f":"'تعریف کالا'!$C$166","v":0},{"$f":"'تعریف کالا'!$D$166","v":0},{"$f":"'تعریف کالا'!$E$166","v":0},{"$f":"'تعریف کالا'!$G$166","v":0},null,{"$f":"'تعریف کالا'!$F$166","v":0},null,0,null,null,null,null,null,null,null,null,null,null,null,null,null,null,0,0,0,0,0,0,0]
[null,"کاردکس 163",{"$f":"'تعریف کالا'!$C$167","v":0},{"$f":"'تعریف کالا'!$D$167","v":0},{"$f":"'تعریف کالا'!$E$167","v":0},{"$f":"'تعریف کالا'!$G$167","v":0},null,{"$f":"'تعریف کالا'!$F$167","v":0},null,0,null,null,null,null,null,null,null,null,null,null,null,null,null,null,0,0,0,0,0,0,0]
[null,"کاردکس 164",{"$f":"'تعریف کالا'!$C$168","v":0},{"$f":"'تعریف کالا'!$D$168","v":0},{"$f":"'تعریف کالا'!$E$168","v":0},{"$f":"'تعریف کالا'!$G$168","v":0},null,{"$f":"'تعریف کالا'!$F$168","v":0},null,0,null,null,null,null,null,null,null,null,null,null,null,null,null,null,0,0,0,0,0,0,0]
[null,"کاردکس 165",{"$f":"'تعریف کالا'!$C$169","v":0},{"$f":"'تعریف کالا'!$D$169","v":0},{"$f":"'تعریف کالا'!$E$169","v":0},{"$f":"'تعریف کالا'!$G$169","v":0},null,{"$f":"'تعریف کالا'!$F$169","v":0},null,0,null,null,null,null,null,null,null,null,null,null,null,null,null,null,0,0,0,0,0,0,0]
[null,"کاردکس 166",{"$f":"'تعریف کالا'!$C$170","v":0},{"$f":"'تعریف کالا'!$D$170","v":0},{"$f":"'تعریف کالا'!$E$170","v":0},{"$f":"'تعریف کالا'!$G$170","v":0},null,{"$f":"'تعریف کالا'!$F$170","v":0},null,0,null,null,null,null,null,null,null,null,null,null,null,null,null,null,0,0,0,0,0,0,0]
[null,"کاردکس 167",{"$f":"'تعریف کالا'!$C$171","v":0},{"$f":"'تعریف کالا'!$D$171","v":0},{"$f":"'تعریف کالا'!$E$171","v":0},{"$f":"'تعریف کالا'!$G$171","v":0},null,{"$f":"'تعریف کالا'!$F$171","v":0},null,0,null,null,null,null,null,null,null,null,null,null,null,null,null,null,0,0,0,0,0,0,0]
[null,"کاردکس 168",{"$f":"'تعریف کالا'!$C$172","v":0},{"$f":"'تعریف کالا'!$D$172","v":0},{"$f":"'تعریف کالا'!$E$172","v":0},{"$f":"'تعریف کالا'!$G$172","v":0},null,{"$f":"'تعریف کالا'!$F$172","v":0},null,0,null,null,null,null,null,null,null,null,null,null,null,null,null,null,0,0,0,0,0,0,0]
[null,"کاردکس 169",{"$f":"'تعریف کالا'!$C$173","v":0},{"$f":"'تعریف کالا'!$D$173","v":0},{"$f":"'تعریف کالا'!$E$173","v":0},{"$f":"'تعریف کالا'!$G$173","v":0},null,{"$f":"'تعریف کالا'!$F$173","v":0},null,0,null,null,null,null,null,null,null,null,null,null,null,null,null,null,0,0,0,0,0,0,0]
[null,"کاردکس 170",{"$f":"'تعریف کالا'!$C$174","v":0},{"$f":"'تعریف کالا'!$D$174","v":0},{"$f":"'تعریف کالا'!$E$174","v":0},{"$f":"'تعریف کالا'!$G$174","v":0},null,{"$f":"'تعریف کالا'!$F$174","v":0},null,0,null,null,null,null,null,null,null,null,null,null,null,null,null,null,0,0,0,0,0,0,0]
[null,"کاردکس 171",{"$f":"'تعریف کالا'!$C$175","v":0},{"$f":"'تعریف کالا'!$D$175","v":0},{"$f":"'تعریف کالا'!$E$175","v":0},{"$f":"'تعریف کالا'!$G$175","v":0},null,{"$f":"'تعریف کالا'!$F$175","v":0},null,0,null,null,null,null,null,null,null,null,null,null,null,null,null,null,0,0,0,0,0,0,0]
[null,"کاردکس 172",{"$f":"'تعریف کالا'!$C$176","v":0},{"$f":"'تعریف کالا'!$D$176","v":0},{"$f":"'تعریف کالا'!$E$176","v":0},{"$f":"'تعریف کالا'!$G$176","v":0},null,{"$f":"'تعریف کالا'!$F$176","v":0},null,0,null,null,null,null,null,null,null,null,null,null,null,null,null,null,0,0,0,0,0,0,0]
[null,"کاردکس 173",{"$f":"'تعریف کالا'!$C$177","v":0},{"$f":"'تعریف کالا'!$D$177","v":0},{"$f":"'تعریف کالا'!$E$177","v":0},{"$f":"'تعریف کالا'!$G$177","v":0},null,{"$f":"'تعریف کالا'!$F$177","v":0},null,0,null,null,null,null,null,null,null,null,null,null,null,null,null,null,0,0,0,0,0,0,0]
[null,"کاردکس 174",{"$f":"'تعریف کالا'!$C$178","v":0},{"$f":"'تعریف کالا'!$D$178","v":0},{"$f":"'تعریف کالا'!$E$178","v":0},{"$f":"'تعریف کالا'!$G$178","v":0},null,{"$f":"'تعریف کالا'!$F$178","v":0},null,0,null,null,null,null,null,null,null,null,null,null,null,null,null,null,0,0,0,0,0,0,0]
[null,"کاردکس 175",{"$f":"'تعریف کالا'!$C$179","v":0},{"$f":"'تعریف کالا'!$D$179","v":0},{"$f":"'تعریف کالا'!$E$179","v":0},{"$f":"'تعریف کالا'!$G$179","v":0},null,{"$f":"'تعریف کالا'!$F$179","v":0},null,0,null,null,null,null,null,null,null,null,null,null,null,null,null,null,0,0,0,0,0,0,0]
[null,"کاردکس 176",{"$f":"'تعریف کالا'!$C$180","v":0},{"$f":"'تعریف کالا'!$D$180","v":0},{"$f":"'تعریف کالا'!$E$180","v":0},{"$f":"'تعریف کالا'!$G$180","v":0},null,{"$f":"'تعریف کالا'!$F$180","v":0},null,0,null,null,null,null,null,null,null,null,null,null,null,null,null,null,0,0,0,0,0,0,0]
[null,"کاردکس 177",{"$f":"'تعریف کالا'!$C$181","v":0},{"$f":"'تعریف کالا'!$D$181","v":0},{"$f":"'تعریف کالا'!$E$181","v":0},{"$f":"'تعریف کالا'!$G$181","v":0},null,{"$f":"'تعریف کالا'!$F$181","v":0},null,0,null,null,null,null,null,null,null,null,null,null,null,null,null,null,0,0,0,0,0,0,0]
[null,"کاردکس 178",{"$f":"'تعریف کالا'!$C$182","v":0},{"$f":"'تعریف کالا'!$D$182","v":0},{"$f":"'تعریف کالا'!$E$182","v":0},{"$f":"'تعریف کالا'!$G$182","v":0},null,{"$f":"'تعریف کالا'!$F$182","v":0},null,0,null,null,null,null,null,null,null,null,null,null,null,null,null,null,0,0,0,0,0,0,0]
[null,"کاردکس 179",{"$f":"'تعریف کالا'!$C$183","v":0},{"$f":"'تعریف کالا'!$D$183","v":0},{"$f":"'تعریف کالا'!$E$183","v":0},{"$f":"'تعریف کالا'!$G$183","v":0},null,{"$f":"'تعریف کالا'!$F$183","v":0},null,0,null,null,null,null,null,null,null,null,null,null,null,null,null,null,0,0,0,0,0,0,0]
[null,"کاردکس 180",{"$f":"'تعریف کالا'!$C$184","v":0},{"$f":"'تعریف کالا'!$D$184","v":0},{"$f":"'تعریف کالا'!$E$184","v":0},{"$f":"'تعریف کالا'!$G$184","v":0},null,{"$f":"'تعریف کالا'!$F$184","v":0},null,0,null,null,null,null,null,null,null,null,null,null,null,null,null,null,0,0,0,0,0,0,0]
[null,"کاردکس 181",{"$f":"'تعریف کالا'!$C$185","v":0},{"$f":"'تعریف کالا'!$D$185","v":0},{"$f":"'تعریف کالا'!$E$185","v":0},{"$f":"'تعریف کالا'!$G$185","v":0},null,{"$f":"'تعریف کالا'!$F$185","v":0},null,0,null,null,null,null,null,null,null,null,null,null,null,null,null,null,0,0,0,0,0,0,0]
[null,"کاردکس 182",{"$f":"'تعریف کالا'!$C$186","v":0},{"$f":"'تعریف کالا'!$D$186","v":0},{"$f":"'تعریف کالا'!$E$186","v":0},{"$f":"'تعریف کالا'!$G$186","v":0},null,{"$f":"'تعریف کالا'!$F$186","v":0},null,0,null,null,null,null,null,null,null,null,null,null,null,null,null,null,0,0,0,0,0,0,0]
[null,"کاردکس 183",{"$f":"'تعریف کالا'!$C$187","v":0},{"$f":"'تعریف کالا'!$D$187","v":0},{"$f":"'تعریف کالا'!$E$187","v":0},{"$f":"'تعریف کالا'!$G$187","v":0},null,{"$f":"'تعریف کالا'!$F$187","v":0},null,0,null,null,null,null,null,null,null,null,null,null,null,null,null,null,0,0,0,0,0,0,0]
[null,"کاردکس 184",{"$f":"'تعریف کالا'!$C$18","v":0},{"$f":"'تعریف کالا'!$D$188","v":0},{"$f":"'تعریف کالا'!$E$188","v":0},{"$f":"'تعریف کالا'!$G$188","v":0},null,{"$f":"'تعریف کالا'!$F$188","v":0},null,0,null,null,null,null,null,null,null,null,null,null,null,null,null,null,0,0,0,0,0,0,0]
[null,"کاردکس 185",{"$f":"'تعریف کالا'!$C$189","v":0},{"$f":"'تعریف کالا'!$D$189","v":0},{"$f":"'تعریف کالا'!$E$189","v":0},{"$f":"'تعریف کالا'!$G$189","v":0},null,{"$f":"'تعریف کالا'!$F$189","v":0},null,0,null,null,null,null,null,null,null,null,null,null,null,null,null,null,0,0,0,0,0,0,0]
[null,"کاردکس 186",{"$f":"'تعریف کالا'!$C$190","v":0},{"$f":"'تعریف کالا'!$D$190","v":0},{"$f":"'تعریف کالا'!$E$190","v":0},{"$f":"'تعریف کالا'!$G$190","v":0},null,{"$f":"'تعریف کالا'!$F$190","v":0},null,0,null,null,null,null,null,null,null,null,null,null,null,null,null,null,0,0,0,0,0,0,0]
[null,"کاردکس 187",{"$f":"'تعریف کالا'!$C$191","v":0},{"$f":"'تعریف کالا'!$D$191","v":0},{"$f":"'تعریف کالا'!$E$191","v":0},{"$f":"'تعریف کالا'!$G$191","v":0},null,{"$f":"'تعریف کالا'!$F$191","v":0},null,0,null,null,null,null,null,null,null,null,null,null,null,null,null,null,0,0,0,0,0,0,0]
[null,"کاردکس 188",{"$f":"'تعریف کالا'!$C$192","v":0},{"$f":"'تعریف کالا'!$D$192","v":0},{"$f":"'تعریف کالا'!$E$192","v":0},{"$f":"'تعریف کالا'!$G$192","v":0},null,{"$f":"'تعریف کالا'!$F$192","v":0},null,0,null,null,null,null,null,null,null,null,null,null,null,null,null,null,0,0,0,0,0,0,0]
[null,"کاردکس 189",{"$f":"'تعریف کالا'!$C$193","v":0},{"$f":"'تعریف کالا'!$D$193","v":0},{"$f":"'تعریف کالا'!$E$193","v":0},{"$f":"'تعریف کالا'!$G$193","v":0},null,{"$f":"'تعریف کالا'!$F$193","v":0},null,0,null,null,null,null,null,null,null,null,null,null,null,null,null,null,0,0,0,0,0,0,0]
[null,"کاردکس 190",{"$f":"'تعریف کالا'!$C$194","v":0},{"$f":"'تعریف کالا'!$D$194","v":0},{"$f":"'تعریف کالا'!$E$194","v":0},{"$f":"'تعریف کالا'!$G$194","v":0},null,{"$f":"'تعریف کالا'!$F$194","v":0},null,0,null,null,null,null,null,null,null,null,null,null,null,null,null,null,0,0,0,0,0,0,0]
[null,"کاردکس 191",{"$f":"'تعریف کالا'!$C$195","v":0},{"$f":"'تعریف کالا'!$D$195","v":0},{"$f":"'تعریف کالا'!$E$195","v":0},{"$f":"'تعریف کالا'!$G$195","v":0},null,{"$f":"'تعریف کالا'!$F$195","v":0},null,0,null,null,null,null,null,null,null,null,null,null,null,null,null,null,0,0,0,0,0,0,0]
[null,"کاردکس 192",{"$f":"'تعریف کالا'!$C$196","v":0},{"$f":"'تعریف کالا'!$D$196","v":0},{"$f":"'تعریف کالا'!$E$196","v":0},{"$f":"'تعریف کالا'!$G$196","v":0},null,{"$f":"'تعریف کالا'!$F$196","v":0},null,0,null,null,null,null,null,null,null,null,null,null,null,null,null,null,0,0,0,0,0,0,0]
[null,"کاردکس 193",{"$f":"'تعریف کالا'!$C$197","v":0},{"$f":"'تعریف کالا'!$D$197","v":0},{"$f":"'تعریف کالا'!$E$197","v":0},{"$f":"'تعریف کالا'!$G$197","v":0},null,{"$f":"'تعریف کالا'!$F$197","v":0},null,0,null,null,null,null,null,null,null,null,null,null,null,null,null,null,0,0,0,0,0,0,0]
[null,"کاردکس 194",{"$f":"'تعریف کالا'!$C$198","v":0},{"$f":"'تعریف کالا'!$D$198","v":0},{"$f":"'تعریف کالا'!$E$198","v":0},{"$f":"'تعریف کالا'!$G$198","v":0},null,{"$f":"'تعریف کالا'!$F$198","v":0},null,0,null,null,null,null,null,null,null,null,null,null,null,null,null,null,0,0,0,{"$f":"F436","v":0},{"$f":"H436","v":0},{"$f":"I436","v":0},{"$f":"J436","v":0}]
[null,"کاردکس 195",{"$f":"'تعریف کالا'!$C$199","v":0},{"$f":"'تعریف کالا'!$D$199","v":0},{"$f":"'تعریف کالا'!$E$199","v":0},{"$f":"'تعریف کالا'!$G$199","v":0},null,{"$f":"'تعریف کالا'!$F$199","v":0},null,{"$f":"(F437*I437)-(F437*I437*G437%)","v":0},null,null,null,null,null,null,null,null,null,null,null,null,null,null,{"$f":"C437","v":0},{"$f":"D437","v":0},{"$f":"E437","v":0},0,0,0,0]
[null,"کاردکس 196",{"$f":"'تعریف کالا'!$C$200","v":0},{"$f":"'تعریف کالا'!$D$200","v":0},{"$f":"'تعریف کالا'!$E$200","v":0},{"$f":"'تعریف کالا'!$G$200","v":0},null,{"$f":"'تعریف کالا'!$F$200","v":0},null,0,null,null,null,null,null,null,null,null,null,null,null,null,null,null,0,0,0,0,0,0,0]
[null,"کاردکس 197",{"$f":"'تعریف کالا'!$C$201","v":0},{"$f":"'تعریف کالا'!$D$201","v":0},{"$f":"'تعریف کالا'!$E$201","v":0},{"$f":"'تعریف کالا'!$G$201","v":0},null,{"$f":"'تعریف کالا'!$F$201","v":0},null,0,null,null,null,null,null,null,null,null,null,null,null,null,null,null,0,0,0,0,0,0,0]
[null,"کاردکس 198",{"$f":"'تعریف کالا'!$C$202","v":0},{"$f":"'تعریف کالا'!$D$202","v":0},{"$f":"'تعریف کالا'!$E$202","v":0},{"$f":"'تعریف کالا'!$G$202","v":0},null,{"$f":"'تعریف کالا'!$F$202","v":0},null,0,null,null,null,null,null,null,null,null,null,null,null,null,null,null,0,0,0,0,0,0,0]
[null,"کاردکس 199",{"$f":"'تعریف کالا'!$C$203","v":0},{"$f":"'تعریف کالا'!$D$203","v":0},{"$f":"'تعریف کالا'!$E$203","v":0},{"$f":"'تعریف کالا'!$G$203","v":0},null,{"$f":"'تعریف کالا'!$F$203","v":0},null,0,null,null,null,null,null,null,null,null,null,null,null,null,null,null,0,0,0,0,0,0,0]
[null,"کاردکس 200",{"$f":"'تعریف کالا'!$C$204","v":0},{"$f":"'تعریف کالا'!$D$204","v":0},{"$f":"'تعریف کالا'!$E$204","v":0},{"$f":"'تعریف کالا'!$G$204","v":0},null,{"$f":"'تعریف کالا'!$F$204","v":0},null,0,null,null,null,null,null,null,null,null,null,null,null,null,null,null,0,0,0,0,0,0,0]
[null,"     جمع کل",null,{"$f":"abh(I443)&L439","v":"منفي "},null,null,null,null,{"$f":"SUM(J243:J442)","v":0},null,null,null,null,null,null,null,null,null,null,null,null,null,null,"مانده حساب",null,{"$f":"abh(AD443)& \"ریال\"","v":"منفي ریال"},null,null,null,{"$f":"I445","v":0}]
[null,"                  مبلغ قابل  پرداخت        ",null,{"$f":"abh(I444)&\"ریال\"","v":"منفي ریال"},null,null,null,null,{"$f":"J237","v":0},null,null,null,null,null,null,null,null,null,null,null,null,null,null,"شرح رویداد :",null,{"$f":"E240","v":0}]
[null,"مانده حساب",null,{"$f":"abh(I445)&\"ریال\"","v":"منفي ریال"},null,null,null,null,{"$f":"J238","v":0},null,null,null,null,null,null,null,null,null,null,null,null,null,null,"اقلام این فاکتور سالم تحویل اینجانب  ....................  شد.               "]
[]
[null,null,null,null,null,null,null,null,null,null,null,null,null,null,null,null,null,null,null,null,null,null,null,null,"امضا صادر کننده",null,"امضا فروشنده",null,"امضا مسئول انبار",null,"امضا خریدار"]
[]
[]
[]
[]
[]
[]
[null,null,"فاکتور خرید"]
[null,null,null,null,null,{"$f":"'صفحه اصلی'!$J$4","v":0},null,null,null,null,null,"فاکتور بعدی",null,null,null,null,null,null,null,null,null,null,null,"رسید کالا"]
[null,"شماره سند ",3,null,null,null,null,null,"تاریخ",null,null,null,null,null,null,null,null,null,null,null,null,null,null,null,null,null,{"$f":"F455","v":0},null,null,"تاریخ",{"$f":"J456","v":0}]
[null,"شماره فاکتور",3,null,null,null,null,null,"انبار",null,null,"مشاهده رسید",null,null,null,null,null,null,null,null,null,null,null,"شماره رسید",{"$f":"C457","v":3}]
[null,null,null,null,null,null,null,null,null,null,null,null,null,null,null,null,null,null,null,null,null,null,null,"شماره سند",{"$f":"C456","v":3}]
[null,null,null,null,null,"           درصد تخفیف  ",null,null,"تخفیف ",{"$f":"(I668*G459%)","v":0}]
[null,null,"نام فروشنده","علی منصوری",null,"          کرایه حمل",null,null,"کرایه حمل",{"$f":"G460","v":0}]
[null,null,null,null,null,"          مالیات",null,null,"مالیات",{"$f":"(I668-J459+J460)*G461%","v":0}]
[null,null,"پرداخت نقدی",null,null,null,null,null,"مبلغ قابل پرداخت",{"$f":"I668-J459+J460+J461","v":0},null,null,null,null,null,null,null,null,null,null,null,null,null,null,"فروشنده :",{"$f":"D460","v":"علی منصوری"}]
[null,null,"پرداخت با چک",null,null,null,null,null,"مانده حساب",{"$f":"J462-D462-D463","v":0}]
[null,null,null,null,null,null,null,null,null,null,null,null,null,null,null,null,null,null,null,null,null,null,null,null,"آدرس :",{"$f":"VLOOKUP(Z462,'مشخصات فروشندگان'!$B$2:$C$502,2,FALSE)","v":0}]
[null,null,"ثبت چک","شرح رویداد"]
[]
[null,"شماره کاردکس","کد کالا","نام کالا","گروه بندی","قیمت واحد","درصد تخفیف","واحد شمارش","تعداد","قیمت کل",null,null,null,null,null,null,null,null,null,null,null,null,null,"ردیف","کد کالا","نام کالا","گروه بندی","قیمت واحد","واحد شمارش","تعداد","قیمت کل"]
[null,"کاردکس 1",{"$f":"'تعریف کالا'!$C$5","v":9011120},{"$f":"'تعریف کالا'!$D$5","v":"سی دی"},{"$f":"'تعریف کالا'!$E$5","v":"سخت افزار"},{"$f":"'تعریف کالا'!$G$5","v":3000},null,{"$f":"'تعریف کالا'!$F$5","v":"حلقه"},null,{"$f":"(F468*I468)-(F468*I468*G468%)","v":0},null,null,null,null,null,null,null,null,null,null,null,null,null,null,{"$f":"C468","v":9011120},{"$f":"D468","v":"سی دی"},{"$f":"E468","v":"سخت افزار"},{"$f":"F468","v":3000},{"$f":"H468","v":"حلقه"},{"$f":"I468","v":0},{"$f":"J468","v":0}]
[null,"کاردکس 2",{"$f":"'تعریف کالا'!$C$6","v":9011121},{"$f":"'تعریف کالا'!$D$6","v":"دی وی دی"},{"$f":"'تعریف کالا'!$E$6","v":"سخت افزار"},{"$f":"'تعریف کالا'!$G$6","v":7000},null,{"$f":"'تعریف کالا'!$F$6","v":"حلقه"},null,{"$f":"(F469*I469)-(F469*I469*G469%)","v":0},null,null,null,null,null,null,null,null,null,null,null,null,null,null,{"$f":"C469","v":9011121},{"$f":"D469","v":"دی وی دی"},{"$f":"E469","v":"سخت افزار"},{"$f":"F469","v":7000},{"$f":"H469","v":"حلقه"},{"$f":"I469","v":0},{"$f":"J469","v":0}]
[null,"کاردکس 3",{"$f":"'تعریف کالا'!$C$7","v":9011122},{"$f":"'تعریف کالا'!$D$7","v":"نوت بوک"},{"$f":"'تعریف کالا'!$E$7","v":"سخت افزار"},{"$f":"'تعریف کالا'!$G$7","v":10000000},null,{"$f":"'تعریف کالا'!$F$7","v":"دستگاه"},null,{"$f":"(F470*I470)-(F470*I470*G470%)","v":0},null,null,null,null,null,null,null,null,null,null,null,null,null,null,{"$f":"C470","v":9011122},"نوت بوک","سخت افزار",10000000,"دستگاه",0,0]
[null,"کاردکس 4",{"$f":"'تعریف کالا'!$C$8","v":0},{"$f":"'تعریف کالا'!$D$8","v":0},{"$f":"'تعریف کالا'!$E$8","v":0},{"$f":"'تعریف کالا'!$G$8","v":0},null,{"$f":"'تعریف کالا'!$F$8","v":0},null,0,null,null,null,null,null,null,null,null,null,null,null,null,null,null,0,0,0,0,0,0,0]
[null,"کاردکس 5",{"$f":"'تعریف کالا'!$C$9","v":0},{"$f":"'تعریف کالا'!$D$9","v":0},{"$f":"'تعریف کالا'!$E$9","v":0},{"$f":"'تعریف کالا'!$G$9","v":0},null,{"$f":"'تعریف کالا'!$F$9","v":0},null,0,null,null,null,null,null,null,null,null,null,null,null,null,null,null,0,0,0,0,0,0,0]
[null,"کاردکس 6",{"$f":"'تعریف کالا'!$C$10","v":0},{"$f":"'تعریف کالا'!$D$10","v":0},{"$f":"'تعریف کالا'!$E$10","v":0},{"$f":"'تعریف کالا'!$G$10","v":0},null,{"$f":"'تعریف کالا'!$F$10","v":0},null,0,null,null,null,null,null,null,null,null,null,null,null,null,null,null,0,0,0,0,0,0,0]
[null,"کاردکس 7",{"$f":"'تعریف کالا'!$C$11","v":0},{"$f":"'تعریف کالا'!$D$11","v":0},{"$f":"'تعریف کالا'!$E$11","v":0},{"$f":"'تعریف کالا'!$G$11","v":0},null,{"$f":"'تعریف کالا'!$F$11","v":0},null,0,null,null,null,null,null,null,null,null,null,null,null,null,null,null,0,0,0,0,0,0,0]
[null,"کاردکس 8",{"$f":"'تعریف کالا'!$C$12","v":0},{"$f":"'تعریف کالا'!$D$12","v":0},{"$f":"'تعریف کالا'!$E$12","v":0},{"$f":"'تعریف کالا'!$G$12","v":0},null,{"$f":"'تعریف کالا'!$F$12","v":0},null,0,null,null,null,null,null,null,null,null,null,null,null,null,null,null,0,0,0,0,0,0,0]
[null,"کاردکس 9",{"$f":"'تعریف کالا'!$C$13","v":0},{"$f":"'تعریف کالا'!$D$13","v":0},{"$f":"'تعریف کالا'!$E$13","v":0},{"$f":"'تعریف کالا'!$G$13","v":0},null,{"$f":"'تعریف کالا'!$F$13","v":0},null,0,null,null,null,null,null,null,null,null,null,null,null,null,null,null,0,0,0,0,0,0,0]
[null,"کاردکس 10",{"$f":"'تعریف کالا'!$C$14","v":0},{"$f":"'تعریف کالا'!$D$14","v":0},{"$f":"'تعریف کالا'!$E$14","v":0},{"$f":"'تعریف کالا'!$G$14","v":0},null,{"$f":"'تعریف کالا'!$F$14","v":0},null,0,null,null,null,null,null,null,null,null,null,null,null,null,null,null,0,0,0,0,0,0,0]
[null,"کاردکس 11",{"$f":"'تعریف کالا'!$C$15","v":0},{"$f":"'تعریف کالا'!$D$15","v":0},{"$f":"'تعریف کالا'!$E$15","v":0},{"$f":"'تعریف کالا'!$G$15","v":0},null,{"$f":"'تعریف کالا'!$F$15","v":0},null,0,null,null,null,null,null,null,null,null,null,null,null,null,null,null,0,0,0,0,0,0,0]
[null,"کاردکس 12",{"$f":"'تعریف کالا'!$C$16","v":0},{"$f":"'تعریف کالا'!$D$16","v":0},{"$f":"'تعریف کالا'!$E$16","v":0},{"$f":"'تعریف کالا'!$G$16","v":0},null,{"$f":"'تعریف کالا'!$F$16","v":0},null,0,null,null,null,null,null,null,null,null,null,null,null,null,null,null,0,0,0,0,0,0,0]
[null,"کاردکس 13",{"$f":"'تعریف کالا'!$C$17","v":0},{"$f":"'تعریف کالا'!$D$17","v":0},{"$f":"'تعریف کالا'!$E$17","v":0},{"$f":"'تعریف کالا'!$G$17","v":0},null,{"$f":"'تعریف کالا'!$F$17","v":0},null,0,null,null,null,null,null,null,null,null,null,null,null,null,null,null,0,0,0,0,0,0,0]
[null,"کاردکس 14",{"$f":"'تعریف کالا'!$C$18","v":0},{"$f":"'تعریف کالا'!$D$18","v":0},{"$f":"'تعریف کالا'!$E$18","v":0},{"$f":"'تعریف کالا'!$G$18","v":0},null,{"$f":"'تعریف کالا'!$F$18","v":0},null,0,null,null,null,null,null,null,null,null,null,null,null,null,null,null,0,0,0,0,0,0,0]
[null,"کاردکس 15",{"$f":"'تعریف کالا'!$C$19","v":0},{"$f":"'تعریف کالا'!$D$19","v":0},{"$f":"'تعریف کالا'!$E$19","v":0},{"$f":"'تعریف کالا'!$G$19","v":0},null,{"$f":"'تعریف کالا'!$F$19","v":0},null,0,null,null,null,null,null,null,null,null,null,null,null,null,null,null,0,0,0,0,0,0,0]
[null,"کاردکس 16",{"$f":"'تعریف کالا'!$C$20","v":0},{"$f":"'تعریف کالا'!$D$20","v":0},{"$f":"'تعریف کالا'!$E$20","v":0},{"$f":"'تعریف کالا'!$G$20","v":0},null,{"$f":"'تعریف کالا'!$F$20","v":0},null,0,null,null,null,null,null,null,null,null,null,null,null,null,null,null,0,0,0,0,0,0,0]
[null,"کاردکس 17",{"$f":"'تعریف کالا'!$C$21","v":0},{"$f":"'تعریف کالا'!$D$21","v":0},{"$f":"'تعریف کالا'!$E$21","v":0},{"$f":"'تعریف کالا'!$G$21","v":0},null,{"$f":"'تعریف کالا'!$F$21","v":0},null,0,null,null,null,null,null,null,null,null,null,null,null,null,null,null,0,0,0,0,0,0,0]
[null,"کاردکس 18",{"$f":"'تعریف کالا'!$C$22","v":0},{"$f":"'تعریف کالا'!$D$22","v":0},{"$f":"'تعریف کالا'!$E$22","v":0},{"$f":"'تعریف کالا'!$G$22","v":0},null,{"$f":"'تعریف کالا'!$F$22","v":0},null,0,null,null,null,null,null,null,null,null,null,null,null,null,null,null,0,0,0,0,0,0,0]
[null,"کاردکس 19",{"$f":"'تعریف کالا'!$C$23","v":0},{"$f":"'تعریف کالا'!$D$23","v":0},{"$f":"'تعریف کالا'!$E$23","v":0},{"$f":"'تعریف کالا'!$G$23","v":0},null,{"$f":"'تعریف کالا'!$F$23","v":0},null,0,null,null,null,null,null,null,null,null,null,null,null,null,null,null,0,0,0,0,0,0,0]
[null,"کاردکس 20",{"$f":"'تعریف کالا'!$C$24","v":0},{"$f":"'تعریف کالا'!$D$24","v":0},{"$f":"'تعریف کالا'!$E$24","v":0},{"$f":"'تعریف کالا'!$G$24","v":0},null,{"$f":"'تعریف کالا'!$F$24","v":0},null,0,null,null,null,null,null,null,null,null,null,null,null,null,null,null,0,0,0,0,0,0,0]
[null,"کاردکس 21",{"$f":"'تعریف کالا'!$C$25","v":0},{"$f":"'تعریف کالا'!$D$25","v":0},{"$f":"'تعریف کالا'!$E$25","v":0},{"$f":"'تعریف کالا'!$G$25","v":0},null,{"$f":"'تعریف کالا'!$F$25","v":0},null,0,null,null,null,null,null,null,null,null,null,null,null,null,null,null,0,0,0,0,0,0,0]
[null,"کاردکس 22",{"$f":"'تعریف کالا'!$C$26","v":0},{"$f":"'تعریف کالا'!$D$26","v":0},{"$f":"'تعریف کالا'!$E$26","v":0},{"$f":"'تعریف کالا'!$G$26","v":0},null,{"$f":"'تعریف کالا'!$F$26","v":0},null,0,null,null,null,null,null,null,null,null,null,null,null,null,null,null,0,0,0,0,0,0,0]
[null,"کاردکس 23",{"$f":"'تعریف کالا'!$C$27","v":0},{"$f":"'تعریف کالا'!$D$27","v":0},{"$f":"'تعریف کالا'!$E$27","v":0},{"$f":"'تعریف کالا'!$G$27","v":0},null,{"$f":"'تعریف کالا'!$F$27","v":0},null,0,null,null,null,null,null,null,null,null,null,null,null,null,null,null,0,0,0,0,0,0,0]
[null,"کاردکس 24",{"$f":"'تعریف کالا'!$C$28","v":0},{"$f":"'تعریف کالا'!$D$28","v":0},{"$f":"'تعریف کالا'!$E$28","v":0},{"$f":"'تعریف کالا'!$G$28","v":0},null,{"$f":"'تعریف کالا'!$F$28","v":0},null,0,null,null,null,null,null,null,null,null,null,null,null,null,null,null,0,0,0,0,0,0,0]
[null,"کاردکس 25",{"$f":"'تعریف کالا'!$C$29","v":0},{"$f":"'تعریف کالا'!$D$29","v":0},{"$f":"'تعریف کالا'!$E$29","v":0},{"$f":"'تعریف کالا'!$G$29","v":0},null,{"$f":"'تعریف کالا'!$F$29","v":0},null,0,null,null,null,null,null,null,null,null,null,null,null,null,null,null,0,0,0,0,0,0,0]
[null,"کاردکس 26",{"$f":"'تعریف کالا'!$C$30","v":0},{"$f":"'تعریف کالا'!$D$30","v":0},{"$f":"'تعریف کالا'!$E$30","v":0},{"$f":"'تعریف کالا'!$G$30","v":0},null,{"$f":"'تعریف کالا'!$F$30","v":0},null,0,null,null,null,null,null,null,null,null,null,null,null,null,null,null,0,0,0,0,0,0,0]
[null,"کاردکس 27",{"$f":"'تعریف کالا'!$C$31","v":0},{"$f":"'تعریف کالا'!$D$31","v":0},{"$f":"'تعریف کالا'!$E$31","v":0},{"$f":"'تعریف کالا'!$G$31","v":0},null,{"$f":"'تعریف کالا'!$F$31","v":0},null,0,null,null,null,null,null,null,null,null,null,null,null,null,null,null,0,0,0,0,0,0,0]
[null,"کاردکس 28",{"$f":"'تعریف کالا'!$C$32","v":0},{"$f":"'تعریف کالا'!$D$32","v":0},{"$f":"'تعریف کالا'!$E$32","v":0},{"$f":"'تعریف کالا'!$G$32","v":0},null,{"$f":"'تعریف کالا'!$F$32","v":0},null,0,null,null,null,null,null,null,null,null,null,null,null,null,null,null,0,0,0,0,0,0,0]
[null,"کاردکس 29",{"$f":"'تعریف کالا'!$C$33","v":0},{"$f":"'تعریف کالا'!$D$33","v":0},{"$f":"'تعریف کالا'!$E$33","v":0},{"$f":"'تعریف کالا'!$G$33","v":0},null,{"$f":"'تعریف کالا'!$F$33","v":0},null,0,null,null,null,null,null,null,null,null,null,null,null,null,null,null,0,0,0,0,0,0,0]
[null,"کاردکس 30",{"$f":"'تعریف کالا'!$C$34","v":0},{"$f":"'تعریف کالا'!$D$34","v":0},{"$f":"'تعریف کالا'!$E$34","v":0},{"$f":"'تعریف کالا'!$G$34","v":0},null,{"$f":"'تعریف کالا'!$F$34","v":0},null,0,null,null,null,null,null,null,null,null,null,null,null,null,null,null,0,0,0,0,0,0,0]
[null,"کاردکس 31",{"$f":"'تعریف کالا'!$C$35","v":0},{"$f":"'تعریف کالا'!$D$35","v":0},{"$f":"'تعریف کالا'!$E$35","v":0},{"$f":"'تعریف کالا'!$G$35","v":0},null,{"$f":"'تعریف کالا'!$F$35","v":0},null,0,null,null,null,null,null,null,null,null,null,null,null,null,null,null,0,0,0,0,0,0,0]
[null,"کاردکس 32",{"$f":"'تعریف کالا'!$C$36","v":0},{"$f":"'تعریف کالا'!$D$36","v":0},{"$f":"'تعریف کالا'!$E$36","v":0},{"$f":"'تعریف کالا'!$G$36","v":0},null,{"$f":"'تعریف کالا'!$F$36","v":0},null,0,null,null,null,null,null,null,null,null,null,null,null,null,null,null,0,0,0,0,0,0,0]
[null,"کاردکس 33",{"$f":"'تعریف کالا'!$C$37","v":0},{"$f":"'تعریف کالا'!$D$37","v":0},{"$f":"'تعریف کالا'!$E$37","v":0},{"$f":"'تعریف کالا'!$G$37","v":0},null,{"$f":"'تعریف کالا'!$F$37","v":0},null,0,null,null,null,null,null,null,null,null,null,null,null,null,null,null,0,0,0,0,0,0,0]
[null,"کاردکس 34",{"$f":"'تعریف کالا'!$C$38","v":0},{"$f":"'تعریف کالا'!$D$38","v":0},{"$f":"'تعریف کالا'!$E$38","v":0},{"$f":"'تعریف کالا'!$G$38","v":0},null,{"$f":"'تعریف کالا'!$F$38","v":0},null,0,null,null,null,null,null,null,null,null,null,null,null,null,null,null,0,0,0,0,0,0,0]
[null,"کاردکس 35",{"$f":"'تعریف کالا'!$C$39","v":0},{"$f":"'تعریف کالا'!$D$39","v":0},{"$f":"'تعریف کالا'!$E$39","v":0},{"$f":"'تعریف کالا'!$G$39","v":0},null,{"$f":"'تعریف کالا'!$F$39","v":0},null,0,null,null,null,null,null,null,null,null,null,null,null,null,null,null,0,0,0,0,0,0,0]
[null,"کاردکس 36",{"$f":"'تعریف کالا'!$C$40","v":0},{"$f":"'تعریف کالا'!$D$40","v":0},{"$f":"'تعریف کالا'!$E$40","v":0},{"$f":"'تعریف کالا'!$G$40","v":0},null,{"$f":"'تعریف کالا'!$F$40","v":0},null,0,null,null,null,null,null,null,null,null,null,null,null,null,null,null,0,0,0,0,0,0,0]
[null,"کاردکس 37",{"$f":"'تعریف کالا'!$C$41","v":0},{"$f":"'تعریف کالا'!$D$41","v":0},{"$f":"'تعریف کالا'!$E$41","v":0},{"$f":"'تعریف کالا'!$G$41","v":0},null,{"$f":"'تعریف کالا'!$F$41","v":0},null,0,null,null,null,null,null,null,null,null,null,null,null,null,null,null,0,0,0,0,0,0,0]
[null,"کاردکس 38",{"$f":"'تعریف کالا'!$C$42","v":0},{"$f":"'تعریف کالا'!$D$42","v":0},{"$f":"'تعریف کالا'!$E$42","v":0},{"$f":"'تعریف کالا'!$G$42","v":0},null,{"$f":"'تعریف کالا'!$F$42","v":0},null,0,null,null,null,null,null,null,null,null,null,null,null,null,null,null,0,0,0,0,0,0,0]
[null,"کاردکس 39",{"$f":"'تعریف کالا'!$C$43","v":0},{"$f":"'تعریف کالا'!$D$43","v":0},{"$f":"'تعریف کالا'!$E$43","v":0},{"$f":"'تعریف کالا'!$G$43","v":0},null,{"$f":"'تعریف کالا'!$F$43","v":0},null,0,null,null,null,null,null,null,null,null,null,null,null,null,null,null,0,0,0,0,0,0,0]
[null,"کاردکس 40",{"$f":"'تعریف کالا'!$C$44","v":0},{"$f":"'تعریف کالا'!$D$44","v":0},{"$f":"'تعریف کالا'!$E$44","v":0},{"$f":"'تعریف کالا'!$G$44","v":0},null,{"$f":"'تعریف کالا'!$F$44","v":0},null,0,null,null,null,null,null,null,null,null,null,null,null,null,null,null,0,0,0,0,0,0,0]
[null,"کاردکس 41",{"$f":"'تعریف کالا'!$C$45","v":0},{"$f":"'تعریف کالا'!$D$45","v":0},{"$f":"'تعریف کالا'!$E$45","v":0},{"$f":"'تعریف کالا'!$G$45","v":0},null,{"$f":"'تعریف کالا'!$F$45","v":0},null,0,null,null,null,null,null,null,null,null,null,null,null,null,null,null,0,0,0,0,0,0,0]
[null,"کاردکس 42",{"$f":"'تعریف کالا'!$C$46","v":0},{"$f":"'تعریف کالا'!$D$46","v":0},{"$f":"'تعریف کالا'!$E$46","v":0},{"$f":"'تعریف کالا'!$G$46","v":0},null,{"$f":"'تعریف کالا'!$F$46","v":0},null,0,null,null,null,null,null,null,null,null,null,null,null,null,null,null,0,0,0,0,0,0,0]
[null,"کاردکس 43",{"$f":"'تعریف کالا'!$C$47","v":0},{"$f":"'تعریف کالا'!$D$47","v":0},{"$f":"'تعریف کالا'!$E$47","v":0},{"$f":"'تعریف کالا'!$G$47","v":0},null,{"$f":"'تعریف کالا'!$F$47","v":0},null,0,null,null,null,null,null,null,null,null,null,null,null,null,null,null,0,0,0,0,0,0,0]
[null,"کاردکس 44",{"$f":"'تعریف کالا'!$C$48","v":0},{"$f":"'تعریف کالا'!$D$48","v":0},{"$f":"'تعریف کالا'!$E$48","v":0},{"$f":"'تعریف کالا'!$G$48","v":0},null,{"$f":"'تعریف کالا'!$F$48","v":0},null,0,null,null,null,null,null,null,null,null,null,null,null,null,null,null,0,0,0,0,0,0,0]
[null,"کاردکس 45",{"$f":"'تعریف کالا'!$C$49","v":0},{"$f":"'تعریف کالا'!$D$49","v":0},{"$f":"'تعریف کالا'!$E$49","v":0},{"$f":"'تعریف کالا'!$G$49","v":0},null,{"$f":"'تعریف کالا'!$F$49","v":0},null,0,null,null,null,null,null,null,null,null,null,null,null,null,null,null,0,0,0,0,0,0,0]
[null,"کاردکس 46",{"$f":"'تعریف کالا'!$C$50","v":0},{"$f":"'تعریف کالا'!$D$50","v":0},{"$f":"'تعریف کالا'!$E$50","v":0},{"$f":"'تعریف کالا'!$G$50","v":0},null,{"$f":"'تعریف کالا'!$F$50","v":0},null,0,null,null,null,null,null,null,null,null,null,null,null,null,null,null,0,0,0,0,0,0,0]
[null,"کاردکس 47",{"$f":"'تعریف کالا'!$C$51","v":0},{"$f":"'تعریف کالا'!$D$51","v":0},{"$f":"'تعریف کالا'!$E$51","v":0},{"$f":"'تعریف کالا'!$G$51","v":0},null,{"$f":"'تعریف کالا'!$F$51","v":0},null,0,null,null,null,null,null,null,null,null,null,null,null,null,null,null,0,0,0,0,0,0,0]
[null,"کاردکس 48",{"$f":"'تعریف کالا'!$C$52","v":0},{"$f":"'تعریف کالا'!$D$52","v":0},{"$f":"'تعریف کالا'!$E$52","v":0},{"$f":"'تعریف کالا'!$G$52","v":0},null,{"$f":"'تعریف کالا'!$F$52","v":0},null,0,null,null,null,null,null,null,null,null,null,null,null,null,null,null,0,0,0,0,0,0,0]
[null,"کاردکس 49",{"$f":"'تعریف کالا'!$C$53","v":0},{"$f":"'تعریف کالا'!$D$53","v":0},{"$f":"'تعریف کالا'!$E$53","v":0},{"$f":"'تعریف کالا'!$G$53","v":0},null,{"$f":"'تعریف کالا'!$F$53","v":0},null,0,null,null,null,null,null,null,null,null,null,null,null,null,null,null,0,0,0,0,0,0,0]
[null,"کاردکس 50",{"$f":"'تعریف کالا'!$C$54","v":0},{"$f":"'تعریف کالا'!$D$54","v":0},{"$f":"'تعریف کالا'!$E$54","v":0},{"$f":"'تعریف کالا'!$G$54","v":0},null,{"$f":"'تعریف کالا'!$F$54","v":0},null,0,null,null,null,null,null,null,null,null,null,null,null,null,null,null,0,0,0,0,0,0,0]
[null,"کاردکس 51",{"$f":"'تعریف کالا'!$C$55","v":0},{"$f":"'تعریف کالا'!$D$55","v":0},{"$f":"'تعریف کالا'!$E$55","v":0},{"$f":"'تعریف کالا'!$G$55","v":0},null,{"$f":"'تعریف کالا'!$F$55","v":0},null,0,null,null,null,null,null,null,null,null,null,null,null,null,null,null,0,0,0,0,0,0,0]
[null,"کاردکس 52",{"$f":"'تعریف کالا'!$C$56","v":0},{"$f":"'تعریف کالا'!$D$56","v":0},{"$f":"'تعریف کالا'!$E$56","v":0},{"$f":"'تعریف کالا'!$G$56","v":0},null,{"$f":"'تعریف کالا'!$F$56","v":0},null,0,null,null,null,null,null,null,null,null,null,null,null,null,null,null,0,0,0,0,0,0,0]
[null,"کاردکس 53",{"$f":"'تعریف کالا'!$C$57","v":0},{"$f":"'تعریف کالا'!$D$57","v":0},{"$f":"'تعریف کالا'!$E$57","v":0},{"$f":"'تعریف کالا'!$G$57","v":0},null,{"$f":"'تعریف کالا'!$F$57","v":0},null,0,null,null,null,null,null,null,null,null,null,null,null,null,null,null,0,0,0,0,0,0,0]
[null,"کاردکس 54",{"$f":"'تعریف کالا'!$C$58","v":0},{"$f":"'تعریف کالا'!$D$58","v":0},{"$f":"'تعریف کالا'!$E$58","v":0},{"$f":"'تعریف کالا'!$G$58","v":0},null,{"$f":"'تعریف کالا'!$F$58","v":0},null,0,null,null,null,null,null,null,null,null,null,null,null,null,null,null,0,0,0,0,0,0,0]
[null,"کاردکس 55",{"$f":"'تعریف کالا'!$C$59","v":0},{"$f":"'تعریف کالا'!$D$59","v":0},{"$f":"'تعریف کالا'!$E$59","v":0},{"$f":"'تعریف کالا'!$G$59","v":0},null,{"$f":"'تعریف کالا'!$F$59","v":0},null,0,null,null,null,null,null,null,null,null,null,null,null,null,null,null,0,0,0,0,0,0,0]
[null,"کاردکس 56",{"$f":"'تعریف کالا'!$C$60","v":0},{"$f":"'تعریف کالا'!$D$60","v":0},{"$f":"'تعریف کالا'!$E$60","v":0},{"$f":"'تعریف کالا'!$G$60","v":0},null,{"$f":"'تعریف کالا'!$F$60","v":0},null,0,null,null,null,null,null,null,null,null,null,null,null,null,null,null,0,0,0,0,0,0,0]
[null,"کاردکس 57",{"$f":"'تعریف کالا'!$C$61","v":0},{"$f":"'تعریف کالا'!$D$61","v":0},{"$f":"'تعریف کالا'!$E$61","v":0},{"$f":"'تعریف کالا'!$G$61","v":0},null,{"$f":"'تعریف کالا'!$F$61","v":0},null,0,null,null,null,null,null,null,null,null,null,null,null,null,null,null,0,0,0,0,0,0,0]
[null,"کاردکس 58",{"$f":"'تعریف کالا'!$C$62","v":0},{"$f":"'تعریف کالا'!$D$62","v":0},{"$f":"'تعریف کالا'!$E$62","v":0},{"$f":"'تعریف کالا'!$G$62","v":0},null,{"$f":"'تعریف کالا'!$F$62","v":0},null,0,null,null,null,null,null,null,null,null,null,null,null,null,null,null,0,0,0,0,0,0,0]
[null,"کاردکس 59",{"$f":"'تعریف کالا'!$C$63","v":0},{"$f":"'تعریف کالا'!$D$63","v":0},{"$f":"'تعریف کالا'!$E$63","v":0},{"$f":"'تعریف کالا'!$G$63","v":0},null,{"$f":"'تعریف کالا'!$F$63","v":0},null,0,null,null,null,null,null,null,null,null,null,null,null,null,null,null,0,0,0,0,0,0,0]
[null,"کاردکس 60",{"$f":"'تعریف کالا'!$C$64","v":0},{"$f":"'تعریف کالا'!$D$64","v":0},{"$f":"'تعریف کالا'!$E$64","v":0},{"$f":"'تعریف کالا'!$G$64","v":0},null,{"$f":"'تعریف کالا'!$F$64","v":0},null,0,null,null,null,null,null,null,null,null,null,null,null,null,null,null,0,0,0,0,0,0,0]
[null,"کاردکس 61",{"$f":"'تعریف کالا'!$C$65","v":0},{"$f":"'تعریف کالا'!$D$65","v":0},{"$f":"'تعریف کالا'!$E$65","v":0},{"$f":"'تعریف کالا'!$G$65","v":0},null,{"$f":"'تعریف کالا'!$F$65","v":0},null,0,null,null,null,null,null,null,null,null,null,null,null,null,null,null,0,0,0,0,0,0,0]
[null,"کاردکس 62",{"$f":"'تعریف کالا'!$C$66","v":0},{"$f":"'تعریف کالا'!$D$66","v":0},{"$f":"'تعریف کالا'!$E$66","v":0},{"$f":"'تعریف کالا'!$G$66","v":0},null,{"$f":"'تعریف کالا'!$F$66","v":0},null,0,null,null,null,null,null,null,null,null,null,null,null,null,null,null,0,0,0,0,0,0,0]
[null,"کاردکس 63",{"$f":"'تعریف کالا'!$C$67","v":0},{"$f":"'تعریف کالا'!$D$67","v":0},{"$f":"'تعریف کالا'!$E$67","v":0},{"$f":"'تعریف کالا'!$G$67","v":0},null,{"$f":"'تعریف کالا'!$F$67","v":0},null,0,null,null,null,null,null,null,null,null,null,null,null,null,null,null,0,0,0,0,0,0,0]
[null,"کاردکس 64",{"$f":"'تعریف کالا'!$C$68","v":0},{"$f":"'تعریف کالا'!$D$68","v":0},{"$f":"'تعریف کالا'!$E$68","v":0},{"$f":"'تعریف کالا'!$G$68","v":0},null,{"$f":"'تعریف کالا'!$F$68","v":0},null,0,null,null,null,null,null,null,null,null,null,null,null,null,null,null,0,0,0,0,0,0,0]
[null,"کاردکس 65",{"$f":"'تعریف کالا'!$C$69","v":0},{"$f":"'تعریف کالا'!$D$69","v":0},{"$f":"'تعریف کالا'!$E$69","v":0},{"$f":"'تعریف کالا'!$G$69","v":0},null,{"$f":"'تعریف کالا'!$F$69","v":0},null,0,null,null,null,null,null,null,null,null,null,null,null,null,null,null,0,0,0,0,0,0,0]
[null,"کاردکس 66",{"$f":"'تعریف کالا'!$C$70","v":0},{"$f":"'تعریف کالا'!$D$70","v":0},{"$f":"'تعریف کالا'!$E$70","v":0},{"$f":"'تعریف کالا'!$G$70","v":0},null,{"$f":"'تعریف کالا'!$F$70","v":0},null,0,null,null,null,null,null,null,null,null,null,null,null,null,null,null,0,{"$f":"D533","v":0},{"$f":"E533","v":0},{"$f":"F533","v":0},{"$f":"H533","v":0},{"$f":"I533","v":0},{"$f":"J533","v":0}]
[null,"کاردکس 67",{"$f":"'تعریف کالا'!$C$71","v":0},{"$f":"'تعریف کالا'!$D$71","v":0},{"$f":"'تعریف کالا'!$E$71","v":0},{"$f":"'تعریف کالا'!$G$71","v":0},null,{"$f":"'تعریف کالا'!$F$71","v":0},null,{"$f":"(F534*I534)-(F534*I534*G534%)","v":0},null,null,null,null,null,null,null,null,null,null,null,null,null,null,{"$f":"C534","v":0},0,0,0,0,0,0]
[null,"کاردکس 68",{"$f":"'تعریف کالا'!$C$72","v":0},{"$f":"'تعریف کالا'!$D$72","v":0},{"$f":"'تعریف کالا'!$E$72","v":0},{"$f":"'تعریف کالا'!$G$72","v":0},null,{"$f":"'تعریف کالا'!$F$72","v":0},null,0,null,null,null,null,null,null,null,null,null,null,null,null,null,null,0,0,0,0,0,0,0]
[null,"کاردکس 69",{"$f":"'تعریف کالا'!$C$73","v":0},{"$f":"'تعریف کالا'!$D$73","v":0},{"$f":"'تعریف کالا'!$E$73","v":0},{"$f":"'تعریف کالا'!$G$73","v":0},null,{"$f":"'تعریف کالا'!$F$73","v":0},null,0,null,null,null,null,null,null,null,null,null,null,null,null,null,null,0,0,0,0,0,0,0]
[null,"کاردکس 70",{"$f":"'تعریف کالا'!$C$74","v":0},{"$f":"'تعریف کالا'!$D$74","v":0},{"$f":"'تعریف کالا'!$E$74","v":0},{"$f":"'تعریف کالا'!$G$74","v":0},null,{"$f":"'تعریف کالا'!$F$74","v":0},null,0,null,null,null,null,null,null,null,null,null,null,null,null,null,null,0,0,0,0,0,0,0]
[null,"کاردکس 71",{"$f":"'تعریف کالا'!$C$75","v":0},{"$f":"'تعریف کالا'!$D$75","v":0},{"$f":"'تعریف کالا'!$E$75","v":0},{"$f":"'تعریف کالا'!$G$75","v":0},null,{"$f":"'تعریف کالا'!$F$75","v":0},null,0,null,null,null,null,null,null,null,null,null,null,null,null,null,null,0,0,0,0,0,0,0]
[null,"کاردکس 72",{"$f":"'تعریف کالا'!$C$76","v":0},{"$f":"'تعریف کالا'!$D$76","v":0},{"$f":"'تعریف کالا'!$E$76","v":0},{"$f":"'تعریف کالا'!$G$76","v":0},null,{"$f":"'تعریف کالا'!$F$76","v":0},null,0,null,null,null,null,null,null,null,null,null,null,null,null,null,null,0,0,0,0,0,0,0]
[null,"کاردکس 73",{"$f":"'تعریف کالا'!$C$77","v":0},{"$f":"'تعریف کالا'!$D$77","v":0},{"$f":"'تعریف کالا'!$E$77","v":0},{"$f":"'تعریف کالا'!$G$77","v":0},null,{"$f":"'تعریف کالا'!$F$77","v":0},null,0,null,null,null,null,null,null,null,null,null,null,null,null,null,null,0,0,0,0,0,0,0]
[null,"کاردکس 74",{"$f":"'تعریف کالا'!$C$78","v":0},{"$f":"'تعریف کالا'!$D$78","v":0},{"$f":"'تعریف کالا'!$E$78","v":0},{"$f":"'تعریف کالا'!$G$78","v":0},null,{"$f":"'تعریف کالا'!$F$78","v":0},null,0,null,null,null,null,null,null,null,null,null,null,null,null,null,null,0,0,0,0,0,0,0]
[null,"کاردکس 75",{"$f":"'تعریف کالا'!$C$79","v":0},{"$f":"'تعریف کالا'!$D$79","v":0},{"$f":"'تعریف کالا'!$E$79","v":0},{"$f":"'تعریف کالا'!$G$79","v":0},null,{"$f":"'تعریف کالا'!$F$79","v":0},null,0,null,null,null,null,null,null,null,null,null,null,null,null,null,null,0,0,0,0,0,0,0]
[null,"کاردکس 76",{"$f":"'تعریف کالا'!$C$80","v":0},{"$f":"'تعریف کالا'!$D$80","v":0},{"$f":"'تعریف کالا'!$E$80","v":0},{"$f":"'تعریف کالا'!$G$80","v":0},null,{"$f":"'تعریف کالا'!$F$80","v":0},null,0,null,null,null,null,null,null,null,null,null,null,null,null,null,null,0,0,0,0,0,0,0]
[null,"کاردکس 77",{"$f":"'تعریف کالا'!$C$81","v":0},{"$f":"'تعریف کالا'!$D$81","v":0},{"$f":"'تعریف کالا'!$E$81","v":0},{"$f":"'تعریف کالا'!$G$81","v":0},null,{"$f":"'تعریف کالا'!$F$81","v":0},null,0,null,null,null,null,null,null,null,null,null,null,null,null,null,null,0,0,0,0,0,0,0]
[null,"کاردکس 78",{"$f":"'تعریف کالا'!$C$82","v":0},{"$f":"'تعریف کالا'!$D$82","v":0},{"$f":"'تعریف کالا'!$E$82","v":0},{"$f":"'تعریف کالا'!$G$82","v":0},null,{"$f":"'تعریف کالا'!$F$82","v":0},null,0,null,null,null,null,null,null,null,null,null,null,null,null,null,null,0,0,0,0,0,0,0]
[null,"کاردکس 79",{"$f":"'تعریف کالا'!$C$83","v":0},{"$f":"'تعریف کالا'!$D$83","v":0},{"$f":"'تعریف کالا'!$E$83","v":0},{"$f":"'تعریف کالا'!$G$83","v":0},null,{"$f":"'تعریف کالا'!$F$83","v":0},null,0,null,null,null,null,null,null,null,null,null,null,null,null,null,null,0,0,0,0,0,0,0]
[null,"کاردکس 80",{"$f":"'تعریف کالا'!$C$84","v":0},{"$f":"'تعریف کالا'!$D$84","v":0},{"$f":"'تعریف کالا'!$E$84","v":0},{"$f":"'تعریف کالا'!$G$84","v":0},null,{"$f":"'تعریف کالا'!$F$84","v":0},null,0,null,null,null,null,null,null,null,null,null,null,null,null,null,null,0,0,0,0,0,0,0]
[null,"کاردکس 81",{"$f":"'تعریف کالا'!$C$85","v":0},{"$f":"'تعریف کالا'!$D$85","v":0},{"$f":"'تعریف کالا'!$E$85","v":0},{"$f":"'تعریف کالا'!$G$85","v":0},null,{"$f":"'تعریف کالا'!$F$85","v":0},null,0,null,null,null,null,null,null,null,null,null,null,null,null,null,null,0,0,0,0,0,0,0]
[null,"کاردکس 82",{"$f":"'تعریف کالا'!$C$86","v":0},{"$f":"'تعریف کالا'!$D$86","v":0},{"$f":"'تعریف کالا'!$E$86","v":0},{"$f":"'تعریف کالا'!$G$86","v":0},null,{"$f":"'تعریف کالا'!$F$86","v":0},null,0,null,null,null,null,null,null,null,null,null,null,null,null,null,null,0,0,0,0,0,0,0]
[null,"کاردکس 83",{"$f":"'تعریف کالا'!$C$87","v":0},{"$f":"'تعریف کالا'!$D$87","v":0},{"$f":"'تعریف کالا'!$E$87","v":0},{"$f":"'تعریف کالا'!$G$87","v":0},null,{"$f":"'تعریف کالا'!$F$87","v":0},null,0,null,null,null,null,null,null,null,null,null,null,null,null,null,null,0,0,0,0,0,0,0]
[null,"کاردکس 84",{"$f":"'تعریف کالا'!$C$88","v":0},{"$f":"'تعریف کالا'!$D$88","v":0},{"$f":"'تعریف کالا'!$E$88","v":0},{"$f":"'تعریف کالا'!$G$88","v":0},null,{"$f":"'تعریف کالا'!$F$88","v":0},null,0,null,null,null,null,null,null,null,null,null,null,null,null,null,null,0,0,0,0,0,0,0]
[null,"کاردکس 85",{"$f":"'تعریف کالا'!$C$89","v":0},{"$f":"'تعریف کالا'!$D$89","v":0},{"$f":"'تعریف کالا'!$E$89","v":0},{"$f":"'تعریف کالا'!$G$89","v":0},null,{"$f":"'تعریف کالا'!$F$89","v":0},null,0,null,null,null,null,null,null,null,null,null,null,null,null,null,null,0,0,0,0,0,0,0]
[null,"کاردکس 86",{"$f":"'تعریف کالا'!$C$90","v":0},{"$f":"'تعریف کالا'!$D$90","v":0},{"$f":"'تعریف کالا'!$E$90","v":0},{"$f":"'تعریف کالا'!$G$90","v":0},null,{"$f":"'تعریف کالا'!$F$90","v":0},null,0,null,null,null,null,null,null,null,null,null,null,null,null,null,null,0,0,0,0,0,0,0]
[null,"کاردکس 87",{"$f":"'تعریف کالا'!$C$91","v":0},{"$f":"'تعریف کالا'!$D$91","v":0},{"$f":"'تعریف کالا'!$E$91","v":0},{"$f":"'تعریف کالا'!$G$91","v":0},null,{"$f":"'تعریف کالا'!$F$91","v":0},null,0,null,null,null,null,null,null,null,null,null,null,null,null,null,null,0,0,0,0,0,0,0]
[null,"کاردکس 88",{"$f":"'تعریف کالا'!$C$92","v":0},{"$f":"'تعریف کالا'!$D$92","v":0},{"$f":"'تعریف کالا'!$E$92","v":0},{"$f":"'تعریف کالا'!$G$92","v":0},null,{"$f":"'تعریف کالا'!$F$92","v":0},null,0,null,null,null,null,null,null,null,null,null,null,null,null,null,null,0,0,0,0,0,0,0]
[null,"کاردکس 89",{"$f":"'تعریف کالا'!$C$93","v":0},{"$f":"'تعریف کالا'!$D$93","v":0},{"$f":"'تعریف کالا'!$E$93","v":0},{"$f":"'تعریف کالا'!$G$93","v":0},null,{"$f":"'تعریف کالا'!$F$93","v":0},null,0,null,null,null,null,null,null,null,null,null,null,null,null,null,null,0,0,0,0,0,0,0]
[null,"کاردکس 90",{"$f":"'تعریف کالا'!$C$94","v":0},{"$f":"'تعریف کالا'!$D$94","v":0},{"$f":"'تعریف کالا'!$E$94","v":0},{"$f":"'تعریف کالا'!$G$94","v":0},null,{"$f":"'تعریف کالا'!$F$94","v":0},null,0,null,null,null,null,null,null,null,null,null,null,null,null,null,null,0,0,0,0,0,0,0]
[null,"کاردکس 91",{"$f":"'تعریف کالا'!$C$95","v":0},{"$f":"'تعریف کالا'!$D$95","v":0},{"$f":"'تعریف کالا'!$E$95","v":0},{"$f":"'تعریف کالا'!$G$95","v":0},null,{"$f":"'تعریف کالا'!$F$95","v":0},null,0,null,null,null,null,null,null,null,null,null,null,null,null,null,null,0,0,0,0,0,0,0]
[null,"کاردکس 92",{"$f":"'تعریف کالا'!$C$96","v":0},{"$f":"'تعریف کالا'!$D$96","v":0},{"$f":"'تعریف کالا'!$E$96","v":0},{"$f":"'تعریف کالا'!$G$96","v":0},null,{"$f":"'تعریف کالا'!$F$96","v":0},null,0,null,null,null,null,null,null,null,null,null,null,null,null,null,null,0,0,0,0,0,0,0]
[null,"کاردکس 93",{"$f":"'تعریف کالا'!$C$97","v":0},{"$f":"'تعریف کالا'!$D$97","v":0},{"$f":"'تعریف کالا'!$E$97","v":0},{"$f":"'تعریف کالا'!$G$97","v":0},null,{"$f":"'تعریف کالا'!$F$97","v":0},null,0,null,null,null,null,null,null,null,null,null,null,null,null,null,null,0,0,0,0,0,0,0]
[null,"کاردکس 94",{"$f":"'تعریف کالا'!$C$98","v":0},{"$f":"'تعریف کالا'!$D$98","v":0},{"$f":"'تعریف کالا'!$E$98","v":0},{"$f":"'تعریف کالا'!$G$98","v":0},null,{"$f":"'تعریف کالا'!$F$98","v":0},null,0,null,null,null,null,null,null,null,null,null,null,null,null,null,null,0,0,0,0,0,0,0]
[null,"کاردکس 95",{"$f":"'تعریف کالا'!$C$99","v":0},{"$f":"'تعریف کالا'!$D$99","v":0},{"$f":"'تعریف کالا'!$E$99","v":0},{"$f":"'تعریف کالا'!$G$99","v":0},null,{"$f":"'تعریف کالا'!$F$99","v":0},null,0,null,null,null,null,null,null,null,null,null,null,null,null,null,null,0,0,0,0,0,0,0]
[null,"کاردکس 96",{"$f":"'تعریف کالا'!$C$100","v":0},{"$f":"'تعریف کالا'!$D$100","v":0},{"$f":"'تعریف کالا'!$E$100","v":0},{"$f":"'تعریف کالا'!$G$100","v":0},null,{"$f":"'تعریف کالا'!$F$100","v":0},null,0,null,null,null,null,null,null,null,null,null,null,null,null,null,null,0,0,0,0,0,0,0]
[null,"کاردکس 97",{"$f":"'تعریف کالا'!$C$101","v":0},{"$f":"'تعریف کالا'!$D$101","v":0},{"$f":"'تعریف کالا'!$E$101","v":0},{"$f":"'تعریف کالا'!$G$101","v":0},null,{"$f":"'تعریف کالا'!$F$101","v":0},null,0,null,null,null,null,null,null,null,null,null,null,null,null,null,null,0,0,0,0,0,0,0]
[null,"کاردکس 98",{"$f":"'تعریف کالا'!$C$102","v":0},{"$f":"'تعریف کالا'!$D$102","v":0},{"$f":"'تعریف کالا'!$E$102","v":0},{"$f":"'تعریف کالا'!$G$102","v":0},null,{"$f":"'تعریف کالا'!$F$102","v":0},null,0,null,null,null,null,null,null,null,null,null,null,null,null,null,null,0,0,0,0,0,0,0]
[null,"کاردکس 99",{"$f":"'تعریف کالا'!$C$103","v":0},{"$f":"'تعریف کالا'!$D$103","v":0},{"$f":"'تعریف کالا'!$E$103","v":0},{"$f":"'تعریف کالا'!$G$103","v":0},null,{"$f":"'تعریف کالا'!$F$103","v":0},null,0,null,null,null,null,null,null,null,null,null,null,null,null,null,null,0,0,0,0,0,0,0]
[null,"کاردکس 100",{"$f":"'تعریف کالا'!$C$104","v":0},{"$f":"'تعریف کالا'!$D$104","v":0},{"$f":"'تعریف کالا'!$E$104","v":0},{"$f":"'تعریف کالا'!$G$104","v":0},null,{"$f":"'تعریف کالا'!$F$104","v":0},null,0,null,null,null,null,null,null,null,null,null,null,null,null,null,null,0,0,0,0,0,0,0]
[null,"کاردکس 101",{"$f":"'تعریف کالا'!$C$105","v":0},{"$f":"'تعریف کالا'!$D$105","v":0},{"$f":"'تعریف کالا'!$E$105","v":0},{"$f":"'تعریف کالا'!$G$105","v":0},null,{"$f":"'تعریف کالا'!$F$105","v":0},null,0,null,null,null,null,null,null,null,null,null,null,null,null,null,null,0,0,0,0,0,0,0]
[null,"کاردکس 102",{"$f":"'تعریف کالا'!$C$106","v":0},{"$f":"'تعریف کالا'!$D$106","v":0},{"$f":"'تعریف کالا'!$E$106","v":0},{"$f":"'تعریف کالا'!$G$106","v":0},null,{"$f":"'تعریف کالا'!$F$106","v":0},null,0,null,null,null,null,null,null,null,null,null,null,null,null,null,null,0,0,0,0,0,0,0]
[null,"کاردکس 103",{"$f":"'تعریف کالا'!$C$107","v":0},{"$f":"'تعریف کالا'!$D$107","v":0},{"$f":"'تعریف کالا'!$E$107","v":0},{"$f":"'تعریف کالا'!$G$107","v":0},null,{"$f":"'تعریف کالا'!$F$107","v":0},null,0,null,null,null,null,null,null,null,null,null,null,null,null,null,null,0,0,0,0,0,0,0]
[null,"کاردکس 104",{"$f":"'تعریف کالا'!$C$108","v":0},{"$f":"'تعریف کالا'!$D$108","v":0},{"$f":"'تعریف کالا'!$E$108","v":0},{"$f":"'تعریف کالا'!$G$108","v":0},null,{"$f":"'تعریف کالا'!$F$108","v":0},null,0,null,null,null,null,null,null,null,null,null,null,null,null,null,null,0,0,0,0,0,0,0]
[null,"کاردکس 105",{"$f":"'تعریف کالا'!$C$109","v":0},{"$f":"'تعریف کالا'!$D$109","v":0},{"$f":"'تعریف کالا'!$E$109","v":0},{"$f":"'تعریف کالا'!$G$109","v":0},null,{"$f":"'تعریف کالا'!$F$109","v":0},null,0,null,null,null,null,null,null,null,null,null,null,null,null,null,null,0,0,0,0,0,0,0]
[null,"کاردکس 106",{"$f":"'تعریف کالا'!$C$110","v":0},{"$f":"'تعریف کالا'!$D$110","v":0},{"$f":"'تعریف کالا'!$E$110","v":0},{"$f":"'تعریف کالا'!$G$110","v":0},null,{"$f":"'تعریف کالا'!$F$110","v":0},null,0,null,null,null,null,null,null,null,null,null,null,null,null,null,null,0,0,0,0,0,0,0]
[null,"کاردکس 107",{"$f":"'تعریف کالا'!$C$111","v":0},{"$f":"'تعریف کالا'!$D$111","v":0},{"$f":"'تعریف کالا'!$E$111","v":0},{"$f":"'تعریف کالا'!$G$111","v":0},null,{"$f":"'تعریف کالا'!$F$111","v":0},null,0,null,null,null,null,null,null,null,null,null,null,null,null,null,null,0,0,0,0,0,0,0]
[null,"کاردکس 108",{"$f":"'تعریف کالا'!$C$112","v":0},{"$f":"'تعریف کالا'!$D$112","v":0},{"$f":"'تعریف کالا'!$E$112","v":0},{"$f":"'تعریف کالا'!$G$112","v":0},null,{"$f":"'تعریف کالا'!$F$112","v":0},null,0,null,null,null,null,null,null,null,null,null,null,null,null,null,null,0,0,0,0,0,0,0]
[null,"کاردکس 109",{"$f":"'تعریف کالا'!$C$113","v":0},{"$f":"'تعریف کالا'!$D$113","v":0},{"$f":"'تعریف کالا'!$E$113","v":0},{"$f":"'تعریف کالا'!$G$113","v":0},null,{"$f":"'تعریف کالا'!$F$113","v":0},null,0,null,null,null,null,null,null,null,null,null,null,null,null,null,null,0,0,0,0,0,0,0]
[null,"کاردکس 110",{"$f":"'تعریف کالا'!$C$114","v":0},{"$f":"'تعریف کالا'!$D$114","v":0},{"$f":"'تعریف کالا'!$E$114","v":0},{"$f":"'تعریف کالا'!$G$114","v":0},null,{"$f":"'تعریف کالا'!$F$114","v":0},null,0,null,null,null,null,null,null,null,null,null,null,null,null,null,null,0,0,0,0,0,0,0]
[null,"کاردکس 111",{"$f":"'تعریف کالا'!$C$115","v":0},{"$f":"'تعریف کالا'!$D$115","v":0},{"$f":"'تعریف کالا'!$E$115","v":0},{"$f":"'تعریف کالا'!$G$115","v":0},null,{"$f":"'تعریف کالا'!$F$115","v":0},null,0,null,null,null,null,null,null,null,null,null,null,null,null,null,null,0,0,0,0,0,0,0]
[null,"کاردکس 112",{"$f":"'تعریف کالا'!$C$116","v":0},{"$f":"'تعریف کالا'!$D$116","v":0},{"$f":"'تعریف کالا'!$E$116","v":0},{"$f":"'تعریف کالا'!$G$116","v":0},null,{"$f":"'تعریف کالا'!$F$116","v":0},null,0,null,null,null,null,null,null,null,null,null,null,null,null,null,null,0,0,0,0,0,0,0]
[null,"کاردکس 113",{"$f":"'تعریف کالا'!$C$117","v":0},{"$f":"'تعریف کالا'!$D$117","v":0},{"$f":"'تعریف کالا'!$E$117","v":0},{"$f":"'تعریف کالا'!$G$117","v":0},null,{"$f":"'تعریف کالا'!$F$117","v":0},null,0,null,null,null,null,null,null,null,null,null,null,null,null,null,null,0,0,0,0,0,0,0]
[null,"کاردکس 114",{"$f":"'تعریف کالا'!$C$118","v":0},{"$f":"'تعریف کالا'!$D$118","v":0},{"$f":"'تعریف کالا'!$E$118","v":0},{"$f":"'تعریف کالا'!$G$118","v":0},null,{"$f":"'تعریف کالا'!$F$118","v":0},null,0,null,null,null,null,null,null,null,null,null,null,null,null,null,null,0,0,0,0,0,0,0]
[null,"کاردکس 115",{"$f":"'تعریف کالا'!$C$119","v":0},{"$f":"'تعریف کالا'!$D$119","v":0},{"$f":"'تعریف کالا'!$E$119","v":0},{"$f":"'تعریف کالا'!$G$119","v":0},null,{"$f":"'تعریف کالا'!$F$119","v":0},null,0,null,null,null,null,null,null,null,null,null,null,null,null,null,null,0,0,0,0,0,0,0]
[null,"کاردکس 116",{"$f":"'تعریف کالا'!$C$120","v":0},{"$f":"'تعریف کالا'!$D$120","v":0},{"$f":"'تعریف کالا'!$E$120","v":0},{"$f":"'تعریف کالا'!$G$120","v":0},null,{"$f":"'تعریف کالا'!$F$120","v":0},null,0,null,null,null,null,null,null,null,null,null,null,null,null,null,null,0,0,0,0,0,0,0]
[null,"کاردکس 117",{"$f":"'تعریف کالا'!$C$121","v":0},{"$f":"'تعریف کالا'!$D$121","v":0},{"$f":"'تعریف کالا'!$E$121","v":0},{"$f":"'تعریف کالا'!$G$121","v":0},null,{"$f":"'تعریف کالا'!$F$121","v":0},null,0,null,null,null,null,null,null,null,null,null,null,null,null,null,null,0,0,0,0,0,0,0]
[null,"کاردکس 118",{"$f":"'تعریف کالا'!$C$122","v":0},{"$f":"'تعریف کالا'!$D$122","v":0},{"$f":"'تعریف کالا'!$E$122","v":0},{"$f":"'تعریف کالا'!$G$122","v":0},null,{"$f":"'تعریف کالا'!$F$122","v":0},null,0,null,null,null,null,null,null,null,null,null,null,null,null,null,null,0,0,0,0,0,0,0]
[null,"کاردکس 119",{"$f":"'تعریف کالا'!$C$123","v":0},{"$f":"'تعریف کالا'!$D$123","v":0},{"$f":"'تعریف کالا'!$E$123","v":0},{"$f":"'تعریف کالا'!$G$123","v":0},null,{"$f":"'تعریف کالا'!$F$123","v":0},null,0,null,null,null,null,null,null,null,null,null,null,null,null,null,null,0,0,0,0,0,0,0]
[null,"کاردکس 120",{"$f":"'تعریف کالا'!$C$124","v":0},{"$f":"'تعریف کالا'!$D$124","v":0},{"$f":"'تعریف کالا'!$E$124","v":0},{"$f":"'تعریف کالا'!$G$124","v":0},null,{"$f":"'تعریف کالا'!$F$124","v":0},null,0,null,null,null,null,null,null,null,null,null,null,null,null,null,null,0,0,0,0,0,0,0]
[null,"کاردکس 121",{"$f":"'تعریف کالا'!$C$125","v":0},{"$f":"'تعریف کالا'!$D$125","v":0},{"$f":"'تعریف کالا'!$E$125","v":0},{"$f":"'تعریف کالا'!$G$125","v":0},null,{"$f":"'تعریف کالا'!$F$125","v":0},null,0,null,null,null,null,null,null,null,null,null,null,null,null,null,null,0,0,0,0,0,0,0]
[null,"کاردکس 122",{"$f":"'تعریف کالا'!$C$126","v":0},{"$f":"'تعریف کالا'!$D$126","v":0},{"$f":"'تعریف کالا'!$E$126","v":0},{"$f":"'تعریف کالا'!$G$126","v":0},null,{"$f":"'تعریف کالا'!$F$126","v":0},null,0,null,null,null,null,null,null,null,null,null,null,null,null,null,null,0,0,0,0,0,0,0]
[null,"کاردکس 123",{"$f":"'تعریف کالا'!$C$127","v":0},{"$f":"'تعریف کالا'!$D$127","v":0},{"$f":"'تعریف کالا'!$E$127","v":0},{"$f":"'تعریف کالا'!$G$127","v":0},null,{"$f":"'تعریف کالا'!$F$127","v":0},null,0,null,null,null,null,null,null,null,null,null,null,null,null,null,null,0,0,0,0,0,0,0]
[null,"کاردکس 124",{"$f":"'تعریف کالا'!$C$128","v":0},{"$f":"'تعریف کالا'!$D$128","v":0},{"$f":"'تعریف کالا'!$E$128","v":0},{"$f":"'تعریف کالا'!$G$128","v":0},null,{"$f":"'تعریف کالا'!$F$128","v":0},null,0,null,null,null,null,null,null,null,null,null,null,null,null,null,null,0,0,0,0,0,0,0]
[null,"کاردکس 125",{"$f":"'تعریف کالا'!$C$129","v":0},{"$f":"'تعریف کالا'!$D$129","v":0},{"$f":"'تعریف کالا'!$E$129","v":0},{"$f":"'تعریف کالا'!$G$129","v":0},null,{"$f":"'تعریف کالا'!$F$129","v":0},null,0,null,null,null,null,null,null,null,null,null,null,null,null,null,null,0,0,0,0,0,0,0]
[null,"کاردکس 126",{"$f":"'تعریف کالا'!$C$130","v":0},{"$f":"'تعریف کالا'!$D$130","v":0},{"$f":"'تعریف کالا'!$E$130","v":0},{"$f":"'تعریف کالا'!$G$130","v":0},null,{"$f":"'تعریف کالا'!$F$130","v":0},null,0,null,null,null,null,null,null,null,null,null,null,null,null,null,null,0,0,0,0,0,0,0]
[null,"کاردکس 127",{"$f":"'تعریف کالا'!$C$131","v":0},{"$f":"'تعریف کالا'!$D$131","v":0},{"$f":"'تعریف کالا'!$E$131","v":0},{"$f":"'تعریف کالا'!$G$131","v":0},null,{"$f":"'تعریف کالا'!$F$131","v":0},null,0,null,null,null,null,null,null,null,null,null,null,null,null,null,null,0,0,0,0,0,0,0]
[null,"کاردکس 128",{"$f":"'تعریف کالا'!$C$132","v":0},{"$f":"'تعریف کالا'!$D$132","v":0},{"$f":"'تعریف کالا'!$E$132","v":0},{"$f":"'تعریف کالا'!$G$132","v":0},null,{"$f":"'تعریف کالا'!$F$132","v":0},null,0,null,null,null,null,null,null,null,null,null,null,null,null,null,null,0,0,0,0,0,0,0]
[null,"کاردکس 129",{"$f":"'تعریف کالا'!$C$133","v":0},{"$f":"'تعریف کالا'!$D$133","v":0},{"$f":"'تعریف کالا'!$E$133","v":0},{"$f":"'تعریف کالا'!$G$133","v":0},null,{"$f":"'تعریف کالا'!$F$133","v":0},null,0,null,null,null,null,null,null,null,null,null,null,null,null,null,null,0,0,0,0,0,0,0]
[null,"کاردکس 130",{"$f":"'تعریف کالا'!$C$134","v":0},{"$f":"'تعریف کالا'!$D$134","v":0},{"$f":"'تعریف کالا'!$E$134","v":0},{"$f":"'تعریف کالا'!$G$134","v":0},null,{"$f":"'تعریف کالا'!$F$134","v":0},null,0,null,null,null,null,null,null,null,null,null,null,null,null,null,null,0,0,0,{"$f":"F597","v":0},{"$f":"H597","v":0},{"$f":"I597","v":0},{"$f":"J597","v":0}]
[null,"کاردکس 131",{"$f":"'تعریف کالا'!$C$135","v":0},{"$f":"'تعریف کالا'!$D$135","v":0},{"$f":"'تعریف کالا'!$E$135","v":0},{"$f":"'تعریف کالا'!$G$135","v":0},null,{"$f":"'تعریف کالا'!$F$135","v":0},null,{"$f":"(F598*I598)-(F598*I598*G598%)","v":0},null,null,null,null,null,null,null,null,null,null,null,null,null,null,{"$f":"C598","v":0},{"$f":"D598","v":0},{"$f":"E598","v":0},0,0,0,0]
[null,"کاردکس 132",{"$f":"'تعریف کالا'!$C$136","v":0},{"$f":"'تعریف کالا'!$D$136","v":0},{"$f":"'تعریف کالا'!$E$136","v":0},{"$f":"'تعریف کالا'!$G$136","v":0},null,{"$f":"'تعریف کالا'!$F$136","v":0},null,0,null,null,null,null,null,null,null,null,null,null,null,null,null,null,0,0,0,0,0,0,0]
[null,"کاردکس 133",{"$f":"'تعریف کالا'!$C$137","v":0},{"$f":"'تعریف کالا'!$D$137","v":0},{"$f":"'تعریف کالا'!$E$137","v":0},{"$f":"'تعریف کالا'!$G$137","v":0},null,{"$f":"'تعریف کالا'!$F$137","v":0},null,0,null,null,null,null,null,null,null,null,null,null,null,null,null,null,0,0,0,0,0,0,0]
[null,"کاردکس 134",{"$f":"'تعریف کالا'!$C$138","v":0},{"$f":"'تعریف کالا'!$D$138","v":0},{"$f":"'تعریف کالا'!$E$138","v":0},{"$f":"'تعریف کالا'!$G$138","v":0},null,{"$f":"'تعریف کالا'!$F$138","v":0},null,0,null,null,null,null,null,null,null,null,null,null,null,null,null,null,0,0,0,0,0,0,0]
[null,"کاردکس 135",{"$f":"'تعریف کالا'!$C$139","v":0},{"$f":"'تعریف کالا'!$D$139","v":0},{"$f":"'تعریف کالا'!$E$139","v":0},{"$f":"'تعریف کالا'!$G$139","v":0},null,{"$f":"'تعریف کالا'!$F$139","v":0},null,0,null,null,null,null,null,null,null,null,null,null,null,null,null,null,0,0,0,0,0,0,0]
[null,"کاردکس 136",{"$f":"'تعریف کالا'!$C$140","v":0},{"$f":"'تعریف کالا'!$D$140","v":0},{"$f":"'تعریف کالا'!$E$140","v":0},{"$f":"'تعریف کالا'!$G$140","v":0},null,{"$f":"'تعریف کالا'!$F$140","v":0},null,0,null,null,null,null,null,null,null,null,null,null,null,null,null,null,0,0,0,0,0,0,0]
[null,"کاردکس 137",{"$f":"'تعریف کالا'!$C$141","v":0},{"$f":"'تعریف کالا'!$D$141","v":0},{"$f":"'تعریف کالا'!$E$141","v":0},{"$f":"'تعریف کالا'!$G$141","v":0},null,{"$f":"'تعریف کالا'!$F$141","v":0},null,0,null,null,null,null,null,null,null,null,null,null,null,null,null,null,0,0,0,0,0,0,0]
[null,"کاردکس 138",{"$f":"'تعریف کالا'!$C$142","v":0},{"$f":"'تعریف کالا'!$D$142","v":0},{"$f":"'تعریف کالا'!$E$142","v":0},{"$f":"'تعریف کالا'!$G$142","v":0},null,{"$f":"'تعریف کالا'!$F$142","v":0},null,0,null,null,null,null,null,null,null,null,null,null,null,null,null,null,0,0,0,0,0,0,0]
[null,"کاردکس 139",{"$f":"'تعریف کالا'!$C$143","v":0},{"$f":"'تعریف کالا'!$D$143","v":0},{"$f":"'تعریف کالا'!$E$143","v":0},{"$f":"'تعریف کالا'!$G$143","v":0},null,{"$f":"'تعریف کالا'!$F$143","v":0},null,0,null,null,null,null,null,null,null,null,null,null,null,null,null,null,0,0,0,0,0,0,0]
[null,"کاردکس 140",{"$f":"'تعریف کالا'!$C$144","v":0},{"$f":"'تعریف کالا'!$D$144","v":0},{"$f":"'تعریف کالا'!$E$144","v":0},{"$f":"'تعریف کالا'!$G$144","v":0},null,{"$f":"'تعریف کالا'!$F$144","v":0},null,0,null,null,null,null,null,null,null,null,null,null,null,null,null,null,0,0,0,0,0,0,0]
[null,"کاردکس 141",{"$f":"'تعریف کالا'!$C$145","v":0},{"$f":"'تعریف کالا'!$D$145","v":0},{"$f":"'تعریف کالا'!$E$145","v":0},{"$f":"'تعریف کالا'!$G$145","v":0},null,{"$f":"'تعریف کالا'!$F$145","v":0},null,0,null,null,null,null,null,null,null,null,null,null,null,null,null,null,0,0,0,0,0,0,0]
[null,"کاردکس 142",{"$f":"'تعریف کالا'!$C$146","v":0},{"$f":"'تعریف کالا'!$D$146","v":0},{"$f":"'تعریف کالا'!$E$146","v":0},{"$f":"'تعریف کالا'!$G$146","v":0},null,{"$f":"'تعریف کالا'!$F$146","v":0},null,0,null,null,null,null,null,null,null,null,null,null,null,null,null,null,0,0,0,0,0,0,0]
[null,"کاردکس 143",{"$f":"'تعریف کالا'!$C$147","v":0},{"$f":"'تعریف کالا'!$D$147","v":0},{"$f":"'تعریف کالا'!$E$147","v":0},{"$f":"'تعریف کالا'!$G$147","v":0},null,{"$f":"'تعریف کالا'!$F$147","v":0},null,0,null,null,null,null,null,null,null,null,null,null,null,null,null,null,0,0,0,0,0,0,0]
[null,"کاردکس 144",{"$f":"'تعریف کالا'!$C$148","v":0},{"$f":"'تعریف کالا'!$D$148","v":0},{"$f":"'تعریف کالا'!$E$148","v":0},{"$f":"'تعریف کالا'!$G$148","v":0},null,{"$f":"'تعریف کالا'!$F$148","v":0},null,0,null,null,null,null,null,null,null,null,null,null,null,null,null,null,0,0,0,0,0,0,0]
[null,"کاردکس 145",{"$f":"'تعریف کالا'!$C$149","v":0},{"$f":"'تعریف کالا'!$D$149","v":0},{"$f":"'تعریف کالا'!$E$149","v":0},{"$f":"'تعریف کالا'!$G$149","v":0},null,{"$f":"'تعریف کالا'!$F$149","v":0},null,0,null,null,null,null,null,null,null,null,null,null,null,null,null,null,0,0,0,0,0,0,0]
[null,"کاردکس 146",{"$f":"'تعریف کالا'!$C$150","v":0},{"$f":"'تعریف کالا'!$D$150","v":0},{"$f":"'تعریف کالا'!$E$150","v":0},{"$f":"'تعریف کالا'!$G$150","v":0},null,{"$f":"'تعریف کالا'!$F$150","v":0},null,0,null,null,null,null,null,null,null,null,null,null,null,null,null,null,0,0,0,0,0,0,0]
[null,"کاردکس 147",{"$f":"'تعریف کالا'!$C$151","v":0},{"$f":"'تعریف کالا'!$D$151","v":0},{"$f":"'تعریف کالا'!$E$151","v":0},{"$f":"'تعریف کالا'!$G$151","v":0},null,{"$f":"'تعریف کالا'!$F$151","v":0},null,0,null,null,null,null,null,null,null,null,null,null,null,null,null,null,0,0,0,0,0,0,0]
[null,"کاردکس 148",{"$f":"'تعریف کالا'!$C$152","v":0},{"$f":"'تعریف کالا'!$D$152","v":0},{"$f":"'تعریف کالا'!$E$152","v":0},{"$f":"'تعریف کالا'!$G$152","v":0},null,{"$f":"'تعریف کالا'!$F$152","v":0},null,0,null,null,null,null,null,null,null,null,null,null,null,null,null,null,0,0,0,0,0,0,0]
[null,"کاردکس 149",{"$f":"'تعریف کالا'!$C$153","v":0},{"$f":"'تعریف کالا'!$D$153","v":0},{"$f":"'تعریف کالا'!$E$153","v":0},{"$f":"'تعریف کالا'!$G$153","v":0},null,{"$f":"'تعریف کالا'!$F$153","v":0},null,0,null,null,null,null,null,null,null,null,null,null,null,null,null,null,0,0,0,0,0,0,0]
[null,"کاردکس 150",{"$f":"'تعریف کالا'!$C$154","v":0},{"$f":"'تعریف کالا'!$D$154","v":0},{"$f":"'تعریف کالا'!$E$154","v":0},{"$f":"'تعریف کالا'!$G$154","v":0},null,{"$f":"'تعریف کالا'!$F$154","v":0},null,0,null,null,null,null,null,null,null,null,null,null,null,null,null,null,0,0,0,0,0,0,0]
[null,"کاردکس 151",{"$f":"'تعریف کالا'!$C$155","v":0},{"$f":"'تعریف کالا'!$D$155","v":0},{"$f":"'تعریف کالا'!$E$155","v":0},{"$f":"'تعریف کالا'!$G$155","v":0},null,{"$f":"'تعریف کالا'!$F$155","v":0},null,0,null,null,null,null,null,null,null,null,null,null,null,null,null,null,0,0,0,0,0,0,0]
[null,"کاردکس 152",{"$f":"'تعریف کالا'!$C$156","v":0},{"$f":"'تعریف کالا'!$D$156","v":0},{"$f":"'تعریف کالا'!$E$156","v":0},{"$f":"'تعریف کالا'!$G$156","v":0},null,{"$f":"'تعریف کالا'!$F$156","v":0},null,0,null,null,null,null,null,null,null,null,null,null,null,null,null,null,0,0,0,0,0,0,0]
[null,"کاردکس 153",{"$f":"'تعریف کالا'!$C$157","v":0},{"$f":"'تعریف کالا'!$D$157","v":0},{"$f":"'تعریف کالا'!$E$157","v":0},{"$f":"'تعریف کالا'!$G$157","v":0},null,{"$f":"'تعریف کالا'!$F$157","v":0},null,0,null,null,null,null,null,null,null,null,null,null,null,null,null,null,0,0,0,0,0,0,0]
[null,"کاردکس 154",{"$f":"'تعریف کالا'!$C$158","v":0},{"$f":"'تعریف کالا'!$D$158","v":0},{"$f":"'تعریف کالا'!$E$158","v":0},{"$f":"'تعریف کالا'!$G$158","v":0},null,{"$f":"'تعریف کالا'!$F$158","v":0},null,0,null,null,null,null,null,null,null,null,null,null,null,null,null,null,0,0,0,0,0,0,0]
[null,"کاردکس 155",{"$f":"'تعریف کالا'!$C$159","v":0},{"$f":"'تعریف کالا'!$D$159","v":0},{"$f":"'تعریف کالا'!$E$159","v":0},{"$f":"'تعریف کالا'!$G$159","v":0},null,{"$f":"'تعریف کالا'!$F$159","v":0},null,0,null,null,null,null,null,null,null,null,null,null,null,null,null,null,0,0,0,0,0,0,0]
[null,"کاردکس 156",{"$f":"'تعریف کالا'!$C$160","v":0},{"$f":"'تعریف کالا'!$D$160","v":0},{"$f":"'تعریف کالا'!$E$160","v":0},{"$f":"'تعریف کالا'!$G$160","v":0},null,{"$f":"'تعریف کالا'!$F$160","v":0},null,0,null,null,null,null,null,null,null,null,null,null,null,null,null,null,0,0,0,0,0,0,0]
[null,"کاردکس 157",{"$f":"'تعریف کالا'!$C$161","v":0},{"$f":"'تعریف کالا'!$D$161","v":0},{"$f":"'تعریف کالا'!$E$161","v":0},{"$f":"'تعریف کالا'!$G$161","v":0},null,{"$f":"'تعریف کالا'!$F$161","v":0},null,0,null,null,null,null,null,null,null,null,null,null,null,null,null,null,0,0,0,0,0,0,0]
[null,"کاردکس 158",{"$f":"'تعریف کالا'!$C$162","v":0},{"$f":"'تعریف کالا'!$D$162","v":0},{"$f":"'تعریف کالا'!$E$162","v":0},{"$f":"'تعریف کالا'!$G$162","v":0},null,{"$f":"'تعریف کالا'!$F$162","v":0},null,0,null,null,null,null,null,null,null,null,null,null,null,null,null,null,0,0,0,0,0,0,0]
[null,"کاردکس 159",{"$f":"'تعریف کالا'!$C$163","v":0},{"$f":"'تعریف کالا'!$D$163","v":0},{"$f":"'تعریف کالا'!$E$163","v":0},{"$f":"'تعریف کالا'!$G$163","v":0},null,{"$f":"'تعریف کالا'!$F$163","v":0},null,0,null,null,null,null,null,null,null,null,null,null,null,null,null,null,0,0,0,0,0,0,0]
[null,"کاردکس 160",{"$f":"'تعریف کالا'!$C$164","v":0},{"$f":"'تعریف کالا'!$D$164","v":0},{"$f":"'تعریف کالا'!$E$164","v":0},{"$f":"'تعریف کالا'!$G$164","v":0},null,{"$f":"'تعریف کالا'!$F$164","v":0},null,0,null,null,null,null,null,null,null,null,null,null,null,null,null,null,0,0,0,0,0,0,0]
[null,"کاردکس 161",{"$f":"'تعریف کالا'!$C$165","v":0},{"$f":"'تعریف کالا'!$D$165","v":0},{"$f":"'تعریف کالا'!$E$165","v":0},{"$f":"'تعریف کالا'!$G$165","v":0},null,{"$f":"'تعریف کالا'!$F$165","v":0},null,0,null,null,null,null,null,null,null,null,null,null,null,null,null,null,0,0,0,0,0,0,0]
[null,"کاردکس 162",{"$f":"'تعریف کالا'!$C$166","v":0},{"$f":"'تعریف کالا'!$D$166","v":0},{"$f":"'تعریف کالا'!$E$166","v":0},{"$f":"'تعریف کالا'!$G$166","v":0},null,{"$f":"'تعریف کالا'!$F$166","v":0},null,0,null,null,null,null,null,null,null,null,null,null,null,null,null,null,0,0,0,0,0,0,0]
[null,"کاردکس 163",{"$f":"'تعریف کالا'!$C$167","v":0},{"$f":"'تعریف کالا'!$D$167","v":0},{"$f":"'تعریف کالا'!$E$167","v":0},{"$f":"'تعریف کالا'!$G$167","v":0},null,{"$f":"'تعریف کالا'!$F$167","v":0},null,0,null,null,null,null,null,null,null,null,null,null,null,null,null,null,0,0,0,0,0,0,0]
[null,"کاردکس 164",{"$f":"'تعریف کالا'!$C$168","v":0},{"$f":"'تعریف کالا'!$D$168","v":0},{"$f":"'تعریف کالا'!$E$168","v":0},{"$f":"'تعریف کالا'!$G$168","v":0},null,{"$f":"'تعریف کالا'!$F$168","v":0},null,0,null,null,null,null,null,null,null,null,null,null,null,null,null,null,0,0,0,0,0,0,0]
[null,"کاردکس 165",{"$f":"'تعریف کالا'!$C$169","v":0},{"$f":"'تعریف کالا'!$D$169","v":0},{"$f":"'تعریف کالا'!$E$169","v":0},{"$f":"'تعریف کالا'!$G$169","v":0},null,{"$f":"'تعریف کالا'!$F$169","v":0},null,0,null,null,null,null,null,null,null,null,null,null,null,null,null,null,0,0,0,0,0,0,0]
[null,"کاردکس 166",{"$f":"'تعریف کالا'!$C$170","v":0},{"$f":"'تعریف کالا'!$D$170","v":0},{"$f":"'تعریف کالا'!$E$170","v":0},{"$f":"'تعریف کالا'!$G$170","v":0},null,{"$f":"'تعریف کالا'!$F$170","v":0},null,0,null,null,null,null,null,null,null,null,null,null,null,null,null,null,0,0,0,0,0,0,0]
[null,"کاردکس 167",{"$f":"'تعریف کالا'!$C$171","v":0},{"$f":"'تعریف کالا'!$D$171","v":0},{"$f":"'تعریف کالا'!$E$171","v":0},{"$f":"'تعریف کالا'!$G$171","v":0},null,{"$f":"'تعریف کالا'!$F$171","v":0},null,0,null,null,null,null,null,null,null,null,null,null,null,null,null,null,0,0,0,0,0,0,0]
[null,"کاردکس 168",{"$f":"'تعریف کالا'!$C$172","v":0},{"$f":"'تعریف کالا'!$D$172","v":0},{"$f":"'تعریف کالا'!$E$172","v":0},{"$f":"'تعریف کالا'!$G$172","v":0},null,{"$f":"'تعریف کالا'!$F$172","v":0},null,0,null,null,null,null,null,null,null,null,null,null,null,null,null,null,0,0,0,0,0,0,0]
[null,"کاردکس 169",{"$f":"'تعریف کالا'!$C$173","v":0},{"$f":"'تعریف کالا'!$D$173","v":0},{"$f":"'تعریف کالا'!$E$173","v":0},{"$f":"'تعریف کالا'!$G$173","v":0},null,{"$f":"'تعریف کالا'!$F$173","v":0},null,0,null,null,null,null,null,null,null,null,null,null,null,null,null,null,0,0,0,0,0,0,0]
[null,"کاردکس 170",{"$f":"'تعریف کالا'!$C$174","v":0},{"$f":"'تعریف کالا'!$D$174","v":0},{"$f":"'تعریف کالا'!$E$174","v":0},{"$f":"'تعریف کالا'!$G$174","v":0},null,{"$f":"'تعریف کالا'!$F$174","v":0},null,0,null,null,null,null,null,null,null,null,null,null,null,null,null,null,0,0,0,0,0,0,0]
[null,"کاردکس 171",{"$f":"'تعریف کالا'!$C$175","v":0},{"$f":"'تعریف کالا'!$D$175","v":0},{"$f":"'تعریف کالا'!$E$175","v":0},{"$f":"'تعریف کالا'!$G$175","v":0},null,{"$f":"'تعریف کالا'!$F$175","v":0},null,0,null,null,null,null,null,null,null,null,null,null,null,null,null,null,0,0,0,0,0,0,0]
[null,"کاردکس 172",{"$f":"'تعریف کالا'!$C$176","v":0},{"$f":"'تعریف کالا'!$D$176","v":0},{"$f":"'تعریف کالا'!$E$176","v":0},{"$f":"'تعریف کالا'!$G$176","v":0},null,{"$f":"'تعریف کالا'!$F$176","v":0},null,0,null,null,null,null,null,null,null,null,null,null,null,null,null,null,0,0,0,0,0,0,0]
[null,"کاردکس 173",{"$f":"'تعریف کالا'!$C$177","v":0},{"$f":"'تعریف کالا'!$D$177","v":0},{"$f":"'تعریف کالا'!$E$177","v":0},{"$f":"'تعریف کالا'!$G$177","v":0},null,{"$f":"'تعریف کالا'!$F$177","v":0},null,0,null,null,null,null,null,null,null,null,null,null,null,null,null,null,0,0,0,0,0,0,0]
[null,"کاردکس 174",{"$f":"'تعریف کالا'!$C$178","v":0},{"$f":"'تعریف کالا'!$D$178","v":0},{"$f":"'تعریف کالا'!$E$178","v":0},{"$f":"'تعریف کالا'!$G$178","v":0},null,{"$f":"'تعریف کالا'!$F$178","v":0},null,0,null,null,null,null,null,null,null,null,null,null,null,null,null,null,0,0,0,0,0,0,0]
[null,"کاردکس 175",{"$f":"'تعریف کالا'!$C$179","v":0},{"$f":"'تعریف کالا'!$D$179","v":0},{"$f":"'تعریف کالا'!$E$179","v":0},{"$f":"'تعریف کالا'!$G$179","v":0},null,{"$f":"'تعریف کالا'!$F$179","v":0},null,0,null,null,null,null,null,null,null,null,null,null,null,null,null,null,0,0,0,0,0,0,0]
[null,"کاردکس 176",{"$f":"'تعریف کالا'!$C$180","v":0},{"$f":"'تعریف کالا'!$D$180","v":0},{"$f":"'تعریف کالا'!$E$180","v":0},{"$f":"'تعریف کالا'!$G$180","v":0},null,{"$f":"'تعریف کالا'!$F$180","v":0},null,0,null,null,null,null,null,null,null,null,null,null,null,null,null,null,0,0,0,0,0,0,0]
[null,"کاردکس 177",{"$f":"'تعریف کالا'!$C$181","v":0},{"$f":"'تعریف کالا'!$D$181","v":0},{"$f":"'تعریف کالا'!$E$181","v":0},{"$f":"'تعریف کالا'!$G$181","v":0},null,{"$f":"'تعریف کالا'!$F$181","v":0},null,0,null,null,null,null,null,null,null,null,null,null,null,null,null,null,0,0,0,0,0,0,0]
[null,"کاردکس 178",{"$f":"'تعریف کالا'!$C$182","v":0},{"$f":"'تعریف کالا'!$D$182","v":0},{"$f":"'تعریف کالا'!$E$182","v":0},{"$f":"'تعریف کالا'!$G$182","v":0},null,{"$f":"'تعریف کالا'!$F$182","v":0},null,0,null,null,null,null,null,null,null,null,null,null,null,null,null,null,0,0,0,0,0,0,0]
[null,"کاردکس 179",{"$f":"'تعریف کالا'!$C$183","v":0},{"$f":"'تعریف کالا'!$D$183","v":0},{"$f":"'تعریف کالا'!$E$183","v":0},{"$f":"'تعریف کالا'!$G$183","v":0},null,{"$f":"'تعریف کالا'!$F$183","v":0},null,0,null,null,null,null,null,null,null,null,null,null,null,null,null,null,0,0,0,0,0,0,0]
[null,"کاردکس 180",{"$f":"'تعریف کالا'!$C$184","v":0},{"$f":"'تعریف کالا'!$D$184","v":0},{"$f":"'تعریف کالا'!$E$184","v":0},{"$f":"'تعریف کالا'!$G$184","v":0},null,{"$f":"'تعریف کالا'!$F$184","v":0},null,0,null,null,null,null,null,null,null,null,null,null,null,null,null,null,0,0,0,0,0,0,0]
[null,"کاردکس 181",{"$f":"'تعریف کالا'!$C$185","v":0},{"$f":"'تعریف کالا'!$D$185","v":0},{"$f":"'تعریف کالا'!$E$185","v":0},{"$f":"'تعریف کالا'!$G$185","v":0},null,{"$f":"'تعریف کالا'!$F$185","v":0},null,0,null,null,null,null,null,null,null,null,null,null,null,null,null,null,0,0,0,0,0,0,0]
[null,"کاردکس 182",{"$f":"'تعریف کالا'!$C$186","v":0},{"$f":"'تعریف کالا'!$D$186","v":0},{"$f":"'تعریف کالا'!$E$186","v":0},{"$f":"'تعریف کالا'!$G$186","v":0},null,{"$f":"'تعریف کالا'!$F$186","v":0},null,0,null,null,null,null,null,null,null,null,null,null,null,null,null,null,0,0,0,0,0,0,0]
[null,"کاردکس 183",{"$f":"'تعریف کالا'!$C$187","v":0},{"$f":"'تعریف کالا'!$D$187","v":0},{"$f":"'تعریف کالا'!$E$187","v":0},{"$f":"'تعریف کالا'!$G$187","v":0},null,{"$f":"'تعریف کالا'!$F$187","v":0},null,0,null,null,null,null,null,null,null,null,null,null,null,null,null,null,0,0,0,0,0,0,0]
[null,"کاردکس 184",{"$f":"'تعریف کالا'!$C$18","v":0},{"$f":"'تعریف کالا'!$D$188","v":0},{"$f":"'تعریف کالا'!$E$188","v":0},{"$f":"'تعریف کالا'!$G$188","v":0},null,{"$f":"'تعریف کالا'!$F$188","v":0},null,0,null,null,null,null,null,null,null,null,null,null,null,null,null,null,0,0,0,0,0,0,0]
[null,"کاردکس 185",{"$f":"'تعریف کالا'!$C$189","v":0},{"$f":"'تعریف کالا'!$D$189","v":0},{"$f":"'تعریف کالا'!$E$189","v":0},{"$f":"'تعریف کالا'!$G$189","v":0},null,{"$f":"'تعریف کالا'!$F$189","v":0},null,0,null,null,null,null,null,null,null,null,null,null,null,null,null,null,0,0,0,0,0,0,0]
[null,"کاردکس 186",{"$f":"'تعریف کالا'!$C$190","v":0},{"$f":"'تعریف کالا'!$D$190","v":0},{"$f":"'تعریف کالا'!$E$190","v":0},{"$f":"'تعریف کالا'!$G$190","v":0},null,{"$f":"'تعریف کالا'!$F$190","v":0},null,0,null,null,null,null,null,null,null,null,null,null,null,null,null,null,0,0,0,0,0,0,0]
[null,"کاردکس 187",{"$f":"'تعریف کالا'!$C$191","v":0},{"$f":"'تعریف کالا'!$D$191","v":0},{"$f":"'تعریف کالا'!$E$191","v":0},{"$f":"'تعریف کالا'!$G$191","v":0},null,{"$f":"'تعریف کالا'!$F$191","v":0},null,0,null,null,null,null,null,null,null,null,null,null,null,null,null,null,0,0,0,0,0,0,0]
[null,"کاردکس 188",{"$f":"'تعریف کالا'!$C$192","v":0},{"$f":"'تعریف کالا'!$D$192","v":0},{"$f":"'تعریف کالا'!$E$192","v":0},{"$f":"'تعریف کالا'!$G$192","v":0},null,{"$f":"'تعریف کالا'!$F$192","v":0},null,0,null,null,null,null,null,null,null,null,null,null,null,null,null,null,0,0,0,0,0,0,0]
[null,"کاردکس 189",{"$f":"'تعریف کالا'!$C$193","v":0},{"$f":"'تعریف کالا'!$D$193","v":0},{"$f":"'تعریف کالا'!$E$193","v":0},{"$f":"'تعریف کالا'!$G$193","v":0},null,{"$f":"'تعریف کالا'!$F$193","v":0},null,0,null,null,null,null,null,null,null,null,null,null,null,null,null,null,0,0,0,0,0,0,0]
[null,"کاردکس 190",{"$f":"'تعریف کالا'!$C$194","v":0},{"$f":"'تعریف کالا'!$D$194","v":0},{"$f":"'تعریف کالا'!$E$194","v":0},{"$f":"'تعریف کالا'!$G$194","v":0},null,{"$f":"'تعریف کالا'!$F$194","v":0},null,0,null,null,null,null,null,null,null,null,null,null,null,null,null,null,0,0,0,0,0,0,0]
[null,"کاردکس 191",{"$f":"'تعریف کالا'!$C$195","v":0},{"$f":"'تعریف کالا'!$D$195","v":0},{"$f":"'تعریف کالا'!$E$195","v":0},{"$f":"'تعریف کالا'!$G$195","v":0},null,{"$f":"'تعریف کالا'!$F$195","v":0},null,0,null,null,null,null,null,null,null,null,null,null,null,null,null,null,0,0,0,0,0,0,0]
[null,"کاردکس 192",{"$f":"'تعریف کالا'!$C$196","v":0},{"$f":"'تعریف کالا'!$D$196","v":0},{"$f":"'تعریف کالا'!$E$196","v":0},{"$f":"'تعریف کالا'!$G$196","v":0},null,{"$f":"'تعریف کالا'!$F$196","v":0},null,0,null,null,null,null,null,null,null,null,null,null,null,null,null,null,0,0,0,0,0,0,0]
[null,"کاردکس 193",{"$f":"'تعریف کالا'!$C$197","v":0},{"$f":"'تعریف کالا'!$D$197","v":0},{"$f":"'تعریف کالا'!$E$197","v":0},{"$f":"'تعریف کالا'!$G$197","v":0},null,{"$f":"'تعریف کالا'!$F$197","v":0},null,0,null,null,null,null,null,null,null,null,null,null,null,null,null,null,0,0,0,0,0,0,0]
[null,"کاردکس 194",{"$f":"'تعریف کالا'!$C$198","v":0},{"$f":"'تعریف کالا'!$D$198","v":0},{"$f":"'تعریف کالا'!$E$198","v":0},{"$f":"'تعریف کالا'!$G$198","v":0},null,{"$f":"'تعریف کالا'!$F$198","v":0},null,0,null,null,null,null,null,null,null,null,null,null,null,null,null,null,0,0,0,{"$f":"F661","v":0},{"$f":"H661","v":0},{"$f":"I661","v":0},{"$f":"J661","v":0}]
[null,"کاردکس 195",{"$f":"'تعریف کالا'!$C$199","v":0},{"$f":"'تعریف کالا'!$D$199","v":0},{"$f":"'تعریف کالا'!$E$199","v":0},{"$f":"'تعریف کالا'!$G$199","v":0},null,{"$f":"'تعریف کالا'!$F$199","v":0},null,{"$f":"(F662*I662)-(F662*I662*G662%)","v":0},null,null,null,null,null,null,null,null,null,null,null,null,null,null,{"$f":"C662","v":0},{"$f":"D662","v":0},{"$f":"E662","v":0},0,0,0,0]
[null,"کاردکس 196",{"$f":"'تعریف کالا'!$C$200","v":0},{"$f":"'تعریف کالا'!$D$200","v":0},{"$f":"'تعریف کالا'!$E$200","v":0},{"$f":"'تعریف کالا'!$G$200","v":0},null,{"$f":"'تعریف کالا'!$F$200","v":0},null,0,null,null,null,null,null,null,null,null,null,null,null,null,null,null,0,0,0,0,0,0,0]
[null,"کاردکس 197",{"$f":"'تعریف کالا'!$C$201","v":0},{"$f":"'تعریف کالا'!$D$201","v":0},{"$f":"'تعریف کالا'!$E$201","v":0},{"$f":"'تعریف کالا'!$G$201","v":0},null,{"$f":"'تعریف کالا'!$F$201","v":0},null,0,null,null,null,null,null,null,null,null,null,null,null,null,null,null,0,0,0,0,0,0,0]
[null,"کاردکس 198",{"$f":"'تعریف کالا'!$C$202","v":0},{"$f":"'تعریف کالا'!$D$202","v":0},{"$f":"'تعریف کالا'!$E$202","v":0},{"$f":"'تعریف کالا'!$G$202","v":0},null,{"$f":"'تعریف کالا'!$F$202","v":0},null,0,null,null,null,null,null,null,null,null,null,null,null,null,null,null,0,0,0,0,0,0,0]
[null,"کاردکس 199",{"$f":"'تعریف کالا'!$C$203","v":0},{"$f":"'تعریف کالا'!$D$203","v":0},{"$f":"'تعریف کالا'!$E$203","v":0},{"$f":"'تعریف کالا'!$G$203","v":0},null,{"$f":"'تعریف کالا'!$F$203","v":0},null,0,null,null,null,null,null,null,null,null,null,null,null,null,null,null,0,0,0,0,0,0,0]
[null,"کاردکس 200",{"$f":"'تعریف کالا'!$C$204","v":0},{"$f":"'تعریف کالا'!$D$204","v":0},{"$f":"'تعریف کالا'!$E$204","v":0},{"$f":"'تعریف کالا'!$G$204","v":0},null,{"$f":"'تعریف کالا'!$F$204","v":0},null,0,null,null,null,null,null,null,null,null,null,null,null,null,null,null,0,0,0,0,0,0,0]
[null,"     جمع کل",null,{"$f":"abh(I668)&L664","v":"منفي "},null,null,null,null,{"$f":"SUM(J468:J667)","v":0},null,null,null,null,null,null,null,null,null,null,null,null,null,null,"مانده حساب",null,{"$f":"abh(AD668)& \"ریال\"","v":"منفي ریال"},null,null,null,{"$f":"I670","v":0}]
[null,"                  مبلغ قابل  پرداخت        ",null,{"$f":"abh(I669)&\"ریال\"","v":"منفي ریال"},null,null,null,null,{"$f":"J462","v":0},null,null,null,null,null,null,null,null,null,null,null,null,null,null,"شرح رویداد :",null,{"$f":"E465","v":0}]
[null,"مانده حساب",null,{"$f":"abh(I670)&\"ریال\"","v":"منفي ریال"},null,null,null,null,{"$f":"J463","v":0},null,null,null,null,null,null,null,null,null,null,null,null,null,null,"اقلام این فاکتور سالم تحویل اینجانب  ....................  شد.               "]
[]
[null,null,null,null,null,null,null,null,null,null,null,null,null,null,null,null,null,null,null,null,null,null,null,null,"امضا صادر کننده",null,"امضا فروشنده",null,"امضا مسئول انبار",null,"امضا خریدار"]
[]
[]
[]
[]
[]
[]
[null,null,"فاکتور خرید"]
[null,null,null,null,null,{"$f":"'صفحه اصلی'!$J$4","v":0},null,null,null,null,null,"فاکتور بعدی",null,null,null,null,null,null,null,null,null,null,null,"رسید کالا"]
[null,"شماره سند ",4,null,null,null,null,null,"تاریخ",null,null,null,null,null,null,null,null,null,null,null,null,null,null,null,null,null,{"$f":"F680","v":0},null,null,"تاریخ",{"$f":"J681","v":0}]
[null,"شماره فاکتور",4,null,null,null,null,null,"انبار",null,null,"مشاهده رسید",null,null,null,null,null,null,null,null,null,null,null,"شماره رسید",{"$f":"C682","v":4}]
[null,null,null,null,null,null,null,null,null,null,null,null,null,null,null,null,null,null,null,null,null,null,null,"شماره سند",{"$f":"C681","v":4}]
[null,null,null,null,null,"           درصد تخفیف  ",null,null,"تخفیف ",{"$f":"(I893*G684%)","v":0}]
[null,null,"نام فروشنده","علی منصوری",null,"          کرایه حمل",null,null,"کرایه حمل",{"$f":"G685","v":0}]
[null,null,null,null,null,"          مالیات",null,null,"مالیات",{"$f":"(I893-J684+J685)*G686%","v":0}]
[null,null,"پرداخت نقدی",null,null,null,null,null,"مبلغ قابل پرداخت",{"$f":"I893-J684+J685+J686","v":0},null,null,null,null,null,null,null,null,null,null,null,null,null,null,"فروشنده :",{"$f":"D685","v":"علی منصوری"}]
[null,null,"پرداخت با چک",null,null,null,null,null,"مانده حساب",{"$f":"J687-D687-D688","v":0}]
[null,null,null,null,null,null,null,null,null,null,null,null,null,null,null,null,null,null,null,null,null,null,null,null,"آدرس :",{"$f":"VLOOKUP(Z687,'مشخصات فروشندگان'!$B$2:$C$502,2,FALSE)","v":0}]
[null,null,"ثبت چک","شرح رویداد"]
[]
[null,"شماره کاردکس","کد کالا","نام کالا","گروه بندی","قیمت واحد","درصد تخفیف","واحد شمارش","تعداد","قیمت کل",null,null,null,null,null,null,null,null,null,null,null,null,null,"ردیف","کد کالا","نام کالا","گروه بندی","قیمت واحد","واحد شمارش","تعداد","قیمت کل"]
[null,"کاردکس 1",{"$f":"'تعریف کالا'!$C$5","v":9011120},{"$f":"'تعریف کالا'!$D$5","v":"سی دی"},{"$f":"'تعریف کالا'!$E$5","v":"سخت افزار"},{"$f":"'تعریف کالا'!$G$5","v":3000},null,{"$f":"'تعریف کالا'!$F$5","v":"حلقه"},null,{"$f":"(F693*I693)-(F693*I693*G693%)","v":0},null,null,null,null,null,null,null,null,null,null,null,null,null,null,{"$f":"C693","v":9011120},{"$f":"D693","v":"سی دی"},{"$f":"E693","v":"سخت افزار"},{"$f":"F693","v":3000},{"$f":"H693","v":"حلقه"},{"$f":"I693","v":0},{"$f":"J693","v":0}]
[null,"کاردکس 2",{"$f":"'تعریف کالا'!$C$6","v":9011121},{"$f":"'تعریف کالا'!$D$6","v":"دی وی دی"},{"$f":"'تعریف کالا'!$E$6","v":"سخت افزار"},{"$f":"'تعریف کالا'!$G$6","v":7000},null,{"$f":"'تعریف کالا'!$F$6","v":"حلقه"},null,{"$f":"(F694*I694)-(F694*I694*G694%)","v":0},null,null,null,null,null,null,null,null,null,null,null,null,null,null,{"$f":"C694","v":9011121},{"$f":"D694","v":"دی وی دی"},{"$f":"E694","v":"سخت افزار"},{"$f":"F694","v":7000},{"$f":"H694","v":"حلقه"},{"$f":"I694","v":0},{"$f":"J694","v":0}]
[null,"کاردکس 3",{"$f":"'تعریف کالا'!$C$7","v":9011122},{"$f":"'تعریف کالا'!$D$7","v":"نوت بوک"},{"$f":"'تعریف کالا'!$E$7","v":"سخت افزار"},{"$f":"'تعریف کالا'!$G$7","v":10000000},null,{"$f":"'تعریف کالا'!$F$7","v":"دستگاه"},null,{"$f":"(F695*I695)-(F695*I695*G695%)","v":0},null,null,null,null,null,null,null,null,null,null,null,null,null,null,{"$f":"C695","v":9011122},"نوت بوک","سخت افزار",10000000,"دستگاه",0,0]
[null,"کاردکس 4",{"$f":"'تعریف کالا'!$C$8","v":0},{"$f":"'تعریف کالا'!$D$8","v":0},{"$f":"'تعریف کالا'!$E$8","v":0},{"$f":"'تعریف کالا'!$G$8","v":0},null,{"$f":"'تعریف کالا'!$F$8","v":0},null,0,null,null,null,null,null,null,null,null,null,null,null,null,null,null,0,0,0,0,0,0,0]
[null,"کاردکس 5",{"$f":"'تعریف کالا'!$C$9","v":0},{"$f":"'تعریف کالا'!$D$9","v":0},{"$f":"'تعریف کالا'!$E$9","v":0},{"$f":"'تعریف کالا'!$G$9","v":0},null,{"$f":"'تعریف کالا'!$F$9","v":0},null,0,null,null,null,null,null,null,null,null,null,null,null,null,null,null,0,0,0,0,0,0,0]
[null,"کاردکس 6",{"$f":"'تعریف کالا'!$C$10","v":0},{"$f":"'تعریف کالا'!$D$10","v":0},{"$f":"'تعریف کالا'!$E$10","v":0},{"$f":"'تعریف کالا'!$G$10","v":0},null,{"$f":"'تعریف کالا'!$F$10","v":0},null,0,null,null,null,null,null,null,null,null,null,null,null,null,null,null,0,0,0,0,0,0,0]
[null,"کاردکس 7",{"$f":"'تعریف کالا'!$C$11","v":0},{"$f":"'تعریف کالا'!$D$11","v":0},{"$f":"'تعریف کالا'!$E$11","v":0},{"$f":"'تعریف کالا'!$G$11","v":0},null,{"$f":"'تعریف کالا'!$F$11","v":0},null,0,null,null,null,null,null,null,null,null,null,null,null,null,null,null,0,0,0,0,0,0,0]
[null,"کاردکس 8",{"$f":"'تعریف کالا'!$C$12","v":0},{"$f":"'تعریف کالا'!$D$12","v":0},{"$f":"'تعریف کالا'!$E$12","v":0},{"$f":"'تعریف کالا'!$G$12","v":0},null,{"$f":"'تعریف کالا'!$F$12","v":0},null,0,null,null,null,null,null,null,null,null,null,null,null,null,null,null,0,0,0,0,0,0,0]
[null,"کاردکس 9",{"$f":"'تعریف کالا'!$C$13","v":0},{"$f":"'تعریف کالا'!$D$13","v":0},{"$f":"'تعریف کالا'!$E$13","v":0},{"$f":"'تعریف کالا'!$G$13","v":0},null,{"$f":"'تعریف کالا'!$F$13","v":0},null,0,null,null,null,null,null,null,null,null,null,null,null,null,null,null,0,0,0,0,0,0,0]
[null,"کاردکس 10",{"$f":"'تعریف کالا'!$C$14","v":0},{"$f":"'تعریف کالا'!$D$14","v":0},{"$f":"'تعریف کالا'!$E$14","v":0},{"$f":"'تعریف کالا'!$G$14","v":0},null,{"$f":"'تعریف کالا'!$F$14","v":0},null,0,null,null,null,null,null,null,null,null,null,null,null,null,null,null,0,0,0,0,0,0,0]
[null,"کاردکس 11",{"$f":"'تعریف کالا'!$C$15","v":0},{"$f":"'تعریف کالا'!$D$15","v":0},{"$f":"'تعریف کالا'!$E$15","v":0},{"$f":"'تعریف کالا'!$G$15","v":0},null,{"$f":"'تعریف کالا'!$F$15","v":0},null,0,null,null,null,null,null,null,null,null,null,null,null,null,null,null,0,0,0,0,0,0,0]
[null,"کاردکس 12",{"$f":"'تعریف کالا'!$C$16","v":0},{"$f":"'تعریف کالا'!$D$16","v":0},{"$f":"'تعریف کالا'!$E$16","v":0},{"$f":"'تعریف کالا'!$G$16","v":0},null,{"$f":"'تعریف کالا'!$F$16","v":0},null,0,null,null,null,null,null,null,null,null,null,null,null,null,null,null,0,0,0,0,0,0,0]
[null,"کاردکس 13",{"$f":"'تعریف کالا'!$C$17","v":0},{"$f":"'تعریف کالا'!$D$17","v":0},{"$f":"'تعریف کالا'!$E$17","v":0},{"$f":"'تعریف کالا'!$G$17","v":0},null,{"$f":"'تعریف کالا'!$F$17","v":0},null,0,null,null,null,null,null,null,null,null,null,null,null,null,null,null,0,0,0,0,0,0,0]
[null,"کاردکس 14",{"$f":"'تعریف کالا'!$C$18","v":0},{"$f":"'تعریف کالا'!$D$18","v":0},{"$f":"'تعریف کالا'!$E$18","v":0},{"$f":"'تعریف کالا'!$G$18","v":0},null,{"$f":"'تعریف کالا'!$F$18","v":0},null,0,null,null,null,null,null,null,null,null,null,null,null,null,null,null,0,0,0,0,0,0,0]
[null,"کاردکس 15",{"$f":"'تعریف کالا'!$C$19","v":0},{"$f":"'تعریف کالا'!$D$19","v":0},{"$f":"'تعریف کالا'!$E$19","v":0},{"$f":"'تعریف کالا'!$G$19","v":0},null,{"$f":"'تعریف کالا'!$F$19","v":0},null,0,null,null,null,null,null,null,null,null,null,null,null,null,null,null,0,0,0,0,0,0,0]
[null,"کاردکس 16",{"$f":"'تعریف کالا'!$C$20","v":0},{"$f":"'تعریف کالا'!$D$20","v":0},{"$f":"'تعریف کالا'!$E$20","v":0},{"$f":"'تعریف کالا'!$G$20","v":0},null,{"$f":"'تعریف کالا'!$F$20","v":0},null,0,null,null,null,null,null,null,null,null,null,null,null,null,null,null,0,0,0,0,0,0,0]
[null,"کاردکس 17",{"$f":"'تعریف کالا'!$C$21","v":0},{"$f":"'تعریف کالا'!$D$21","v":0},{"$f":"'تعریف کالا'!$E$21","v":0},{"$f":"'تعریف کالا'!$G$21","v":0},null,{"$f":"'تعریف کالا'!$F$21","v":0},null,0,null,null,null,null,null,null,null,null,null,null,null,null,null,null,0,0,0,0,0,0,0]
[null,"کاردکس 18",{"$f":"'تعریف کالا'!$C$22","v":0},{"$f":"'تعریف کالا'!$D$22","v":0},{"$f":"'تعریف کالا'!$E$22","v":0},{"$f":"'تعریف کالا'!$G$22","v":0},null,{"$f":"'تعریف کالا'!$F$22","v":0},null,0,null,null,null,null,null,null,null,null,null,null,null,null,null,null,0,0,0,0,0,0,0]
[null,"کاردکس 19",{"$f":"'تعریف کالا'!$C$23","v":0},{"$f":"'تعریف کالا'!$D$23","v":0},{"$f":"'تعریف کالا'!$E$23","v":0},{"$f":"'تعریف کالا'!$G$23","v":0},null,{"$f":"'تعریف کالا'!$F$23","v":0},null,0,null,null,null,null,null,null,null,null,null,null,null,null,null,null,0,0,0,0,0,0,0]
[null,"کاردکس 20",{"$f":"'تعریف کالا'!$C$24","v":0},{"$f":"'تعریف کالا'!$D$24","v":0},{"$f":"'تعریف کالا'!$E$24","v":0},{"$f":"'تعریف کالا'!$G$24","v":0},null,{"$f":"'تعریف کالا'!$F$24","v":0},null,0,null,null,null,null,null,null,null,null,null,null,null,null,null,null,0,0,0,0,0,0,0]
[null,"کاردکس 21",{"$f":"'تعریف کالا'!$C$25","v":0},{"$f":"'تعریف کالا'!$D$25","v":0},{"$f":"'تعریف کالا'!$E$25","v":0},{"$f":"'تعریف کالا'!$G$25","v":0},null,{"$f":"'تعریف کالا'!$F$25","v":0},null,0,null,null,null,null,null,null,null,null,null,null,null,null,null,null,0,0,0,0,0,0,0]
[null,"کاردکس 22",{"$f":"'تعریف کالا'!$C$26","v":0},{"$f":"'تعریف کالا'!$D$26","v":0},{"$f":"'تعریف کالا'!$E$26","v":0},{"$f":"'تعریف کالا'!$G$26","v":0},null,{"$f":"'تعریف کالا'!$F$26","v":0},null,0,null,null,null,null,null,null,null,null,null,null,null,null,null,null,0,0,0,0,0,0,0]
[null,"کاردکس 23",{"$f":"'تعریف کالا'!$C$27","v":0},{"$f":"'تعریف کالا'!$D$27","v":0},{"$f":"'تعریف کالا'!$E$27","v":0},{"$f":"'تعریف کالا'!$G$27","v":0},null,{"$f":"'تعریف کالا'!$F$27","v":0},null,0,null,null,null,null,null,null,null,null,null,null,null,null,null,null,0,0,0,0,0,0,0]
[null,"کاردکس 24",{"$f":"'تعریف کالا'!$C$28","v":0},{"$f":"'تعریف کالا'!$D$28","v":0},{"$f":"'تعریف کالا'!$E$28","v":0},{"$f":"'تعریف کالا'!$G$28","v":0},null,{"$f":"'تعریف کالا'!$F$28","v":0},null,0,null,null,null,null,null,null,null,null,null,null,null,null,null,null,0,0,0,0,0,0,0]
[null,"کاردکس 25",{"$f":"'تعریف کالا'!$C$29","v":0},{"$f":"'تعریف کالا'!$D$29","v":0},{"$f":"'تعریف کالا'!$E$29","v":0},{"$f":"'تعریف کالا'!$G$29","v":0},null,{"$f":"'تعریف کالا'!$F$29","v":0},null,0,null,null,null,null,null,null,null,null,null,null,null,null,null,null,0,0,0,0,0,0,0]
[null,"کاردکس 26",{"$f":"'تعریف کالا'!$C$30","v":0},{"$f":"'تعریف کالا'!$D$30","v":0},{"$f":"'تعریف کالا'!$E$30","v":0},{"$f":"'تعریف کالا'!$G$30","v":0},null,{"$f":"'تعریف کالا'!$F$30","v":0},null,0,null,null,null,null,null,null,null,null,null,null,null,null,null,null,0,0,0,0,0,0,0]
[null,"کاردکس 27",{"$f":"'تعریف کالا'!$C$31","v":0},{"$f":"'تعریف کالا'!$D$31","v":0},{"$f":"'تعریف کالا'!$E$31","v":0},{"$f":"'تعریف کالا'!$G$31","v":0},null,{"$f":"'تعریف کالا'!$F$31","v":0},null,0,null,null,null,null,null,null,null,null,null,null,null,null,null,null,0,0,0,0,0,0,0]
[null,"کاردکس 28",{"$f":"'تعریف کالا'!$C$32","v":0},{"$f":"'تعریف کالا'!$D$32","v":0},{"$f":"'تعریف کالا'!$E$32","v":0},{"$f":"'تعریف کالا'!$G$32","v":0},null,{"$f":"'تعریف کالا'!$F$32","v":0},null,0,null,null,null,null,null,null,null,null,null,null,null,null,null,null,0,0,0,0,0,0,0]
[null,"کاردکس 29",{"$f":"'تعریف کالا'!$C$33","v":0},{"$f":"'تعریف کالا'!$D$33","v":0},{"$f":"'تعریف کالا'!$E$33","v":0},{"$f":"'تعریف کالا'!$G$33","v":0},null,{"$f":"'تعریف کالا'!$F$33","v":0},null,0,null,null,null,null,null,null,null,null,null,null,null,null,null,null,0,0,0,0,0,0,0]
[null,"کاردکس 30",{"$f":"'تعریف کالا'!$C$34","v":0},{"$f":"'تعریف کالا'!$D$34","v":0},{"$f":"'تعریف کالا'!$E$34","v":0},{"$f":"'تعریف کالا'!$G$34","v":0},null,{"$f":"'تعریف کالا'!$F$34","v":0},null,0,null,null,null,null,null,null,null,null,null,null,null,null,null,null,0,0,0,0,0,0,0]
[null,"کاردکس 31",{"$f":"'تعریف کالا'!$C$35","v":0},{"$f":"'تعریف کالا'!$D$35","v":0},{"$f":"'تعریف کالا'!$E$35","v":0},{"$f":"'تعریف کالا'!$G$35","v":0},null,{"$f":"'تعریف کالا'!$F$35","v":0},null,0,null,null,null,null,null,null,null,null,null,null,null,null,null,null,0,0,0,0,0,0,0]
[null,"کاردکس 32",{"$f":"'تعریف کالا'!$C$36","v":0},{"$f":"'تعریف کالا'!$D$36","v":0},{"$f":"'تعریف کالا'!$E$36","v":0},{"$f":"'تعریف کالا'!$G$36","v":0},null,{"$f":"'تعریف کالا'!$F$36","v":0},null,0,null,null,null,null,null,null,null,null,null,null,null,null,null,null,0,0,0,0,0,0,0]
[null,"کاردکس 33",{"$f":"'تعریف کالا'!$C$37","v":0},{"$f":"'تعریف کالا'!$D$37","v":0},{"$f":"'تعریف کالا'!$E$37","v":0},{"$f":"'تعریف کالا'!$G$37","v":0},null,{"$f":"'تعریف کالا'!$F$37","v":0},null,0,null,null,null,null,null,null,null,null,null,null,null,null,null,null,0,0,0,0,0,0,0]
[null,"کاردکس 34",{"$f":"'تعریف کالا'!$C$38","v":0},{"$f":"'تعریف کالا'!$D$38","v":0},{"$f":"'تعریف کالا'!$E$38","v":0},{"$f":"'تعریف کالا'!$G$38","v":0},null,{"$f":"'تعریف کالا'!$F$38","v":0},null,0,null,null,null,null,null,null,null,null,null,null,null,null,null,null,0,0,0,0,0,0,0]
[null,"کاردکس 35",{"$f":"'تعریف کالا'!$C$39","v":0},{"$f":"'تعریف کالا'!$D$39","v":0},{"$f":"'تعریف کالا'!$E$39","v":0},{"$f":"'تعریف کالا'!$G$39","v":0},null,{"$f":"'تعریف کالا'!$F$39","v":0},null,0,null,null,null,null,null,null,null,null,null,null,null,null,null,null,0,0,0,0,0,0,0]
[null,"کاردکس 36",{"$f":"'تعریف کالا'!$C$40","v":0},{"$f":"'تعریف کالا'!$D$40","v":0},{"$f":"'تعریف کالا'!$E$40","v":0},{"$f":"'تعریف کالا'!$G$40","v":0},null,{"$f":"'تعریف کالا'!$F$40","v":0},null,0,null,null,null,null,null,null,null,null,null,null,null,null,null,null,0,0,0,0,0,0,0]
[null,"کاردکس 37",{"$f":"'تعریف کالا'!$C$41","v":0},{"$f":"'تعریف کالا'!$D$41","v":0},{"$f":"'تعریف کالا'!$E$41","v":0},{"$f":"'تعریف کالا'!$G$41","v":0},null,{"$f":"'تعریف کالا'!$F$41","v":0},null,0,null,null,null,null,null,null,null,null,null,null,null,null,null,null,0,0,0,0,0,0,0]
[null,"کاردکس 38",{"$f":"'تعریف کالا'!$C$42","v":0},{"$f":"'تعریف کالا'!$D$42","v":0},{"$f":"'تعریف کالا'!$E$42","v":0},{"$f":"'تعریف کالا'!$G$42","v":0},null,{"$f":"'تعریف کالا'!$F$42","v":0},null,0,null,null,null,null,null,null,null,null,null,null,null,null,null,null,0,0,0,0,0,0,0]
[null,"کاردکس 39",{"$f":"'تعریف کالا'!$C$43","v":0},{"$f":"'تعریف کالا'!$D$43","v":0},{"$f":"'تعریف کالا'!$E$43","v":0},{"$f":"'تعریف کالا'!$G$43","v":0},null,{"$f":"'تعریف کالا'!$F$43","v":0},null,0,null,null,null,null,null,null,null,null,null,null,null,null,null,null,0,0,0,0,0,0,0]
[null,"کاردکس 40",{"$f":"'تعریف کالا'!$C$44","v":0},{"$f":"'تعریف کالا'!$D$44","v":0},{"$f":"'تعریف کالا'!$E$44","v":0},{"$f":"'تعریف کالا'!$G$44","v":0},null,{"$f":"'تعریف کالا'!$F$44","v":0},null,0,null,null,null,null,null,null,null,null,null,null,null,null,null,null,0,0,0,0,0,0,0]
[null,"کاردکس 41",{"$f":"'تعریف کالا'!$C$45","v":0},{"$f":"'تعریف کالا'!$D$45","v":0},{"$f":"'تعریف کالا'!$E$45","v":0},{"$f":"'تعریف کالا'!$G$45","v":0},null,{"$f":"'تعریف کالا'!$F$45","v":0},null,0,null,null,null,null,null,null,null,null,null,null,null,null,null,null,0,0,0,0,0,0,0]
[null,"کاردکس 42",{"$f":"'تعریف کالا'!$C$46","v":0},{"$f":"'تعریف کالا'!$D$46","v":0},{"$f":"'تعریف کالا'!$E$46","v":0},{"$f":"'تعریف کالا'!$G$46","v":0},null,{"$f":"'تعریف کالا'!$F$46","v":0},null,0,null,null,null,null,null,null,null,null,null,null,null,null,null,null,0,0,0,0,0,0,0]
[null,"کاردکس 43",{"$f":"'تعریف کالا'!$C$47","v":0},{"$f":"'تعریف کالا'!$D$47","v":0},{"$f":"'تعریف کالا'!$E$47","v":0},{"$f":"'تعریف کالا'!$G$47","v":0},null,{"$f":"'تعریف کالا'!$F$47","v":0},null,0,null,null,null,null,null,null,null,null,null,null,null,null,null,null,0,0,0,0,0,0,0]
[null,"کاردکس 44",{"$f":"'تعریف کالا'!$C$48","v":0},{"$f":"'تعریف کالا'!$D$48","v":0},{"$f":"'تعریف کالا'!$E$48","v":0},{"$f":"'تعریف کالا'!$G$48","v":0},null,{"$f":"'تعریف کالا'!$F$48","v":0},null,0,null,null,null,null,null,null,null,null,null,null,null,null,null,null,0,0,0,0,0,0,0]
[null,"کاردکس 45",{"$f":"'تعریف کالا'!$C$49","v":0},{"$f":"'تعریف کالا'!$D$49","v":0},{"$f":"'تعریف کالا'!$E$49","v":0},{"$f":"'تعریف کالا'!$G$49","v":0},null,{"$f":"'تعریف کالا'!$F$49","v":0},null,0,null,null,null,null,null,null,null,null,null,null,null,null,null,null,0,0,0,0,0,0,0]
[null,"کاردکس 46",{"$f":"'تعریف کالا'!$C$50","v":0},{"$f":"'تعریف کالا'!$D$50","v":0},{"$f":"'تعریف کالا'!$E$50","v":0},{"$f":"'تعریف کالا'!$G$50","v":0},null,{"$f":"'تعریف کالا'!$F$50","v":0},null,0,null,null,null,null,null,null,null,null,null,null,null,null,null,null,0,0,0,0,0,0,0]
[null,"کاردکس 47",{"$f":"'تعریف کالا'!$C$51","v":0},{"$f":"'تعریف کالا'!$D$51","v":0},{"$f":"'تعریف کالا'!$E$51","v":0},{"$f":"'تعریف کالا'!$G$51","v":0},null,{"$f":"'تعریف کالا'!$F$51","v":0},null,0,null,null,null,null,null,null,null,null,null,null,null,null,null,null,0,0,0,0,0,0,0]
[null,"کاردکس 48",{"$f":"'تعریف کالا'!$C$52","v":0},{"$f":"'تعریف کالا'!$D$52","v":0},{"$f":"'تعریف کالا'!$E$52","v":0},{"$f":"'تعریف کالا'!$G$52","v":0},null,{"$f":"'تعریف کالا'!$F$52","v":0},null,0,null,null,null,null,null,null,null,null,null,null,null,null,null,null,0,0,0,0,0,0,0]
[null,"کاردکس 49",{"$f":"'تعریف کالا'!$C$53","v":0},{"$f":"'تعریف کالا'!$D$53","v":0},{"$f":"'تعریف کالا'!$E$53","v":0},{"$f":"'تعریف کالا'!$G$53","v":0},null,{"$f":"'تعریف کالا'!$F$53","v":0},null,0,null,null,null,null,null,null,null,null,null,null,null,null,null,null,0,0,0,0,0,0,0]
[null,"کاردکس 50",{"$f":"'تعریف کالا'!$C$54","v":0},{"$f":"'تعریف کالا'!$D$54","v":0},{"$f":"'تعریف کالا'!$E$54","v":0},{"$f":"'تعریف کالا'!$G$54","v":0},null,{"$f":"'تعریف کالا'!$F$54","v":0},null,0,null,null,null,null,null,null,null,null,null,null,null,null,null,null,0,0,0,0,0,0,0]
[null,"کاردکس 51",{"$f":"'تعریف کالا'!$C$55","v":0},{"$f":"'تعریف کالا'!$D$55","v":0},{"$f":"'تعریف کالا'!$E$55","v":0},{"$f":"'تعریف کالا'!$G$55","v":0},null,{"$f":"'تعریف کالا'!$F$55","v":0},null,0,null,null,null,null,null,null,null,null,null,null,null,null,null,null,0,0,0,0,0,0,0]
[null,"کاردکس 52",{"$f":"'تعریف کالا'!$C$56","v":0},{"$f":"'تعریف کالا'!$D$56","v":0},{"$f":"'تعریف کالا'!$E$56","v":0},{"$f":"'تعریف کالا'!$G$56","v":0},null,{"$f":"'تعریف کالا'!$F$56","v":0},null,0,null,null,null,null,null,null,null,null,null,null,null,null,null,null,0,0,0,0,0,0,0]
[null,"کاردکس 53",{"$f":"'تعریف کالا'!$C$57","v":0},{"$f":"'تعریف کالا'!$D$57","v":0},{"$f":"'تعریف کالا'!$E$57","v":0},{"$f":"'تعریف کالا'!$G$57","v":0},null,{"$f":"'تعریف کالا'!$F$57","v":0},null,0,null,null,null,null,null,null,null,null,null,null,null,null,null,null,0,0,0,0,0,0,0]
[null,"کاردکس 54",{"$f":"'تعریف کالا'!$C$58","v":0},{"$f":"'تعریف کالا'!$D$58","v":0},{"$f":"'تعریف کالا'!$E$58","v":0},{"$f":"'تعریف کالا'!$G$58","v":0},null,{"$f":"'تعریف کالا'!$F$58","v":0},null,0,null,null,null,null,null,null,null,null,null,null,null,null,null,null,0,0,0,0,0,0,0]
[null,"کاردکس 55",{"$f":"'تعریف کالا'!$C$59","v":0},{"$f":"'تعریف کالا'!$D$59","v":0},{"$f":"'تعریف کالا'!$E$59","v":0},{"$f":"'تعریف کالا'!$G$59","v":0},null,{"$f":"'تعریف کالا'!$F$59","v":0},null,0,null,null,null,null,null,null,null,null,null,null,null,null,null,null,0,0,0,0,0,0,0]
[null,"کاردکس 56",{"$f":"'تعریف کالا'!$C$60","v":0},{"$f":"'تعریف کالا'!$D$60","v":0},{"$f":"'تعریف کالا'!$E$60","v":0},{"$f":"'تعریف کالا'!$G$60","v":0},null,{"$f":"'تعریف کالا'!$F$60","v":0},null,0,null,null,null,null,null,null,null,null,null,null,null,null,null,null,0,0,0,0,0,0,0]
[null,"کاردکس 57",{"$f":"'تعریف کالا'!$C$61","v":0},{"$f":"'تعریف کالا'!$D$61","v":0},{"$f":"'تعریف کالا'!$E$61","v":0},{"$f":"'تعریف کالا'!$G$61","v":0},null,{"$f":"'تعریف کالا'!$F$61","v":0},null,0,null,null,null,null,null,null,null,null,null,null,null,null,null,null,0,0,0,0,0,0,0]
[null,"کاردکس 58",{"$f":"'تعریف کالا'!$C$62","v":0},{"$f":"'تعریف کالا'!$D$62","v":0},{"$f":"'تعریف کالا'!$E$62","v":0},{"$f":"'تعریف کالا'!$G$62","v":0},null,{"$f":"'تعریف کالا'!$F$62","v":0},null,0,null,null,null,null,null,null,null,null,null,null,null,null,null,null,0,0,0,0,0,0,0]
[null,"کاردکس 59",{"$f":"'تعریف کالا'!$C$63","v":0},{"$f":"'تعریف کالا'!$D$63","v":0},{"$f":"'تعریف کالا'!$E$63","v":0},{"$f":"'تعریف کالا'!$G$63","v":0},null,{"$f":"'تعریف کالا'!$F$63","v":0},null,0,null,null,null,null,null,null,null,null,null,null,null,null,null,null,0,0,0,0,0,0,0]
[null,"کاردکس 60",{"$f":"'تعریف کالا'!$C$64","v":0},{"$f":"'تعریف کالا'!$D$64","v":0},{"$f":"'تعریف کالا'!$E$64","v":0},{"$f":"'تعریف کالا'!$G$64","v":0},null,{"$f":"'تعریف کالا'!$F$64","v":0},null,0,null,null,null,null,null,null,null,null,null,null,null,null,null,null,0,0,0,0,0,0,0]
[null,"کاردکس 61",{"$f":"'تعریف کالا'!$C$65","v":0},{"$f":"'تعریف کالا'!$D$65","v":0},{"$f":"'تعریف کالا'!$E$65","v":0},{"$f":"'تعریف کالا'!$G$65","v":0},null,{"$f":"'تعریف کالا'!$F$65","v":0},null,0,null,null,null,null,null,null,null,null,null,null,null,null,null,null,0,0,0,0,0,0,0]
[null,"کاردکس 62",{"$f":"'تعریف کالا'!$C$66","v":0},{"$f":"'تعریف کالا'!$D$66","v":0},{"$f":"'تعریف کالا'!$E$66","v":0},{"$f":"'تعریف کالا'!$G$66","v":0},null,{"$f":"'تعریف کالا'!$F$66","v":0},null,0,null,null,null,null,null,null,null,null,null,null,null,null,null,null,0,0,0,0,0,0,0]
[null,"کاردکس 63",{"$f":"'تعریف کالا'!$C$67","v":0},{"$f":"'تعریف کالا'!$D$67","v":0},{"$f":"'تعریف کالا'!$E$67","v":0},{"$f":"'تعریف کالا'!$G$67","v":0},null,{"$f":"'تعریف کالا'!$F$67","v":0},null,0,null,null,null,null,null,null,null,null,null,null,null,null,null,null,0,0,0,0,0,0,0]
[null,"کاردکس 64",{"$f":"'تعریف کالا'!$C$68","v":0},{"$f":"'تعریف کالا'!$D$68","v":0},{"$f":"'تعریف کالا'!$E$68","v":0},{"$f":"'تعریف کالا'!$G$68","v":0},null,{"$f":"'تعریف کالا'!$F$68","v":0},null,0,null,null,null,null,null,null,null,null,null,null,null,null,null,null,0,0,0,0,0,0,0]
[null,"کاردکس 65",{"$f":"'تعریف کالا'!$C$69","v":0},{"$f":"'تعریف کالا'!$D$69","v":0},{"$f":"'تعریف کالا'!$E$69","v":0},{"$f":"'تعریف کالا'!$G$69","v":0},null,{"$f":"'تعریف کالا'!$F$69","v":0},null,0,null,null,null,null,null,null,null,null,null,null,null,null,null,null,0,0,0,0,0,0,0]
[null,"کاردکس 66",{"$f":"'تعریف کالا'!$C$70","v":0},{"$f":"'تعریف کالا'!$D$70","v":0},{"$f":"'تعریف کالا'!$E$70","v":0},{"$f":"'تعریف کالا'!$G$70","v":0},null,{"$f":"'تعریف کالا'!$F$70","v":0},null,0,null,null,null,null,null,null,null,null,null,null,null,null,null,null,0,{"$f":"D758","v":0},{"$f":"E758","v":0},{"$f":"F758","v":0},{"$f":"H758","v":0},{"$f":"I758","v":0},{"$f":"J758","v":0}]
[null,"کاردکس 67",{"$f":"'تعریف کالا'!$C$71","v":0},{"$f":"'تعریف کالا'!$D$71","v":0},{"$f":"'تعریف کالا'!$E$71","v":0},{"$f":"'تعریف کالا'!$G$71","v":0},null,{"$f":"'تعریف کالا'!$F$71","v":0},null,{"$f":"(F759*I759)-(F759*I759*G759%)","v":0},null,null,null,null,null,null,null,null,null,null,null,null,null,null,{"$f":"C759","v":0},0,0,0,0,0,0]
[null,"کاردکس 68",{"$f":"'تعریف کالا'!$C$72","v":0},{"$f":"'تعریف کالا'!$D$72","v":0},{"$f":"'تعریف کالا'!$E$72","v":0},{"$f":"'تعریف کالا'!$G$72","v":0},null,{"$f":"'تعریف کالا'!$F$72","v":0},null,0,null,null,null,null,null,null,null,null,null,null,null,null,null,null,0,0,0,0,0,0,0]
[null,"کاردکس 69",{"$f":"'تعریف کالا'!$C$73","v":0},{"$f":"'تعریف کالا'!$D$73","v":0},{"$f":"'تعریف کالا'!$E$73","v":0},{"$f":"'تعریف کالا'!$G$73","v":0},null,{"$f":"'تعریف کالا'!$F$73","v":0},null,0,null,null,null,null,null,null,null,null,null,null,null,null,null,null,0,0,0,0,0,0,0]
[null,"کاردکس 70",{"$f":"'تعریف کالا'!$C$74","v":0},{"$f":"'تعریف کالا'!$D$74","v":0},{"$f":"'تعریف کالا'!$E$74","v":0},{"$f":"'تعریف کالا'!$G$74","v":0},null,{"$f":"'تعریف کالا'!$F$74","v":0},null,0,null,null,null,null,null,null,null,null,null,null,null,null,null,null,0,0,0,0,0,0,0]
[null,"کاردکس 71",{"$f":"'تعریف کالا'!$C$75","v":0},{"$f":"'تعریف کالا'!$D$75","v":0},{"$f":"'تعریف کالا'!$E$75","v":0},{"$f":"'تعریف کالا'!$G$75","v":0},null,{"$f":"'تعریف کالا'!$F$75","v":0},null,0,null,null,null,null,null,null,null,null,null,null,null,null,null,null,0,0,0,0,0,0,0]
[null,"کاردکس 72",{"$f":"'تعریف کالا'!$C$76","v":0},{"$f":"'تعریف کالا'!$D$76","v":0},{"$f":"'تعریف کالا'!$E$76","v":0},{"$f":"'تعریف کالا'!$G$76","v":0},null,{"$f":"'تعریف کالا'!$F$76","v":0},null,0,null,null,null,null,null,null,null,null,null,null,null,null,null,null,0,0,0,0,0,0,0]
[null,"کاردکس 73",{"$f":"'تعریف کالا'!$C$77","v":0},{"$f":"'تعریف کالا'!$D$77","v":0},{"$f":"'تعریف کالا'!$E$77","v":0},{"$f":"'تعریف کالا'!$G$77","v":0},null,{"$f":"'تعریف کالا'!$F$77","v":0},null,0,null,null,null,null,null,null,null,null,null,null,null,null,null,null,0,0,0,0,0,0,0]
[null,"کاردکس 74",{"$f":"'تعریف کالا'!$C$78","v":0},{"$f":"'تعریف کالا'!$D$78","v":0},{"$f":"'تعریف کالا'!$E$78","v":0},{"$f":"'تعریف کالا'!$G$78","v":0},null,{"$f":"'تعریف کالا'!$F$78","v":0},null,0,null,null,null,null,null,null,null,null,null,null,null,null,null,null,0,0,0,0,0,0,0]
[null,"کاردکس 75",{"$f":"'تعریف کالا'!$C$79","v":0},{"$f":"'تعریف کالا'!$D$79","v":0},{"$f":"'تعریف کالا'!$E$79","v":0},{"$f":"'تعریف کالا'!$G$79","v":0},null,{"$f":"'تعریف کالا'!$F$79","v":0},null,0,null,null,null,null,null,null,null,null,null,null,null,null,null,null,0,0,0,0,0,0,0]
[null,"کاردکس 76",{"$f":"'تعریف کالا'!$C$80","v":0},{"$f":"'تعریف کالا'!$D$80","v":0},{"$f":"'تعریف کالا'!$E$80","v":0},{"$f":"'تعریف کالا'!$G$80","v":0},null,{"$f":"'تعریف کالا'!$F$80","v":0},null,0,null,null,null,null,null,null,null,null,null,null,null,null,null,null,0,0,0,0,0,0,0]
[null,"کاردکس 77",{"$f":"'تعریف کالا'!$C$81","v":0},{"$f":"'تعریف کالا'!$D$81","v":0},{"$f":"'تعریف کالا'!$E$81","v":0},{"$f":"'تعریف کالا'!$G$81","v":0},null,{"$f":"'تعریف کالا'!$F$81","v":0},null,0,null,null,null,null,null,null,null,null,null,null,null,null,null,null,0,0,0,0,0,0,0]
[null,"کاردکس 78",{"$f":"'تعریف کالا'!$C$82","v":0},{"$f":"'تعریف کالا'!$D$82","v":0},{"$f":"'تعریف کالا'!$E$82","v":0},{"$f":"'تعریف کالا'!$G$82","v":0},null,{"$f":"'تعریف کالا'!$F$82","v":0},null,0,null,null,null,null,null,null,null,null,null,null,null,null,null,null,0,0,0,0,0,0,0]
[null,"کاردکس 79",{"$f":"'تعریف کالا'!$C$83","v":0},{"$f":"'تعریف کالا'!$D$83","v":0},{"$f":"'تعریف کالا'!$E$83","v":0},{"$f":"'تعریف کالا'!$G$83","v":0},null,{"$f":"'تعریف کالا'!$F$83","v":0},null,0,null,null,null,null,null,null,null,null,null,null,null,null,null,null,0,0,0,0,0,0,0]
[null,"کاردکس 80",{"$f":"'تعریف کالا'!$C$84","v":0},{"$f":"'تعریف کالا'!$D$84","v":0},{"$f":"'تعریف کالا'!$E$84","v":0},{"$f":"'تعریف کالا'!$G$84","v":0},null,{"$f":"'تعریف کالا'!$F$84","v":0},null,0,null,null,null,null,null,null,null,null,null,null,null,null,null,null,0,0,0,0,0,0,0]
[null,"کاردکس 81",{"$f":"'تعریف کالا'!$C$85","v":0},{"$f":"'تعریف کالا'!$D$85","v":0},{"$f":"'تعریف کالا'!$E$85","v":0},{"$f":"'تعریف کالا'!$G$85","v":0},null,{"$f":"'تعریف کالا'!$F$85","v":0},null,0,null,null,null,null,null,null,null,null,null,null,null,null,null,null,0,0,0,0,0,0,0]
[null,"کاردکس 82",{"$f":"'تعریف کالا'!$C$86","v":0},{"$f":"'تعریف کالا'!$D$86","v":0},{"$f":"'تعریف کالا'!$E$86","v":0},{"$f":"'تعریف کالا'!$G$86","v":0},null,{"$f":"'تعریف کالا'!$F$86","v":0},null,0,null,null,null,null,null,null,null,null,null,null,null,null,null,null,0,0,0,0,0,0,0]
[null,"کاردکس 83",{"$f":"'تعریف کالا'!$C$87","v":0},{"$f":"'تعریف کالا'!$D$87","v":0},{"$f":"'تعریف کالا'!$E$87","v":0},{"$f":"'تعریف کالا'!$G$87","v":0},null,{"$f":"'تعریف کالا'!$F$87","v":0},null,0,null,null,null,null,null,null,null,null,null,null,null,null,null,null,0,0,0,0,0,0,0]
[null,"کاردکس 84",{"$f":"'تعریف کالا'!$C$88","v":0},{"$f":"'تعریف کالا'!$D$88","v":0},{"$f":"'تعریف کالا'!$E$88","v":0},{"$f":"'تعریف کالا'!$G$88","v":0},null,{"$f":"'تعریف کالا'!$F$88","v":0},null,0,null,null,null,null,null,null,null,null,null,null,null,null,null,null,0,0,0,0,0,0,0]
[null,"کاردکس 85",{"$f":"'تعریف کالا'!$C$89","v":0},{"$f":"'تعریف کالا'!$D$89","v":0},{"$f":"'تعریف کالا'!$E$89","v":0},{"$f":"'تعریف کالا'!$G$89","v":0},null,{"$f":"'تعریف کالا'!$F$89","v":0},null,0,null,null,null,null,null,null,null,null,null,null,null,null,null,null,0,0,0,0,0,0,0]
[null,"کاردکس 86",{"$f":"'تعریف کالا'!$C$90","v":0},{"$f":"'تعریف کالا'!$D$90","v":0},{"$f":"'تعریف کالا'!$E$90","v":0},{"$f":"'تعریف کالا'!$G$90","v":0},null,{"$f":"'تعریف کالا'!$F$90","v":0},null,0,null,null,null,null,null,null,null,null,null,null,null,null,null,null,0,0,0,0,0,0,0]
[null,"کاردکس 87",{"$f":"'تعریف کالا'!$C$91","v":0},{"$f":"'تعریف کالا'!$D$91","v":0},{"$f":"'تعریف کالا'!$E$91","v":0},{"$f":"'تعریف کالا'!$G$91","v":0},null,{"$f":"'تعریف کالا'!$F$91","v":0},null,0,null,null,null,null,null,null,null,null,null,null,null,null,null,null,0,0,0,0,0,0,0]
[null,"کاردکس 88",{"$f":"'تعریف کالا'!$C$92","v":0},{"$f":"'تعریف کالا'!$D$92","v":0},{"$f":"'تعریف کالا'!$E$92","v":0},{"$f":"'تعریف کالا'!$G$92","v":0},null,{"$f":"'تعریف کالا'!$F$92","v":0},null,0,null,null,null,null,null,null,null,null,null,null,null,null,null,null,0,0,0,0,0,0,0]
[null,"کاردکس 89",{"$f":"'تعریف کالا'!$C$93","v":0},{"$f":"'تعریف کالا'!$D$93","v":0},{"$f":"'تعریف کالا'!$E$93","v":0},{"$f":"'تعریف کالا'!$G$93","v":0},null,{"$f":"'تعریف کالا'!$F$93","v":0},null,0,null,null,null,null,null,null,null,null,null,null,null,null,null,null,0,0,0,0,0,0,0]
[null,"کاردکس 90",{"$f":"'تعریف کالا'!$C$94","v":0},{"$f":"'تعریف کالا'!$D$94","v":0},{"$f":"'تعریف کالا'!$E$94","v":0},{"$f":"'تعریف کالا'!$G$94","v":0},null,{"$f":"'تعریف کالا'!$F$94","v":0},null,0,null,null,null,null,null,null,null,null,null,null,null,null,null,null,0,0,0,0,0,0,0]
[null,"کاردکس 91",{"$f":"'تعریف کالا'!$C$95","v":0},{"$f":"'تعریف کالا'!$D$95","v":0},{"$f":"'تعریف کالا'!$E$95","v":0},{"$f":"'تعریف کالا'!$G$95","v":0},null,{"$f":"'تعریف کالا'!$F$95","v":0},null,0,null,null,null,null,null,null,null,null,null,null,null,null,null,null,0,0,0,0,0,0,0]
[null,"کاردکس 92",{"$f":"'تعریف کالا'!$C$96","v":0},{"$f":"'تعریف کالا'!$D$96","v":0},{"$f":"'تعریف کالا'!$E$96","v":0},{"$f":"'تعریف کالا'!$G$96","v":0},null,{"$f":"'تعریف کالا'!$F$96","v":0},null,0,null,null,null,null,null,null,null,null,null,null,null,null,null,null,0,0,0,0,0,0,0]
[null,"کاردکس 93",{"$f":"'تعریف کالا'!$C$97","v":0},{"$f":"'تعریف کالا'!$D$97","v":0},{"$f":"'تعریف کالا'!$E$97","v":0},{"$f":"'تعریف کالا'!$G$97","v":0},null,{"$f":"'تعریف کالا'!$F$97","v":0},null,0,null,null,null,null,null,null,null,null,null,null,null,null,null,null,0,0,0,0,0,0,0]
[null,"کاردکس 94",{"$f":"'تعریف کالا'!$C$98","v":0},{"$f":"'تعریف کالا'!$D$98","v":0},{"$f":"'تعریف کالا'!$E$98","v":0},{"$f":"'تعریف کالا'!$G$98","v":0},null,{"$f":"'تعریف کالا'!$F$98","v":0},null,0,null,null,null,null,null,null,null,null,null,null,null,null,null,null,0,0,0,0,0,0,0]
[null,"کاردکس 95",{"$f":"'تعریف کالا'!$C$99","v":0},{"$f":"'تعریف کالا'!$D$99","v":0},{"$f":"'تعریف کالا'!$E$99","v":0},{"$f":"'تعریف کالا'!$G$99","v":0},null,{"$f":"'تعریف کالا'!$F$99","v":0},null,0,null,null,null,null,null,null,null,null,null,null,null,null,null,null,0,0,0,0,0,0,0]
[null,"کاردکس 96",{"$f":"'تعریف کالا'!$C$100","v":0},{"$f":"'تعریف کالا'!$D$100","v":0},{"$f":"'تعریف کالا'!$E$100","v":0},{"$f":"'تعریف کالا'!$G$100","v":0},null,{"$f":"'تعریف کالا'!$F$100","v":0},null,0,null,null,null,null,null,null,null,null,null,null,null,null,null,null,0,0,0,0,0,0,0]
[null,"کاردکس 97",{"$f":"'تعریف کالا'!$C$101","v":0},{"$f":"'تعریف کالا'!$D$101","v":0},{"$f":"'تعریف کالا'!$E$101","v":0},{"$f":"'تعریف کالا'!$G$101","v":0},null,{"$f":"'تعریف کالا'!$F$101","v":0},null,0,null,null,null,null,null,null,null,null,null,null,null,null,null,null,0,0,0,0,0,0,0]
[null,"کاردکس 98",{"$f":"'تعریف کالا'!$C$102","v":0},{"$f":"'تعریف کالا'!$D$102","v":0},{"$f":"'تعریف کالا'!$E$102","v":0},{"$f":"'تعریف کالا'!$G$102","v":0},null,{"$f":"'تعریف کالا'!$F$102","v":0},null,0,null,null,null,null,null,null,null,null,null,null,null,null,null,null,0,0,0,0,0,0,0]
[null,"کاردکس 99",{"$f":"'تعریف کالا'!$C$103","v":0},{"$f":"'تعریف کالا'!$D$103","v":0},{"$f":"'تعریف کالا'!$E$103","v":0},{"$f":"'تعریف کالا'!$G$103","v":0},null,{"$f":"'تعریف کالا'!$F$103","v":0},null,0,null,null,null,null,null,null,null,null,null,null,null,null,null,null,0,0,0,0,0,0,0]
[null,"کاردکس 100",{"$f":"'تعریف کالا'!$C$104","v":0},{"$f":"'تعریف کالا'!$D$104","v":0},{"$f":"'تعریف کالا'!$E$104","v":0},{"$f":"'تعریف کالا'!$G$104","v":0},null,{"$f":"'تعریف کالا'!$F$104","v":0},null,0,null,null,null,null,null,null,null,null,null,null,null,null,null,null,0,0,0,0,0,0,0]
[null,"کاردکس 101",{"$f":"'تعریف کالا'!$C$105","v":0},{"$f":"'تعریف کالا'!$D$105","v":0},{"$f":"'تعریف کالا'!$E$105","v":0},{"$f":"'تعریف کالا'!$G$105","v":0},null,{"$f":"'تعریف کالا'!$F$105","v":0},null,0,null,null,null,null,null,null,null,null,null,null,null,null,null,null,0,0,0,0,0,0,0]
[null,"کاردکس 102",{"$f":"'تعریف کالا'!$C$106","v":0},{"$f":"'تعریف کالا'!$D$106","v":0},{"$f":"'تعریف کالا'!$E$106","v":0},{"$f":"'تعریف کالا'!$G$106","v":0},null,{"$f":"'تعریف کالا'!$F$106","v":0},null,0,null,null,null,null,null,null,null,null,null,null,null,null,null,null,0,0,0,0,0,0,0]
[null,"کاردکس 103",{"$f":"'تعریف کالا'!$C$107","v":0},{"$f":"'تعریف کالا'!$D$107","v":0},{"$f":"'تعریف کالا'!$E$107","v":0},{"$f":"'تعریف کالا'!$G$107","v":0},null,{"$f":"'تعریف کالا'!$F$107","v":0},null,0,null,null,null,null,null,null,null,null,null,null,null,null,null,null,0,0,0,0,0,0,0]
[null,"کاردکس 104",{"$f":"'تعریف کالا'!$C$108","v":0},{"$f":"'تعریف کالا'!$D$108","v":0},{"$f":"'تعریف کالا'!$E$108","v":0},{"$f":"'تعریف کالا'!$G$108","v":0},null,{"$f":"'تعریف کالا'!$F$108","v":0},null,0,null,null,null,null,null,null,null,null,null,null,null,null,null,null,0,0,0,0,0,0,0]
[null,"کاردکس 105",{"$f":"'تعریف کالا'!$C$109","v":0},{"$f":"'تعریف کالا'!$D$109","v":0},{"$f":"'تعریف کالا'!$E$109","v":0},{"$f":"'تعریف کالا'!$G$109","v":0},null,{"$f":"'تعریف کالا'!$F$109","v":0},null,0,null,null,null,null,null,null,null,null,null,null,null,null,null,null,0,0,0,0,0,0,0]
[null,"کاردکس 106",{"$f":"'تعریف کالا'!$C$110","v":0},{"$f":"'تعریف کالا'!$D$110","v":0},{"$f":"'تعریف کالا'!$E$110","v":0},{"$f":"'تعریف کالا'!$G$110","v":0},null,{"$f":"'تعریف کالا'!$F$110","v":0},null,0,null,null,null,null,null,null,null,null,null,null,null,null,null,null,0,0,0,0,0,0,0]
[null,"کاردکس 107",{"$f":"'تعریف کالا'!$C$111","v":0},{"$f":"'تعریف کالا'!$D$111","v":0},{"$f":"'تعریف کالا'!$E$111","v":0},{"$f":"'تعریف کالا'!$G$111","v":0},null,{"$f":"'تعریف کالا'!$F$111","v":0},null,0,null,null,null,null,null,null,null,null,null,null,null,null,null,null,0,0,0,0,0,0,0]
[null,"کاردکس 108",{"$f":"'تعریف کالا'!$C$112","v":0},{"$f":"'تعریف کالا'!$D$112","v":0},{"$f":"'تعریف کالا'!$E$112","v":0},{"$f":"'تعریف کالا'!$G$112","v":0},null,{"$f":"'تعریف کالا'!$F$112","v":0},null,0,null,null,null,null,null,null,null,null,null,null,null,null,null,null,0,0,0,0,0,0,0]
[null,"کاردکس 109",{"$f":"'تعریف کالا'!$C$113","v":0},{"$f":"'تعریف کالا'!$D$113","v":0},{"$f":"'تعریف کالا'!$E$113","v":0},{"$f":"'تعریف کالا'!$G$113","v":0},null,{"$f":"'تعریف کالا'!$F$113","v":0},null,0,null,null,null,null,null,null,null,null,null,null,null,null,null,null,0,0,0,0,0,0,0]
[null,"کاردکس 110",{"$f":"'تعریف کالا'!$C$114","v":0},{"$f":"'تعریف کالا'!$D$114","v":0},{"$f":"'تعریف کالا'!$E$114","v":0},{"$f":"'تعریف کالا'!$G$114","v":0},null,{"$f":"'تعریف کالا'!$F$114","v":0},null,0,null,null,null,null,null,null,null,null,null,null,null,null,null,null,0,0,0,0,0,0,0]
[null,"کاردکس 111",{"$f":"'تعریف کالا'!$C$115","v":0},{"$f":"'تعریف کالا'!$D$115","v":0},{"$f":"'تعریف کالا'!$E$115","v":0},{"$f":"'تعریف کالا'!$G$115","v":0},null,{"$f":"'تعریف کالا'!$F$115","v":0},null,0,null,null,null,null,null,null,null,null,null,null,null,null,null,null,0,0,0,0,0,0,0]
[null,"کاردکس 112",{"$f":"'تعریف کالا'!$C$116","v":0},{"$f":"'تعریف کالا'!$D$116","v":0},{"$f":"'تعریف کالا'!$E$116","v":0},{"$f":"'تعریف کالا'!$G$116","v":0},null,{"$f":"'تعریف کالا'!$F$116","v":0},null,0,null,null,null,null,null,null,null,null,null,null,null,null,null,null,0,0,0,0,0,0,0]
[null,"کاردکس 113",{"$f":"'تعریف کالا'!$C$117","v":0},{"$f":"'تعریف کالا'!$D$117","v":0},{"$f":"'تعریف کالا'!$E$117","v":0},{"$f":"'تعریف کالا'!$G$117","v":0},null,{"$f":"'تعریف کالا'!$F$117","v":0},null,0,null,null,null,null,null,null,null,null,null,null,null,null,null,null,0,0,0,0,0,0,0]
[null,"کاردکس 114",{"$f":"'تعریف کالا'!$C$118","v":0},{"$f":"'تعریف کالا'!$D$118","v":0},{"$f":"'تعریف کالا'!$E$118","v":0},{"$f":"'تعریف کالا'!$G$118","v":0},null,{"$f":"'تعریف کالا'!$F$118","v":0},null,0,null,null,null,null,null,null,null,null,null,null,null,null,null,null,0,0,0,0,0,0,0]
[null,"کاردکس 115",{"$f":"'تعریف کالا'!$C$119","v":0},{"$f":"'تعریف کالا'!$D$119","v":0},{"$f":"'تعریف کالا'!$E$119","v":0},{"$f":"'تعریف کالا'!$G$119","v":0},null,{"$f":"'تعریف کالا'!$F$119","v":0},null,0,null,null,null,null,null,null,null,null,null,null,null,null,null,null,0,0,0,0,0,0,0]
[null,"کاردکس 116",{"$f":"'تعریف کالا'!$C$120","v":0},{"$f":"'تعریف کالا'!$D$120","v":0},{"$f":"'تعریف کالا'!$E$120","v":0},{"$f":"'تعریف کالا'!$G$120","v":0},null,{"$f":"'تعریف کالا'!$F$120","v":0},null,0,null,null,null,null,null,null,null,null,null,null,null,null,null,null,0,0,0,0,0,0,0]
[null,"کاردکس 117",{"$f":"'تعریف کالا'!$C$121","v":0},{"$f":"'تعریف کالا'!$D$121","v":0},{"$f":"'تعریف کالا'!$E$121","v":0},{"$f":"'تعریف کالا'!$G$121","v":0},null,{"$f":"'تعریف کالا'!$F$121","v":0},null,0,null,null,null,null,null,null,null,null,null,null,null,null,null,null,0,0,0,0,0,0,0]
[null,"کاردکس 118",{"$f":"'تعریف کالا'!$C$122","v":0},{"$f":"'تعریف کالا'!$D$122","v":0},{"$f":"'تعریف کالا'!$E$122","v":0},{"$f":"'تعریف کالا'!$G$122","v":0},null,{"$f":"'تعریف کالا'!$F$122","v":0},null,0,null,null,null,null,null,null,null,null,null,null,null,null,null,null,0,0,0,0,0,0,0]
[null,"کاردکس 119",{"$f":"'تعریف کالا'!$C$123","v":0},{"$f":"'تعریف کالا'!$D$123","v":0},{"$f":"'تعریف کالا'!$E$123","v":0},{"$f":"'تعریف کالا'!$G$123","v":0},null,{"$f":"'تعریف کالا'!$F$123","v":0},null,0,null,null,null,null,null,null,null,null,null,null,null,null,null,null,0,0,0,0,0,0,0]
[null,"کاردکس 120",{"$f":"'تعریف کالا'!$C$124","v":0},{"$f":"'تعریف کالا'!$D$124","v":0},{"$f":"'تعریف کالا'!$E$124","v":0},{"$f":"'تعریف کالا'!$G$124","v":0},null,{"$f":"'تعریف کالا'!$F$124","v":0},null,0,null,null,null,null,null,null,null,null,null,null,null,null,null,null,0,0,0,0,0,0,0]
[null,"کاردکس 121",{"$f":"'تعریف کالا'!$C$125","v":0},{"$f":"'تعریف کالا'!$D$125","v":0},{"$f":"'تعریف کالا'!$E$125","v":0},{"$f":"'تعریف کالا'!$G$125","v":0},null,{"$f":"'تعریف کالا'!$F$125","v":0},null,0,null,null,null,null,null,null,null,null,null,null,null,null,null,null,0,0,0,0,0,0,0]
[null,"کاردکس 122",{"$f":"'تعریف کالا'!$C$126","v":0},{"$f":"'تعریف کالا'!$D$126","v":0},{"$f":"'تعریف کالا'!$E$126","v":0},{"$f":"'تعریف کالا'!$G$126","v":0},null,{"$f":"'تعریف کالا'!$F$126","v":0},null,0,null,null,null,null,null,null,null,null,null,null,null,null,null,null,0,0,0,0,0,0,0]
[null,"کاردکس 123",{"$f":"'تعریف کالا'!$C$127","v":0},{"$f":"'تعریف کالا'!$D$127","v":0},{"$f":"'تعریف کالا'!$E$127","v":0},{"$f":"'تعریف کالا'!$G$127","v":0},null,{"$f":"'تعریف کالا'!$F$127","v":0},null,0,null,null,null,null,null,null,null,null,null,null,null,null,null,null,0,0,0,0,0,0,0]
[null,"کاردکس 124",{"$f":"'تعریف کالا'!$C$128","v":0},{"$f":"'تعریف کالا'!$D$128","v":0},{"$f":"'تعریف کالا'!$E$128","v":0},{"$f":"'تعریف کالا'!$G$128","v":0},null,{"$f":"'تعریف کالا'!$F$128","v":0},null,0,null,null,null,null,null,null,null,null,null,null,null,null,null,null,0,0,0,0,0,0,0]
[null,"کاردکس 125",{"$f":"'تعریف کالا'!$C$129","v":0},{"$f":"'تعریف کالا'!$D$129","v":0},{"$f":"'تعریف کالا'!$E$129","v":0},{"$f":"'تعریف کالا'!$G$129","v":0},null,{"$f":"'تعریف کالا'!$F$129","v":0},null,0,null,null,null,null,null,null,null,null,null,null,null,null,null,null,0,0,0,0,0,0,0]
[null,"کاردکس 126",{"$f":"'تعریف کالا'!$C$130","v":0},{"$f":"'تعریف کالا'!$D$130","v":0},{"$f":"'تعریف کالا'!$E$130","v":0},{"$f":"'تعریف کالا'!$G$130","v":0},null,{"$f":"'تعریف کالا'!$F$130","v":0},null,0,null,null,null,null,null,null,null,null,null,null,null,null,null,null,0,0,0,0,0,0,0]
[null,"کاردکس 127",{"$f":"'تعریف کالا'!$C$131","v":0},{"$f":"'تعریف کالا'!$D$131","v":0},{"$f":"'تعریف کالا'!$E$131","v":0},{"$f":"'تعریف کالا'!$G$131","v":0},null,{"$f":"'تعریف کالا'!$F$131","v":0},null,0,null,null,null,null,null,null,null,null,null,null,null,null,null,null,0,0,0,0,0,0,0]
[null,"کاردکس 128",{"$f":"'تعریف کالا'!$C$132","v":0},{"$f":"'تعریف کالا'!$D$132","v":0},{"$f":"'تعریف کالا'!$E$132","v":0},{"$f":"'تعریف کالا'!$G$132","v":0},null,{"$f":"'تعریف کالا'!$F$132","v":0},null,0,null,null,null,null,null,null,null,null,null,null,null,null,null,null,0,0,0,0,0,0,0]
[null,"کاردکس 129",{"$f":"'تعریف کالا'!$C$133","v":0},{"$f":"'تعریف کالا'!$D$133","v":0},{"$f":"'تعریف کالا'!$E$133","v":0},{"$f":"'تعریف کالا'!$G$133","v":0},null,{"$f":"'تعریف کالا'!$F$133","v":0},null,0,null,null,null,null,null,null,null,null,null,null,null,null,null,null,0,0,0,0,0,0,0]
[null,"کاردکس 130",{"$f":"'تعریف کالا'!$C$134","v":0},{"$f":"'تعریف کالا'!$D$134","v":0},{"$f":"'تعریف کالا'!$E$134","v":0},{"$f":"'تعریف کالا'!$G$134","v":0},null,{"$f":"'تعریف کالا'!$F$134","v":0},null,0,null,null,null,null,null,null,null,null,null,null,null,null,null,null,0,0,0,{"$f":"F822","v":0},{"$f":"H822","v":0},{"$f":"I822","v":0},{"$f":"J822","v":0}]
[null,"کاردکس 131",{"$f":"'تعریف کالا'!$C$135","v":0},{"$f":"'تعریف کالا'!$D$135","v":0},{"$f":"'تعریف کالا'!$E$135","v":0},{"$f":"'تعریف کالا'!$G$135","v":0},null,{"$f":"'تعریف کالا'!$F$135","v":0},null,{"$f":"(F823*I823)-(F823*I823*G823%)","v":0},null,null,null,null,null,null,null,null,null,null,null,null,null,null,{"$f":"C823","v":0},{"$f":"D823","v":0},{"$f":"E823","v":0},0,0,0,0]
[null,"کاردکس 132",{"$f":"'تعریف کالا'!$C$136","v":0},{"$f":"'تعریف کالا'!$D$136","v":0},{"$f":"'تعریف کالا'!$E$136","v":0},{"$f":"'تعریف کالا'!$G$136","v":0},null,{"$f":"'تعریف کالا'!$F$136","v":0},null,0,null,null,null,null,null,null,null,null,null,null,null,null,null,null,0,0,0,0,0,0,0]
[null,"کاردکس 133",{"$f":"'تعریف کالا'!$C$137","v":0},{"$f":"'تعریف کالا'!$D$137","v":0},{"$f":"'تعریف کالا'!$E$137","v":0},{"$f":"'تعریف کالا'!$G$137","v":0},null,{"$f":"'تعریف کالا'!$F$137","v":0},null,0,null,null,null,null,null,null,null,null,null,null,null,null,null,null,0,0,0,0,0,0,0]
[null,"کاردکس 134",{"$f":"'تعریف کالا'!$C$138","v":0},{"$f":"'تعریف کالا'!$D$138","v":0},{"$f":"'تعریف کالا'!$E$138","v":0},{"$f":"'تعریف کالا'!$G$138","v":0},null,{"$f":"'تعریف کالا'!$F$138","v":0},null,0,null,null,null,null,null,null,null,null,null,null,null,null,null,null,0,0,0,0,0,0,0]
[null,"کاردکس 135",{"$f":"'تعریف کالا'!$C$139","v":0},{"$f":"'تعریف کالا'!$D$139","v":0},{"$f":"'تعریف کالا'!$E$139","v":0},{"$f":"'تعریف کالا'!$G$139","v":0},null,{"$f":"'تعریف کالا'!$F$139","v":0},null,0,null,null,null,null,null,null,null,null,null,null,null,null,null,null,0,0,0,0,0,0,0]
[null,"کاردکس 136",{"$f":"'تعریف کالا'!$C$140","v":0},{"$f":"'تعریف کالا'!$D$140","v":0},{"$f":"'تعریف کالا'!$E$140","v":0},{"$f":"'تعریف کالا'!$G$140","v":0},null,{"$f":"'تعریف کالا'!$F$140","v":0},null,0,null,null,null,null,null,null,null,null,null,null,null,null,null,null,0,0,0,0,0,0,0]
[null,"کاردکس 137",{"$f":"'تعریف کالا'!$C$141","v":0},{"$f":"'تعریف کالا'!$D$141","v":0},{"$f":"'تعریف کالا'!$E$141","v":0},{"$f":"'تعریف کالا'!$G$141","v":0},null,{"$f":"'تعریف کالا'!$F$141","v":0},null,0,null,null,null,null,null,null,null,null,null,null,null,null,null,null,0,0,0,0,0,0,0]
[null,"کاردکس 138",{"$f":"'تعریف کالا'!$C$142","v":0},{"$f":"'تعریف کالا'!$D$142","v":0},{"$f":"'تعریف کالا'!$E$142","v":0},{"$f":"'تعریف کالا'!$G$142","v":0},null,{"$f":"'تعریف کالا'!$F$142","v":0},null,0,null,null,null,null,null,null,null,null,null,null,null,null,null,null,0,0,0,0,0,0,0]
[null,"کاردکس 139",{"$f":"'تعریف کالا'!$C$143","v":0},{"$f":"'تعریف کالا'!$D$143","v":0},{"$f":"'تعریف کالا'!$E$143","v":0},{"$f":"'تعریف کالا'!$G$143","v":0},null,{"$f":"'تعریف کالا'!$F$143","v":0},null,0,null,null,null,null,null,null,null,null,null,null,null,null,null,null,0,0,0,0,0,0,0]
[null,"کاردکس 140",{"$f":"'تعریف کالا'!$C$144","v":0},{"$f":"'تعریف کالا'!$D$144","v":0},{"$f":"'تعریف کالا'!$E$144","v":0},{"$f":"'تعریف کالا'!$G$144","v":0},null,{"$f":"'تعریف کالا'!$F$144","v":0},null,0,null,null,null,null,null,null,null,null,null,null,null,null,null,null,0,0,0,0,0,0,0]
[null,"کاردکس 141",{"$f":"'تعریف کالا'!$C$145","v":0},{"$f":"'تعریف کالا'!$D$145","v":0},{"$f":"'تعریف کالا'!$E$145","v":0},{"$f":"'تعریف کالا'!$G$145","v":0},null,{"$f":"'تعریف کالا'!$F$145","v":0},null,0,null,null,null,null,null,null,null,null,null,null,null,null,null,null,0,0,0,0,0,0,0]
[null,"کاردکس 142",{"$f":"'تعریف کالا'!$C$146","v":0},{"$f":"'تعریف کالا'!$D$146","v":0},{"$f":"'تعریف کالا'!$E$146","v":0},{"$f":"'تعریف کالا'!$G$146","v":0},null,{"$f":"'تعریف کالا'!$F$146","v":0},null,0,null,null,null,null,null,null,null,null,null,null,null,null,null,null,0,0,0,0,0,0,0]
[null,"کاردکس 143",{"$f":"'تعریف کالا'!$C$147","v":0},{"$f":"'تعریف کالا'!$D$147","v":0},{"$f":"'تعریف کالا'!$E$147","v":0},{"$f":"'تعریف کالا'!$G$147","v":0},null,{"$f":"'تعریف کالا'!$F$147","v":0},null,0,null,null,null,null,null,null,null,null,null,null,null,null,null,null,0,0,0,0,0,0,0]
[null,"کاردکس 144",{"$f":"'تعریف کالا'!$C$148","v":0},{"$f":"'تعریف کالا'!$D$148","v":0},{"$f":"'تعریف کالا'!$E$148","v":0},{"$f":"'تعریف کالا'!$G$148","v":0},null,{"$f":"'تعریف کالا'!$F$148","v":0},null,0,null,null,null,null,null,null,null,null,null,null,null,null,null,null,0,0,0,0,0,0,0]
[null,"کاردکس 145",{"$f":"'تعریف کالا'!$C$149","v":0},{"$f":"'تعریف کالا'!$D$149","v":0},{"$f":"'تعریف کالا'!$E$149","v":0},{"$f":"'تعریف کالا'!$G$149","v":0},null,{"$f":"'تعریف کالا'!$F$149","v":0},null,0,null,null,null,null,null,null,null,null,null,null,null,null,null,null,0,0,0,0,0,0,0]
[null,"کاردکس 146",{"$f":"'تعریف کالا'!$C$150","v":0},{"$f":"'تعریف کالا'!$D$150","v":0},{"$f":"'تعریف کالا'!$E$150","v":0},{"$f":"'تعریف کالا'!$G$150","v":0},null,{"$f":"'تعریف کالا'!$F$150","v":0},null,0,null,null,null,null,null,null,null,null,null,null,null,null,null,null,0,0,0,0,0,0,0]
[null,"کاردکس 147",{"$f":"'تعریف کالا'!$C$151","v":0},{"$f":"'تعریف کالا'!$D$151","v":0},{"$f":"'تعریف کالا'!$E$151","v":0},{"$f":"'تعریف کالا'!$G$151","v":0},null,{"$f":"'تعریف کالا'!$F$151","v":0},null,0,null,null,null,null,null,null,null,null,null,null,null,null,null,null,0,0,0,0,0,0,0]
[null,"کاردکس 148",{"$f":"'تعریف کالا'!$C$152","v":0},{"$f":"'تعریف کالا'!$D$152","v":0},{"$f":"'تعریف کالا'!$E$152","v":0},{"$f":"'تعریف کالا'!$G$152","v":0},null,{"$f":"'تعریف کالا'!$F$152","v":0},null,0,null,null,null,null,null,null,null,null,null,null,null,null,null,null,0,0,0,0,0,0,0]
[null,"کاردکس 149",{"$f":"'تعریف کالا'!$C$153","v":0},{"$f":"'تعریف کالا'!$D$153","v":0},{"$f":"'تعریف کالا'!$E$153","v":0},{"$f":"'تعریف کالا'!$G$153","v":0},null,{"$f":"'تعریف کالا'!$F$153","v":0},null,0,null,null,null,null,null,null,null,null,null,null,null,null,null,null,0,0,0,0,0,0,0]
[null,"کاردکس 150",{"$f":"'تعریف کالا'!$C$154","v":0},{"$f":"'تعریف کالا'!$D$154","v":0},{"$f":"'تعریف کالا'!$E$154","v":0},{"$f":"'تعریف کالا'!$G$154","v":0},null,{"$f":"'تعریف کالا'!$F$154","v":0},null,0,null,null,null,null,null,null,null,null,null,null,null,null,null,null,0,0,0,0,0,0,0]
[null,"کاردکس 151",{"$f":"'تعریف کالا'!$C$155","v":0},{"$f":"'تعریف کالا'!$D$155","v":0},{"$f":"'تعریف کالا'!$E$155","v":0},{"$f":"'تعریف کالا'!$G$155","v":0},null,{"$f":"'تعریف کالا'!$F$155","v":0},null,0,null,null,null,null,null,null,null,null,null,null,null,null,null,null,0,0,0,0,0,0,0]
[null,"کاردکس 152",{"$f":"'تعریف کالا'!$C$156","v":0},{"$f":"'تعریف کالا'!$D$156","v":0},{"$f":"'تعریف کالا'!$E$156","v":0},{"$f":"'تعریف کالا'!$G$156","v":0},null,{"$f":"'تعریف کالا'!$F$156","v":0},null,0,null,null,null,null,null,null,null,null,null,null,null,null,null,null,0,0,0,0,0,0,0]
[null,"کاردکس 153",{"$f":"'تعریف کالا'!$C$157","v":0},{"$f":"'تعریف کالا'!$D$157","v":0},{"$f":"'تعریف کالا'!$E$157","v":0},{"$f":"'تعریف کالا'!$G$157","v":0},null,{"$f":"'تعریف کالا'!$F$157","v":0},null,0,null,null,null,null,null,null,null,null,null,null,null,null,null,null,0,0,0,0,0,0,0]
[null,"کاردکس 154",{"$f":"'تعریف کالا'!$C$158","v":0},{"$f":"'تعریف کالا'!$D$158","v":0},{"$f":"'تعریف کالا'!$E$158","v":0},{"$f":"'تعریف کالا'!$G$158","v":0},null,{"$f":"'تعریف کالا'!$F$158","v":0},null,0,null,null,null,null,null,null,null,null,null,null,null,null,null,null,0,0,0,0,0,0,0]
[null,"کاردکس 155",{"$f":"'تعریف کالا'!$C$159","v":0},{"$f":"'تعریف کالا'!$D$159","v":0},{"$f":"'تعریف کالا'!$E$159","v":0},{"$f":"'تعریف کالا'!$G$159","v":0},null,{"$f":"'تعریف کالا'!$F$159","v":0},null,0,null,null,null,null,null,null,null,null,null,null,null,null,null,null,0,0,0,0,0,0,0]
[null,"کاردکس 156",{"$f":"'تعریف کالا'!$C$160","v":0},{"$f":"'تعریف کالا'!$D$160","v":0},{"$f":"'تعریف کالا'!$E$160","v":0},{"$f":"'تعریف کالا'!$G$160","v":0},null,{"$f":"'تعریف کالا'!$F$160","v":0},null,0,null,null,null,null,null,null,null,null,null,null,null,null,null,null,0,0,0,0,0,0,0]
[null,"کاردکس 157",{"$f":"'تعریف کالا'!$C$161","v":0},{"$f":"'تعریف کالا'!$D$161","v":0},{"$f":"'تعریف کالا'!$E$161","v":0},{"$f":"'تعریف کالا'!$G$161","v":0},null,{"$f":"'تعریف کالا'!$F$161","v":0},null,0,null,null,null,null,null,null,null,null,null,null,null,null,null,null,0,0,0,0,0,0,0]
[null,"کاردکس 158",{"$f":"'تعریف کالا'!$C$162","v":0},{"$f":"'تعریف کالا'!$D$162","v":0},{"$f":"'تعریف کالا'!$E$162","v":0},{"$f":"'تعریف کالا'!$G$162","v":0},null,{"$f":"'تعریف کالا'!$F$162","v":0},null,0,null,null,null,null,null,null,null,null,null,null,null,null,null,null,0,0,0,0,0,0,0]
[null,"کاردکس 159",{"$f":"'تعریف کالا'!$C$163","v":0},{"$f":"'تعریف کالا'!$D$163","v":0},{"$f":"'تعریف کالا'!$E$163","v":0},{"$f":"'تعریف کالا'!$G$163","v":0},null,{"$f":"'تعریف کالا'!$F$163","v":0},null,0,null,null,null,null,null,null,null,null,null,null,null,null,null,null,0,0,0,0,0,0,0]
[null,"کاردکس 160",{"$f":"'تعریف کالا'!$C$164","v":0},{"$f":"'تعریف کالا'!$D$164","v":0},{"$f":"'تعریف کالا'!$E$164","v":0},{"$f":"'تعریف کالا'!$G$164","v":0},null,{"$f":"'تعریف کالا'!$F$164","v":0},null,0,null,null,null,null,null,null,null,null,null,null,null,null,null,null,0,0,0,0,0,0,0]
[null,"کاردکس 161",{"$f":"'تعریف کالا'!$C$165","v":0},{"$f":"'تعریف کالا'!$D$165","v":0},{"$f":"'تعریف کالا'!$E$165","v":0},{"$f":"'تعریف کالا'!$G$165","v":0},null,{"$f":"'تعریف کالا'!$F$165","v":0},null,0,null,null,null,null,null,null,null,null,null,null,null,null,null,null,0,0,0,0,0,0,0]
[null,"کاردکس 162",{"$f":"'تعریف کالا'!$C$166","v":0},{"$f":"'تعریف کالا'!$D$166","v":0},{"$f":"'تعریف کالا'!$E$166","v":0},{"$f":"'تعریف کالا'!$G$166","v":0},null,{"$f":"'تعریف کالا'!$F$166","v":0},null,0,null,null,null,null,null,null,null,null,null,null,null,null,null,null,0,0,0,0,0,0,0]
[null,"کاردکس 163",{"$f":"'تعریف کالا'!$C$167","v":0},{"$f":"'تعریف کالا'!$D$167","v":0},{"$f":"'تعریف کالا'!$E$167","v":0},{"$f":"'تعریف کالا'!$G$167","v":0},null,{"$f":"'تعریف کالا'!$F$167","v":0},null,0,null,null,null,null,null,null,null,null,null,null,null,null,null,null,0,0,0,0,0,0,0]
[null,"کاردکس 164",{"$f":"'تعریف کالا'!$C$168","v":0},{"$f":"'تعریف کالا'!$D$168","v":0},{"$f":"'تعریف کالا'!$E$168","v":0},{"$f":"'تعریف کالا'!$G$168","v":0},null,{"$f":"'تعریف کالا'!$F$168","v":0},null,0,null,null,null,null,null,null,null,null,null,null,null,null,null,null,0,0,0,0,0,0,0]
[null,"کاردکس 165",{"$f":"'تعریف کالا'!$C$169","v":0},{"$f":"'تعریف کالا'!$D$169","v":0},{"$f":"'تعریف کالا'!$E$169","v":0},{"$f":"'تعریف کالا'!$G$169","v":0},null,{"$f":"'تعریف کالا'!$F$169","v":0},null,0,null,null,null,null,null,null,null,null,null,null,null,null,null,null,0,0,0,0,0,0,0]
[null,"کاردکس 166",{"$f":"'تعریف کالا'!$C$170","v":0},{"$f":"'تعریف کالا'!$D$170","v":0},{"$f":"'تعریف کالا'!$E$170","v":0},{"$f":"'تعریف کالا'!$G$170","v":0},null,{"$f":"'تعریف کالا'!$F$170","v":0},null,0,null,null,null,null,null,null,null,null,null,null,null,null,null,null,0,0,0,0,0,0,0]
[null,"کاردکس 167",{"$f":"'تعریف کالا'!$C$171","v":0},{"$f":"'تعریف کالا'!$D$171","v":0},{"$f":"'تعریف کالا'!$E$171","v":0},{"$f":"'تعریف کالا'!$G$171","v":0},null,{"$f":"'تعریف کالا'!$F$171","v":0},null,0,null,null,null,null,null,null,null,null,null,null,null,null,null,null,0,0,0,0,0,0,0]
[null,"کاردکس 168",{"$f":"'تعریف کالا'!$C$172","v":0},{"$f":"'تعریف کالا'!$D$172","v":0},{"$f":"'تعریف کالا'!$E$172","v":0},{"$f":"'تعریف کالا'!$G$172","v":0},null,{"$f":"'تعریف کالا'!$F$172","v":0},null,0,null,null,null,null,null,null,null,null,null,null,null,null,null,null,0,0,0,0,0,0,0]
[null,"کاردکس 169",{"$f":"'تعریف کالا'!$C$173","v":0},{"$f":"'تعریف کالا'!$D$173","v":0},{"$f":"'تعریف کالا'!$E$173","v":0},{"$f":"'تعریف کالا'!$G$173","v":0},null,{"$f":"'تعریف کالا'!$F$173","v":0},null,0,null,null,null,null,null,null,null,null,null,null,null,null,null,null,0,0,0,0,0,0,0]
[null,"کاردکس 170",{"$f":"'تعریف کالا'!$C$174","v":0},{"$f":"'تعریف کالا'!$D$174","v":0},{"$f":"'تعریف کالا'!$E$174","v":0},{"$f":"'تعریف کالا'!$G$174","v":0},null,{"$f":"'تعریف کالا'!$F$174","v":0},null,0,null,null,null,null,null,null,null,null,null,null,null,null,null,null,0,0,0,0,0,0,0]
[null,"کاردکس 171",{"$f":"'تعریف کالا'!$C$175","v":0},{"$f":"'تعریف کالا'!$D$175","v":0},{"$f":"'تعریف کالا'!$E$175","v":0},{"$f":"'تعریف کالا'!$G$175","v":0},null,{"$f":"'تعریف کالا'!$F$175","v":0},null,0,null,null,null,null,null,null,null,null,null,null,null,null,null,null,0,0,0,0,0,0,0]
[null,"کاردکس 172",{"$f":"'تعریف کالا'!$C$176","v":0},{"$f":"'تعریف کالا'!$D$176","v":0},{"$f":"'تعریف کالا'!$E$176","v":0},{"$f":"'تعریف کالا'!$G$176","v":0},null,{"$f":"'تعریف کالا'!$F$176","v":0},null,0,null,null,null,null,null,null,null,null,null,null,null,null,null,null,0,0,0,0,0,0,0]
[null,"کاردکس 173",{"$f":"'تعریف کالا'!$C$177","v":0},{"$f":"'تعریف کالا'!$D$177","v":0},{"$f":"'تعریف کالا'!$E$177","v":0},{"$f":"'تعریف کالا'!$G$177","v":0},null,{"$f":"'تعریف کالا'!$F$177","v":0},null,0,null,null,null,null,null,null,null,null,null,null,null,null,null,null,0,0,0,0,0,0,0]
[null,"کاردکس 174",{"$f":"'تعریف کالا'!$C$178","v":0},{"$f":"'تعریف کالا'!$D$178","v":0},{"$f":"'تعریف کالا'!$E$178","v":0},{"$f":"'تعریف کالا'!$G$178","v":0},null,{"$f":"'تعریف کالا'!$F$178","v":0},null,0,null,null,null,null,null,null,null,null,null,null,null,null,null,null,0,0,0,0,0,0,0]
[null,"کاردکس 175",{"$f":"'تعریف کالا'!$C$179","v":0},{"$f":"'تعریف کالا'!$D$179","v":0},{"$f":"'تعریف کالا'!$E$179","v":0},{"$f":"'تعریف کالا'!$G$179","v":0},null,{"$f":"'تعریف کالا'!$F$179","v":0},null,0,null,null,null,null,null,null,null,null,null,null,null,null,null,null,0,0,0,0,0,0,0]
[null,"کاردکس 176",{"$f":"'تعریف کالا'!$C$180","v":0},{"$f":"'تعریف کالا'!$D$180","v":0},{"$f":"'تعریف کالا'!$E$180","v":0},{"$f":"'تعریف کالا'!$G$180","v":0},null,{"$f":"'تعریف کالا'!$F$180","v":0},null,0,null,null,null,null,null,null,null,null,null,null,null,null,null,null,0,0,0,0,0,0,0]
[null,"کاردکس 177",{"$f":"'تعریف کالا'!$C$181","v":0},{"$f":"'تعریف کالا'!$D$181","v":0},{"$f":"'تعریف کالا'!$E$181","v":0},{"$f":"'تعریف کالا'!$G$181","v":0},null,{"$f":"'تعریف کالا'!$F$181","v":0},null,0,null,null,null,null,null,null,null,null,null,null,null,null,null,null,0,0,0,0,0,0,0]
[null,"کاردکس 178",{"$f":"'تعریف کالا'!$C$182","v":0},{"$f":"'تعریف کالا'!$D$182","v":0},{"$f":"'تعریف کالا'!$E$182","v":0},{"$f":"'تعریف کالا'!$G$182","v":0},null,{"$f":"'تعریف کالا'!$F$182","v":0},null,0,null,null,null,null,null,null,null,null,null,null,null,null,null,null,0,0,0,0,0,0,0]
[null,"کاردکس 179",{"$f":"'تعریف کالا'!$C$183","v":0},{"$f":"'تعریف کالا'!$D$183","v":0},{"$f":"'تعریف کالا'!$E$183","v":0},{"$f":"'تعریف کالا'!$G$183","v":0},null,{"$f":"'تعریف کالا'!$F$183","v":0},null,0,null,null,null,null,null,null,null,null,null,null,null,null,null,null,0,0,0,0,0,0,0]
[null,"کاردکس 180",{"$f":"'تعریف کالا'!$C$184","v":0},{"$f":"'تعریف کالا'!$D$184","v":0},{"$f":"'تعریف کالا'!$E$184","v":0},{"$f":"'تعریف کالا'!$G$184","v":0},null,{"$f":"'تعریف کالا'!$F$184","v":0},null,0,null,null,null,null,null,null,null,null,null,null,null,null,null,null,0,0,0,0,0,0,0]
[null,"کاردکس 181",{"$f":"'تعریف کالا'!$C$185","v":0},{"$f":"'تعریف کالا'!$D$185","v":0},{"$f":"'تعریف کالا'!$E$185","v":0},{"$f":"'تعریف کالا'!$G$185","v":0},null,{"$f":"'تعریف کالا'!$F$185","v":0},null,0,null,null,null,null,null,null,null,null,null,null,null,null,null,null,0,0,0,0,0,0,0]
[null,"کاردکس 182",{"$f":"'تعریف کالا'!$C$186","v":0},{"$f":"'تعریف کالا'!$D$186","v":0},{"$f":"'تعریف کالا'!$E$186","v":0},{"$f":"'تعریف کالا'!$G$186","v":0},null,{"$f":"'تعریف کالا'!$F$186","v":0},null,0,null,null,null,null,null,null,null,null,null,null,null,null,null,null,0,0,0,0,0,0,0]
[null,"کاردکس 183",{"$f":"'تعریف کالا'!$C$187","v":0},{"$f":"'تعریف کالا'!$D$187","v":0},{"$f":"'تعریف کالا'!$E$187","v":0},{"$f":"'تعریف کالا'!$G$187","v":0},null,{"$f":"'تعریف کالا'!$F$187","v":0},null,0,null,null,null,null,null,null,null,null,null,null,null,null,null,null,0,0,0,0,0,0,0]
[null,"کاردکس 184",{"$f":"'تعریف کالا'!$C$18","v":0},{"$f":"'تعریف کالا'!$D$188","v":0},{"$f":"'تعریف کالا'!$E$188","v":0},{"$f":"'تعریف کالا'!$G$188","v":0},null,{"$f":"'تعریف کالا'!$F$188","v":0},null,0,null,null,null,null,null,null,null,null,null,null,null,null,null,null,0,0,0,0,0,0,0]
[null,"کاردکس 185",{"$f":"'تعریف کالا'!$C$189","v":0},{"$f":"'تعریف کالا'!$D$189","v":0},{"$f":"'تعریف کالا'!$E$189","v":0},{"$f":"'تعریف کالا'!$G$189","v":0},null,{"$f":"'تعریف کالا'!$F$189","v":0},null,0,null,null,null,null,null,null,null,null,null,null,null,null,null,null,0,0,0,0,0,0,0]
[null,"کاردکس 186",{"$f":"'تعریف کالا'!$C$190","v":0},{"$f":"'تعریف کالا'!$D$190","v":0},{"$f":"'تعریف کالا'!$E$190","v":0},{"$f":"'تعریف کالا'!$G$190","v":0},null,{"$f":"'تعریف کالا'!$F$190","v":0},null,0,null,null,null,null,null,null,null,null,null,null,null,null,null,null,0,0,0,0,0,0,0]
[null,"کاردکس 187",{"$f":"'تعریف کالا'!$C$191","v":0},{"$f":"'تعریف کالا'!$D$191","v":0},{"$f":"'تعریف کالا'!$E$191","v":0},{"$f":"'تعریف کالا'!$G$191","v":0},null,{"$f":"'تعریف کالا'!$F$191","v":0},null,0,null,null,null,null,null,null,null,null,null,null,null,null,null,null,0,0,0,0,0,0,0]
[null,"کاردکس 188",{"$f":"'تعریف کالا'!$C$192","v":0},{"$f":"'تعریف کالا'!$D$192","v":0},{"$f":"'تعریف کالا'!$E$192","v":0},{"$f":"'تعریف کالا'!$G$192","v":0},null,{"$f":"'تعریف کالا'!$F$192","v":0},null,0,null,null,null,null,null,null,null,null,null,null,null,null,null,null,0,0,0,0,0,0,0]
[null,"کاردکس 189",{"$f":"'تعریف کالا'!$C$193","v":0},{"$f":"'تعریف کالا'!$D$193","v":0},{"$f":"'تعریف کالا'!$E$193","v":0},{"$f":"'تعریف کالا'!$G$193","v":0},null,{"$f":"'تعریف کالا'!$F$193","v":0},null,0,null,null,null,null,null,null,null,null,null,null,null,null,null,null,0,0,0,0,0,0,0]
[null,"کاردکس 190",{"$f":"'تعریف کالا'!$C$194","v":0},{"$f":"'تعریف کالا'!$D$194","v":0},{"$f":"'تعریف کالا'!$E$194","v":0},{"$f":"'تعریف کالا'!$G$194","v":0},null,{"$f":"'تعریف کالا'!$F$194","v":0},null,0,null,null,null,null,null,null,null,null,null,null,null,null,null,null,0,0,0,0,0,0,0]
[null,"کاردکس 191",{"$f":"'تعریف کالا'!$C$195","v":0},{"$f":"'تعریف کالا'!$D$195","v":0},{"$f":"'تعریف کالا'!$E$195","v":0},{"$f":"'تعریف کالا'!$G$195","v":0},null,{"$f":"'تعریف کالا'!$F$195","v":0},null,0,null,null,null,null,null,null,null,null,null,null,null,null,null,null,0,0,0,0,0,0,0]
[null,"کاردکس 192",{"$f":"'تعریف کالا'!$C$196","v":0},{"$f":"'تعریف کالا'!$D$196","v":0},{"$f":"'تعریف کالا'!$E$196","v":0},{"$f":"'تعریف کالا'!$G$196","v":0},null,{"$f":"'تعریف کالا'!$F$196","v":0},null,0,null,null,null,null,null,null,null,null,null,null,null,null,null,null,0,0,0,0,0,0,0]
[null,"کاردکس 193",{"$f":"'تعریف کالا'!$C$197","v":0},{"$f":"'تعریف کالا'!$D$197","v":0},{"$f":"'تعریف کالا'!$E$197","v":0},{"$f":"'تعریف کالا'!$G$197","v":0},null,{"$f":"'تعریف کالا'!$F$197","v":0},null,0,null,null,null,null,null,null,null,null,null,null,null,null,null,null,0,0,0,0,0,0,0]
[null,"کاردکس 194",{"$f":"'تعریف کالا'!$C$198","v":0},{"$f":"'تعریف کالا'!$D$198","v":0},{"$f":"'تعریف کالا'!$E$198","v":0},{"$f":"'تعریف کالا'!$G$198","v":0},null,{"$f":"'تعریف کالا'!$F$198","v":0},null,0,null,null,null,null,null,null,null,null,null,null,null,null,null,null,0,0,0,{"$f":"F886","v":0},{"$f":"H886","v":0},{"$f":"I886","v":0},{"$f":"J886","v":0}]
[null,"کاردکس 195",{"$f":"'تعریف کالا'!$C$199","v":0},{"$f":"'تعریف کالا'!$D$199","v":0},{"$f":"'تعریف کالا'!$E$199","v":0},{"$f":"'تعریف کالا'!$G$199","v":0},null,{"$f":"'تعریف کالا'!$F$199","v":0},null,{"$f":"(F887*I887)-(F887*I887*G887%)","v":0},null,null,null,null,null,null,null,null,null,null,null,null,null,null,{"$f":"C887","v":0},{"$f":"D887","v":0},{"$f":"E887","v":0},0,0,0,0]
[null,"کاردکس 196",{"$f":"'تعریف کالا'!$C$200","v":0},{"$f":"'تعریف کالا'!$D$200","v":0},{"$f":"'تعریف کالا'!$E$200","v":0},{"$f":"'تعریف کالا'!$G$200","v":0},null,{"$f":"'تعریف کالا'!$F$200","v":0},null,0,null,null,null,null,null,null,null,null,null,null,null,null,null,null,0,0,0,0,0,0,0]
[null,"کاردکس 197",{"$f":"'تعریف کالا'!$C$201","v":0},{"$f":"'تعریف کالا'!$D$201","v":0},{"$f":"'تعریف کالا'!$E$201","v":0},{"$f":"'تعریف کالا'!$G$201","v":0},null,{"$f":"'تعریف کالا'!$F$201","v":0},null,0,null,null,null,null,null,null,null,null,null,null,null,null,null,null,0,0,0,0,0,0,0]
[null,"کاردکس 198",{"$f":"'تعریف کالا'!$C$202","v":0},{"$f":"'تعریف کالا'!$D$202","v":0},{"$f":"'تعریف کالا'!$E$202","v":0},{"$f":"'تعریف کالا'!$G$202","v":0},null,{"$f":"'تعریف کالا'!$F$202","v":0},null,0,null,null,null,null,null,null,null,null,null,null,null,null,null,null,0,0,0,0,0,0,0]
[null,"کاردکس 199",{"$f":"'تعریف کالا'!$C$203","v":0},{"$f":"'تعریف کالا'!$D$203","v":0},{"$f":"'تعریف کالا'!$E$203","v":0},{"$f":"'تعریف کالا'!$G$203","v":0},null,{"$f":"'تعریف کالا'!$F$203","v":0},null,0,null,null,null,null,null,null,null,null,null,null,null,null,null,null,0,0,0,0,0,0,0]
[null,"کاردکس 200",{"$f":"'تعریف کالا'!$C$204","v":0},{"$f":"'تعریف کالا'!$D$204","v":0},{"$f":"'تعریف کالا'!$E$204","v":0},{"$f":"'تعریف کالا'!$G$204","v":0},null,{"$f":"'تعریف کالا'!$F$204","v":0},null,0,null,null,null,null,null,null,null,null,null,null,null,null,null,null,0,0,0,0,0,0,0]
[null,"     جمع کل",null,{"$f":"abh(I893)&L889","v":"منفي "},null,null,null,null,{"$f":"SUM(J693:J892)","v":0},null,null,null,null,null,null,null,null,null,null,null,null,null,null,"مانده حساب",null,{"$f":"abh(AD893)& \"ریال\"","v":"منفي ریال"},null,null,null,{"$f":"I895","v":0}]
[null,"                  مبلغ قابل  پرداخت        ",null,{"$f":"abh(I894)&\"ریال\"","v":"منفي ریال"},null,null,null,null,{"$f":"J687","v":0},null,null,null,null,null,null,null,null,null,null,null,null,null,null,"شرح رویداد :",null,{"$f":"E690","v":0}]
[null,"مانده حساب",null,{"$f":"abh(I895)&\"ریال\"","v":"منفي ریال"},null,null,null,null,{"$f":"J688","v":0},null,null,null,null,null,null,null,null,null,null,null,null,null,null,"اقلام این فاکتور سالم تحویل اینجانب  ....................  شد.               "]
[]
[null,null,null,null,null,null,null,null,null,null,null,null,null,null,null,null,null,null,null,null,null,null,null,null,"امضا صادر کننده",null,"امضا فروشنده",null,"امضا مسئول انبار",null,"امضا خریدار"]
[]
[]
[]
[]
[]
[]
[null,null,"فاکتور خرید"]
[null,null,null,null,null,{"$f":"'صفحه اصلی'!$J$4","v":0},null,null,null,null,null,"فاکتور بعدی",null,null,null,null,null,null,null,null,null,null,null,"رسید کالا"]
[null,"شماره سند ",5,null,null,null,null,null,"تاریخ",null,null,null,null,null,null,null,null,null,null,null,null,null,null,null,null,null,{"$f":"F905","v":0},null,null,"تاریخ",{"$f":"J906","v":0}]
[null,"شماره فاکتور",5,null,null,null,null,null,"انبار",null,null,"مشاهده رسید",null,null,null,null,null,null,null,null,null,null,null,"شماره رسید",{"$f":"C907","v":5}]
[null,null,null,null,null,null,null,null,null,null,null,null,null,null,null,null,null,null,null,null,null,null,null,"شماره سند",{"$f":"C906","v":5}]
[null,null,null,null,null,"           درصد تخفیف  ",null,null,"تخفیف ",{"$f":"(I1118*G909%)","v":0}]
[null,null,"نام فروشنده","علی منصوری",null,"          کرایه حمل",null,null,"کرایه حمل",{"$f":"G910","v":0}]
[null,null,null,null,null,"          مالیات",null,null,"مالیات",{"$f":"(I1118-J909+J910)*G911%","v":0}]
[null,null,"پرداخت نقدی",null,null,null,null,null,"مبلغ قابل پرداخت",{"$f":"I1118-J909+J910+J911","v":0},null,null,null,null,null,null,null,null,null,null,null,null,null,null,"فروشنده :",{"$f":"D910","v":"علی منصوری"}]
[null,null,"پرداخت با چک",null,null,null,null,null,"مانده حساب",{"$f":"J912-D912-D913","v":0}]
[null,null,null,null,null,null,null,null,null,null,null,null,null,null,null,null,null,null,null,null,null,null,null,null,"آدرس :",{"$f":"VLOOKUP(Z912,'مشخصات فروشندگان'!$B$2:$C$502,2,FALSE)","v":0}]
[null,null,"ثبت چک","شرح رویداد"]
[]
[null,"شماره کاردکس","کد کالا","نام کالا","گروه بندی","قیمت واحد","درصد تخفیف","واحد شمارش","تعداد","قیمت کل",null,null,null,null,null,null,null,null,null,null,null,null,null,"ردیف","کد کالا","نام کالا","گروه بندی","قیمت واحد","واحد شمارش","تعداد","قیمت کل"]
[null,"کاردکس 1",{"$f":"'تعریف کالا'!$C$5","v":9011120},{"$f":"'تعریف کالا'!$D$5","v":"سی دی"},{"$f":"'تعریف کالا'!$E$5","v":"سخت افزار"},{"$f":"'تعریف کالا'!$G$5","v":3000},null,{"$f":"'تعریف کالا'!$F$5","v":"حلقه"},null,{"$f":"(F918*I918)-(F918*I918*G918%)","v":0},null,null,null,null,null,null,null,null,null,null,null,null,null,null,{"$f":"C918","v":9011120},{"$f":"D918","v":"سی دی"},{"$f":"E918","v":"سخت افزار"},{"$f":"F918","v":3000},{"$f":"H918","v":"حلقه"},{"$f":"I918","v":0},{"$f":"J918","v":0}]
[null,"کاردکس 2",{"$f":"'تعریف کالا'!$C$6","v":9011121},{"$f":"'تعریف کالا'!$D$6","v":"دی وی دی"},{"$f":"'تعریف کالا'!$E$6","v":"سخت افزار"},{"$f":"'تعریف کالا'!$G$6","v":7000},null,{"$f":"'تعریف کالا'!$F$6","v":"حلقه"},null,{"$f":"(F919*I919)-(F919*I919*G919%)","v":0},null,null,null,null,null,null,null,null,null,null,null,null,null,null,{"$f":"C919","v":9011121},{"$f":"D919","v":"دی وی دی"},{"$f":"E919","v":"سخت افزار"},{"$f":"F919","v":7000},{"$f":"H919","v":"حلقه"},{"$f":"I919","v":0},{"$f":"J919","v":0}]
[null,"کاردکس 3",{"$f":"'تعریف کالا'!$C$7","v":9011122},{"$f":"'تعریف کالا'!$D$7","v":"نوت بوک"},{"$f":"'تعریف کالا'!$E$7","v":"سخت افزار"},{"$f":"'تعریف کالا'!$G$7","v":10000000},null,{"$f":"'تعریف کالا'!$F$7","v":"دستگاه"},null,{"$f":"(F920*I920)-(F920*I920*G920%)","v":0},null,null,null,null,null,null,null,null,null,null,null,null,null,null,{"$f":"C920","v":9011122},"نوت بوک","سخت افزار",10000000,"دستگاه",0,0]
[null,"کاردکس 4",{"$f":"'تعریف کالا'!$C$8","v":0},{"$f":"'تعریف کالا'!$D$8","v":0},{"$f":"'تعریف کالا'!$E$8","v":0},{"$f":"'تعریف کالا'!$G$8","v":0},null,{"$f":"'تعریف کالا'!$F$8","v":0},null,0,null,null,null,null,null,null,null,null,null,null,null,null,null,null,0,0,0,0,0,0,0]
[null,"کاردکس 5",{"$f":"'تعریف کالا'!$C$9","v":0},{"$f":"'تعریف کالا'!$D$9","v":0},{"$f":"'تعریف کالا'!$E$9","v":0},{"$f":"'تعریف کالا'!$G$9","v":0},null,{"$f":"'تعریف کالا'!$F$9","v":0},null,0,null,null,null,null,null,null,null,null,null,null,null,null,null,null,0,0,0,0,0,0,0]
[null,"کاردکس 6",{"$f":"'تعریف کالا'!$C$10","v":0},{"$f":"'تعریف کالا'!$D$10","v":0},{"$f":"'تعریف کالا'!$E$10","v":0},{"$f":"'تعریف کالا'!$G$10","v":0},null,{"$f":"'تعریف کالا'!$F$10","v":0},null,0,null,null,null,null,null,null,null,null,null,null,null,null,null,null,0,0,0,0,0,0,0]
[null,"کاردکس 7",{"$f":"'تعریف کالا'!$C$11","v":0},{"$f":"'تعریف کالا'!$D$11","v":0},{"$f":"'تعریف کالا'!$E$11","v":0},{"$f":"'تعریف کالا'!$G$11","v":0},null,{"$f":"'تعریف کالا'!$F$11","v":0},null,0,null,null,null,null,null,null,null,null,null,null,null,null,null,null,0,0,0,0,0,0,0]
[null,"کاردکس 8",{"$f":"'تعریف کالا'!$C$12","v":0},{"$f":"'تعریف کالا'!$D$12","v":0},{"$f":"'تعریف کالا'!$E$12","v":0},{"$f":"'تعریف کالا'!$G$12","v":0},null,{"$f":"'تعریف کالا'!$F$12","v":0},null,0,null,null,null,null,null,null,null,null,null,null,null,null,null,null,0,0,0,0,0,0,0]
[null,"کاردکس 9",{"$f":"'تعریف کالا'!$C$13","v":0},{"$f":"'تعریف کالا'!$D$13","v":0},{"$f":"'تعریف کالا'!$E$13","v":0},{"$f":"'تعریف کالا'!$G$13","v":0},null,{"$f":"'تعریف کالا'!$F$13","v":0},null,0,null,null,null,null,null,null,null,null,null,null,null,null,null,null,0,0,0,0,0,0,0]
[null,"کاردکس 10",{"$f":"'تعریف کالا'!$C$14","v":0},{"$f":"'تعریف کالا'!$D$14","v":0},{"$f":"'تعریف کالا'!$E$14","v":0},{"$f":"'تعریف کالا'!$G$14","v":0},null,{"$f":"'تعریف کالا'!$F$14","v":0},null,0,null,null,null,null,null,null,null,null,null,null,null,null,null,null,0,0,0,0,0,0,0]
[null,"کاردکس 11",{"$f":"'تعریف کالا'!$C$15","v":0},{"$f":"'تعریف کالا'!$D$15","v":0},{"$f":"'تعریف کالا'!$E$15","v":0},{"$f":"'تعریف کالا'!$G$15","v":0},null,{"$f":"'تعریف کالا'!$F$15","v":0},null,0,null,null,null,null,null,null,null,null,null,null,null,null,null,null,0,0,0,0,0,0,0]
[null,"کاردکس 12",{"$f":"'تعریف کالا'!$C$16","v":0},{"$f":"'تعریف کالا'!$D$16","v":0},{"$f":"'تعریف کالا'!$E$16","v":0},{"$f":"'تعریف کالا'!$G$16","v":0},null,{"$f":"'تعریف کالا'!$F$16","v":0},null,0,null,null,null,null,null,null,null,null,null,null,null,null,null,null,0,0,0,0,0,0,0]
[null,"کاردکس 13",{"$f":"'تعریف کالا'!$C$17","v":0},{"$f":"'تعریف کالا'!$D$17","v":0},{"$f":"'تعریف کالا'!$E$17","v":0},{"$f":"'تعریف کالا'!$G$17","v":0},null,{"$f":"'تعریف کالا'!$F$17","v":0},null,0,null,null,null,null,null,null,null,null,null,null,null,null,null,null,0,0,0,0,0,0,0]
[null,"کاردکس 14",{"$f":"'تعریف کالا'!$C$18","v":0},{"$f":"'تعریف کالا'!$D$18","v":0},{"$f":"'تعریف کالا'!$E$18","v":0},{"$f":"'تعریف کالا'!$G$18","v":0},null,{"$f":"'تعریف کالا'!$F$18","v":0},null,0,null,null,null,null,null,null,null,null,null,null,null,null,null,null,0,0,0,0,0,0,0]
[null,"کاردکس 15",{"$f":"'تعریف کالا'!$C$19","v":0},{"$f":"'تعریف کالا'!$D$19","v":0},{"$f":"'تعریف کالا'!$E$19","v":0},{"$f":"'تعریف کالا'!$G$19","v":0},null,{"$f":"'تعریف کالا'!$F$19","v":0},null,0,null,null,null,null,null,null,null,null,null,null,null,null,null,null,0,0,0,0,0,0,0]
[null,"کاردکس 16",{"$f":"'تعریف کالا'!$C$20","v":0},{"$f":"'تعریف کالا'!$D$20","v":0},{"$f":"'تعریف کالا'!$E$20","v":0},{"$f":"'تعریف کالا'!$G$20","v":0},null,{"$f":"'تعریف کالا'!$F$20","v":0},null,0,null,null,null,null,null,null,null,null,null,null,null,null,null,null,0,0,0,0,0,0,0]
[null,"کاردکس 17",{"$f":"'تعریف کالا'!$C$21","v":0},{"$f":"'تعریف کالا'!$D$21","v":0},{"$f":"'تعریف کالا'!$E$21","v":0},{"$f":"'تعریف کالا'!$G$21","v":0},null,{"$f":"'تعریف کالا'!$F$21","v":0},null,0,null,null,null,null,null,null,null,null,null,null,null,null,null,null,0,0,0,0,0,0,0]
[null,"کاردکس 18",{"$f":"'تعریف کالا'!$C$22","v":0},{"$f":"'تعریف کالا'!$D$22","v":0},{"$f":"'تعریف کالا'!$E$22","v":0},{"$f":"'تعریف کالا'!$G$22","v":0},null,{"$f":"'تعریف کالا'!$F$22","v":0},null,0,null,null,null,null,null,null,null,null,null,null,null,null,null,null,0,0,0,0,0,0,0]
[null,"کاردکس 19",{"$f":"'تعریف کالا'!$C$23","v":0},{"$f":"'تعریف کالا'!$D$23","v":0},{"$f":"'تعریف کالا'!$E$23","v":0},{"$f":"'تعریف کالا'!$G$23","v":0},null,{"$f":"'تعریف کالا'!$F$23","v":0},null,0,null,null,null,null,null,null,null,null,null,null,null,null,null,null,0,0,0,0,0,0,0]
[null,"کاردکس 20",{"$f":"'تعریف کالا'!$C$24","v":0},{"$f":"'تعریف کالا'!$D$24","v":0},{"$f":"'تعریف کالا'!$E$24","v":0},{"$f":"'تعریف کالا'!$G$24","v":0},null,{"$f":"'تعریف کالا'!$F$24","v":0},null,0,null,null,null,null,null,null,null,null,null,null,null,null,null,null,0,0,0,0,0,0,0]
[null,"کاردکس 21",{"$f":"'تعریف کالا'!$C$25","v":0},{"$f":"'تعریف کالا'!$D$25","v":0},{"$f":"'تعریف کالا'!$E$25","v":0},{"$f":"'تعریف کالا'!$G$25","v":0},null,{"$f":"'تعریف کالا'!$F$25","v":0},null,0,null,null,null,null,null,null,null,null,null,null,null,null,null,null,0,0,0,0,0,0,0]
[null,"کاردکس 22",{"$f":"'تعریف کالا'!$C$26","v":0},{"$f":"'تعریف کالا'!$D$26","v":0},{"$f":"'تعریف کالا'!$E$26","v":0},{"$f":"'تعریف کالا'!$G$26","v":0},null,{"$f":"'تعریف کالا'!$F$26","v":0},null,0,null,null,null,null,null,null,null,null,null,null,null,null,null,null,0,0,0,0,0,0,0]
[null,"کاردکس 23",{"$f":"'تعریف کالا'!$C$27","v":0},{"$f":"'تعریف کالا'!$D$27","v":0},{"$f":"'تعریف کالا'!$E$27","v":0},{"$f":"'تعریف کالا'!$G$27","v":0},null,{"$f":"'تعریف کالا'!$F$27","v":0},null,0,null,null,null,null,null,null,null,null,null,null,null,null,null,null,0,0,0,0,0,0,0]
[null,"کاردکس 24",{"$f":"'تعریف کالا'!$C$28","v":0},{"$f":"'تعریف کالا'!$D$28","v":0},{"$f":"'تعریف کالا'!$E$28","v":0},{"$f":"'تعریف کالا'!$G$28","v":0},null,{"$f":"'تعریف کالا'!$F$28","v":0},null,0,null,null,null,null,null,null,null,null,null,null,null,null,null,null,0,0,0,0,0,0,0]
[null,"کاردکس 25",{"$f":"'تعریف کالا'!$C$29","v":0},{"$f":"'تعریف کالا'!$D$29","v":0},{"$f":"'تعریف کالا'!$E$29","v":0},{"$f":"'تعریف کالا'!$G$29","v":0},null,{"$f":"'تعریف کالا'!$F$29","v":0},null,0,null,null,null,null,null,null,null,null,null,null,null,null,null,null,0,0,0,0,0,0,0]
[null,"کاردکس 26",{"$f":"'تعریف کالا'!$C$30","v":0},{"$f":"'تعریف کالا'!$D$30","v":0},{"$f":"'تعریف کالا'!$E$30","v":0},{"$f":"'تعریف کالا'!$G$30","v":0},null,{"$f":"'تعریف کالا'!$F$30","v":0},null,0,null,null,null,null,null,null,null,null,null,null,null,null,null,null,0,0,0,0,0,0,0]
[null,"کاردکس 27",{"$f":"'تعریف کالا'!$C$31","v":0},{"$f":"'تعریف کالا'!$D$31","v":0},{"$f":"'تعریف کالا'!$E$31","v":0},{"$f":"'تعریف کالا'!$G$31","v":0},null,{"$f":"'تعریف کالا'!$F$31","v":0},null,0,null,null,null,null,null,null,null,null,null,null,null,null,null,null,0,0,0,0,0,0,0]
[null,"کاردکس 28",{"$f":"'تعریف کالا'!$C$32","v":0},{"$f":"'تعریف کالا'!$D$32","v":0},{"$f":"'تعریف کالا'!$E$32","v":0},{"$f":"'تعریف کالا'!$G$32","v":0},null,{"$f":"'تعریف کالا'!$F$32","v":0},null,0,null,null,null,null,null,null,null,null,null,null,null,null,null,null,0,0,0,0,0,0,0]
[null,"کاردکس 29",{"$f":"'تعریف کالا'!$C$33","v":0},{"$f":"'تعریف کالا'!$D$33","v":0},{"$f":"'تعریف کالا'!$E$33","v":0},{"$f":"'تعریف کالا'!$G$33","v":0},null,{"$f":"'تعریف کالا'!$F$33","v":0},null,0,null,null,null,null,null,null,null,null,null,null,null,null,null,null,0,0,0,0,0,0,0]
[null,"کاردکس 30",{"$f":"'تعریف کالا'!$C$34","v":0},{"$f":"'تعریف کالا'!$D$34","v":0},{"$f":"'تعریف کالا'!$E$34","v":0},{"$f":"'تعریف کالا'!$G$34","v":0},null,{"$f":"'تعریف کالا'!$F$34","v":0},null,0,null,null,null,null,null,null,null,null,null,null,null,null,null,null,0,0,0,0,0,0,0]
[null,"کاردکس 31",{"$f":"'تعریف کالا'!$C$35","v":0},{"$f":"'تعریف کالا'!$D$35","v":0},{"$f":"'تعریف کالا'!$E$35","v":0},{"$f":"'تعریف کالا'!$G$35","v":0},null,{"$f":"'تعریف کالا'!$F$35","v":0},null,0,null,null,null,null,null,null,null,null,null,null,null,null,null,null,0,0,0,0,0,0,0]
[null,"کاردکس 32",{"$f":"'تعریف کالا'!$C$36","v":0},{"$f":"'تعریف کالا'!$D$36","v":0},{"$f":"'تعریف کالا'!$E$36","v":0},{"$f":"'تعریف کالا'!$G$36","v":0},null,{"$f":"'تعریف کالا'!$F$36","v":0},null,0,null,null,null,null,null,null,null,null,null,null,null,null,null,null,0,0,0,0,0,0,0]
[null,"کاردکس 33",{"$f":"'تعریف کالا'!$C$37","v":0},{"$f":"'تعریف کالا'!$D$37","v":0},{"$f":"'تعریف کالا'!$E$37","v":0},{"$f":"'تعریف کالا'!$G$37","v":0},null,{"$f":"'تعریف کالا'!$F$37","v":0},null,0,null,null,null,null,null,null,null,null,null,null,null,null,null,null,0,0,0,0,0,0,0]
[null,"کاردکس 34",{"$f":"'تعریف کالا'!$C$38","v":0},{"$f":"'تعریف کالا'!$D$38","v":0},{"$f":"'تعریف کالا'!$E$38","v":0},{"$f":"'تعریف کالا'!$G$38","v":0},null,{"$f":"'تعریف کالا'!$F$38","v":0},null,0,null,null,null,null,null,null,null,null,null,null,null,null,null,null,0,0,0,0,0,0,0]
[null,"کاردکس 35",{"$f":"'تعریف کالا'!$C$39","v":0},{"$f":"'تعریف کالا'!$D$39","v":0},{"$f":"'تعریف کالا'!$E$39","v":0},{"$f":"'تعریف کالا'!$G$39","v":0},null,{"$f":"'تعریف کالا'!$F$39","v":0},null,0,null,null,null,null,null,null,null,null,null,null,null,null,null,null,0,0,0,0,0,0,0]
[null,"کاردکس 36",{"$f":"'تعریف کالا'!$C$40","v":0},{"$f":"'تعریف کالا'!$D$40","v":0},{"$f":"'تعریف کالا'!$E$40","v":0},{"$f":"'تعریف کالا'!$G$40","v":0},null,{"$f":"'تعریف کالا'!$F$40","v":0},null,0,null,null,null,null,null,null,null,null,null,null,null,null,null,null,0,0,0,0,0,0,0]
[null,"کاردکس 37",{"$f":"'تعریف کالا'!$C$41","v":0},{"$f":"'تعریف کالا'!$D$41","v":0},{"$f":"'تعریف کالا'!$E$41","v":0},{"$f":"'تعریف کالا'!$G$41","v":0},null,{"$f":"'تعریف کالا'!$F$41","v":0},null,0,null,null,null,null,null,null,null,null,null,null,null,null,null,null,0,0,0,0,0,0,0]
[null,"کاردکس 38",{"$f":"'تعریف کالا'!$C$42","v":0},{"$f":"'تعریف کالا'!$D$42","v":0},{"$f":"'تعریف کالا'!$E$42","v":0},{"$f":"'تعریف کالا'!$G$42","v":0},null,{"$f":"'تعریف کالا'!$F$42","v":0},null,0,null,null,null,null,null,null,null,null,null,null,null,null,null,null,0,0,0,0,0,0,0]
[null,"کاردکس 39",{"$f":"'تعریف کالا'!$C$43","v":0},{"$f":"'تعریف کالا'!$D$43","v":0},{"$f":"'تعریف کالا'!$E$43","v":0},{"$f":"'تعریف کالا'!$G$43","v":0},null,{"$f":"'تعریف کالا'!$F$43","v":0},null,0,null,null,null,null,null,null,null,null,null,null,null,null,null,null,0,0,0,0,0,0,0]
[null,"کاردکس 40",{"$f":"'تعریف کالا'!$C$44","v":0},{"$f":"'تعریف کالا'!$D$44","v":0},{"$f":"'تعریف کالا'!$E$44","v":0},{"$f":"'تعریف کالا'!$G$44","v":0},null,{"$f":"'تعریف کالا'!$F$44","v":0},null,0,null,null,null,null,null,null,null,null,null,null,null,null,null,null,0,0,0,0,0,0,0]
[null,"کاردکس 41",{"$f":"'تعریف کالا'!$C$45","v":0},{"$f":"'تعریف کالا'!$D$45","v":0},{"$f":"'تعریف کالا'!$E$45","v":0},{"$f":"'تعریف کالا'!$G$45","v":0},null,{"$f":"'تعریف کالا'!$F$45","v":0},null,0,null,null,null,null,null,null,null,null,null,null,null,null,null,null,0,0,0,0,0,0,0]
[null,"کاردکس 42",{"$f":"'تعریف کالا'!$C$46","v":0},{"$f":"'تعریف کالا'!$D$46","v":0},{"$f":"'تعریف کالا'!$E$46","v":0},{"$f":"'تعریف کالا'!$G$46","v":0},null,{"$f":"'تعریف کالا'!$F$46","v":0},null,0,null,null,null,null,null,null,null,null,null,null,null,null,null,null,0,0,0,0,0,0,0]
[null,"کاردکس 43",{"$f":"'تعریف کالا'!$C$47","v":0},{"$f":"'تعریف کالا'!$D$47","v":0},{"$f":"'تعریف کالا'!$E$47","v":0},{"$f":"'تعریف کالا'!$G$47","v":0},null,{"$f":"'تعریف کالا'!$F$47","v":0},null,0,null,null,null,null,null,null,null,null,null,null,null,null,null,null,0,0,0,0,0,0,0]
[null,"کاردکس 44",{"$f":"'تعریف کالا'!$C$48","v":0},{"$f":"'تعریف کالا'!$D$48","v":0},{"$f":"'تعریف کالا'!$E$48","v":0},{"$f":"'تعریف کالا'!$G$48","v":0},null,{"$f":"'تعریف کالا'!$F$48","v":0},null,0,null,null,null,null,null,null,null,null,null,null,null,null,null,null,0,0,0,0,0,0,0]
[null,"کاردکس 45",{"$f":"'تعریف کالا'!$C$49","v":0},{"$f":"'تعریف کالا'!$D$49","v":0},{"$f":"'تعریف کالا'!$E$49","v":0},{"$f":"'تعریف کالا'!$G$49","v":0},null,{"$f":"'تعریف کالا'!$F$49","v":0},null,0,null,null,null,null,null,null,null,null,null,null,null,null,null,null,0,0,0,0,0,0,0]
[null,"کاردکس 46",{"$f":"'تعریف کالا'!$C$50","v":0},{"$f":"'تعریف کالا'!$D$50","v":0},{"$f":"'تعریف کالا'!$E$50","v":0},{"$f":"'تعریف کالا'!$G$50","v":0},null,{"$f":"'تعریف کالا'!$F$50","v":0},null,0,null,null,null,null,null,null,null,null,null,null,null,null,null,null,0,0,0,0,0,0,0]
[null,"کاردکس 47",{"$f":"'تعریف کالا'!$C$51","v":0},{"$f":"'تعریف کالا'!$D$51","v":0},{"$f":"'تعریف کالا'!$E$51","v":0},{"$f":"'تعریف کالا'!$G$51","v":0},null,{"$f":"'تعریف کالا'!$F$51","v":0},null,0,null,null,null,null,null,null,null,null,null,null,null,null,null,null,0,0,0,0,0,0,0]
[null,"کاردکس 48",{"$f":"'تعریف کالا'!$C$52","v":0},{"$f":"'تعریف کالا'!$D$52","v":0},{"$f":"'تعریف کالا'!$E$52","v":0},{"$f":"'تعریف کالا'!$G$52","v":0},null,{"$f":"'تعریف کالا'!$F$52","v":0},null,0,null,null,null,null,null,null,null,null,null,null,null,null,null,null,0,0,0,0,0,0,0]
[null,"کاردکس 49",{"$f":"'تعریف کالا'!$C$53","v":0},{"$f":"'تعریف کالا'!$D$53","v":0},{"$f":"'تعریف کالا'!$E$53","v":0},{"$f":"'تعریف کالا'!$G$53","v":0},null,{"$f":"'تعریف کالا'!$F$53","v":0},null,0,null,null,null,null,null,null,null,null,null,null,null,null,null,null,0,0,0,0,0,0,0]
[null,"کاردکس 50",{"$f":"'تعریف کالا'!$C$54","v":0},{"$f":"'تعریف کالا'!$D$54","v":0},{"$f":"'تعریف کالا'!$E$54","v":0},{"$f":"'تعریف کالا'!$G$54","v":0},null,{"$f":"'تعریف کالا'!$F$54","v":0},null,0,null,null,null,null,null,null,null,null,null,null,null,null,null,null,0,0,0,0,0,0,0]
[null,"کاردکس 51",{"$f":"'تعریف کالا'!$C$55","v":0},{"$f":"'تعریف کالا'!$D$55","v":0},{"$f":"'تعریف کالا'!$E$55","v":0},{"$f":"'تعریف کالا'!$G$55","v":0},null,{"$f":"'تعریف کالا'!$F$55","v":0},null,0,null,null,null,null,null,null,null,null,null,null,null,null,null,null,0,0,0,0,0,0,0]
[null,"کاردکس 52",{"$f":"'تعریف کالا'!$C$56","v":0},{"$f":"'تعریف کالا'!$D$56","v":0},{"$f":"'تعریف کالا'!$E$56","v":0},{"$f":"'تعریف کالا'!$G$56","v":0},null,{"$f":"'تعریف کالا'!$F$56","v":0},null,0,null,null,null,null,null,null,null,null,null,null,null,null,null,null,0,0,0,0,0,0,0]
[null,"کاردکس 53",{"$f":"'تعریف کالا'!$C$57","v":0},{"$f":"'تعریف کالا'!$D$57","v":0},{"$f":"'تعریف کالا'!$E$57","v":0},{"$f":"'تعریف کالا'!$G$57","v":0},null,{"$f":"'تعریف کالا'!$F$57","v":0},null,0,null,null,null,null,null,null,null,null,null,null,null,null,null,null,0,0,0,0,0,0,0]
[null,"کاردکس 54",{"$f":"'تعریف کالا'!$C$58","v":0},{"$f":"'تعریف کالا'!$D$58","v":0},{"$f":"'تعریف کالا'!$E$58","v":0},{"$f":"'تعریف کالا'!$G$58","v":0},null,{"$f":"'تعریف کالا'!$F$58","v":0},null,0,null,null,null,null,null,null,null,null,null,null,null,null,null,null,0,0,0,0,0,0,0]
[null,"کاردکس 55",{"$f":"'تعریف کالا'!$C$59","v":0},{"$f":"'تعریف کالا'!$D$59","v":0},{"$f":"'تعریف کالا'!$E$59","v":0},{"$f":"'تعریف کالا'!$G$59","v":0},null,{"$f":"'تعریف کالا'!$F$59","v":0},null,0,null,null,null,null,null,null,null,null,null,null,null,null,null,null,0,0,0,0,0,0,0]
[null,"کاردکس 56",{"$f":"'تعریف کالا'!$C$60","v":0},{"$f":"'تعریف کالا'!$D$60","v":0},{"$f":"'تعریف کالا'!$E$60","v":0},{"$f":"'تعریف کالا'!$G$60","v":0},null,{"$f":"'تعریف کالا'!$F$60","v":0},null,0,null,null,null,null,null,null,null,null,null,null,null,null,null,null,0,0,0,0,0,0,0]
[null,"کاردکس 57",{"$f":"'تعریف کالا'!$C$61","v":0},{"$f":"'تعریف کالا'!$D$61","v":0},{"$f":"'تعریف کالا'!$E$61","v":0},{"$f":"'تعریف کالا'!$G$61","v":0},null,{"$f":"'تعریف کالا'!$F$61","v":0},null,0,null,null,null,null,null,null,null,null,null,null,null,null,null,null,0,0,0,0,0,0,0]
[null,"کاردکس 58",{"$f":"'تعریف کالا'!$C$62","v":0},{"$f":"'تعریف کالا'!$D$62","v":0},{"$f":"'تعریف کالا'!$E$62","v":0},{"$f":"'تعریف کالا'!$G$62","v":0},null,{"$f":"'تعریف کالا'!$F$62","v":0},null,0,null,null,null,null,null,null,null,null,null,null,null,null,null,null,0,0,0,0,0,0,0]
[null,"کاردکس 59",{"$f":"'تعریف کالا'!$C$63","v":0},{"$f":"'تعریف کالا'!$D$63","v":0},{"$f":"'تعریف کالا'!$E$63","v":0},{"$f":"'تعریف کالا'!$G$63","v":0},null,{"$f":"'تعریف کالا'!$F$63","v":0},null,0,null,null,null,null,null,null,null,null,null,null,null,null,null,null,0,0,0,0,0,0,0]
[null,"کاردکس 60",{"$f":"'تعریف کالا'!$C$64","v":0},{"$f":"'تعریف کالا'!$D$64","v":0},{"$f":"'تعریف کالا'!$E$64","v":0},{"$f":"'تعریف کالا'!$G$64","v":0},null,{"$f":"'تعریف کالا'!$F$64","v":0},null,0,null,null,null,null,null,null,null,null,null,null,null,null,null,null,0,0,0,0,0,0,0]
[null,"کاردکس 61",{"$f":"'تعریف کالا'!$C$65","v":0},{"$f":"'تعریف کالا'!$D$65","v":0},{"$f":"'تعریف کالا'!$E$65","v":0},{"$f":"'تعریف کالا'!$G$65","v":0},null,{"$f":"'تعریف کالا'!$F$65","v":0},null,0,null,null,null,null,null,null,null,null,null,null,null,null,null,null,0,0,0,0,0,0,0]
[null,"کاردکس 62",{"$f":"'تعریف کالا'!$C$66","v":0},{"$f":"'تعریف کالا'!$D$66","v":0},{"$f":"'تعریف کالا'!$E$66","v":0},{"$f":"'تعریف کالا'!$G$66","v":0},null,{"$f":"'تعریف کالا'!$F$66","v":0},null,0,null,null,null,null,null,null,null,null,null,null,null,null,null,null,0,0,0,0,0,0,0]
[null,"کاردکس 63",{"$f":"'تعریف کالا'!$C$67","v":0},{"$f":"'تعریف کالا'!$D$67","v":0},{"$f":"'تعریف کالا'!$E$67","v":0},{"$f":"'تعریف کالا'!$G$67","v":0},null,{"$f":"'تعریف کالا'!$F$67","v":0},null,0,null,null,null,null,null,null,null,null,null,null,null,null,null,null,0,0,0,0,0,0,0]
[null,"کاردکس 64",{"$f":"'تعریف کالا'!$C$68","v":0},{"$f":"'تعریف کالا'!$D$68","v":0},{"$f":"'تعریف کالا'!$E$68","v":0},{"$f":"'تعریف کالا'!$G$68","v":0},null,{"$f":"'تعریف کالا'!$F$68","v":0},null,0,null,null,null,null,null,null,null,null,null,null,null,null,null,null,0,0,0,0,0,0,0]
[null,"کاردکس 65",{"$f":"'تعریف کالا'!$C$69","v":0},{"$f":"'تعریف کالا'!$D$69","v":0},{"$f":"'تعریف کالا'!$E$69","v":0},{"$f":"'تعریف کالا'!$G$69","v":0},null,{"$f":"'تعریف کالا'!$F$69","v":0},null,0,null,null,null,null,null,null,null,null,null,null,null,null,null,null,0,0,0,0,0,0,0]
[null,"کاردکس 66",{"$f":"'تعریف کالا'!$C$70","v":0},{"$f":"'تعریف کالا'!$D$70","v":0},{"$f":"'تعریف کالا'!$E$70","v":0},{"$f":"'تعریف کالا'!$G$70","v":0},null,{"$f":"'تعریف کالا'!$F$70","v":0},null,0,null,null,null,null,null,null,null,null,null,null,null,null,null,null,0,{"$f":"D983","v":0},{"$f":"E983","v":0},{"$f":"F983","v":0},{"$f":"H983","v":0},{"$f":"I983","v":0},{"$f":"J983","v":0}]
[null,"کاردکس 67",{"$f":"'تعریف کالا'!$C$71","v":0},{"$f":"'تعریف کالا'!$D$71","v":0},{"$f":"'تعریف کالا'!$E$71","v":0},{"$f":"'تعریف کالا'!$G$71","v":0},null,{"$f":"'تعریف کالا'!$F$71","v":0},null,{"$f":"(F984*I984)-(F984*I984*G984%)","v":0},null,null,null,null,null,null,null,null,null,null,null,null,null,null,{"$f":"C984","v":0},0,0,0,0,0,0]
[null,"کاردکس 68",{"$f":"'تعریف کالا'!$C$72","v":0},{"$f":"'تعریف کالا'!$D$72","v":0},{"$f":"'تعریف کالا'!$E$72","v":0},{"$f":"'تعریف کالا'!$G$72","v":0},null,{"$f":"'تعریف کالا'!$F$72","v":0},null,0,null,null,null,null,null,null,null,null,null,null,null,null,null,null,0,0,0,0,0,0,0]
[null,"کاردکس 69",{"$f":"'تعریف کالا'!$C$73","v":0},{"$f":"'تعریف کالا'!$D$73","v":0},{"$f":"'تعریف کالا'!$E$73","v":0},{"$f":"'تعریف کالا'!$G$73","v":0},null,{"$f":"'تعریف کالا'!$F$73","v":0},null,0,null,null,null,null,null,null,null,null,null,null,null,null,null,null,0,0,0,0,0,0,0]
[null,"کاردکس 70",{"$f":"'تعریف کالا'!$C$74","v":0},{"$f":"'تعریف کالا'!$D$74","v":0},{"$f":"'تعریف کالا'!$E$74","v":0},{"$f":"'تعریف کالا'!$G$74","v":0},null,{"$f":"'تعریف کالا'!$F$74","v":0},null,0,null,null,null,null,null,null,null,null,null,null,null,null,null,null,0,0,0,0,0,0,0]
[null,"کاردکس 71",{"$f":"'تعریف کالا'!$C$75","v":0},{"$f":"'تعریف کالا'!$D$75","v":0},{"$f":"'تعریف کالا'!$E$75","v":0},{"$f":"'تعریف کالا'!$G$75","v":0},null,{"$f":"'تعریف کالا'!$F$75","v":0},null,0,null,null,null,null,null,null,null,null,null,null,null,null,null,null,0,0,0,0,0,0,0]
[null,"کاردکس 72",{"$f":"'تعریف کالا'!$C$76","v":0},{"$f":"'تعریف کالا'!$D$76","v":0},{"$f":"'تعریف کالا'!$E$76","v":0},{"$f":"'تعریف کالا'!$G$76","v":0},null,{"$f":"'تعریف کالا'!$F$76","v":0},null,0,null,null,null,null,null,null,null,null,null,null,null,null,null,null,0,0,0,0,0,0,0]
[null,"کاردکس 73",{"$f":"'تعریف کالا'!$C$77","v":0},{"$f":"'تعریف کالا'!$D$77","v":0},{"$f":"'تعریف کالا'!$E$77","v":0},{"$f":"'تعریف کالا'!$G$77","v":0},null,{"$f":"'تعریف کالا'!$F$77","v":0},null,0,null,null,null,null,null,null,null,null,null,null,null,null,null,null,0,0,0,0,0,0,0]
[null,"کاردکس 74",{"$f":"'تعریف کالا'!$C$78","v":0},{"$f":"'تعریف کالا'!$D$78","v":0},{"$f":"'تعریف کالا'!$E$78","v":0},{"$f":"'تعریف کالا'!$G$78","v":0},null,{"$f":"'تعریف کالا'!$F$78","v":0},null,0,null,null,null,null,null,null,null,null,null,null,null,null,null,null,0,0,0,0,0,0,0]
[null,"کاردکس 75",{"$f":"'تعریف کالا'!$C$79","v":0},{"$f":"'تعریف کالا'!$D$79","v":0},{"$f":"'تعریف کالا'!$E$79","v":0},{"$f":"'تعریف کالا'!$G$79","v":0},null,{"$f":"'تعریف کالا'!$F$79","v":0},null,0,null,null,null,null,null,null,null,null,null,null,null,null,null,null,0,0,0,0,0,0,0]
[null,"کاردکس 76",{"$f":"'تعریف کالا'!$C$80","v":0},{"$f":"'تعریف کالا'!$D$80","v":0},{"$f":"'تعریف کالا'!$E$80","v":0},{"$f":"'تعریف کالا'!$G$80","v":0},null,{"$f":"'تعریف کالا'!$F$80","v":0},null,0,null,null,null,null,null,null,null,null,null,null,null,null,null,null,0,0,0,0,0,0,0]
[null,"کاردکس 77",{"$f":"'تعریف کالا'!$C$81","v":0},{"$f":"'تعریف کالا'!$D$81","v":0},{"$f":"'تعریف کالا'!$E$81","v":0},{"$f":"'تعریف کالا'!$G$81","v":0},null,{"$f":"'تعریف کالا'!$F$81","v":0},null,0,null,null,null,null,null,null,null,null,null,null,null,null,null,null,0,0,0,0,0,0,0]
[null,"کاردکس 78",{"$f":"'تعریف کالا'!$C$82","v":0},{"$f":"'تعریف کالا'!$D$82","v":0},{"$f":"'تعریف کالا'!$E$82","v":0},{"$f":"'تعریف کالا'!$G$82","v":0},null,{"$f":"'تعریف کالا'!$F$82","v":0},null,0,null,null,null,null,null,null,null,null,null,null,null,null,null,null,0,0,0,0,0,0,0]
[null,"کاردکس 79",{"$f":"'تعریف کالا'!$C$83","v":0},{"$f":"'تعریف کالا'!$D$83","v":0},{"$f":"'تعریف کالا'!$E$83","v":0},{"$f":"'تعریف کالا'!$G$83","v":0},null,{"$f":"'تعریف کالا'!$F$83","v":0},null,0,null,null,null,null,null,null,null,null,null,null,null,null,null,null,0,0,0,0,0,0,0]
[null,"کاردکس 80",{"$f":"'تعریف کالا'!$C$84","v":0},{"$f":"'تعریف کالا'!$D$84","v":0},{"$f":"'تعریف کالا'!$E$84","v":0},{"$f":"'تعریف کالا'!$G$84","v":0},null,{"$f":"'تعریف کالا'!$F$84","v":0},null,0,null,null,null,null,null,null,null,null,null,null,null,null,null,null,0,0,0,0,0,0,0]
[null,"کاردکس 81",{"$f":"'تعریف کالا'!$C$85","v":0},{"$f":"'تعریف کالا'!$D$85","v":0},{"$f":"'تعریف کالا'!$E$85","v":0},{"$f":"'تعریف کالا'!$G$85","v":0},null,{"$f":"'تعریف کالا'!$F$85","v":0},null,0,null,null,null,null,null,null,null,null,null,null,null,null,null,null,0,0,0,0,0,0,0]
[null,"کاردکس 82",{"$f":"'تعریف کالا'!$C$86","v":0},{"$f":"'تعریف کالا'!$D$86","v":0},{"$f":"'تعریف کالا'!$E$86","v":0},{"$f":"'تعریف کالا'!$G$86","v":0},null,{"$f":"'تعریف کالا'!$F$86","v":0},null,0,null,null,null,null,null,null,null,null,null,null,null,null,null,null,0,0,0,0,0,0,0]
[null,"کاردکس 83",{"$f":"'تعریف کالا'!$C$87","v":0},{"$f":"'تعریف کالا'!$D$87","v":0},{"$f":"'تعریف کالا'!$E$87","v":0},{"$f":"'تعریف کالا'!$G$87","v":0},null,{"$f":"'تعریف کالا'!$F$87","v":0},null,0,null,null,null,null,null,null,null,null,null,null,null,null,null,null,0,0,0,0,0,0,0]
[null,"کاردکس 84",{"$f":"'تعریف کالا'!$C$88","v":0},{"$f":"'تعریف کالا'!$D$88","v":0},{"$f":"'تعریف کالا'!$E$88","v":0},{"$f":"'تعریف کالا'!$G$88","v":0},null,{"$f":"'تعریف کالا'!$F$88","v":0},null,0,null,null,null,null,null,null,null,null,null,null,null,null,null,null,0,0,0,0,0,0,0]
[null,"کاردکس 90",{"$f":"'تعریف کالا'!$C$94","v":0},{"$f":"'تعریف کالا'!$D$94","v":0},{"$f":"'تعریف کالا'!$E$94","v":0},{"$f":"'تعریف کالا'!$G$94","v":0},null,{"$f":"'تعریف کالا'!$F$94","v":0},null,0,null,null,null,null,null,null,null,null,null,null,null,null,null,null,0,0,0,0,0,0,0]
[null,"کاردکس 95",{"$f":"'تعریف کالا'!$C$99","v":0},{"$f":"'تعریف کالا'!$D$99","v":0},{"$f":"'تعریف کالا'!$E$99","v":0},{"$f":"'تعریف کالا'!$G$99","v":0},null,{"$f":"'تعریف کالا'!$F$99","v":0},null,0,null,null,null,null,null,null,null,null,null,null,null,null,null,null,0,0,0,0,0,0,0]
[null,"کاردکس 102",{"$f":"'تعریف کالا'!$C$106","v":0},{"$f":"'تعریف کالا'!$D$106","v":0},{"$f":"'تعریف کالا'!$E$106","v":0},{"$f":"'تعریف کالا'!$G$106","v":0},null,{"$f":"'تعریف کالا'!$F$106","v":0},null,0,null,null,null,null,null,null,null,null,null,null,null,null,null,null,0,0,0,0,0,0,0]
[null,"کاردکس 110",{"$f":"'تعریف کالا'!$C$114","v":0},{"$f":"'تعریف کالا'!$D$114","v":0},{"$f":"'تعریف کالا'!$E$114","v":0},{"$f":"'تعریف کالا'!$G$114","v":0},null,{"$f":"'تعریف کالا'!$F$114","v":0},null,0,null,null,null,null,null,null,null,null,null,null,null,null,null,null,0,0,0,0,0,0,0]
[null,"کاردکس 113",{"$f":"'تعریف کالا'!$C$117","v":0},{"$f":"'تعریف کالا'!$D$117","v":0},{"$f":"'تعریف کالا'!$E$117","v":0},{"$f":"'تعریف کالا'!$G$117","v":0},null,{"$f":"'تعریف کالا'!$F$117","v":0},null,0,null,null,null,null,null,null,null,null,null,null,null,null,null,null,0,0,0,0,0,0,0]
[null,"کاردکس 119",{"$f":"'تعریف کالا'!$C$123","v":0},{"$f":"'تعریف کالا'!$D$123","v":0},{"$f":"'تعریف کالا'!$E$123","v":0},{"$f":"'تعریف کالا'!$G$123","v":0},null,{"$f":"'تعریف کالا'!$F$123","v":0},null,0,null,null,null,null,null,null,null,null,null,null,null,null,null,null,0,0,0,0,0,0,0]
[null,"کاردکس 125",{"$f":"'تعریف کالا'!$C$129","v":0},{"$f":"'تعریف کالا'!$D$129","v":0},{"$f":"'تعریف کالا'!$E$129","v":0},{"$f":"'تعریف کالا'!$G$129","v":0},null,{"$f":"'تعریف کالا'!$F$129","v":0},null,0,null,null,null,null,null,null,null,null,null,null,null,null,null,null,0,0,0,0,0,0,0]
[null,"کاردکس 128",{"$f":"'تعریف کالا'!$C$132","v":0},{"$f":"'تعریف کالا'!$D$132","v":0},{"$f":"'تعریف کالا'!$E$132","v":0},{"$f":"'تعریف کالا'!$G$132","v":0},null,{"$f":"'تعریف کالا'!$F$132","v":0},null,0,null,null,null,null,null,null,null,null,null,null,null,null,null,null,0,0,0,0,0,0,0]
[null,"کاردکس 137",{"$f":"'تعریف کالا'!$C$141","v":0},{"$f":"'تعریف کالا'!$D$141","v":0},{"$f":"'تعریف کالا'!$E$141","v":0},{"$f":"'تعریف کالا'!$G$141","v":0},null,{"$f":"'تعریف کالا'!$F$141","v":0},null,0,null,null,null,null,null,null,null,null,null,null,null,null,null,null,0,0,0,0,0,0,0]
[null,"کاردکس 139",{"$f":"'تعریف کالا'!$C$143","v":0},{"$f":"'تعریف کالا'!$D$143","v":0},{"$f":"'تعریف کالا'!$E$143","v":0},{"$f":"'تعریف کالا'!$G$143","v":0},null,{"$f":"'تعریف کالا'!$F$143","v":0},null,0,null,null,null,null,null,null,null,null,null,null,null,null,null,null,0,0,0,0,0,0,0]
[null,"کاردکس 144",{"$f":"'تعریف کالا'!$C$148","v":0},{"$f":"'تعریف کالا'!$D$148","v":0},{"$f":"'تعریف کالا'!$E$148","v":0},{"$f":"'تعریف کالا'!$G$148","v":0},null,{"$f":"'تعریف کالا'!$F$148","v":0},null,0,null,null,null,null,null,null,null,null,null,null,null,null,null,null,0,0,0,0,0,0,0]
[null,"کاردکس 154",{"$f":"'تعریف کالا'!$C$158","v":0},{"$f":"'تعریف کالا'!$D$158","v":0},{"$f":"'تعریف کالا'!$E$158","v":0},{"$f":"'تعریف کالا'!$G$158","v":0},null,{"$f":"'تعریف کالا'!$F$158","v":0},null,0,null,null,null,null,null,null,null,null,null,null,null,null,null,null,0,0,0,0,0,0,0]
[null,"کاردکس 155",{"$f":"'تعریف کالا'!$C$159","v":0},{"$f":"'تعریف کالا'!$D$159","v":0},{"$f":"'تعریف کالا'!$E$159","v":0},{"$f":"'تعریف کالا'!$G$159","v":0},null,{"$f":"'تعریف کالا'!$F$159","v":0},null,0,null,null,null,null,null,null,null,null,null,null,null,null,null,null,0,0,0,0,0,0,0]
[null,"کاردکس 163",{"$f":"'تعریف کالا'!$C$167","v":0},{"$f":"'تعریف کالا'!$D$167","v":0},{"$f":"'تعریف کالا'!$E$167","v":0},{"$f":"'تعریف کالا'!$G$167","v":0},null,{"$f":"'تعریف کالا'!$F$167","v":0},null,0,null,null,null,null,null,null,null,null,null,null,null,null,null,null,0,0,0,0,0,0,0]
[null,"کاردکس 167",{"$f":"'تعریف کالا'!$C$171","v":0},{"$f":"'تعریف کالا'!$D$171","v":0},{"$f":"'تعریف کالا'!$E$171","v":0},{"$f":"'تعریف کالا'!$G$171","v":0},null,{"$f":"'تعریف کالا'!$F$171","v":0},null,0,null,null,null,null,null,null,null,null,null,null,null,null,null,null,0,0,0,0,0,0,0]
[null,"کاردکس 172",{"$f":"'تعریف کالا'!$C$176","v":0},{"$f":"'تعریف کالا'!$D$176","v":0},{"$f":"'تعریف کالا'!$E$176","v":0},{"$f":"'تعریف کالا'!$G$176","v":0},null,{"$f":"'تعریف کالا'!$F$176","v":0},null,0,null,null,null,null,null,null,null,null,null,null,null,null,null,null,0,0,0,0,0,0,0]
[null,"کاردکس 179",{"$f":"'تعریف کالا'!$C$183","v":0},{"$f":"'تعریف کالا'!$D$183","v":0},{"$f":"'تعریف کالا'!$E$183","v":0},{"$f":"'تعریف کالا'!$G$183","v":0},null,{"$f":"'تعریف کالا'!$F$183","v":0},null,0,null,null,null,null,null,null,null,null,null,null,null,null,null,null,0,0,0,0,0,0,0]
[null,"کاردکس 183",{"$f":"'تعریف کالا'!$C$187","v":0},{"$f":"'تعریف کالا'!$D$187","v":0},{"$f":"'تعریف کالا'!$E$187","v":0},{"$f":"'تعریف کالا'!$G$187","v":0},null,{"$f":"'تعریف کالا'!$F$187","v":0},null,0,null,null,null,null,null,null,null,null,null,null,null,null,null,null,0,0,0,0,0,0,0]
[null,"کاردکس 191",{"$f":"'تعریف کالا'!$C$195","v":0},{"$f":"'تعریف کالا'!$D$195","v":0},{"$f":"'تعریف کالا'!$E$195","v":0},{"$f":"'تعریف کالا'!$G$195","v":0},null,{"$f":"'تعریف کالا'!$F$195","v":0},null,0,null,null,null,null,null,null,null,null,null,null,null,null,null,null,0,0,0,0,0,0,0]
[null,"کاردکس 198",{"$f":"'تعریف کالا'!$C$202","v":0},{"$f":"'تعریف کالا'!$D$202","v":0},{"$f":"'تعریف کالا'!$E$202","v":0},{"$f":"'تعریف کالا'!$G$202","v":0},null,{"$f":"'تعریف کالا'!$F$202","v":0},null,0,null,null,null,null,null,null,null,null,null,null,null,null,null,null,0,0,0,0,0,0,0]
[null,"مانده حساب",null,{"$f":"abh(I1120)&\"ریال\"","v":"منفي ریال"},null,null,null,null,{"$f":"J913","v":0},null,null,null,null,null,null,null,null,null,null,null,null,null,null,"اقلام این فاکتور سالم تحویل اینجانب  ....................  شد.               "]
[]
[null,"شماره سند ",6,null,null,null,null,null,"تاریخ",null,null,null,null,null,null,null,null,null,null,null,null,null,null,null,null,null,{"$f":"F1130","v":0},null,null,"تاریخ",{"$f":"J1131","v":0}]
[null,null,null,null,null,null,null,null,null,null,null,null,null,null,null,null,null,null,null,null,null,null,null,"شماره سند",{"$f":"C1131","v":6}]
[null,null,"پرداخت با چک",null,null,null,null,null,"مانده حساب",{"$f":"J1137-D1137-D1138","v":0}]
[null,"کاردکس 2",{"$f":"'تعریف کالا'!$C$6","v":9011121},{"$f":"'تعریف کالا'!$D$6","v":"دی وی دی"},{"$f":"'تعریف کالا'!$E$6","v":"سخت افزار"},{"$f":"'تعریف کالا'!$G$6","v":7000},null,{"$f":"'تعریف کالا'!$F$6","v":"حلقه"},null,{"$f":"(F1144*I1144)-(F1144*I1144*G1144%)","v":0},null,null,null,null,null,null,null,null,null,null,null,null,null,null,{"$f":"C1144","v":9011121},{"$f":"D1144","v":"دی وی دی"},{"$f":"E1144","v":"سخت افزار"},{"$f":"F1144","v":7000},{"$f":"H1144","v":"حلقه"},{"$f":"I1144","v":0},{"$f":"J1144","v":0}]
[null,"کاردکس 8",{"$f":"'تعریف کالا'!$C$12","v":0},{"$f":"'تعریف کالا'!$D$12","v":0},{"$f":"'تعریف کالا'!$E$12","v":0},{"$f":"'تعریف کالا'!$G$12","v":0},null,{"$f":"'تعریف کالا'!$F$12","v":0},null,0,null,null,null,null,null,null,null,null,null,null,null,null,null,null,0,0,0,0,0,0,0]
[null,"کاردکس 17",{"$f":"'تعریف کالا'!$C$21","v":0},{"$f":"'تعریف کالا'!$D$21","v":0},{"$f":"'تعریف کالا'!$E$21","v":0},{"$f":"'تعریف کالا'!$G$21","v":0},null,{"$f":"'تعریف کالا'!$F$21","v":0},null,0,null,null,null,null,null,null,null,null,null,null,null,null,null,null,0,0,0,0,0,0,0]
[null,"کاردکس 20",{"$f":"'تعریف کالا'!$C$24","v":0},{"$f":"'تعریف کالا'!$D$24","v":0},{"$f":"'تعریف کالا'!$E$24","v":0},{"$f":"'تعریف کالا'!$G$24","v":0},null,{"$f":"'تعریف کالا'!$F$24","v":0},null,0,null,null,null,null,null,null,null,null,null,null,null,null,null,null,0,0,0,0,0,0,0]
[null,"کاردکس 26",{"$f":"'تعریف کالا'!$C$30","v":0},{"$f":"'تعریف کالا'!$D$30","v":0},{"$f":"'تعریف کالا'!$E$30","v":0},{"$f":"'تعریف کالا'!$G$30","v":0},null,{"$f":"'تعریف کالا'!$F$30","v":0},null,0,null,null,null,null,null,null,null,null,null,null,null,null,null,null,0,0,0,0,0,0,0]
[null,"کاردکس 31",{"$f":"'تعریف کالا'!$C$35","v":0},{"$f":"'تعریف کالا'!$D$35","v":0},{"$f":"'تعریف کالا'!$E$35","v":0},{"$f":"'تعریف کالا'!$G$35","v":0},null,{"$f":"'تعریف کالا'!$F$35","v":0},null,0,null,null,null,null,null,null,null,null,null,null,null,null,null,null,0,0,0,0,0,0,0]
[null,"کاردکس 35",{"$f":"'تعریف کالا'!$C$39","v":0},{"$f":"'تعریف کالا'!$D$39","v":0},{"$f":"'تعریف کالا'!$E$39","v":0},{"$f":"'تعریف کالا'!$G$39","v":0},null,{"$f":"'تعریف کالا'!$F$39","v":0},null,0,null,null,null,null,null,null,null,null,null,null,null,null,null,null,0,0,0,0,0,0,0]
[null,"کاردکس 43",{"$f":"'تعریف کالا'!$C$47","v":0},{"$f":"'تعریف کالا'!$D$47","v":0},{"$f":"'تعریف کالا'!$E$47","v":0},{"$f":"'تعریف کالا'!$G$47","v":0},null,{"$f":"'تعریف کالا'!$F$47","v":0},null,0,null,null,null,null,null,null,null,null,null,null,null,null,null,null,0,0,0,0,0,0,0]
[null,"کاردکس 46",{"$f":"'تعریف کالا'!$C$50","v":0},{"$f":"'تعریف کالا'!$D$50","v":0},{"$f":"'تعریف کالا'!$E$50","v":0},{"$f":"'تعریف کالا'!$G$50","v":0},null,{"$f":"'تعریف کالا'!$F$50","v":0},null,0,null,null,null,null,null,null,null,null,null,null,null,null,null,null,0,0,0,0,0,0,0]
[null,"کاردکس 55",{"$f":"'تعریف کالا'!$C$59","v":0},{"$f":"'تعریف کالا'!$D$59","v":0},{"$f":"'تعریف کالا'!$E$59","v":0},{"$f":"'تعریف کالا'!$G$59","v":0},null,{"$f":"'تعریف کالا'!$F$59","v":0},null,0,null,null,null,null,null,null,null,null,null,null,null,null,null,null,0,0,0,0,0,0,0]
[null,"کاردکس 61",{"$f":"'تعریف کالا'!$C$65","v":0},{"$f":"'تعریف کالا'!$D$65","v":0},{"$f":"'تعریف کالا'!$E$65","v":0},{"$f":"'تعریف کالا'!$G$65","v":0},null,{"$f":"'تعریف کالا'!$F$65","v":0},null,0,null,null,null,null,null,null,null,null,null,null,null,null,null,null,0,0,0,0,0,0,0]
[null,"کاردکس 62",{"$f":"'تعریف کالا'!$C$66","v":0},{"$f":"'تعریف کالا'!$D$66","v":0},{"$f":"'تعریف کالا'!$E$66","v":0},{"$f":"'تعریف کالا'!$G$66","v":0},null,{"$f":"'تعریف کالا'!$F$66","v":0},null,0,null,null,null,null,null,null,null,null,null,null,null,null,null,null,0,0,0,0,0,0,0]
[null,"کاردکس 70",{"$f":"'تعریف کالا'!$C$74","v":0},{"$f":"'تعریف کالا'!$D$74","v":0},{"$f":"'تعریف کالا'!$E$74","v":0},{"$f":"'تعریف کالا'!$G$74","v":0},null,{"$f":"'تعریف کالا'!$F$74","v":0},null,0,null,null,null,null,null,null,null,null,null,null,null,null,null,null,0,0,0,0,0,0,0]
[null,"کاردکس 73",{"$f":"'تعریف کالا'!$C$77","v":0},{"$f":"'تعریف کالا'!$D$77","v":0},{"$f":"'تعریف کالا'!$E$77","v":0},{"$f":"'تعریف کالا'!$G$77","v":0},null,{"$f":"'تعریف کالا'!$F$77","v":0},null,0,null,null,null,null,null,null,null,null,null,null,null,null,null,null,0,0,0,0,0,0,0]
[null,"کاردکس 79",{"$f":"'تعریف کالا'!$C$83","v":0},{"$f":"'تعریف کالا'!$D$83","v":0},{"$f":"'تعریف کالا'!$E$83","v":0},{"$f":"'تعریف کالا'!$G$83","v":0},null,{"$f":"'تعریف کالا'!$F$83","v":0},null,0,null,null,null,null,null,null,null,null,null,null,null,null,null,null,0,0,0,0,0,0,0]
[null,"کاردکس 85",{"$f":"'تعریف کالا'!$C$89","v":0},{"$f":"'تعریف کالا'!$D$89","v":0},{"$f":"'تعریف کالا'!$E$89","v":0},{"$f":"'تعریف کالا'!$G$89","v":0},null,{"$f":"'تعریف کالا'!$F$89","v":0},null,0,null,null,null,null,null,null,null,null,null,null,null,null,null,null,0,0,0,0,0,0,0]
[null,"کاردکس 94",{"$f":"'تعریف کالا'!$C$98","v":0},{"$f":"'تعریف کالا'!$D$98","v":0},{"$f":"'تعریف کالا'!$E$98","v":0},{"$f":"'تعریف کالا'!$G$98","v":0},null,{"$f":"'تعریف کالا'!$F$98","v":0},null,0,null,null,null,null,null,null,null,null,null,null,null,null,null,null,0,0,0,0,0,0,0]
[null,"کاردکس 97",{"$f":"'تعریف کالا'!$C$101","v":0},{"$f":"'تعریف کالا'!$D$101","v":0},{"$f":"'تعریف کالا'!$E$101","v":0},{"$f":"'تعریف کالا'!$G$101","v":0},null,{"$f":"'تعریف کالا'!$F$101","v":0},null,0,null,null,null,null,null,null,null,null,null,null,null,null,null,null,0,0,0,0,0,0,0]
[null,"کاردکس 105",{"$f":"'تعریف کالا'!$C$109","v":0},{"$f":"'تعریف کالا'!$D$109","v":0},{"$f":"'تعریف کالا'!$E$109","v":0},{"$f":"'تعریف کالا'!$G$109","v":0},null,{"$f":"'تعریف کالا'!$F$109","v":0},null,0,null,null,null,null,null,null,null,null,null,null,null,null,null,null,0,0,0,0,0,0,0]
[null,"کاردکس 109",{"$f":"'تعریف کالا'!$C$113","v":0},{"$f":"'تعریف کالا'!$D$113","v":0},{"$f":"'تعریف کالا'!$E$113","v":0},{"$f":"'تعریف کالا'!$G$113","v":0},null,{"$f":"'تعریف کالا'!$F$113","v":0},null,0,null,null,null,null,null,null,null,null,null,null,null,null,null,null,0,0,0,0,0,0,0]
[null,"کاردکس 114",{"$f":"'تعریف کالا'!$C$118","v":0},{"$f":"'تعریف کالا'!$D$118","v":0},{"$f":"'تعریف کالا'!$E$118","v":0},{"$f":"'تعریف کالا'!$G$118","v":0},null,{"$f":"'تعریف کالا'!$F$118","v":0},null,0,null,null,null,null,null,null,null,null,null,null,null,null,null,null,0,0,0,0,0,0,0]
[null,"کاردکس 120",{"$f":"'تعریف کالا'!$C$124","v":0},{"$f":"'تعریف کالا'!$D$124","v":0},{"$f":"'تعریف کالا'!$E$124","v":0},{"$f":"'تعریف کالا'!$G$124","v":0},null,{"$f":"'تعریف کالا'!$F$124","v":0},null,0,null,null,null,null,null,null,null,null,null,null,null,null,null,null,0,0,0,0,0,0,0]
[null,"کاردکس 123",{"$f":"'تعریف کالا'!$C$127","v":0},{"$f":"'تعریف کالا'!$D$127","v":0},{"$f":"'تعریف کالا'!$E$127","v":0},{"$f":"'تعریف کالا'!$G$127","v":0},null,{"$f":"'تعریف کالا'!$F$127","v":0},null,0,null,null,null,null,null,null,null,null,null,null,null,null,null,null,0,0,0,0,0,0,0]
[null,"کاردکس 132",{"$f":"'تعریف کالا'!$C$136","v":0},{"$f":"'تعریف کالا'!$D$136","v":0},{"$f":"'تعریف کالا'!$E$136","v":0},{"$f":"'تعریف کالا'!$G$136","v":0},null,{"$f":"'تعریف کالا'!$F$136","v":0},null,0,null,null,null,null,null,null,null,null,null,null,null,null,null,null,0,0,0,0,0,0,0]
[null,"کاردکس 138",{"$f":"'تعریف کالا'!$C$142","v":0},{"$f":"'تعریف کالا'!$D$142","v":0},{"$f":"'تعریف کالا'!$E$142","v":0},{"$f":"'تعریف کالا'!$G$142","v":0},null,{"$f":"'تعریف کالا'!$F$142","v":0},null,0,null,null,null,null,null,null,null,null,null,null,null,null,null,null,0,0,0,0,0,0,0]
[null,"کاردکس 139",{"$f":"'تعریف کالا'!$C$143","v":0},{"$f":"'تعریف کالا'!$D$143","v":0},{"$f":"'تعریف کالا'!$E$143","v":0},{"$f":"'تعریف کالا'!$G$143","v":0},null,{"$f":"'تعریف کالا'!$F$143","v":0},null,0,null,null,null,null,null,null,null,null,null,null,null,null,null,null,0,0,0,0,0,0,0]
[null,"کاردکس 149",{"$f":"'تعریف کالا'!$C$153","v":0},{"$f":"'تعریف کالا'!$D$153","v":0},{"$f":"'تعریف کالا'!$E$153","v":0},{"$f":"'تعریف کالا'!$G$153","v":0},null,{"$f":"'تعریف کالا'!$F$153","v":0},null,0,null,null,null,null,null,null,null,null,null,null,null,null,null,null,0,0,0,0,0,0,0]
[null,"کاردکس 151",{"$f":"'تعریف کالا'!$C$155","v":0},{"$f":"'تعریف کالا'!$D$155","v":0},{"$f":"'تعریف کالا'!$E$155","v":0},{"$f":"'تعریف کالا'!$G$155","v":0},null,{"$f":"'تعریف کالا'!$F$155","v":0},null,0,null,null,null,null,null,null,null,null,null,null,null,null,null,null,0,0,0,0,0,0,0]
[null,"کاردکس 158",{"$f":"'تعریف کالا'!$C$162","v":0},{"$f":"'تعریف کالا'!$D$162","v":0},{"$f":"'تعریف کالا'!$E$162","v":0},{"$f":"'تعریف کالا'!$G$162","v":0},null,{"$f":"'تعریف کالا'!$F$162","v":0},null,0,null,null,null,null,null,null,null,null,null,null,null,null,null,null,0,0,0,0,0,0,0]
[null,"کاردکس 163",{"$f":"'تعریف کالا'!$C$167","v":0},{"$f":"'تعریف کالا'!$D$167","v":0},{"$f":"'تعریف کالا'!$E$167","v":0},{"$f":"'تعریف کالا'!$G$167","v":0},null,{"$f":"'تعریف کالا'!$F$167","v":0},null,0,null,null,null,null,null,null,null,null,null,null,null,null,null,null,0,0,0,0,0,0,0]
[null,"کاردکس 167",{"$f":"'تعریف کالا'!$C$171","v":0},{"$f":"'تعریف کالا'!$D$171","v":0},{"$f":"'تعریف کالا'!$E$171","v":0},{"$f":"'تعریف کالا'!$G$171","v":0},null,{"$f":"'تعریف کالا'!$F$171","v":0},null,0,null,null,null,null,null,null,null,null,null,null,null,null,null,null,0,0,0,0,0,0,0]
[null,"کاردکس 174",{"$f":"'تعریف کالا'!$C$178","v":0},{"$f":"'تعریف کالا'!$D$178","v":0},{"$f":"'تعریف کالا'!$E$178","v":0},{"$f":"'تعریف کالا'!$G$178","v":0},null,{"$f":"'تعریف کالا'!$F$178","v":0},null,0,null,null,null,null,null,null,null,null,null,null,null,null,null,null,0,0,0,0,0,0,0]
[null,"کاردکس 182",{"$f":"'تعریف کالا'!$C$186","v":0},{"$f":"'تعریف کالا'!$D$186","v":0},{"$f":"'تعریف کالا'!$E$186","v":0},{"$f":"'تعریف کالا'!$G$186","v":0},null,{"$f":"'تعریف کالا'!$F$186","v":0},null,0,null,null,null,null,null,null,null,null,null,null,null,null,null,null,0,0,0,0,0,0,0]
[null,"کاردکس 186",{"$f":"'تعریف کالا'!$C$190","v":0},{"$f":"'تعریف کالا'!$D$190","v":0},{"$f":"'تعریف کالا'!$E$190","v":0},{"$f":"'تعریف کالا'!$G$190","v":0},null,{"$f":"'تعریف کالا'!$F$190","v":0},null,0,null,null,null,null,null,null,null,null,null,null,null,null,null,null,0,0,0,0,0,0,0]
[null,"کاردکس 193",{"$f":"'تعریف کالا'!$C$197","v":0},{"$f":"'تعریف کالا'!$D$197","v":0},{"$f":"'تعریف کالا'!$E$197","v":0},{"$f":"'تعریف کالا'!$G$197","v":0},null,{"$f":"'تعریف کالا'!$F$197","v":0},null,0,null,null,null,null,null,null,null,null,null,null,null,null,null,null,0,0,0,0,0,0,0]
[null,"کاردکس 198",{"$f":"'تعریف کالا'!$C$202","v":0},{"$f":"'تعریف کالا'!$D$202","v":0},{"$f":"'تعریف کالا'!$E$202","v":0},{"$f":"'تعریف کالا'!$G$202","v":0},null,{"$f":"'تعریف کالا'!$F$202","v":0},null,0,null,null,null,null,null,null,null,null,null,null,null,null,null,null,0,0,0,0,0,0,0]
[null,"                  مبلغ قابل  پرداخت        ",null,{"$f":"abh(I1344)&\"ریال\"","v":"منفي ریال"},null,null,null,null,{"$f":"J1137","v":0},null,null,null,null,null,null,null,null,null,null,null,null,null,null,"شرح رویداد :",null,{"$f":"E1140","v":0}]
[null,null,null,null,null,null,null,null,null,null,null,null,null,null,null,null,null,null,null,null,null,null,null,null,"امضا صادر کننده",null,"امضا فروشنده",null,"امضا مسئول انبار",null,"امضا خریدار"]
[]
[null,null,null,null,null,null,null,null,null,null,null,null,null,null,null,null,null,null,null,null,null,null,null,"شماره سند",{"$f":"C1356","v":7}]
[null,"کاردکس 1",{"$f":"'تعریف کالا'!$C$5","v":9011120},{"$f":"'تعریف کالا'!$D$5","v":"سی دی"},{"$f":"'تعریف کالا'!$E$5","v":"سخت افزار"},{"$f":"'تعریف کالا'!$G$5","v":3000},null,{"$f":"'تعریف کالا'!$F$5","v":"حلقه"},null,{"$f":"(F1368*I1368)-(F1368*I1368*G1368%)","v":0},null,null,null,null,null,null,null,null,null,null,null,null,null,null,{"$f":"C1368","v":9011120},{"$f":"D1368","v":"سی دی"},{"$f":"E1368","v":"سخت افزار"},{"$f":"F1368","v":3000},{"$f":"H1368","v":"حلقه"},{"$f":"I1368","v":0},{"$f":"J1368","v":0}]
[null,"کاردکس 3",{"$f":"'تعریف کالا'!$C$7","v":9011122},{"$f":"'تعریف کالا'!$D$7","v":"نوت بوک"},{"$f":"'تعریف کالا'!$E$7","v":"سخت افزار"},{"$f":"'تعریف کالا'!$G$7","v":10000000},null,{"$f":"'تعریف کالا'!$F$7","v":"دستگاه"},null,{"$f":"(F1370*I1370)-(F1370*I1370*G1370%)","v":0},null,null,null,null,null,null,null,null,null,null,null,null,null,null,{"$f":"C1370","v":9011122},"نوت بوک","سخت افزار",10000000,"دستگاه",0,0]
[null,"کاردکس 12",{"$f":"'تعریف کالا'!$C$16","v":0},{"$f":"'تعریف کالا'!$D$16","v":0},{"$f":"'تعریف کالا'!$E$16","v":0},{"$f":"'تعریف کالا'!$G$16","v":0},null,{"$f":"'تعریف کالا'!$F$16","v":0},null,0,null,null,null,null,null,null,null,null,null,null,null,null,null,null,0,0,0,0,0,0,0]
[null,"کاردکس 15",{"$f":"'تعریف کالا'!$C$19","v":0},{"$f":"'تعریف کالا'!$D$19","v":0},{"$f":"'تعریف کالا'!$E$19","v":0},{"$f":"'تعریف کالا'!$G$19","v":0},null,{"$f":"'تعریف کالا'!$F$19","v":0},null,0,null,null,null,null,null,null,null,null,null,null,null,null,null,null,0,0,0,0,0,0,0]
[null,"کاردکس 21",{"$f":"'تعریف کالا'!$C$25","v":0},{"$f":"'تعریف کالا'!$D$25","v":0},{"$f":"'تعریف کالا'!$E$25","v":0},{"$f":"'تعریف کالا'!$G$25","v":0},null,{"$f":"'تعریف کالا'!$F$25","v":0},null,0,null,null,null,null,null,null,null,null,null,null,null,null,null,null,0,0,0,0,0,0,0]
[null,"کاردکس 27",{"$f":"'تعریف کالا'!$C$31","v":0},{"$f":"'تعریف کالا'!$D$31","v":0},{"$f":"'تعریف کالا'!$E$31","v":0},{"$f":"'تعریف کالا'!$G$31","v":0},null,{"$f":"'تعریف کالا'!$F$31","v":0},null,0,null,null,null,null,null,null,null,null,null,null,null,null,null,null,0,0,0,0,0,0,0]
[null,"کاردکس 30",{"$f":"'تعریف کالا'!$C$34","v":0},{"$f":"'تعریف کالا'!$D$34","v":0},{"$f":"'تعریف کالا'!$E$34","v":0},{"$f":"'تعریف کالا'!$G$34","v":0},null,{"$f":"'تعریف کالا'!$F$34","v":0},null,0,null,null,null,null,null,null,null,null,null,null,null,null,null,null,0,0,0,0,0,0,0]
[null,"کاردکس 38",{"$f":"'تعریف کالا'!$C$42","v":0},{"$f":"'تعریف کالا'!$D$42","v":0},{"$f":"'تعریف کالا'!$E$42","v":0},{"$f":"'تعریف کالا'!$G$42","v":0},null,{"$f":"'تعریف کالا'!$F$42","v":0},null,0,null,null,null,null,null,null,null,null,null,null,null,null,null,null,0,0,0,0,0,0,0]
[null,"کاردکس 45",{"$f":"'تعریف کالا'!$C$49","v":0},{"$f":"'تعریف کالا'!$D$49","v":0},{"$f":"'تعریف کالا'!$E$49","v":0},{"$f":"'تعریف کالا'!$G$49","v":0},null,{"$f":"'تعریف کالا'!$F$49","v":0},null,0,null,null,null,null,null,null,null,null,null,null,null,null,null,null,0,0,0,0,0,0,0]
[null,"کاردکس 50",{"$f":"'تعریف کالا'!$C$54","v":0},{"$f":"'تعریف کالا'!$D$54","v":0},{"$f":"'تعریف کالا'!$E$54","v":0},{"$f":"'تعریف کالا'!$G$54","v":0},null,{"$f":"'تعریف کالا'!$F$54","v":0},null,0,null,null,null,null,null,null,null,null,null,null,null,null,null,null,0,0,0,0,0,0,0]
[null,"کاردکس 54",{"$f":"'تعریف کالا'!$C$58","v":0},{"$f":"'تعریف کالا'!$D$58","v":0},{"$f":"'تعریف کالا'!$E$58","v":0},{"$f":"'تعریف کالا'!$G$58","v":0},null,{"$f":"'تعریف کالا'!$F$58","v":0},null,0,null,null,null,null,null,null,null,null,null,null,null,null,null,null,0,0,0,0,0,0,0]
[null,"کاردکس 57",{"$f":"'تعریف کالا'!$C$61","v":0},{"$f":"'تعریف کالا'!$D$61","v":0},{"$f":"'تعریف کالا'!$E$61","v":0},{"$f":"'تعریف کالا'!$G$61","v":0},null,{"$f":"'تعریف کالا'!$F$61","v":0},null,0,null,null,null,null,null,null,null,null,null,null,null,null,null,null,0,0,0,0,0,0,0]
[null,"کاردکس 65",{"$f":"'تعریف کالا'!$C$69","v":0},{"$f":"'تعریف کالا'!$D$69","v":0},{"$f":"'تعریف کالا'!$E$69","v":0},{"$f":"'تعریف کالا'!$G$69","v":0},null,{"$f":"'تعریف کالا'!$F$69","v":0},null,0,null,null,null,null,null,null,null,null,null,null,null,null,null,null,0,0,0,0,0,0,0]
[null,"کاردکس 69",{"$f":"'تعریف کالا'!$C$73","v":0},{"$f":"'تعریف کالا'!$D$73","v":0},{"$f":"'تعریف کالا'!$E$73","v":0},{"$f":"'تعریف کالا'!$G$73","v":0},null,{"$f":"'تعریف کالا'!$F$73","v":0},null,0,null,null,null,null,null,null,null,null,null,null,null,null,null,null,0,0,0,0,0,0,0]
[null,"کاردکس 74",{"$f":"'تعریف کالا'!$C$78","v":0},{"$f":"'تعریف کالا'!$D$78","v":0},{"$f":"'تعریف کالا'!$E$78","v":0},{"$f":"'تعریف کالا'!$G$78","v":0},null,{"$f":"'تعریف کالا'!$F$78","v":0},null,0,null,null,null,null,null,null,null,null,null,null,null,null,null,null,0,0,0,0,0,0,0]
[null,"کاردکس 80",{"$f":"'تعریف کالا'!$C$84","v":0},{"$f":"'تعریف کالا'!$D$84","v":0},{"$f":"'تعریف کالا'!$E$84","v":0},{"$f":"'تعریف کالا'!$G$84","v":0},null,{"$f":"'تعریف کالا'!$F$84","v":0},null,0,null,null,null,null,null,null,null,null,null,null,null,null,null,null,0,0,0,0,0,0,0]
[null,"کاردکس 89",{"$f":"'تعریف کالا'!$C$93","v":0},{"$f":"'تعریف کالا'!$D$93","v":0},{"$f":"'تعریف کالا'!$E$93","v":0},{"$f":"'تعریف کالا'!$G$93","v":0},null,{"$f":"'تعریف کالا'!$F$93","v":0},null,0,null,null,null,null,null,null,null,null,null,null,null,null,null,null,0,0,0,0,0,0,0]
[null,"کاردکس 92",{"$f":"'تعریف کالا'!$C$96","v":0},{"$f":"'تعریف کالا'!$D$96","v":0},{"$f":"'تعریف کالا'!$E$96","v":0},{"$f":"'تعریف کالا'!$G$96","v":0},null,{"$f":"'تعریف کالا'!$F$96","v":0},null,0,null,null,null,null,null,null,null,null,null,null,null,null,null,null,0,0,0,0,0,0,0]
[null,"کاردکس 98",{"$f":"'تعریف کالا'!$C$102","v":0},{"$f":"'تعریف کالا'!$D$102","v":0},{"$f":"'تعریف کالا'!$E$102","v":0},{"$f":"'تعریف کالا'!$G$102","v":0},null,{"$f":"'تعریف کالا'!$F$102","v":0},null,0,null,null,null,null,null,null,null,null,null,null,null,null,null,null,0,0,0,0,0,0,0]
[null,"کاردکس 104",{"$f":"'تعریف کالا'!$C$108","v":0},{"$f":"'تعریف کالا'!$D$108","v":0},{"$f":"'تعریف کالا'!$E$108","v":0},{"$f":"'تعریف کالا'!$G$108","v":0},null,{"$f":"'تعریف کالا'!$F$108","v":0},null,0,null,null,null,null,null,null,null,null,null,null,null,null,null,null,0,0,0,0,0,0,0]
[null,"کاردکس 109",{"$f":"'تعریف کالا'!$C$113","v":0},{"$f":"'تعریف کالا'!$D$113","v":0},{"$f":"'تعریف کالا'!$E$113","v":0},{"$f":"'تعریف کالا'!$G$113","v":0},null,{"$f":"'تعریف کالا'!$F$113","v":0},null,0,null,null,null,null,null,null,null,null,null,null,null,null,null,null,0,0,0,0,0,0,0]
[null,"کاردکس 116",{"$f":"'تعریف کالا'!$C$120","v":0},{"$f":"'تعریف کالا'!$D$120","v":0},{"$f":"'تعریف کالا'!$E$120","v":0},{"$f":"'تعریف کالا'!$G$120","v":0},null,{"$f":"'تعریف کالا'!$F$120","v":0},null,0,null,null,null,null,null,null,null,null,null,null,null,null,null,null,0,0,0,0,0,0,0]
[null,"کاردکس 118",{"$f":"'تعریف کالا'!$C$122","v":0},{"$f":"'تعریف کالا'!$D$122","v":0},{"$f":"'تعریف کالا'!$E$122","v":0},{"$f":"'تعریف کالا'!$G$122","v":0},null,{"$f":"'تعریف کالا'!$F$122","v":0},null,0,null,null,null,null,null,null,null,null,null,null,null,null,null,null,0,0,0,0,0,0,0]
[null,"کاردکس 127",{"$f":"'تعریف کالا'!$C$131","v":0},{"$f":"'تعریف کالا'!$D$131","v":0},{"$f":"'تعریف کالا'!$E$131","v":0},{"$f":"'تعریف کالا'!$G$131","v":0},null,{"$f":"'تعریف کالا'!$F$131","v":0},null,0,null,null,null,null,null,null,null,null,null,null,null,null,null,null,0,0,0,0,0,0,0]
[null,"کاردکس 133",{"$f":"'تعریف کالا'!$C$137","v":0},{"$f":"'تعریف کالا'!$D$137","v":0},{"$f":"'تعریف کالا'!$E$137","v":0},{"$f":"'تعریف کالا'!$G$137","v":0},null,{"$f":"'تعریف کالا'!$F$137","v":0},null,0,null,null,null,null,null,null,null,null,null,null,null,null,null,null,0,0,0,0,0,0,0]
[null,"کاردکس 134",{"$f":"'تعریف کالا'!$C$138","v":0},{"$f":"'تعریف کالا'!$D$138","v":0},{"$f":"'تعریف کالا'!$E$138","v":0},{"$f":"'تعریف کالا'!$G$138","v":0},null,{"$f":"'تعریف کالا'!$F$138","v":0},null,0,null,null,null,null,null,null,null,null,null,null,null,null,null,null,0,0,0,0,0,0,0]
[null,"کاردکس 142",{"$f":"'تعریف کالا'!$C$146","v":0},{"$f":"'تعریف کالا'!$D$146","v":0},{"$f":"'تعریف کالا'!$E$146","v":0},{"$f":"'تعریف کالا'!$G$146","v":0},null,{"$f":"'تعریف کالا'!$F$146","v":0},null,0,null,null,null,null,null,null,null,null,null,null,null,null,null,null,0,0,0,0,0,0,0]
[null,"کاردکس 146",{"$f":"'تعریف کالا'!$C$150","v":0},{"$f":"'تعریف کالا'!$D$150","v":0},{"$f":"'تعریف کالا'!$E$150","v":0},{"$f":"'تعریف کالا'!$G$150","v":0},null,{"$f":"'تعریف کالا'!$F$150","v":0},null,0,null,null,null,null,null,null,null,null,null,null,null,null,null,null,0,0,0,0,0,0,0]
[null,"کاردکس 153",{"$f":"'تعریف کالا'!$C$157","v":0},{"$f":"'تعریف کالا'!$D$157","v":0},{"$f":"'تعریف کالا'!$E$157","v":0},{"$f":"'تعریف کالا'!$G$157","v":0},null,{"$f":"'تعریف کالا'!$F$157","v":0},null,0,null,null,null,null,null,null,null,null,null,null,null,null,null,null,0,0,0,0,0,0,0]
[null,"کاردکس 158",{"$f":"'تعریف کالا'!$C$162","v":0},{"$f":"'تعریف کالا'!$D$162","v":0},{"$f":"'تعریف کالا'!$E$162","v":0},{"$f":"'تعریف کالا'!$G$162","v":0},null,{"$f":"'تعریف کالا'!$F$162","v":0},null,0,null,null,null,null,null,null,null,null,null,null,null,null,null,null,0,0,0,0,0,0,0]
[null,"کاردکس 162",{"$f":"'تعریف کالا'!$C$166","v":0},{"$f":"'تعریف کالا'!$D$166","v":0},{"$f":"'تعریف کالا'!$E$166","v":0},{"$f":"'تعریف کالا'!$G$166","v":0},null,{"$f":"'تعریف کالا'!$F$166","v":0},null,0,null,null,null,null,null,null,null,null,null,null,null,null,null,null,0,0,0,0,0,0,0]
[null,"کاردکس 170",{"$f":"'تعریف کالا'!$C$174","v":0},{"$f":"'تعریف کالا'!$D$174","v":0},{"$f":"'تعریف کالا'!$E$174","v":0},{"$f":"'تعریف کالا'!$G$174","v":0},null,{"$f":"'تعریف کالا'!$F$174","v":0},null,0,null,null,null,null,null,null,null,null,null,null,null,null,null,null,0,0,0,0,0,0,0]
[null,"کاردکس 177",{"$f":"'تعریف کالا'!$C$181","v":0},{"$f":"'تعریف کالا'!$D$181","v":0},{"$f":"'تعریف کالا'!$E$181","v":0},{"$f":"'تعریف کالا'!$G$181","v":0},null,{"$f":"'تعریف کالا'!$F$181","v":0},null,0,null,null,null,null,null,null,null,null,null,null,null,null,null,null,0,0,0,0,0,0,0]
[null,"کاردکس 181",{"$f":"'تعریف کالا'!$C$185","v":0},{"$f":"'تعریف کالا'!$D$185","v":0},{"$f":"'تعریف کالا'!$E$185","v":0},{"$f":"'تعریف کالا'!$G$185","v":0},null,{"$f":"'تعریف کالا'!$F$185","v":0},null,0,null,null,null,null,null,null,null,null,null,null,null,null,null,null,0,0,0,0,0,0,0]
[null,"کاردکس 186",{"$f":"'تعریف کالا'!$C$190","v":0},{"$f":"'تعریف کالا'!$D$190","v":0},{"$f":"'تعریف کالا'!$E$190","v":0},{"$f":"'تعریف کالا'!$G$190","v":0},null,{"$f":"'تعریف کالا'!$F$190","v":0},null,0,null,null,null,null,null,null,null,null,null,null,null,null,null,null,0,0,0,0,0,0,0]
[null,"کاردکس 193",{"$f":"'تعریف کالا'!$C$197","v":0},{"$f":"'تعریف کالا'!$D$197","v":0},{"$f":"'تعریف کالا'!$E$197","v":0},{"$f":"'تعریف کالا'!$G$197","v":0},null,{"$f":"'تعریف کالا'!$F$197","v":0},null,0,null,null,null,null,null,null,null,null,null,null,null,null,null,null,0,0,0,0,0,0,0]
[null,"کاردکس 197",{"$f":"'تعریف کالا'!$C$201","v":0},{"$f":"'تعریف کالا'!$D$201","v":0},{"$f":"'تعریف کالا'!$E$201","v":0},{"$f":"'تعریف کالا'!$G$201","v":0},null,{"$f":"'تعریف کالا'!$F$201","v":0},null,0,null,null,null,null,null,null,null,null,null,null,null,null,null,null,0,0,0,0,0,0,0]
[null,"کاردکس 200",{"$f":"'تعریف کالا'!$C$204","v":0},{"$f":"'تعریف کالا'!$D$204","v":0},{"$f":"'تعریف کالا'!$E$204","v":0},{"$f":"'تعریف کالا'!$G$204","v":0},null,{"$f":"'تعریف کالا'!$F$204","v":0},null,0,null,null,null,null,null,null,null,null,null,null,null,null,null,null,0,0,0,0,0,0,0]
[]
[null,null,"فاکتور خرید"]
[null,null,"پرداخت با چک",null,null,null,null,null,"مانده حساب",{"$f":"J1587-D1587-D1588","v":0}]
[null,null,"ثبت چک","شرح رویداد"]
[null,"کاردکس 5",{"$f":"'تعریف کالا'!$C$9","v":0},{"$f":"'تعریف کالا'!$D$9","v":0},{"$f":"'تعریف کالا'!$E$9","v":0},{"$f":"'تعریف کالا'!$G$9","v":0},null,{"$f":"'تعریف کالا'!$F$9","v":0},null,0,null,null,null,null,null,null,null,null,null,null,null,null,null,null,0,0,0,0,0,0,0]
[null,"کاردکس 10",{"$f":"'تعریف کالا'!$C$14","v":0},{"$f":"'تعریف کالا'!$D$14","v":0},{"$f":"'تعریف کالا'!$E$14","v":0},{"$f":"'تعریف کالا'!$G$14","v":0},null,{"$f":"'تعریف کالا'!$F$14","v":0},null,0,null,null,null,null,null,null,null,null,null,null,null,null,null,null,0,0,0,0,0,0,0]
[null,"کاردکس 14",{"$f":"'تعریف کالا'!$C$18","v":0},{"$f":"'تعریف کالا'!$D$18","v":0},{"$f":"'تعریف کالا'!$E$18","v":0},{"$f":"'تعریف کالا'!$G$18","v":0},null,{"$f":"'تعریف کالا'!$F$18","v":0},null,0,null,null,null,null,null,null,null,null,null,null,null,null,null,null,0,0,0,0,0,0,0]
[null,"کاردکس 22",{"$f":"'تعریف کالا'!$C$26","v":0},{"$f":"'تعریف کالا'!$D$26","v":0},{"$f":"'تعریف کالا'!$E$26","v":0},{"$f":"'تعریف کالا'!$G$26","v":0},null,{"$f":"'تعریف کالا'!$F$26","v":0},null,0,null,null,null,null,null,null,null,null,null,null,null,null,null,null,0,0,0,0,0,0,0]
[null,"کاردکس 25",{"$f":"'تعریف کالا'!$C$29","v":0},{"$f":"'تعریف کالا'!$D$29","v":0},{"$f":"'تعریف کالا'!$E$29","v":0},{"$f":"'تعریف کالا'!$G$29","v":0},null,{"$f":"'تعریف کالا'!$F$29","v":0},null,0,null,null,null,null,null,null,null,null,null,null,null,null,null,null,0,0,0,0,0,0,0]
[null,"کاردکس 34",{"$f":"'تعریف کالا'!$C$38","v":0},{"$f":"'تعریف کالا'!$D$38","v":0},{"$f":"'تعریف کالا'!$E$38","v":0},{"$f":"'تعریف کالا'!$G$38","v":0},null,{"$f":"'تعریف کالا'!$F$38","v":0},null,0,null,null,null,null,null,null,null,null,null,null,null,null,null,null,0,0,0,0,0,0,0]
[null,"کاردکس 40",{"$f":"'تعریف کالا'!$C$44","v":0},{"$f":"'تعریف کالا'!$D$44","v":0},{"$f":"'تعریف کالا'!$E$44","v":0},{"$f":"'تعریف کالا'!$G$44","v":0},null,{"$f":"'تعریف کالا'!$F$44","v":0},null,0,null,null,null,null,null,null,null,null,null,null,null,null,null,null,0,0,0,0,0,0,0]
[null,"کاردکس 45",{"$f":"'تعریف کالا'!$C$49","v":0},{"$f":"'تعریف کالا'!$D$49","v":0},{"$f":"'تعریف کالا'!$E$49","v":0},{"$f":"'تعریف کالا'!$G$49","v":0},null,{"$f":"'تعریف کالا'!$F$49","v":0},null,0,null,null,null,null,null,null,null,null,null,null,null,null,null,null,0,0,0,0,0,0,0]
[null,"کاردکس 49",{"$f":"'تعریف کالا'!$C$53","v":0},{"$f":"'تعریف کالا'!$D$53","v":0},{"$f":"'تعریف کالا'!$E$53","v":0},{"$f":"'تعریف کالا'!$G$53","v":0},null,{"$f":"'تعریف کالا'!$F$53","v":0},null,0,null,null,null,null,null,null,null,null,null,null,null,null,null,null,0,0,0,0,0,0,0]
[null,"کاردکس 52",{"$f":"'تعریف کالا'!$C$56","v":0},{"$f":"'تعریف کالا'!$D$56","v":0},{"$f":"'تعریف کالا'!$E$56","v":0},{"$f":"'تعریف کالا'!$G$56","v":0},null,{"$f":"'تعریف کالا'!$F$56","v":0},null,0,null,null,null,null,null,null,null,null,null,null,null,null,null,null,0,0,0,0,0,0,0]
[null,"کاردکس 58",{"$f":"'تعریف کالا'!$C$62","v":0},{"$f":"'تعریف کالا'!$D$62","v":0},{"$f":"'تعریف کالا'!$E$62","v":0},{"$f":"'تعریف کالا'!$G$62","v":0},null,{"$f":"'تعریف کالا'!$F$62","v":0},null,0,null,null,null,null,null,null,null,null,null,null,null,null,null,null,0,0,0,0,0,0,0]
[null,"کاردکس 64",{"$f":"'تعریف کالا'!$C$68","v":0},{"$f":"'تعریف کالا'!$D$68","v":0},{"$f":"'تعریف کالا'!$E$68","v":0},{"$f":"'تعریف کالا'!$G$68","v":0},null,{"$f":"'تعریف کالا'!$F$68","v":0},null,0,null,null,null,null,null,null,null,null,null,null,null,null,null,null,0,0,0,0,0,0,0]
[null,"کاردکس 69",{"$f":"'تعریف کالا'!$C$73","v":0},{"$f":"'تعریف کالا'!$D$73","v":0},{"$f":"'تعریف کالا'!$E$73","v":0},{"$f":"'تعریف کالا'!$G$73","v":0},null,{"$f":"'تعریف کالا'!$F$73","v":0},null,0,null,null,null,null,null,null,null,null,null,null,null,null,null,null,0,0,0,0,0,0,0]
[null,"کاردکس 76",{"$f":"'تعریف کالا'!$C$80","v":0},{"$f":"'تعریف کالا'!$D$80","v":0},{"$f":"'تعریف کالا'!$E$80","v":0},{"$f":"'تعریف کالا'!$G$80","v":0},null,{"$f":"'تعریف کالا'!$F$80","v":0},null,0,null,null,null,null,null,null,null,null,null,null,null,null,null,null,0,0,0,0,0,0,0]
[null,"کاردکس 84",{"$f":"'تعریف کالا'!$C$88","v":0},{"$f":"'تعریف کالا'!$D$88","v":0},{"$f":"'تعریف کالا'!$E$88","v":0},{"$f":"'تعریف کالا'!$G$88","v":0},null,{"$f":"'تعریف کالا'!$F$88","v":0},null,0,null,null,null,null,null,null,null,null,null,null,null,null,null,null,0,0,0,0,0,0,0]
[null,"کاردکس 87",{"$f":"'تعریف کالا'!$C$91","v":0},{"$f":"'تعریف کالا'!$D$91","v":0},{"$f":"'تعریف کالا'!$E$91","v":0},{"$f":"'تعریف کالا'!$G$91","v":0},null,{"$f":"'تعریف کالا'!$F$91","v":0},null,0,null,null,null,null,null,null,null,null,null,null,null,null,null,null,0,0,0,0,0,0,0]
[null,"کاردکس 93",{"$f":"'تعریف کالا'!$C$97","v":0},{"$f":"'تعریف کالا'!$D$97","v":0},{"$f":"'تعریف کالا'!$E$97","v":0},{"$f":"'تعریف کالا'!$G$97","v":0},null,{"$f":"'تعریف کالا'!$F$97","v":0},null,0,null,null,null,null,null,null,null,null,null,null,null,null,null,null,0,0,0,0,0,0,0]
[null,"کاردکس 99",{"$f":"'تعریف کالا'!$C$103","v":0},{"$f":"'تعریف کالا'!$D$103","v":0},{"$f":"'تعریف کالا'!$E$103","v":0},{"$f":"'تعریف کالا'!$G$103","v":0},null,{"$f":"'تعریف کالا'!$F$103","v":0},null,0,null,null,null,null,null,null,null,null,null,null,null,null,null,null,0,0,0,0,0,0,0]
[null,"کاردکس 102",{"$f":"'تعریف کالا'!$C$106","v":0},{"$f":"'تعریف کالا'!$D$106","v":0},{"$f":"'تعریف کالا'!$E$106","v":0},{"$f":"'تعریف کالا'!$G$106","v":0},null,{"$f":"'تعریف کالا'!$F$106","v":0},null,0,null,null,null,null,null,null,null,null,null,null,null,null,null,null,0,0,0,0,0,0,0]
[null,"کاردکس 111",{"$f":"'تعریف کالا'!$C$115","v":0},{"$f":"'تعریف کالا'!$D$115","v":0},{"$f":"'تعریف کالا'!$E$115","v":0},{"$f":"'تعریف کالا'!$G$115","v":0},null,{"$f":"'تعریف کالا'!$F$115","v":0},null,0,null,null,null,null,null,null,null,null,null,null,null,null,null,null,0,0,0,0,0,0,0]
[null,"کاردکس 113",{"$f":"'تعریف کالا'!$C$117","v":0},{"$f":"'تعریف کالا'!$D$117","v":0},{"$f":"'تعریف کالا'!$E$117","v":0},{"$f":"'تعریف کالا'!$G$117","v":0},null,{"$f":"'تعریف کالا'!$F$117","v":0},null,0,null,null,null,null,null,null,null,null,null,null,null,null,null,null,0,0,0,0,0,0,0]
[null,"کاردکس 118",{"$f":"'تعریف کالا'!$C$122","v":0},{"$f":"'تعریف کالا'!$D$122","v":0},{"$f":"'تعریف کالا'!$E$122","v":0},{"$f":"'تعریف کالا'!$G$122","v":0},null,{"$f":"'تعریف کالا'!$F$122","v":0},null,0,null,null,null,null,null,null,null,null,null,null,null,null,null,null,0,0,0,0,0,0,0]
[null,"کاردکس 128",{"$f":"'تعریف کالا'!$C$132","v":0},{"$f":"'تعریف کالا'!$D$132","v":0},{"$f":"'تعریف کالا'!$E$132","v":0},{"$f":"'تعریف کالا'!$G$132","v":0},null,{"$f":"'تعریف کالا'!$F$132","v":0},null,0,null,null,null,null,null,null,null,null,null,null,null,null,null,null,0,0,0,0,0,0,0]
[null,"کاردکس 130",{"$f":"'تعریف کالا'!$C$134","v":0},{"$f":"'تعریف کالا'!$D$134","v":0},{"$f":"'تعریف کالا'!$E$134","v":0},{"$f":"'تعریف کالا'!$G$134","v":0},null,{"$f":"'تعریف کالا'!$F$134","v":0},null,0,null,null,null,null,null,null,null,null,null,null,null,null,null,null,0,0,0,{"$f":"F1722","v":0},{"$f":"H1722","v":0},{"$f":"I1722","v":0},{"$f":"J1722","v":0}]
[null,"کاردکس 137",{"$f":"'تعریف کالا'!$C$141","v":0},{"$f":"'تعریف کالا'!$D$141","v":0},{"$f":"'تعریف کالا'!$E$141","v":0},{"$f":"'تعریف کالا'!$G$141","v":0},null,{"$f":"'تعریف کالا'!$F$141","v":0},null,0,null,null,null,null,null,null,null,null,null,null,null,null,null,null,0,0,0,0,0,0,0]
[null,"کاردکس 141",{"$f":"'تعریف کالا'!$C$145","v":0},{"$f":"'تعریف کالا'!$D$145","v":0},{"$f":"'تعریف کالا'!$E$145","v":0},{"$f":"'تعریف کالا'!$G$145","v":0},null,{"$f":"'تعریف کالا'!$F$145","v":0},null,0,null,null,null,null,null,null,null,null,null,null,null,null,null,null,0,0,0,0,0,0,0]
[null,"کاردکس 146",{"$f":"'تعریف کالا'!$C$150","v":0},{"$f":"'تعریف کالا'!$D$150","v":0},{"$f":"'تعریف کالا'!$E$150","v":0},{"$f":"'تعریف کالا'!$G$150","v":0},null,{"$f":"'تعریف کالا'!$F$150","v":0},null,0,null,null,null,null,null,null,null,null,null,null,null,null,null,null,0,0,0,0,0,0,0]
[null,"کاردکس 153",{"$f":"'تعریف کالا'!$C$157","v":0},{"$f":"'تعریف کالا'!$D$157","v":0},{"$f":"'تعریف کالا'!$E$157","v":0},{"$f":"'تعریف کالا'!$G$157","v":0},null,{"$f":"'تعریف کالا'!$F$157","v":0},null,0,null,null,null,null,null,null,null,null,null,null,null,null,null,null,0,0,0,0,0,0,0]
[null,"کاردکس 157",{"$f":"'تعریف کالا'!$C$161","v":0},{"$f":"'تعریف کالا'!$D$161","v":0},{"$f":"'تعریف کالا'!$E$161","v":0},{"$f":"'تعریف کالا'!$G$161","v":0},null,{"$f":"'تعریف کالا'!$F$161","v":0},null,0,null,null,null,null,null,null,null,null,null,null,null,null,null,null,0,0,0,0,0,0,0]
[null,"کاردکس 165",{"$f":"'تعریف کالا'!$C$169","v":0},{"$f":"'تعریف کالا'!$D$169","v":0},{"$f":"'تعریف کالا'!$E$169","v":0},{"$f":"'تعریف کالا'!$G$169","v":0},null,{"$f":"'تعریف کالا'!$F$169","v":0},null,0,null,null,null,null,null,null,null,null,null,null,null,null,null,null,0,0,0,0,0,0,0]
[null,"کاردکس 172",{"$f":"'تعریف کالا'!$C$176","v":0},{"$f":"'تعریف کالا'!$D$176","v":0},{"$f":"'تعریف کالا'!$E$176","v":0},{"$f":"'تعریف کالا'!$G$176","v":0},null,{"$f":"'تعریف کالا'!$F$176","v":0},null,0,null,null,null,null,null,null,null,null,null,null,null,null,null,null,0,0,0,0,0,0,0]
[null,"کاردکس 177",{"$f":"'تعریف کالا'!$C$181","v":0},{"$f":"'تعریف کالا'!$D$181","v":0},{"$f":"'تعریف کالا'!$E$181","v":0},{"$f":"'تعریف کالا'!$G$181","v":0},null,{"$f":"'تعریف کالا'!$F$181","v":0},null,0,null,null,null,null,null,null,null,null,null,null,null,null,null,null,0,0,0,0,0,0,0]
[null,"کاردکس 181",{"$f":"'تعریف کالا'!$C$185","v":0},{"$f":"'تعریف کالا'!$D$185","v":0},{"$f":"'تعریف کالا'!$E$185","v":0},{"$f":"'تعریف کالا'!$G$185","v":0},null,{"$f":"'تعریف کالا'!$F$185","v":0},null,0,null,null,null,null,null,null,null,null,null,null,null,null,null,null,0,0,0,0,0,0,0]
[null,"کاردکس 188",{"$f":"'تعریف کالا'!$C$192","v":0},{"$f":"'تعریف کالا'!$D$192","v":0},{"$f":"'تعریف کالا'!$E$192","v":0},{"$f":"'تعریف کالا'!$G$192","v":0},null,{"$f":"'تعریف کالا'!$F$192","v":0},null,0,null,null,null,null,null,null,null,null,null,null,null,null,null,null,0,0,0,0,0,0,0]
[null,"کاردکس 190",{"$f":"'تعریف کالا'!$C$194","v":0},{"$f":"'تعریف کالا'!$D$194","v":0},{"$f":"'تعریف کالا'!$E$194","v":0},{"$f":"'تعریف کالا'!$G$194","v":0},null,{"$f":"'تعریف کالا'!$F$194","v":0},null,0,null,null,null,null,null,null,null,null,null,null,null,null,null,null,0,0,0,0,0,0,0]
[null,"کاردکس 195",{"$f":"'تعریف کالا'!$C$199","v":0},{"$f":"'تعریف کالا'!$D$199","v":0},{"$f":"'تعریف کالا'!$E$199","v":0},{"$f":"'تعریف کالا'!$G$199","v":0},null,{"$f":"'تعریف کالا'!$F$199","v":0},null,{"$f":"(F1787*I1787)-(F1787*I1787*G1787%)","v":0},null,null,null,null,null,null,null,null,null,null,null,null,null,null,{"$f":"C1787","v":0},{"$f":"D1787","v":0},{"$f":"E1787","v":0},0,0,0,0]
[null,null,null,null,null,null,null,null,null,null,null,null,null,null,null,null,null,null,null,null,null,null,null,null,"امضا صادر کننده",null,"امضا فروشنده",null,"امضا مسئول انبار",null,"امضا خریدار"]
[]
[null,null,null,null,null,null,null,null,null,null,null,null,null,null,null,null,null,null,null,null,null,null,null,"شماره سند",{"$f":"C1806","v":9}]
[null,null,null,null,null,"          مالیات",null,null,"مالیات",{"$f":"(I2018-J1809+J1810)*G1811%","v":0}]
[null,"شماره کاردکس","کد کالا","نام کالا","گروه بندی","قیمت واحد","درصد تخفیف","واحد شمارش","تعداد","قیمت کل",null,null,null,null,null,null,null,null,null,null,null,null,null,"ردیف","کد کالا","نام کالا","گروه بندی","قیمت واحد","واحد شمارش","تعداد","قیمت کل"]
[null,"کاردکس 5",{"$f":"'تعریف کالا'!$C$9","v":0},{"$f":"'تعریف کالا'!$D$9","v":0},{"$f":"'تعریف کالا'!$E$9","v":0},{"$f":"'تعریف کالا'!$G$9","v":0},null,{"$f":"'تعریف کالا'!$F$9","v":0},null,0,null,null,null,null,null,null,null,null,null,null,null,null,null,null,0,0,0,0,0,0,0]
[null,"کاردکس 9",{"$f":"'تعریف کالا'!$C$13","v":0},{"$f":"'تعریف کالا'!$D$13","v":0},{"$f":"'تعریف کالا'!$E$13","v":0},{"$f":"'تعریف کالا'!$G$13","v":0},null,{"$f":"'تعریف کالا'!$F$13","v":0},null,0,null,null,null,null,null,null,null,null,null,null,null,null,null,null,0,0,0,0,0,0,0]
[null,"کاردکس 17",{"$f":"'تعریف کالا'!$C$21","v":0},{"$f":"'تعریف کالا'!$D$21","v":0},{"$f":"'تعریف کالا'!$E$21","v":0},{"$f":"'تعریف کالا'!$G$21","v":0},null,{"$f":"'تعریف کالا'!$F$21","v":0},null,0,null,null,null,null,null,null,null,null,null,null,null,null,null,null,0,0,0,0,0,0,0]
[null,"کاردکس 24",{"$f":"'تعریف کالا'!$C$28","v":0},{"$f":"'تعریف کالا'!$D$28","v":0},{"$f":"'تعریف کالا'!$E$28","v":0},{"$f":"'تعریف کالا'!$G$28","v":0},null,{"$f":"'تعریف کالا'!$F$28","v":0},null,0,null,null,null,null,null,null,null,null,null,null,null,null,null,null,0,0,0,0,0,0,0]
[null,"کاردکس 29",{"$f":"'تعریف کالا'!$C$33","v":0},{"$f":"'تعریف کالا'!$D$33","v":0},{"$f":"'تعریف کالا'!$E$33","v":0},{"$f":"'تعریف کالا'!$G$33","v":0},null,{"$f":"'تعریف کالا'!$F$33","v":0},null,0,null,null,null,null,null,null,null,null,null,null,null,null,null,null,0,0,0,0,0,0,0]
[null,"کاردکس 35",{"$f":"'تعریف کالا'!$C$39","v":0},{"$f":"'تعریف کالا'!$D$39","v":0},{"$f":"'تعریف کالا'!$E$39","v":0},{"$f":"'تعریف کالا'!$G$39","v":0},null,{"$f":"'تعریف کالا'!$F$39","v":0},null,0,null,null,null,null,null,null,null,null,null,null,null,null,null,null,0,0,0,0,0,0,0]
[null,"کاردکس 36",{"$f":"'تعریف کالا'!$C$40","v":0},{"$f":"'تعریف کالا'!$D$40","v":0},{"$f":"'تعریف کالا'!$E$40","v":0},{"$f":"'تعریف کالا'!$G$40","v":0},null,{"$f":"'تعریف کالا'!$F$40","v":0},null,0,null,null,null,null,null,null,null,null,null,null,null,null,null,null,0,0,0,0,0,0,0]
[null,"کاردکس 44",{"$f":"'تعریف کالا'!$C$48","v":0},{"$f":"'تعریف کالا'!$D$48","v":0},{"$f":"'تعریف کالا'!$E$48","v":0},{"$f":"'تعریف کالا'!$G$48","v":0},null,{"$f":"'تعریف کالا'!$F$48","v":0},null,0,null,null,null,null,null,null,null,null,null,null,null,null,null,null,0,0,0,0,0,0,0]
[null,"کاردکس 47",{"$f":"'تعریف کالا'!$C$51","v":0},{"$f":"'تعریف کالا'!$D$51","v":0},{"$f":"'تعریف کالا'!$E$51","v":0},{"$f":"'تعریف کالا'!$G$51","v":0},null,{"$f":"'تعریف کالا'!$F$51","v":0},null,0,null,null,null,null,null,null,null,null,null,null,null,null,null,null,0,0,0,0,0,0,0]
[null,"کاردکس 53",{"$f":"'تعریف کالا'!$C$57","v":0},{"$f":"'تعریف کالا'!$D$57","v":0},{"$f":"'تعریف کالا'!$E$57","v":0},{"$f":"'تعریف کالا'!$G$57","v":0},null,{"$f":"'تعریف کالا'!$F$57","v":0},null,0,null,null,null,null,null,null,null,null,null,null,null,null,null,null,0,0,0,0,0,0,0]
[null,"کاردکس 59",{"$f":"'تعریف کالا'!$C$63","v":0},{"$f":"'تعریف کالا'!$D$63","v":0},{"$f":"'تعریف کالا'!$E$63","v":0},{"$f":"'تعریف کالا'!$G$63","v":0},null,{"$f":"'تعریف کالا'!$F$63","v":0},null,0,null,null,null,null,null,null,null,null,null,null,null,null,null,null,0,0,0,0,0,0,0]
[null,"کاردکس 68",{"$f":"'تعریف کالا'!$C$72","v":0},{"$f":"'تعریف کالا'!$D$72","v":0},{"$f":"'تعریف کالا'!$E$72","v":0},{"$f":"'تعریف کالا'!$G$72","v":0},null,{"$f":"'تعریف کالا'!$F$72","v":0},null,0,null,null,null,null,null,null,null,null,null,null,null,null,null,null,0,0,0,0,0,0,0]
[null,"کاردکس 71",{"$f":"'تعریف کالا'!$C$75","v":0},{"$f":"'تعریف کالا'!$D$75","v":0},{"$f":"'تعریف کالا'!$E$75","v":0},{"$f":"'تعریف کالا'!$G$75","v":0},null,{"$f":"'تعریف کالا'!$F$75","v":0},null,0,null,null,null,null,null,null,null,null,null,null,null,null,null,null,0,0,0,0,0,0,0]
[null,"کاردکس 79",{"$f":"'تعریف کالا'!$C$83","v":0},{"$f":"'تعریف کالا'!$D$83","v":0},{"$f":"'تعریف کالا'!$E$83","v":0},{"$f":"'تعریف کالا'!$G$83","v":0},null,{"$f":"'تعریف کالا'!$F$83","v":0},null,0,null,null,null,null,null,null,null,null,null,null,null,null,null,null,0,0,0,0,0,0,0]
[null,"کاردکس 83",{"$f":"'تعریف کالا'!$C$87","v":0},{"$f":"'تعریف کالا'!$D$87","v":0},{"$f":"'تعریف کالا'!$E$87","v":0},{"$f":"'تعریف کالا'!$G$87","v":0},null,{"$f":"'تعریف کالا'!$F$87","v":0},null,0,null,null,null,null,null,null,null,null,null,null,null,null,null,null,0,0,0,0,0,0,0]
[null,"کاردکس 88",{"$f":"'تعریف کالا'!$C$92","v":0},{"$f":"'تعریف کالا'!$D$92","v":0},{"$f":"'تعریف کالا'!$E$92","v":0},{"$f":"'تعریف کالا'!$G$92","v":0},null,{"$f":"'تعریف کالا'!$F$92","v":0},null,0,null,null,null,null,null,null,null,null,null,null,null,null,null,null,0,0,0,0,0,0,0]
[null,"کاردکس 95",{"$f":"'تعریف کالا'!$C$99","v":0},{"$f":"'تعریف کالا'!$D$99","v":0},{"$f":"'تعریف کالا'!$E$99","v":0},{"$f":"'تعریف کالا'!$G$99","v":0},null,{"$f":"'تعریف کالا'!$F$99","v":0},null,0,null,null,null,null,null,null,null,null,null,null,null,null,null,null,0,0,0,0,0,0,0]
[null,"کاردکس 100",{"$f":"'تعریف کالا'!$C$104","v":0},{"$f":"'تعریف کالا'!$D$104","v":0},{"$f":"'تعریف کالا'!$E$104","v":0},{"$f":"'تعریف کالا'!$G$104","v":0},null,{"$f":"'تعریف کالا'!$F$104","v":0},null,0,null,null,null,null,null,null,null,null,null,null,null,null,null,null,0,0,0,0,0,0,0]
[null,"کاردکس 105",{"$f":"'تعریف کالا'!$C$109","v":0},{"$f":"'تعریف کالا'!$D$109","v":0},{"$f":"'تعریف کالا'!$E$109","v":0},{"$f":"'تعریف کالا'!$G$109","v":0},null,{"$f":"'تعریف کالا'!$F$109","v":0},null,0,null,null,null,null,null,null,null,null,null,null,null,null,null,null,0,0,0,0,0,0,0]
[null,"کاردکس 107",{"$f":"'تعریف کالا'!$C$111","v":0},{"$f":"'تعریف کالا'!$D$111","v":0},{"$f":"'تعریف کالا'!$E$111","v":0},{"$f":"'تعریف کالا'!$G$111","v":0},null,{"$f":"'تعریف کالا'!$F$111","v":0},null,0,null,null,null,null,null,null,null,null,null,null,null,null,null,null,0,0,0,0,0,0,0]
[null,"کاردکس 114",{"$f":"'تعریف کالا'!$C$118","v":0},{"$f":"'تعریف کالا'!$D$118","v":0},{"$f":"'تعریف کالا'!$E$118","v":0},{"$f":"'تعریف کالا'!$G$118","v":0},null,{"$f":"'تعریف کالا'!$F$118","v":0},null,0,null,null,null,null,null,null,null,null,null,null,null,null,null,null,0,0,0,0,0,0,0]
[null,"کاردکس 118",{"$f":"'تعریف کالا'!$C$122","v":0},{"$f":"'تعریف کالا'!$D$122","v":0},{"$f":"'تعریف کالا'!$E$122","v":0},{"$f":"'تعریف کالا'!$G$122","v":0},null,{"$f":"'تعریف کالا'!$F$122","v":0},null,0,null,null,null,null,null,null,null,null,null,null,null,null,null,null,0,0,0,0,0,0,0]
[null,"کاردکس 123",{"$f":"'تعریف کالا'!$C$127","v":0},{"$f":"'تعریف کالا'!$D$127","v":0},{"$f":"'تعریف کالا'!$E$127","v":0},{"$f":"'تعریف کالا'!$G$127","v":0},null,{"$f":"'تعریف کالا'!$F$127","v":0},null,0,null,null,null,null,null,null,null,null,null,null,null,null,null,null,0,0,0,0,0,0,0]
[null,"کاردکس 130",{"$f":"'تعریف کالا'!$C$134","v":0},{"$f":"'تعریف کالا'!$D$134","v":0},{"$f":"'تعریف کالا'!$E$134","v":0},{"$f":"'تعریف کالا'!$G$134","v":0},null,{"$f":"'تعریف کالا'!$F$134","v":0},null,0,null,null,null,null,null,null,null,null,null,null,null,null,null,null,0,0,0,{"$f":"F1947","v":0},{"$f":"H1947","v":0},{"$f":"I1947","v":0},{"$f":"J1947","v":0}]
[null,"کاردکس 138",{"$f":"'تعریف کالا'!$C$142","v":0},{"$f":"'تعریف کالا'!$D$142","v":0},{"$f":"'تعریف کالا'!$E$142","v":0},{"$f":"'تعریف کالا'!$G$142","v":0},null,{"$f":"'تعریف کالا'!$F$142","v":0},null,0,null,null,null,null,null,null,null,null,null,null,null,null,null,null,0,0,0,0,0,0,0]
[null,"کاردکس 142",{"$f":"'تعریف کالا'!$C$146","v":0},{"$f":"'تعریف کالا'!$D$146","v":0},{"$f":"'تعریف کالا'!$E$146","v":0},{"$f":"'تعریف کالا'!$G$146","v":0},null,{"$f":"'تعریف کالا'!$F$146","v":0},null,0,null,null,null,null,null,null,null,null,null,null,null,null,null,null,0,0,0,0,0,0,0]
[null,"کاردکس 149",{"$f":"'تعریف کالا'!$C$153","v":0},{"$f":"'تعریف کالا'!$D$153","v":0},{"$f":"'تعریف کالا'!$E$153","v":0},{"$f":"'تعریف کالا'!$G$153","v":0},null,{"$f":"'تعریف کالا'!$F$153","v":0},null,0,null,null,null,null,null,null,null,null,null,null,null,null,null,null,0,0,0,0,0,0,0]
[null,"کاردکس 154",{"$f":"'تعریف کالا'!$C$158","v":0},{"$f":"'تعریف کالا'!$D$158","v":0},{"$f":"'تعریف کالا'!$E$158","v":0},{"$f":"'تعریف کالا'!$G$158","v":0},null,{"$f":"'تعریف کالا'!$F$158","v":0},null,0,null,null,null,null,null,null,null,null,null,null,null,null,null,null,0,0,0,0,0,0,0]
[null,"کاردکس 158",{"$f":"'تعریف کالا'!$C$162","v":0},{"$f":"'تعریف کالا'!$D$162","v":0},{"$f":"'تعریف کالا'!$E$162","v":0},{"$f":"'تعریف کالا'!$G$162","v":0},null,{"$f":"'تعریف کالا'!$F$162","v":0},null,0,null,null,null,null,null,null,null,null,null,null,null,null,null,null,0,0,0,0,0,0,0]
[null,"کاردکس 165",{"$f":"'تعریف کالا'!$C$169","v":0},{"$f":"'تعریف کالا'!$D$169","v":0},{"$f":"'تعریف کالا'!$E$169","v":0},{"$f":"'تعریف کالا'!$G$169","v":0},null,{"$f":"'تعریف کالا'!$F$169","v":0},null,0,null,null,null,null,null,null,null,null,null,null,null,null,null,null,0,0,0,0,0,0,0]
[null,"کاردکس 167",{"$f":"'تعریف کالا'!$C$171","v":0},{"$f":"'تعریف کالا'!$D$171","v":0},{"$f":"'تعریف کالا'!$E$171","v":0},{"$f":"'تعریف کالا'!$G$171","v":0},null,{"$f":"'تعریف کالا'!$F$171","v":0},null,0,null,null,null,null,null,null,null,null,null,null,null,null,null,null,0,0,0,0,0,0,0]
[null,"کاردکس 177",{"$f":"'تعریف کالا'!$C$181","v":0},{"$f":"'تعریف کالا'!$D$181","v":0},{"$f":"'تعریف کالا'!$E$181","v":0},{"$f":"'تعریف کالا'!$G$181","v":0},null,{"$f":"'تعریف کالا'!$F$181","v":0},null,0,null,null,null,null,null,null,null,null,null,null,null,null,null,null,0,0,0,0,0,0,0]
[null,"کاردکس 182",{"$f":"'تعریف کالا'!$C$186","v":0},{"$f":"'تعریف کالا'!$D$186","v":0},{"$f":"'تعریف کالا'!$E$186","v":0},{"$f":"'تعریف کالا'!$G$186","v":0},null,{"$f":"'تعریف کالا'!$F$186","v":0},null,0,null,null,null,null,null,null,null,null,null,null,null,null,null,null,0,0,0,0,0,0,0]
[null,"کاردکس 184",{"$f":"'تعریف کالا'!$C$18","v":0},{"$f":"'تعریف کالا'!$D$188","v":0},{"$f":"'تعریف کالا'!$E$188","v":0},{"$f":"'تعریف کالا'!$G$188","v":0},null,{"$f":"'تعریف کالا'!$F$188","v":0},null,0,null,null,null,null,null,null,null,null,null,null,null,null,null,null,0,0,0,0,0,0,0]
[null,"کاردکس 193",{"$f":"'تعریف کالا'!$C$197","v":0},{"$f":"'تعریف کالا'!$D$197","v":0},{"$f":"'تعریف کالا'!$E$197","v":0},{"$f":"'تعریف کالا'!$G$197","v":0},null,{"$f":"'تعریف کالا'!$F$197","v":0},null,0,null,null,null,null,null,null,null,null,null,null,null,null,null,null,0,0,0,0,0,0,0]
[null,"کاردکس 196",{"$f":"'تعریف کالا'!$C$200","v":0},{"$f":"'تعریف کالا'!$D$200","v":0},{"$f":"'تعریف کالا'!$E$200","v":0},{"$f":"'تعریف کالا'!$G$200","v":0},null,{"$f":"'تعریف کالا'!$F$200","v":0},null,0,null,null,null,null,null,null,null,null,null,null,null,null,null,null,0,0,0,0,0,0,0]
[null,"                  مبلغ قابل  پرداخت        ",null,{"$f":"abh(I2019)&\"ریال\"","v":"منفي ریال"},null,null,null,null,{"$f":"J1812","v":0},null,null,null,null,null,null,null,null,null,null,null,null,null,null,"شرح رویداد :",null,{"$f":"E1815","v":0}]
[]
[]
[null,null,null,null,null,"          مالیات",null,null,"مالیات",{"$f":"(I2243-J2034+J2035)*G2036%","v":0}]
[null,"کاردکس 1",{"$f":"'تعریف کالا'!$C$5","v":9011120},{"$f":"'تعریف کالا'!$D$5","v":"سی دی"},{"$f":"'تعریف کالا'!$E$5","v":"سخت افزار"},{"$f":"'تعریف کالا'!$G$5","v":3000},null,{"$f":"'تعریف کالا'!$F$5","v":"حلقه"},null,{"$f":"(F2043*I2043)-(F2043*I2043*G2043%)","v":0},null,null,null,null,null,null,null,null,null,null,null,null,null,null,{"$f":"C2043","v":9011120},{"$f":"D2043","v":"سی دی"},{"$f":"E2043","v":"سخت افزار"},{"$f":"F2043","v":3000},{"$f":"H2043","v":"حلقه"},{"$f":"I2043","v":0},{"$f":"J2043","v":0}]
[null,"کاردکس 6",{"$f":"'تعریف کالا'!$C$10","v":0},{"$f":"'تعریف کالا'!$D$10","v":0},{"$f":"'تعریف کالا'!$E$10","v":0},{"$f":"'تعریف کالا'!$G$10","v":0},null,{"$f":"'تعریف کالا'!$F$10","v":0},null,0,null,null,null,null,null,null,null,null,null,null,null,null,null,null,0,0,0,0,0,0,0]
[null,"کاردکس 12",{"$f":"'تعریف کالا'!$C$16","v":0},{"$f":"'تعریف کالا'!$D$16","v":0},{"$f":"'تعریف کالا'!$E$16","v":0},{"$f":"'تعریف کالا'!$G$16","v":0},null,{"$f":"'تعریف کالا'!$F$16","v":0},null,0,null,null,null,null,null,null,null,null,null,null,null,null,null,null,0,0,0,0,0,0,0]
[null,"کاردکس 18",{"$f":"'تعریف کالا'!$C$22","v":0},{"$f":"'تعریف کالا'!$D$22","v":0},{"$f":"'تعریف کالا'!$E$22","v":0},{"$f":"'تعریف کالا'!$G$22","v":0},null,{"$f":"'تعریف کالا'!$F$22","v":0},null,0,null,null,null,null,null,null,null,null,null,null,null,null,null,null,0,0,0,0,0,0,0]
[null,"کاردکس 21",{"$f":"'تعریف کالا'!$C$25","v":0},{"$f":"'تعریف کالا'!$D$25","v":0},{"$f":"'تعریف کالا'!$E$25","v":0},{"$f":"'تعریف کالا'!$G$25","v":0},null,{"$f":"'تعریف کالا'!$F$25","v":0},null,0,null,null,null,null,null,null,null,null,null,null,null,null,null,null,0,0,0,0,0,0,0]
[null,"کاردکس 25",{"$f":"'تعریف کالا'!$C$29","v":0},{"$f":"'تعریف کالا'!$D$29","v":0},{"$f":"'تعریف کالا'!$E$29","v":0},{"$f":"'تعریف کالا'!$G$29","v":0},null,{"$f":"'تعریف کالا'!$F$29","v":0},null,0,null,null,null,null,null,null,null,null,null,null,null,null,null,null,0,0,0,0,0,0,0]
[null,"کاردکس 30",{"$f":"'تعریف کالا'!$C$34","v":0},{"$f":"'تعریف کالا'!$D$34","v":0},{"$f":"'تعریف کالا'!$E$34","v":0},{"$f":"'تعریف کالا'!$G$34","v":0},null,{"$f":"'تعریف کالا'!$F$34","v":0},null,0,null,null,null,null,null,null,null,null,null,null,null,null,null,null,0,0,0,0,0,0,0]
[null,"کاردکس 36",{"$f":"'تعریف کالا'!$C$40","v":0},{"$f":"'تعریف کالا'!$D$40","v":0},{"$f":"'تعریف کالا'!$E$40","v":0},{"$f":"'تعریف کالا'!$G$40","v":0},null,{"$f":"'تعریف کالا'!$F$40","v":0},null,0,null,null,null,null,null,null,null,null,null,null,null,null,null,null,0,0,0,0,0,0,0]
[null,"کاردکس 45",{"$f":"'تعریف کالا'!$C$49","v":0},{"$f":"'تعریف کالا'!$D$49","v":0},{"$f":"'تعریف کالا'!$E$49","v":0},{"$f":"'تعریف کالا'!$G$49","v":0},null,{"$f":"'تعریف کالا'!$F$49","v":0},null,0,null,null,null,null,null,null,null,null,null,null,null,null,null,null,0,0,0,0,0,0,0]
[null,"کاردکس 48",{"$f":"'تعریف کالا'!$C$52","v":0},{"$f":"'تعریف کالا'!$D$52","v":0},{"$f":"'تعریف کالا'!$E$52","v":0},{"$f":"'تعریف کالا'!$G$52","v":0},null,{"$f":"'تعریف کالا'!$F$52","v":0},null,0,null,null,null,null,null,null,null,null,null,null,null,null,null,null,0,0,0,0,0,0,0]
[null,"کاردکس 54",{"$f":"'تعریف کالا'!$C$58","v":0},{"$f":"'تعریف کالا'!$D$58","v":0},{"$f":"'تعریف کالا'!$E$58","v":0},{"$f":"'تعریف کالا'!$G$58","v":0},null,{"$f":"'تعریف کالا'!$F$58","v":0},null,0,null,null,null,null,null,null,null,null,null,null,null,null,null,null,0,0,0,0,0,0,0]
[null,"کاردکس 60",{"$f":"'تعریف کالا'!$C$64","v":0},{"$f":"'تعریف کالا'!$D$64","v":0},{"$f":"'تعریف کالا'!$E$64","v":0},{"$f":"'تعریف کالا'!$G$64","v":0},null,{"$f":"'تعریف کالا'!$F$64","v":0},null,0,null,null,null,null,null,null,null,null,null,null,null,null,null,null,0,0,0,0,0,0,0]
[null,"کاردکس 65",{"$f":"'تعریف کالا'!$C$69","v":0},{"$f":"'تعریف کالا'!$D$69","v":0},{"$f":"'تعریف کالا'!$E$69","v":0},{"$f":"'تعریف کالا'!$G$69","v":0},null,{"$f":"'تعریف کالا'!$F$69","v":0},null,0,null,null,null,null,null,null,null,null,null,null,null,null,null,null,0,0,0,0,0,0,0]
[null,"کاردکس 72",{"$f":"'تعریف کالا'!$C$76","v":0},{"$f":"'تعریف کالا'!$D$76","v":0},{"$f":"'تعریف کالا'!$E$76","v":0},{"$f":"'تعریف کالا'!$G$76","v":0},null,{"$f":"'تعریف کالا'!$F$76","v":0},null,0,null,null,null,null,null,null,null,null,null,null,null,null,null,null,0,0,0,0,0,0,0]
[null,"کاردکس 74",{"$f":"'تعریف کالا'!$C$78","v":0},{"$f":"'تعریف کالا'!$D$78","v":0},{"$f":"'تعریف کالا'!$E$78","v":0},{"$f":"'تعریف کالا'!$G$78","v":0},null,{"$f":"'تعریف کالا'!$F$78","v":0},null,0,null,null,null,null,null,null,null,null,null,null,null,null,null,null,0,0,0,0,0,0,0]
[null,"کاردکس 83",{"$f":"'تعریف کالا'!$C$87","v":0},{"$f":"'تعریف کالا'!$D$87","v":0},{"$f":"'تعریف کالا'!$E$87","v":0},{"$f":"'تعریف کالا'!$G$87","v":0},null,{"$f":"'تعریف کالا'!$F$87","v":0},null,0,null,null,null,null,null,null,null,null,null,null,null,null,null,null,0,0,0,0,0,0,0]
[null,"کاردکس 89",{"$f":"'تعریف کالا'!$C$93","v":0},{"$f":"'تعریف کالا'!$D$93","v":0},{"$f":"'تعریف کالا'!$E$93","v":0},{"$f":"'تعریف کالا'!$G$93","v":0},null,{"$f":"'تعریف کالا'!$F$93","v":0},null,0,null,null,null,null,null,null,null,null,null,null,null,null,null,null,0,0,0,0,0,0,0]
[null,"کاردکس 95",{"$f":"'تعریف کالا'!$C$99","v":0},{"$f":"'تعریف کالا'!$D$99","v":0},{"$f":"'تعریف کالا'!$E$99","v":0},{"$f":"'تعریف کالا'!$G$99","v":0},null,{"$f":"'تعریف کالا'!$F$99","v":0},null,0,null,null,null,null,null,null,null,null,null,null,null,null,null,null,0,0,0,0,0,0,0]
[null,"کاردکس 98",{"$f":"'تعریف کالا'!$C$102","v":0},{"$f":"'تعریف کالا'!$D$102","v":0},{"$f":"'تعریف کالا'!$E$102","v":0},{"$f":"'تعریف کالا'!$G$102","v":0},null,{"$f":"'تعریف کالا'!$F$102","v":0},null,0,null,null,null,null,null,null,null,null,null,null,null,null,null,null,0,0,0,0,0,0,0]
[null,"کاردکس 102",{"$f":"'تعریف کالا'!$C$106","v":0},{"$f":"'تعریف کالا'!$D$106","v":0},{"$f":"'تعریف کالا'!$E$106","v":0},{"$f":"'تعریف کالا'!$G$106","v":0},null,{"$f":"'تعریف کالا'!$F$106","v":0},null,0,null,null,null,null,null,null,null,null,null,null,null,null,null,null,0,0,0,0,0,0,0]
[null,"کاردکس 109",{"$f":"'تعریف کالا'!$C$113","v":0},{"$f":"'تعریف کالا'!$D$113","v":0},{"$f":"'تعریف کالا'!$E$113","v":0},{"$f":"'تعریف کالا'!$G$113","v":0},null,{"$f":"'تعریف کالا'!$F$113","v":0},null,0,null,null,null,null,null,null,null,null,null,null,null,null,null,null,0,0,0,0,0,0,0]
[null,"کاردکس 114",{"$f":"'تعریف کالا'!$C$118","v":0},{"$f":"'تعریف کالا'!$D$118","v":0},{"$f":"'تعریف کالا'!$E$118","v":0},{"$f":"'تعریف کالا'!$G$118","v":0},null,{"$f":"'تعریف کالا'!$F$118","v":0},null,0,null,null,null,null,null,null,null,null,null,null,null,null,null,null,0,0,0,0,0,0,0]
[null,"کاردکس 118",{"$f":"'تعریف کالا'!$C$122","v":0},{"$f":"'تعریف کالا'!$D$122","v":0},{"$f":"'تعریف کالا'!$E$122","v":0},{"$f":"'تعریف کالا'!$G$122","v":0},null,{"$f":"'تعریف کالا'!$F$122","v":0},null,0,null,null,null,null,null,null,null,null,null,null,null,null,null,null,0,0,0,0,0,0,0]
[null,"کاردکس 125",{"$f":"'تعریف کالا'!$C$129","v":0},{"$f":"'تعریف کالا'!$D$129","v":0},{"$f":"'تعریف کالا'!$E$129","v":0},{"$f":"'تعریف کالا'!$G$129","v":0},null,{"$f":"'تعریف کالا'!$F$129","v":0},null,0,null,null,null,null,null,null,null,null,null,null,null,null,null,null,0,0,0,0,0,0,0]
[null,"کاردکس 133",{"$f":"'تعریف کالا'!$C$137","v":0},{"$f":"'تعریف کالا'!$D$137","v":0},{"$f":"'تعریف کالا'!$E$137","v":0},{"$f":"'تعریف کالا'!$G$137","v":0},null,{"$f":"'تعریف کالا'!$F$137","v":0},null,0,null,null,null,null,null,null,null,null,null,null,null,null,null,null,0,0,0,0,0,0,0]
[null,"کاردکس 137",{"$f":"'تعریف کالا'!$C$141","v":0},{"$f":"'تعریف کالا'!$D$141","v":0},{"$f":"'تعریف کالا'!$E$141","v":0},{"$f":"'تعریف کالا'!$G$141","v":0},null,{"$f":"'تعریف کالا'!$F$141","v":0},null,0,null,null,null,null,null,null,null,null,null,null,null,null,null,null,0,0,0,0,0,0,0]
[null,"کاردکس 142",{"$f":"'تعریف کالا'!$C$146","v":0},{"$f":"'تعریف کالا'!$D$146","v":0},{"$f":"'تعریف کالا'!$E$146","v":0},{"$f":"'تعریف کالا'!$G$146","v":0},null,{"$f":"'تعریف کالا'!$F$146","v":0},null,0,null,null,null,null,null,null,null,null,null,null,null,null,null,null,0,0,0,0,0,0,0]
[null,"کاردکس 149",{"$f":"'تعریف کالا'!$C$153","v":0},{"$f":"'تعریف کالا'!$D$153","v":0},{"$f":"'تعریف کالا'!$E$153","v":0},{"$f":"'تعریف کالا'!$G$153","v":0},null,{"$f":"'تعریف کالا'!$F$153","v":0},null,0,null,null,null,null,null,null,null,null,null,null,null,null,null,null,0,0,0,0,0,0,0]
[null,"کاردکس 153",{"$f":"'تعریف کالا'!$C$157","v":0},{"$f":"'تعریف کالا'!$D$157","v":0},{"$f":"'تعریف کالا'!$E$157","v":0},{"$f":"'تعریف کالا'!$G$157","v":0},null,{"$f":"'تعریف کالا'!$F$157","v":0},null,0,null,null,null,null,null,null,null,null,null,null,null,null,null,null,0,0,0,0,0,0,0]
[null,"کاردکس 161",{"$f":"'تعریف کالا'!$C$165","v":0},{"$f":"'تعریف کالا'!$D$165","v":0},{"$f":"'تعریف کالا'!$E$165","v":0},{"$f":"'تعریف کالا'!$G$165","v":0},null,{"$f":"'تعریف کالا'!$F$165","v":0},null,0,null,null,null,null,null,null,null,null,null,null,null,null,null,null,0,0,0,0,0,0,0]
[null,"کاردکس 162",{"$f":"'تعریف کالا'!$C$166","v":0},{"$f":"'تعریف کالا'!$D$166","v":0},{"$f":"'تعریف کالا'!$E$166","v":0},{"$f":"'تعریف کالا'!$G$166","v":0},null,{"$f":"'تعریف کالا'!$F$166","v":0},null,0,null,null,null,null,null,null,null,null,null,null,null,null,null,null,0,0,0,0,0,0,0]
[null,"کاردکس 168",{"$f":"'تعریف کالا'!$C$172","v":0},{"$f":"'تعریف کالا'!$D$172","v":0},{"$f":"'تعریف کالا'!$E$172","v":0},{"$f":"'تعریف کالا'!$G$172","v":0},null,{"$f":"'تعریف کالا'!$F$172","v":0},null,0,null,null,null,null,null,null,null,null,null,null,null,null,null,null,0,0,0,0,0,0,0]
[null,"کاردکس 177",{"$f":"'تعریف کالا'!$C$181","v":0},{"$f":"'تعریف کالا'!$D$181","v":0},{"$f":"'تعریف کالا'!$E$181","v":0},{"$f":"'تعریف کالا'!$G$181","v":0},null,{"$f":"'تعریف کالا'!$F$181","v":0},null,0,null,null,null,null,null,null,null,null,null,null,null,null,null,null,0,0,0,0,0,0,0]
[null,"کاردکس 179",{"$f":"'تعریف کالا'!$C$183","v":0},{"$f":"'تعریف کالا'!$D$183","v":0},{"$f":"'تعریف کالا'!$E$183","v":0},{"$f":"'تعریف کالا'!$G$183","v":0},null,{"$f":"'تعریف کالا'!$F$183","v":0},null,0,null,null,null,null,null,null,null,null,null,null,null,null,null,null,0,0,0,0,0,0,0]
[null,"کاردکس 186",{"$f":"'تعریف کالا'!$C$190","v":0},{"$f":"'تعریف کالا'!$D$190","v":0},{"$f":"'تعریف کالا'!$E$190","v":0},{"$f":"'تعریف کالا'!$G$190","v":0},null,{"$f":"'تعریف کالا'!$F$190","v":0},null,0,null,null,null,null,null,null,null,null,null,null,null,null,null,null,0,0,0,0,0,0,0]
[null,"کاردکس 191",{"$f":"'تعریف کالا'!$C$195","v":0},{"$f":"'تعریف کالا'!$D$195","v":0},{"$f":"'تعریف کالا'!$E$195","v":0},{"$f":"'تعریف کالا'!$G$195","v":0},null,{"$f":"'تعریف کالا'!$F$195","v":0},null,0,null,null,null,null,null,null,null,null,null,null,null,null,null,null,0,0,0,0,0,0,0]
[null,"کاردکس 197",{"$f":"'تعریف کالا'!$C$201","v":0},{"$f":"'تعریف کالا'!$D$201","v":0},{"$f":"'تعریف کالا'!$E$201","v":0},{"$f":"'تعریف کالا'!$G$201","v":0},null,{"$f":"'تعریف کالا'!$F$201","v":0},null,0,null,null,null,null,null,null,null,null,null,null,null,null,null,null,0,0,0,0,0,0,0]
[null,"مانده حساب",null,{"$f":"abh(I2245)&\"ریال\"","v":"منفي ریال"},null,null,null,null,{"$f":"J2038","v":0},null,null,null,null,null,null,null,null,null,null,null,null,null,null,"اقلام این فاکتور سالم تحویل اینجانب  ....................  شد.               "]
[]
[null,"شماره فاکتور",11,null,null,null,null,null,"انبار",null,null,"مشاهده رسید",null,null,null,null,null,null,null,null,null,null,null,"شماره رسید",{"$f":"C2257","v":11}]
[null,null,"پرداخت با چک",null,null,null,null,null,"مانده حساب",{"$f":"J2262-D2262-D2263","v":0}]
[null,"کاردکس 1",{"$f":"'تعریف کالا'!$C$5","v":9011120},{"$f":"'تعریف کالا'!$D$5","v":"سی دی"},{"$f":"'تعریف کالا'!$E$5","v":"سخت افزار"},{"$f":"'تعریف کالا'!$G$5","v":3000},null,{"$f":"'تعریف کالا'!$F$5","v":"حلقه"},null,{"$f":"(F2268*I2268)-(F2268*I2268*G2268%)","v":0},null,null,null,null,null,null,null,null,null,null,null,null,null,null,{"$f":"C2268","v":9011120},{"$f":"D2268","v":"سی دی"},{"$f":"E2268","v":"سخت افزار"},{"$f":"F2268","v":3000},{"$f":"H2268","v":"حلقه"},{"$f":"I2268","v":0},{"$f":"J2268","v":0}]
[null,"کاردکس 5",{"$f":"'تعریف کالا'!$C$9","v":0},{"$f":"'تعریف کالا'!$D$9","v":0},{"$f":"'تعریف کالا'!$E$9","v":0},{"$f":"'تعریف کالا'!$G$9","v":0},null,{"$f":"'تعریف کالا'!$F$9","v":0},null,0,null,null,null,null,null,null,null,null,null,null,null,null,null,null,0,0,0,0,0,0,0]
[null,"کاردکس 13",{"$f":"'تعریف کالا'!$C$17","v":0},{"$f":"'تعریف کالا'!$D$17","v":0},{"$f":"'تعریف کالا'!$E$17","v":0},{"$f":"'تعریف کالا'!$G$17","v":0},null,{"$f":"'تعریف کالا'!$F$17","v":0},null,0,null,null,null,null,null,null,null,null,null,null,null,null,null,null,0,0,0,0,0,0,0]
[null,"کاردکس 16",{"$f":"'تعریف کالا'!$C$20","v":0},{"$f":"'تعریف کالا'!$D$20","v":0},{"$f":"'تعریف کالا'!$E$20","v":0},{"$f":"'تعریف کالا'!$G$20","v":0},null,{"$f":"'تعریف کالا'!$F$20","v":0},null,0,null,null,null,null,null,null,null,null,null,null,null,null,null,null,0,0,0,0,0,0,0]
[null,"کاردکس 20",{"$f":"'تعریف کالا'!$C$24","v":0},{"$f":"'تعریف کالا'!$D$24","v":0},{"$f":"'تعریف کالا'!$E$24","v":0},{"$f":"'تعریف کالا'!$G$24","v":0},null,{"$f":"'تعریف کالا'!$F$24","v":0},null,0,null,null,null,null,null,null,null,null,null,null,null,null,null,null,0,0,0,0,0,0,0]
[null,"کاردکس 25",{"$f":"'تعریف کالا'!$C$29","v":0},{"$f":"'تعریف کالا'!$D$29","v":0},{"$f":"'تعریف کالا'!$E$29","v":0},{"$f":"'تعریف کالا'!$G$29","v":0},null,{"$f":"'تعریف کالا'!$F$29","v":0},null,0,null,null,null,null,null,null,null,null,null,null,null,null,null,null,0,0,0,0,0,0,0]
[null,"کاردکس 32",{"$f":"'تعریف کالا'!$C$36","v":0},{"$f":"'تعریف کالا'!$D$36","v":0},{"$f":"'تعریف کالا'!$E$36","v":0},{"$f":"'تعریف کالا'!$G$36","v":0},null,{"$f":"'تعریف کالا'!$F$36","v":0},null,0,null,null,null,null,null,null,null,null,null,null,null,null,null,null,0,0,0,0,0,0,0]
[null,"کاردکس 40",{"$f":"'تعریف کالا'!$C$44","v":0},{"$f":"'تعریف کالا'!$D$44","v":0},{"$f":"'تعریف کالا'!$E$44","v":0},{"$f":"'تعریف کالا'!$G$44","v":0},null,{"$f":"'تعریف کالا'!$F$44","v":0},null,0,null,null,null,null,null,null,null,null,null,null,null,null,null,null,0,0,0,0,0,0,0]
[null,"کاردکس 43",{"$f":"'تعریف کالا'!$C$47","v":0},{"$f":"'تعریف کالا'!$D$47","v":0},{"$f":"'تعریف کالا'!$E$47","v":0},{"$f":"'تعریف کالا'!$G$47","v":0},null,{"$f":"'تعریف کالا'!$F$47","v":0},null,0,null,null,null,null,null,null,null,null,null,null,null,null,null,null,0,0,0,0,0,0,0]
[null,"کاردکس 49",{"$f":"'تعریف کالا'!$C$53","v":0},{"$f":"'تعریف کالا'!$D$53","v":0},{"$f":"'تعریف کالا'!$E$53","v":0},{"$f":"'تعریف کالا'!$G$53","v":0},null,{"$f":"'تعریف کالا'!$F$53","v":0},null,0,null,null,null,null,null,null,null,null,null,null,null,null,null,null,0,0,0,0,0,0,0]
[null,"کاردکس 55",{"$f":"'تعریف کالا'!$C$59","v":0},{"$f":"'تعریف کالا'!$D$59","v":0},{"$f":"'تعریف کالا'!$E$59","v":0},{"$f":"'تعریف کالا'!$G$59","v":0},null,{"$f":"'تعریف کالا'!$F$59","v":0},null,0,null,null,null,null,null,null,null,null,null,null,null,null,null,null,0,0,0,0,0,0,0]
[null,"کاردکس 58",{"$f":"'تعریف کالا'!$C$62","v":0},{"$f":"'تعریف کالا'!$D$62","v":0},{"$f":"'تعریف کالا'!$E$62","v":0},{"$f":"'تعریف کالا'!$G$62","v":0},null,{"$f":"'تعریف کالا'!$F$62","v":0},null,0,null,null,null,null,null,null,null,null,null,null,null,null,null,null,0,0,0,0,0,0,0]
[null,"کاردکس 67",{"$f":"'تعریف کالا'!$C$71","v":0},{"$f":"'تعریف کالا'!$D$71","v":0},{"$f":"'تعریف کالا'!$E$71","v":0},{"$f":"'تعریف کالا'!$G$71","v":0},null,{"$f":"'تعریف کالا'!$F$71","v":0},null,{"$f":"(F2334*I2334)-(F2334*I2334*G2334%)","v":0},null,null,null,null,null,null,null,null,null,null,null,null,null,null,{"$f":"C2334","v":0},0,0,0,0,0,0]
[null,"کاردکس 69",{"$f":"'تعریف کالا'!$C$73","v":0},{"$f":"'تعریف کالا'!$D$73","v":0},{"$f":"'تعریف کالا'!$E$73","v":0},{"$f":"'تعریف کالا'!$G$73","v":0},null,{"$f":"'تعریف کالا'!$F$73","v":0},null,0,null,null,null,null,null,null,null,null,null,null,null,null,null,null,0,0,0,0,0,0,0]
[null,"کاردکس 79",{"$f":"'تعریف کالا'!$C$83","v":0},{"$f":"'تعریف کالا'!$D$83","v":0},{"$f":"'تعریف کالا'!$E$83","v":0},{"$f":"'تعریف کالا'!$G$83","v":0},null,{"$f":"'تعریف کالا'!$F$83","v":0},null,0,null,null,null,null,null,null,null,null,null,null,null,null,null,null,0,0,0,0,0,0,0]
[null,"کاردکس 84",{"$f":"'تعریف کالا'!$C$88","v":0},{"$f":"'تعریف کالا'!$D$88","v":0},{"$f":"'تعریف کالا'!$E$88","v":0},{"$f":"'تعریف کالا'!$G$88","v":0},null,{"$f":"'تعریف کالا'!$F$88","v":0},null,0,null,null,null,null,null,null,null,null,null,null,null,null,null,null,0,0,0,0,0,0,0]
[null,"کاردکس 90",{"$f":"'تعریف کالا'!$C$94","v":0},{"$f":"'تعریف کالا'!$D$94","v":0},{"$f":"'تعریف کالا'!$E$94","v":0},{"$f":"'تعریف کالا'!$G$94","v":0},null,{"$f":"'تعریف کالا'!$F$94","v":0},null,0,null,null,null,null,null,null,null,null,null,null,null,null,null,null,0,0,0,0,0,0,0]
[null,"کاردکس 93",{"$f":"'تعریف کالا'!$C$97","v":0},{"$f":"'تعریف کالا'!$D$97","v":0},{"$f":"'تعریف کالا'!$E$97","v":0},{"$f":"'تعریف کالا'!$G$97","v":0},null,{"$f":"'تعریف کالا'!$F$97","v":0},null,0,null,null,null,null,null,null,null,null,null,null,null,null,null,null,0,0,0,0,0,0,0]
[null,"کاردکس 97",{"$f":"'تعریف کالا'!$C$101","v":0},{"$f":"'تعریف کالا'!$D$101","v":0},{"$f":"'تعریف کالا'!$E$101","v":0},{"$f":"'تعریف کالا'!$G$101","v":0},null,{"$f":"'تعریف کالا'!$F$101","v":0},null,0,null,null,null,null,null,null,null,null,null,null,null,null,null,null,0,0,0,0,0,0,0]
[null,"کاردکس 102",{"$f":"'تعریف کالا'!$C$106","v":0},{"$f":"'تعریف کالا'!$D$106","v":0},{"$f":"'تعریف کالا'!$E$106","v":0},{"$f":"'تعریف کالا'!$G$106","v":0},null,{"$f":"'تعریف کالا'!$F$106","v":0},null,0,null,null,null,null,null,null,null,null,null,null,null,null,null,null,0,0,0,0,0,0,0]
[null,"کاردکس 109",{"$f":"'تعریف کالا'!$C$113","v":0},{"$f":"'تعریف کالا'!$D$113","v":0},{"$f":"'تعریف کالا'!$E$113","v":0},{"$f":"'تعریف کالا'!$G$113","v":0},null,{"$f":"'تعریف کالا'!$F$113","v":0},null,0,null,null,null,null,null,null,null,null,null,null,null,null,null,null,0,0,0,0,0,0,0]
[null,"کاردکس 113",{"$f":"'تعریف کالا'!$C$117","v":0},{"$f":"'تعریف کالا'!$D$117","v":0},{"$f":"'تعریف کالا'!$E$117","v":0},{"$f":"'تعریف کالا'!$G$117","v":0},null,{"$f":"'تعریف کالا'!$F$117","v":0},null,0,null,null,null,null,null,null,null,null,null,null,null,null,null,null,0,0,0,0,0,0,0]
[null,"کاردکس 121",{"$f":"'تعریف کالا'!$C$125","v":0},{"$f":"'تعریف کالا'!$D$125","v":0},{"$f":"'تعریف کالا'!$E$125","v":0},{"$f":"'تعریف کالا'!$G$125","v":0},null,{"$f":"'تعریف کالا'!$F$125","v":0},null,0,null,null,null,null,null,null,null,null,null,null,null,null,null,null,0,0,0,0,0,0,0]
[null,"کاردکس 128",{"$f":"'تعریف کالا'!$C$132","v":0},{"$f":"'تعریف کالا'!$D$132","v":0},{"$f":"'تعریف کالا'!$E$132","v":0},{"$f":"'تعریف کالا'!$G$132","v":0},null,{"$f":"'تعریف کالا'!$F$132","v":0},null,0,null,null,null,null,null,null,null,null,null,null,null,null,null,null,0,0,0,0,0,0,0]
[null,"کاردکس 133",{"$f":"'تعریف کالا'!$C$137","v":0},{"$f":"'تعریف کالا'!$D$137","v":0},{"$f":"'تعریف کالا'!$E$137","v":0},{"$f":"'تعریف کالا'!$G$137","v":0},null,{"$f":"'تعریف کالا'!$F$137","v":0},null,0,null,null,null,null,null,null,null,null,null,null,null,null,null,null,0,0,0,0,0,0,0]
[null,"کاردکس 137",{"$f":"'تعریف کالا'!$C$141","v":0},{"$f":"'تعریف کالا'!$D$141","v":0},{"$f":"'تعریف کالا'!$E$141","v":0},{"$f":"'تعریف کالا'!$G$141","v":0},null,{"$f":"'تعریف کالا'!$F$141","v":0},null,0,null,null,null,null,null,null,null,null,null,null,null,null,null,null,0,0,0,0,0,0,0]
[null,"کاردکس 144",{"$f":"'تعریف کالا'!$C$148","v":0},{"$f":"'تعریف کالا'!$D$148","v":0},{"$f":"'تعریف کالا'!$E$148","v":0},{"$f":"'تعریف کالا'!$G$148","v":0},null,{"$f":"'تعریف کالا'!$F$148","v":0},null,0,null,null,null,null,null,null,null,null,null,null,null,null,null,null,0,0,0,0,0,0,0]
[null,"کاردکس 146",{"$f":"'تعریف کالا'!$C$150","v":0},{"$f":"'تعریف کالا'!$D$150","v":0},{"$f":"'تعریف کالا'!$E$150","v":0},{"$f":"'تعریف کالا'!$G$150","v":0},null,{"$f":"'تعریف کالا'!$F$150","v":0},null,0,null,null,null,null,null,null,null,null,null,null,null,null,null,null,0,0,0,0,0,0,0]
[null,"کاردکس 156",{"$f":"'تعریف کالا'!$C$160","v":0},{"$f":"'تعریف کالا'!$D$160","v":0},{"$f":"'تعریف کالا'!$E$160","v":0},{"$f":"'تعریف کالا'!$G$160","v":0},null,{"$f":"'تعریف کالا'!$F$160","v":0},null,0,null,null,null,null,null,null,null,null,null,null,null,null,null,null,0,0,0,0,0,0,0]
[null,"کاردکس 157",{"$f":"'تعریف کالا'!$C$161","v":0},{"$f":"'تعریف کالا'!$D$161","v":0},{"$f":"'تعریف کالا'!$E$161","v":0},{"$f":"'تعریف کالا'!$G$161","v":0},null,{"$f":"'تعریف کالا'!$F$161","v":0},null,0,null,null,null,null,null,null,null,null,null,null,null,null,null,null,0,0,0,0,0,0,0]
[null,"کاردکس 163",{"$f":"'تعریف کالا'!$C$167","v":0},{"$f":"'تعریف کالا'!$D$167","v":0},{"$f":"'تعریف کالا'!$E$167","v":0},{"$f":"'تعریف کالا'!$G$167","v":0},null,{"$f":"'تعریف کالا'!$F$167","v":0},null,0,null,null,null,null,null,null,null,null,null,null,null,null,null,null,0,0,0,0,0,0,0]
[null,"کاردکس 172",{"$f":"'تعریف کالا'!$C$176","v":0},{"$f":"'تعریف کالا'!$D$176","v":0},{"$f":"'تعریف کالا'!$E$176","v":0},{"$f":"'تعریف کالا'!$G$176","v":0},null,{"$f":"'تعریف کالا'!$F$176","v":0},null,0,null,null,null,null,null,null,null,null,null,null,null,null,null,null,0,0,0,0,0,0,0]
[null,"کاردکس 175",{"$f":"'تعریف کالا'!$C$179","v":0},{"$f":"'تعریف کالا'!$D$179","v":0},{"$f":"'تعریف کالا'!$E$179","v":0},{"$f":"'تعریف کالا'!$G$179","v":0},null,{"$f":"'تعریف کالا'!$F$179","v":0},null,0,null,null,null,null,null,null,null,null,null,null,null,null,null,null,0,0,0,0,0,0,0]
[null,"کاردکس 181",{"$f":"'تعریف کالا'!$C$185","v":0},{"$f":"'تعریف کالا'!$D$185","v":0},{"$f":"'تعریف کالا'!$E$185","v":0},{"$f":"'تعریف کالا'!$G$185","v":0},null,{"$f":"'تعریف کالا'!$F$185","v":0},null,0,null,null,null,null,null,null,null,null,null,null,null,null,null,null,0,0,0,0,0,0,0]
[null,"کاردکس 186",{"$f":"'تعریف کالا'!$C$190","v":0},{"$f":"'تعریف کالا'!$D$190","v":0},{"$f":"'تعریف کالا'!$E$190","v":0},{"$f":"'تعریف کالا'!$G$190","v":0},null,{"$f":"'تعریف کالا'!$F$190","v":0},null,0,null,null,null,null,null,null,null,null,null,null,null,null,null,null,0,0,0,0,0,0,0]
[null,"کاردکس 190",{"$f":"'تعریف کالا'!$C$194","v":0},{"$f":"'تعریف کالا'!$D$194","v":0},{"$f":"'تعریف کالا'!$E$194","v":0},{"$f":"'تعریف کالا'!$G$194","v":0},null,{"$f":"'تعریف کالا'!$F$194","v":0},null,0,null,null,null,null,null,null,null,null,null,null,null,null,null,null,0,0,0,0,0,0,0]
[null,"کاردکس 198",{"$f":"'تعریف کالا'!$C$202","v":0},{"$f":"'تعریف کالا'!$D$202","v":0},{"$f":"'تعریف کالا'!$E$202","v":0},{"$f":"'تعریف کالا'!$G$202","v":0},null,{"$f":"'تعریف کالا'!$F$202","v":0},null,0,null,null,null,null,null,null,null,null,null,null,null,null,null,null,0,0,0,0,0,0,0]
[null,"     جمع کل",null,{"$f":"abh(I2468)&L2464","v":"منفي "},null,null,null,null,{"$f":"SUM(J2268:J2467)","v":0},null,null,null,null,null,null,null,null,null,null,null,null,null,null,"مانده حساب",null,{"$f":"abh(AD2468)& \"ریال\"","v":"منفي ریال"},null,null,null,{"$f":"I2470","v":0}]
[]
[null,null,null,null,null,null,null,null,null,null,null,null,null,null,null,null,null,null,null,null,null,null,null,"شماره سند",{"$f":"C2481","v":12}]
[null,null,null,null,null,null,null,null,null,null,null,null,null,null,null,null,null,null,null,null,null,null,null,null,"آدرس :",{"$f":"VLOOKUP(Z2487,'مشخصات فروشندگان'!$B$2:$C$502,2,FALSE)","v":0}]
[null,"شماره کاردکس","کد کالا","نام کالا","گروه بندی","قیمت واحد","درصد تخفیف","واحد شمارش","تعداد","قیمت کل",null,null,null,null,null,null,null,null,null,null,null,null,null,"ردیف","کد کالا","نام کالا","گروه بندی","قیمت واحد","واحد شمارش","تعداد","قیمت کل"]
[null,"کاردکس 8",{"$f":"'تعریف کالا'!$C$12","v":0},{"$f":"'تعریف کالا'!$D$12","v":0},{"$f":"'تعریف کالا'!$E$12","v":0},{"$f":"'تعریف کالا'!$G$12","v":0},null,{"$f":"'تعریف کالا'!$F$12","v":0},null,0,null,null,null,null,null,null,null,null,null,null,null,null,null,null,0,0,0,0,0,0,0]
[null,"کاردکس 9",{"$f":"'تعریف کالا'!$C$13","v":0},{"$f":"'تعریف کالا'!$D$13","v":0},{"$f":"'تعریف کالا'!$E$13","v":0},{"$f":"'تعریف کالا'!$G$13","v":0},null,{"$f":"'تعریف کالا'!$F$13","v":0},null,0,null,null,null,null,null,null,null,null,null,null,null,null,null,null,0,0,0,0,0,0,0]
[null,"کاردکس 15",{"$f":"'تعریف کالا'!$C$19","v":0},{"$f":"'تعریف کالا'!$D$19","v":0},{"$f":"'تعریف کالا'!$E$19","v":0},{"$f":"'تعریف کالا'!$G$19","v":0},null,{"$f":"'تعریف کالا'!$F$19","v":0},null,0,null,null,null,null,null,null,null,null,null,null,null,null,null,null,0,0,0,0,0,0,0]
[null,"کاردکس 24",{"$f":"'تعریف کالا'!$C$28","v":0},{"$f":"'تعریف کالا'!$D$28","v":0},{"$f":"'تعریف کالا'!$E$28","v":0},{"$f":"'تعریف کالا'!$G$28","v":0},null,{"$f":"'تعریف کالا'!$F$28","v":0},null,0,null,null,null,null,null,null,null,null,null,null,null,null,null,null,0,0,0,0,0,0,0]
[null,"کاردکس 27",{"$f":"'تعریف کالا'!$C$31","v":0},{"$f":"'تعریف کالا'!$D$31","v":0},{"$f":"'تعریف کالا'!$E$31","v":0},{"$f":"'تعریف کالا'!$G$31","v":0},null,{"$f":"'تعریف کالا'!$F$31","v":0},null,0,null,null,null,null,null,null,null,null,null,null,null,null,null,null,0,0,0,0,0,0,0]
[null,"کاردکس 35",{"$f":"'تعریف کالا'!$C$39","v":0},{"$f":"'تعریف کالا'!$D$39","v":0},{"$f":"'تعریف کالا'!$E$39","v":0},{"$f":"'تعریف کالا'!$G$39","v":0},null,{"$f":"'تعریف کالا'!$F$39","v":0},null,0,null,null,null,null,null,null,null,null,null,null,null,null,null,null,0,0,0,0,0,0,0]
[null,"کاردکس 39",{"$f":"'تعریف کالا'!$C$43","v":0},{"$f":"'تعریف کالا'!$D$43","v":0},{"$f":"'تعریف کالا'!$E$43","v":0},{"$f":"'تعریف کالا'!$G$43","v":0},null,{"$f":"'تعریف کالا'!$F$43","v":0},null,0,null,null,null,null,null,null,null,null,null,null,null,null,null,null,0,0,0,0,0,0,0]
[null,"کاردکس 44",{"$f":"'تعریف کالا'!$C$48","v":0},{"$f":"'تعریف کالا'!$D$48","v":0},{"$f":"'تعریف کالا'!$E$48","v":0},{"$f":"'تعریف کالا'!$G$48","v":0},null,{"$f":"'تعریف کالا'!$F$48","v":0},null,0,null,null,null,null,null,null,null,null,null,null,null,null,null,null,0,0,0,0,0,0,0]
[null,"کاردکس 50",{"$f":"'تعریف کالا'!$C$54","v":0},{"$f":"'تعریف کالا'!$D$54","v":0},{"$f":"'تعریف کالا'!$E$54","v":0},{"$f":"'تعریف کالا'!$G$54","v":0},null,{"$f":"'تعریف کالا'!$F$54","v":0},null,0,null,null,null,null,null,null,null,null,null,null,null,null,null,null,0,0,0,0,0,0,0]
[null,"کاردکس 53",{"$f":"'تعریف کالا'!$C$57","v":0},{"$f":"'تعریف کالا'!$D$57","v":0},{"$f":"'تعریف کالا'!$E$57","v":0},{"$f":"'تعریف کالا'!$G$57","v":0},null,{"$f":"'تعریف کالا'!$F$57","v":0},null,0,null,null,null,null,null,null,null,null,null,null,null,null,null,null,0,0,0,0,0,0,0]
[null,"کاردکس 62",{"$f":"'تعریف کالا'!$C$66","v":0},{"$f":"'تعریف کالا'!$D$66","v":0},{"$f":"'تعریف کالا'!$E$66","v":0},{"$f":"'تعریف کالا'!$G$66","v":0},null,{"$f":"'تعریف کالا'!$F$66","v":0},null,0,null,null,null,null,null,null,null,null,null,null,null,null,null,null,0,0,0,0,0,0,0]
[null,"کاردکس 68",{"$f":"'تعریف کالا'!$C$72","v":0},{"$f":"'تعریف کالا'!$D$72","v":0},{"$f":"'تعریف کالا'!$E$72","v":0},{"$f":"'تعریف کالا'!$G$72","v":0},null,{"$f":"'تعریف کالا'!$F$72","v":0},null,0,null,null,null,null,null,null,null,null,null,null,null,null,null,null,0,0,0,0,0,0,0]
[null,"کاردکس 74",{"$f":"'تعریف کالا'!$C$78","v":0},{"$f":"'تعریف کالا'!$D$78","v":0},{"$f":"'تعریف کالا'!$E$78","v":0},{"$f":"'تعریف کالا'!$G$78","v":0},null,{"$f":"'تعریف کالا'!$F$78","v":0},null,0,null,null,null,null,null,null,null,null,null,null,null,null,null,null,0,0,0,0,0,0,0]
[null,"کاردکس 79",{"$f":"'تعریف کالا'!$C$83","v":0},{"$f":"'تعریف کالا'!$D$83","v":0},{"$f":"'تعریف کالا'!$E$83","v":0},{"$f":"'تعریف کالا'!$G$83","v":0},null,{"$f":"'تعریف کالا'!$F$83","v":0},null,0,null,null,null,null,null,null,null,null,null,null,null,null,null,null,0,0,0,0,0,0,0]
[null,"کاردکس 81",{"$f":"'تعریف کالا'!$C$85","v":0},{"$f":"'تعریف کالا'!$D$85","v":0},{"$f":"'تعریف کالا'!$E$85","v":0},{"$f":"'تعریف کالا'!$G$85","v":0},null,{"$f":"'تعریف کالا'!$F$85","v":0},null,0,null,null,null,null,null,null,null,null,null,null,null,null,null,null,0,0,0,0,0,0,0]
[null,"کاردکس 88",{"$f":"'تعریف کالا'!$C$92","v":0},{"$f":"'تعریف کالا'!$D$92","v":0},{"$f":"'تعریف کالا'!$E$92","v":0},{"$f":"'تعریف کالا'!$G$92","v":0},null,{"$f":"'تعریف کالا'!$F$92","v":0},null,0,null,null,null,null,null,null,null,null,null,null,null,null,null,null,0,0,0,0,0,0,0]
[null,"کاردکس 93",{"$f":"'تعریف کالا'!$C$97","v":0},{"$f":"'تعریف کالا'!$D$97","v":0},{"$f":"'تعریف کالا'!$E$97","v":0},{"$f":"'تعریف کالا'!$G$97","v":0},null,{"$f":"'تعریف کالا'!$F$97","v":0},null,0,null,null,null,null,null,null,null,null,null,null,null,null,null,null,0,0,0,0,0,0,0]
[null,"کاردکس 97",{"$f":"'تعریف کالا'!$C$101","v":0},{"$f":"'تعریف کالا'!$D$101","v":0},{"$f":"'تعریف کالا'!$E$101","v":0},{"$f":"'تعریف کالا'!$G$101","v":0},null,{"$f":"'تعریف کالا'!$F$101","v":0},null,0,null,null,null,null,null,null,null,null,null,null,null,null,null,null,0,0,0,0,0,0,0]
[null,"کاردکس 104",{"$f":"'تعریف کالا'!$C$108","v":0},{"$f":"'تعریف کالا'!$D$108","v":0},{"$f":"'تعریف کالا'!$E$108","v":0},{"$f":"'تعریف کالا'!$G$108","v":0},null,{"$f":"'تعریف کالا'!$F$108","v":0},null,0,null,null,null,null,null,null,null,null,null,null,null,null,null,null,0,0,0,0,0,0,0]
[null,"کاردکس 112",{"$f":"'تعریف کالا'!$C$116","v":0},{"$f":"'تعریف کالا'!$D$116","v":0},{"$f":"'تعریف کالا'!$E$116","v":0},{"$f":"'تعریف کالا'!$G$116","v":0},null,{"$f":"'تعریف کالا'!$F$116","v":0},null,0,null,null,null,null,null,null,null,null,null,null,null,null,null,null,0,0,0,0,0,0,0]
[null,"کاردکس 116",{"$f":"'تعریف کالا'!$C$120","v":0},{"$f":"'تعریف کالا'!$D$120","v":0},{"$f":"'تعریف کالا'!$E$120","v":0},{"$f":"'تعریف کالا'!$G$120","v":0},null,{"$f":"'تعریف کالا'!$F$120","v":0},null,0,null,null,null,null,null,null,null,null,null,null,null,null,null,null,0,0,0,0,0,0,0]
[null,"کاردکس 123",{"$f":"'تعریف کالا'!$C$127","v":0},{"$f":"'تعریف کالا'!$D$127","v":0},{"$f":"'تعریف کالا'!$E$127","v":0},{"$f":"'تعریف کالا'!$G$127","v":0},null,{"$f":"'تعریف کالا'!$F$127","v":0},null,0,null,null,null,null,null,null,null,null,null,null,null,null,null,null,0,0,0,0,0,0,0]
[null,"کاردکس 128",{"$f":"'تعریف کالا'!$C$132","v":0},{"$f":"'تعریف کالا'!$D$132","v":0},{"$f":"'تعریف کالا'!$E$132","v":0},{"$f":"'تعریف کالا'!$G$132","v":0},null,{"$f":"'تعریف کالا'!$F$132","v":0},null,0,null,null,null,null,null,null,null,null,null,null,null,null,null,null,0,0,0,0,0,0,0]
[null,"کاردکس 132",{"$f":"'تعریف کالا'!$C$136","v":0},{"$f":"'تعریف کالا'!$D$136","v":0},{"$f":"'تعریف کالا'!$E$136","v":0},{"$f":"'تعریف کالا'!$G$136","v":0},null,{"$f":"'تعریف کالا'!$F$136","v":0},null,0,null,null,null,null,null,null,null,null,null,null,null,null,null,null,0,0,0,0,0,0,0]
[null,"کاردکس 140",{"$f":"'تعریف کالا'!$C$144","v":0},{"$f":"'تعریف کالا'!$D$144","v":0},{"$f":"'تعریف کالا'!$E$144","v":0},{"$f":"'تعریف کالا'!$G$144","v":0},null,{"$f":"'تعریف کالا'!$F$144","v":0},null,0,null,null,null,null,null,null,null,null,null,null,null,null,null,null,0,0,0,0,0,0,0]
[null,"کاردکس 141",{"$f":"'تعریف کالا'!$C$145","v":0},{"$f":"'تعریف کالا'!$D$145","v":0},{"$f":"'تعریف کالا'!$E$145","v":0},{"$f":"'تعریف کالا'!$G$145","v":0},null,{"$f":"'تعریف کالا'!$F$145","v":0},null,0,null,null,null,null,null,null,null,null,null,null,null,null,null,null,0,0,0,0,0,0,0]
[null,"کاردکس 151",{"$f":"'تعریف کالا'!$C$155","v":0},{"$f":"'تعریف کالا'!$D$155","v":0},{"$f":"'تعریف کالا'!$E$155","v":0},{"$f":"'تعریف کالا'!$G$155","v":0},null,{"$f":"'تعریف کالا'!$F$155","v":0},null,0,null,null,null,null,null,null,null,null,null,null,null,null,null,null,0,0,0,0,0,0,0]
[null,"کاردکس 156",{"$f":"'تعریف کالا'!$C$160","v":0},{"$f":"'تعریف کالا'!$D$160","v":0},{"$f":"'تعریف کالا'!$E$160","v":0},{"$f":"'تعریف کالا'!$G$160","v":0},null,{"$f":"'تعریف کالا'!$F$160","v":0},null,0,null,null,null,null,null,null,null,null,null,null,null,null,null,null,0,0,0,0,0,0,0]
[null,"کاردکس 158",{"$f":"'تعریف کالا'!$C$162","v":0},{"$f":"'تعریف کالا'!$D$162","v":0},{"$f":"'تعریف کالا'!$E$162","v":0},{"$f":"'تعریف کالا'!$G$162","v":0},null,{"$f":"'تعریف کالا'!$F$162","v":0},null,0,null,null,null,null,null,null,null,null,null,null,null,null,null,null,0,0,0,0,0,0,0]
[null,"کاردکس 167",{"$f":"'تعریف کالا'!$C$171","v":0},{"$f":"'تعریف کالا'!$D$171","v":0},{"$f":"'تعریف کالا'!$E$171","v":0},{"$f":"'تعریف کالا'!$G$171","v":0},null,{"$f":"'تعریف کالا'!$F$171","v":0},null,0,null,null,null,null,null,null,null,null,null,null,null,null,null,null,0,0,0,0,0,0,0]
[null,"کاردکس 170",{"$f":"'تعریف کالا'!$C$174","v":0},{"$f":"'تعریف کالا'!$D$174","v":0},{"$f":"'تعریف کالا'!$E$174","v":0},{"$f":"'تعریف کالا'!$G$174","v":0},null,{"$f":"'تعریف کالا'!$F$174","v":0},null,0,null,null,null,null,null,null,null,null,null,null,null,null,null,null,0,0,0,0,0,0,0]
[null,"کاردکس 176",{"$f":"'تعریف کالا'!$C$180","v":0},{"$f":"'تعریف کالا'!$D$180","v":0},{"$f":"'تعریف کالا'!$E$180","v":0},{"$f":"'تعریف کالا'!$G$180","v":0},null,{"$f":"'تعریف کالا'!$F$180","v":0},null,0,null,null,null,null,null,null,null,null,null,null,null,null,null,null,0,0,0,0,0,0,0]
[null,"کاردکس 182",{"$f":"'تعریف کالا'!$C$186","v":0},{"$f":"'تعریف کالا'!$D$186","v":0},{"$f":"'تعریف کالا'!$E$186","v":0},{"$f":"'تعریف کالا'!$G$186","v":0},null,{"$f":"'تعریف کالا'!$F$186","v":0},null,0,null,null,null,null,null,null,null,null,null,null,null,null,null,null,0,0,0,0,0,0,0]
[null,"کاردکس 185",{"$f":"'تعریف کالا'!$C$189","v":0},{"$f":"'تعریف کالا'!$D$189","v":0},{"$f":"'تعریف کالا'!$E$189","v":0},{"$f":"'تعریف کالا'!$G$189","v":0},null,{"$f":"'تعریف کالا'!$F$189","v":0},null,0,null,null,null,null,null,null,null,null,null,null,null,null,null,null,0,0,0,0,0,0,0]
[null,"کاردکس 193",{"$f":"'تعریف کالا'!$C$197","v":0},{"$f":"'تعریف کالا'!$D$197","v":0},{"$f":"'تعریف کالا'!$E$197","v":0},{"$f":"'تعریف کالا'!$G$197","v":0},null,{"$f":"'تعریف کالا'!$F$197","v":0},null,0,null,null,null,null,null,null,null,null,null,null,null,null,null,null,0,0,0,0,0,0,0]
[null,"کاردکس 200",{"$f":"'تعریف کالا'!$C$204","v":0},{"$f":"'تعریف کالا'!$D$204","v":0},{"$f":"'تعریف کالا'!$E$204","v":0},{"$f":"'تعریف کالا'!$G$204","v":0},null,{"$f":"'تعریف کالا'!$F$204","v":0},null,0,null,null,null,null,null,null,null,null,null,null,null,null,null,null,0,0,0,0,0,0,0]
[null,null,null,null,null,null,null,null,null,null,null,null,null,null,null,null,null,null,null,null,null,null,null,null,"امضا صادر کننده",null,"امضا فروشنده",null,"امضا مسئول انبار",null,"امضا خریدار"]
[]
[null,null,null,null,null,"           درصد تخفیف  ",null,null,"تخفیف ",{"$f":"(I2918*G2709%)","v":0}]
[null,null,"پرداخت نقدی",null,null,null,null,null,"مبلغ قابل پرداخت",{"$f":"I2918-J2709+J2710+J2711","v":0},null,null,null,null,null,null,null,null,null,null,null,null,null,null,"فروشنده :",{"$f":"D2710","v":"علی منصوری"}]
[]
[null,"کاردکس 4",{"$f":"'تعریف کالا'!$C$8","v":0},{"$f":"'تعریف کالا'!$D$8","v":0},{"$f":"'تعریف کالا'!$E$8","v":0},{"$f":"'تعریف کالا'!$G$8","v":0},null,{"$f":"'تعریف کالا'!$F$8","v":0},null,0,null,null,null,null,null,null,null,null,null,null,null,null,null,null,0,0,0,0,0,0,0]
[null,"کاردکس 10",{"$f":"'تعریف کالا'!$C$14","v":0},{"$f":"'تعریف کالا'!$D$14","v":0},{"$f":"'تعریف کالا'!$E$14","v":0},{"$f":"'تعریف کالا'!$G$14","v":0},null,{"$f":"'تعریف کالا'!$F$14","v":0},null,0,null,null,null,null,null,null,null,null,null,null,null,null,null,null,0,0,0,0,0,0,0]
[null,"کاردکس 19",{"$f":"'تعریف کالا'!$C$23","v":0},{"$f":"'تعریف کالا'!$D$23","v":0},{"$f":"'تعریف کالا'!$E$23","v":0},{"$f":"'تعریف کالا'!$G$23","v":0},null,{"$f":"'تعریف کالا'!$F$23","v":0},null,0,null,null,null,null,null,null,null,null,null,null,null,null,null,null,0,0,0,0,0,0,0]
[null,"کاردکس 22",{"$f":"'تعریف کالا'!$C$26","v":0},{"$f":"'تعریف کالا'!$D$26","v":0},{"$f":"'تعریف کالا'!$E$26","v":0},{"$f":"'تعریف کالا'!$G$26","v":0},null,{"$f":"'تعریف کالا'!$F$26","v":0},null,0,null,null,null,null,null,null,null,null,null,null,null,null,null,null,0,0,0,0,0,0,0]
[null,"کاردکس 28",{"$f":"'تعریف کالا'!$C$32","v":0},{"$f":"'تعریف کالا'!$D$32","v":0},{"$f":"'تعریف کالا'!$E$32","v":0},{"$f":"'تعریف کالا'!$G$32","v":0},null,{"$f":"'تعریف کالا'!$F$32","v":0},null,0,null,null,null,null,null,null,null,null,null,null,null,null,null,null,0,0,0,0,0,0,0]
[null,"کاردکس 34",{"$f":"'تعریف کالا'!$C$38","v":0},{"$f":"'تعریف کالا'!$D$38","v":0},{"$f":"'تعریف کالا'!$E$38","v":0},{"$f":"'تعریف کالا'!$G$38","v":0},null,{"$f":"'تعریف کالا'!$F$38","v":0},null,0,null,null,null,null,null,null,null,null,null,null,null,null,null,null,0,0,0,0,0,0,0]
[null,"کاردکس 39",{"$f":"'تعریف کالا'!$C$43","v":0},{"$f":"'تعریف کالا'!$D$43","v":0},{"$f":"'تعریف کالا'!$E$43","v":0},{"$f":"'تعریف کالا'!$G$43","v":0},null,{"$f":"'تعریف کالا'!$F$43","v":0},null,0,null,null,null,null,null,null,null,null,null,null,null,null,null,null,0,0,0,0,0,0,0]
[null,"کاردکس 46",{"$f":"'تعریف کالا'!$C$50","v":0},{"$f":"'تعریف کالا'!$D$50","v":0},{"$f":"'تعریف کالا'!$E$50","v":0},{"$f":"'تعریف کالا'!$G$50","v":0},null,{"$f":"'تعریف کالا'!$F$50","v":0},null,0,null,null,null,null,null,null,null,null,null,null,null,null,null,null,0,0,0,0,0,0,0]
[null,"کاردکس 48",{"$f":"'تعریف کالا'!$C$52","v":0},{"$f":"'تعریف کالا'!$D$52","v":0},{"$f":"'تعریف کالا'!$E$52","v":0},{"$f":"'تعریف کالا'!$G$52","v":0},null,{"$f":"'تعریف کالا'!$F$52","v":0},null,0,null,null,null,null,null,null,null,null,null,null,null,null,null,null,0,0,0,0,0,0,0]
[null,"کاردکس 57",{"$f":"'تعریف کالا'!$C$61","v":0},{"$f":"'تعریف کالا'!$D$61","v":0},{"$f":"'تعریف کالا'!$E$61","v":0},{"$f":"'تعریف کالا'!$G$61","v":0},null,{"$f":"'تعریف کالا'!$F$61","v":0},null,0,null,null,null,null,null,null,null,null,null,null,null,null,null,null,0,0,0,0,0,0,0]
[null,"کاردکس 63",{"$f":"'تعریف کالا'!$C$67","v":0},{"$f":"'تعریف کالا'!$D$67","v":0},{"$f":"'تعریف کالا'!$E$67","v":0},{"$f":"'تعریف کالا'!$G$67","v":0},null,{"$f":"'تعریف کالا'!$F$67","v":0},null,0,null,null,null,null,null,null,null,null,null,null,null,null,null,null,0,0,0,0,0,0,0]
[null,"کاردکس 69",{"$f":"'تعریف کالا'!$C$73","v":0},{"$f":"'تعریف کالا'!$D$73","v":0},{"$f":"'تعریف کالا'!$E$73","v":0},{"$f":"'تعریف کالا'!$G$73","v":0},null,{"$f":"'تعریف کالا'!$F$73","v":0},null,0,null,null,null,null,null,null,null,null,null,null,null,null,null,null,0,0,0,0,0,0,0]
[null,"کاردکس 72",{"$f":"'تعریف کالا'!$C$76","v":0},{"$f":"'تعریف کالا'!$D$76","v":0},{"$f":"'تعریف کالا'!$E$76","v":0},{"$f":"'تعریف کالا'!$G$76","v":0},null,{"$f":"'تعریف کالا'!$F$76","v":0},null,0,null,null,null,null,null,null,null,null,null,null,null,null,null,null,0,0,0,0,0,0,0]
[null,"کاردکس 76",{"$f":"'تعریف کالا'!$C$80","v":0},{"$f":"'تعریف کالا'!$D$80","v":0},{"$f":"'تعریف کالا'!$E$80","v":0},{"$f":"'تعریف کالا'!$G$80","v":0},null,{"$f":"'تعریف کالا'!$F$80","v":0},null,0,null,null,null,null,null,null,null,null,null,null,null,null,null,null,0,0,0,0,0,0,0]
[null,"کاردکس 83",{"$f":"'تعریف کالا'!$C$87","v":0},{"$f":"'تعریف کالا'!$D$87","v":0},{"$f":"'تعریف کالا'!$E$87","v":0},{"$f":"'تعریف کالا'!$G$87","v":0},null,{"$f":"'تعریف کالا'!$F$87","v":0},null,0,null,null,null,null,null,null,null,null,null,null,null,null,null,null,0,0,0,0,0,0,0]
[null,"کاردکس 88",{"$f":"'تعریف کالا'!$C$92","v":0},{"$f":"'تعریف کالا'!$D$92","v":0},{"$f":"'تعریف کالا'!$E$92","v":0},{"$f":"'تعریف کالا'!$G$92","v":0},null,{"$f":"'تعریف کالا'!$F$92","v":0},null,0,null,null,null,null,null,null,null,null,null,null,null,null,null,null,0,0,0,0,0,0,0]
[null,"کاردکس 92",{"$f":"'تعریف کالا'!$C$96","v":0},{"$f":"'تعریف کالا'!$D$96","v":0},{"$f":"'تعریف کالا'!$E$96","v":0},{"$f":"'تعریف کالا'!$G$96","v":0},null,{"$f":"'تعریف کالا'!$F$96","v":0},null,0,null,null,null,null,null,null,null,null,null,null,null,null,null,null,0,0,0,0,0,0,0]
[null,"کاردکس 100",{"$f":"'تعریف کالا'!$C$104","v":0},{"$f":"'تعریف کالا'!$D$104","v":0},{"$f":"'تعریف کالا'!$E$104","v":0},{"$f":"'تعریف کالا'!$G$104","v":0},null,{"$f":"'تعریف کالا'!$F$104","v":0},null,0,null,null,null,null,null,null,null,null,null,null,null,null,null,null,0,0,0,0,0,0,0]
[null,"کاردکس 107",{"$f":"'تعریف کالا'!$C$111","v":0},{"$f":"'تعریف کالا'!$D$111","v":0},{"$f":"'تعریف کالا'!$E$111","v":0},{"$f":"'تعریف کالا'!$G$111","v":0},null,{"$f":"'تعریف کالا'!$F$111","v":0},null,0,null,null,null,null,null,null,null,null,null,null,null,null,null,null,0,0,0,0,0,0,0]
[null,"کاردکس 111",{"$f":"'تعریف کالا'!$C$115","v":0},{"$f":"'تعریف کالا'!$D$115","v":0},{"$f":"'تعریف کالا'!$E$115","v":0},{"$f":"'تعریف کالا'!$G$115","v":0},null,{"$f":"'تعریف کالا'!$F$115","v":0},null,0,null,null,null,null,null,null,null,null,null,null,null,null,null,null,0,0,0,0,0,0,0]
[null,"کاردکس 117",{"$f":"'تعریف کالا'!$C$121","v":0},{"$f":"'تعریف کالا'!$D$121","v":0},{"$f":"'تعریف کالا'!$E$121","v":0},{"$f":"'تعریف کالا'!$G$121","v":0},null,{"$f":"'تعریف کالا'!$F$121","v":0},null,0,null,null,null,null,null,null,null,null,null,null,null,null,null,null,0,0,0,0,0,0,0]
[null,"کاردکس 124",{"$f":"'تعریف کالا'!$C$128","v":0},{"$f":"'تعریف کالا'!$D$128","v":0},{"$f":"'تعریف کالا'!$E$128","v":0},{"$f":"'تعریف کالا'!$G$128","v":0},null,{"$f":"'تعریف کالا'!$F$128","v":0},null,0,null,null,null,null,null,null,null,null,null,null,null,null,null,null,0,0,0,0,0,0,0]
[null,"کاردکس 128",{"$f":"'تعریف کالا'!$C$132","v":0},{"$f":"'تعریف کالا'!$D$132","v":0},{"$f":"'تعریف کالا'!$E$132","v":0},{"$f":"'تعریف کالا'!$G$132","v":0},null,{"$f":"'تعریف کالا'!$F$132","v":0},null,0,null,null,null,null,null,null,null,null,null,null,null,null,null,null,0,0,0,0,0,0,0]
[null,"کاردکس 133",{"$f":"'تعریف کالا'!$C$137","v":0},{"$f":"'تعریف کالا'!$D$137","v":0},{"$f":"'تعریف کالا'!$E$137","v":0},{"$f":"'تعریف کالا'!$G$137","v":0},null,{"$f":"'تعریف کالا'!$F$137","v":0},null,0,null,null,null,null,null,null,null,null,null,null,null,null,null,null,0,0,0,0,0,0,0]
[null,"کاردکس 140",{"$f":"'تعریف کالا'!$C$144","v":0},{"$f":"'تعریف کالا'!$D$144","v":0},{"$f":"'تعریف کالا'!$E$144","v":0},{"$f":"'تعریف کالا'!$G$144","v":0},null,{"$f":"'تعریف کالا'!$F$144","v":0},null,0,null,null,null,null,null,null,null,null,null,null,null,null,null,null,0,0,0,0,0,0,0]
[null,"کاردکس 142",{"$f":"'تعریف کالا'!$C$146","v":0},{"$f":"'تعریف کالا'!$D$146","v":0},{"$f":"'تعریف کالا'!$E$146","v":0},{"$f":"'تعریف کالا'!$G$146","v":0},null,{"$f":"'تعریف کالا'!$F$146","v":0},null,0,null,null,null,null,null,null,null,null,null,null,null,null,null,null,0,0,0,0,0,0,0]
[null,"کاردکس 147",{"$f":"'تعریف کالا'!$C$151","v":0},{"$f":"'تعریف کالا'!$D$151","v":0},{"$f":"'تعریف کالا'!$E$151","v":0},{"$f":"'تعریف کالا'!$G$151","v":0},null,{"$f":"'تعریف کالا'!$F$151","v":0},null,0,null,null,null,null,null,null,null,null,null,null,null,null,null,null,0,0,0,0,0,0,0]
[null,"کاردکس 153",{"$f":"'تعریف کالا'!$C$157","v":0},{"$f":"'تعریف کالا'!$D$157","v":0},{"$f":"'تعریف کالا'!$E$157","v":0},{"$f":"'تعریف کالا'!$G$157","v":0},null,{"$f":"'تعریف کالا'!$F$157","v":0},null,0,null,null,null,null,null,null,null,null,null,null,null,null,null,null,0,0,0,0,0,0,0]
[null,"کاردکس 159",{"$f":"'تعریف کالا'!$C$163","v":0},{"$f":"'تعریف کالا'!$D$163","v":0},{"$f":"'تعریف کالا'!$E$163","v":0},{"$f":"'تعریف کالا'!$G$163","v":0},null,{"$f":"'تعریف کالا'!$F$163","v":0},null,0,null,null,null,null,null,null,null,null,null,null,null,null,null,null,0,0,0,0,0,0,0]
[null,"کاردکس 168",{"$f":"'تعریف کالا'!$C$172","v":0},{"$f":"'تعریف کالا'!$D$172","v":0},{"$f":"'تعریف کالا'!$E$172","v":0},{"$f":"'تعریف کالا'!$G$172","v":0},null,{"$f":"'تعریف کالا'!$F$172","v":0},null,0,null,null,null,null,null,null,null,null,null,null,null,null,null,null,0,0,0,0,0,0,0]
[null,"کاردکس 171",{"$f":"'تعریف کالا'!$C$175","v":0},{"$f":"'تعریف کالا'!$D$175","v":0},{"$f":"'تعریف کالا'!$E$175","v":0},{"$f":"'تعریف کالا'!$G$175","v":0},null,{"$f":"'تعریف کالا'!$F$175","v":0},null,0,null,null,null,null,null,null,null,null,null,null,null,null,null,null,0,0,0,0,0,0,0]
[null,"کاردکس 177",{"$f":"'تعریف کالا'!$C$181","v":0},{"$f":"'تعریف کالا'!$D$181","v":0},{"$f":"'تعریف کالا'!$E$181","v":0},{"$f":"'تعریف کالا'!$G$181","v":0},null,{"$f":"'تعریف کالا'!$F$181","v":0},null,0,null,null,null,null,null,null,null,null,null,null,null,null,null,null,0,0,0,0,0,0,0]
[null,"کاردکس 182",{"$f":"'تعریف کالا'!$C$186","v":0},{"$f":"'تعریف کالا'!$D$186","v":0},{"$f":"'تعریف کالا'!$E$186","v":0},{"$f":"'تعریف کالا'!$G$186","v":0},null,{"$f":"'تعریف کالا'!$F$186","v":0},null,0,null,null,null,null,null,null,null,null,null,null,null,null,null,null,0,0,0,0,0,0,0]
[null,"کاردکس 186",{"$f":"'تعریف کالا'!$C$190","v":0},{"$f":"'تعریف کالا'!$D$190","v":0},{"$f":"'تعریف کالا'!$E$190","v":0},{"$f":"'تعریف کالا'!$G$190","v":0},null,{"$f":"'تعریف کالا'!$F$190","v":0},null,0,null,null,null,null,null,null,null,null,null,null,null,null,null,null,0,0,0,0,0,0,0]
[null,"کاردکس 194",{"$f":"'تعریف کالا'!$C$198","v":0},{"$f":"'تعریف کالا'!$D$198","v":0},{"$f":"'تعریف کالا'!$E$198","v":0},{"$f":"'تعریف کالا'!$G$198","v":0},null,{"$f":"'تعریف کالا'!$F$198","v":0},null,0,null,null,null,null,null,null,null,null,null,null,null,null,null,null,0,0,0,{"$f":"F2911","v":0},{"$f":"H2911","v":0},{"$f":"I2911","v":0},{"$f":"J2911","v":0}]
[null,"کاردکس 197",{"$f":"'تعریف کالا'!$C$201","v":0},{"$f":"'تعریف کالا'!$D$201","v":0},{"$f":"'تعریف کالا'!$E$201","v":0},{"$f":"'تعریف کالا'!$G$201","v":0},null,{"$f":"'تعریف کالا'!$F$201","v":0},null,0,null,null,null,null,null,null,null,null,null,null,null,null,null,null,0,0,0,0,0,0,0]
[]
[null,null,"فاکتور خرید"]
[null,null,null,null,null,{"$f":"'صفحه اصلی'!$J$4","v":0},null,null,null,null,null,"فاکتور بعدی",null,null,null,null,null,null,null,null,null,null,null,"رسید کالا"]
[null,null,"پرداخت با چک",null,null,null,null,null,"مانده حساب",{"$f":"J2937-D2937-D2938","v":0}]
[]
[null,"کاردکس 5",{"$f":"'تعریف کالا'!$C$9","v":0},{"$f":"'تعریف کالا'!$D$9","v":0},{"$f":"'تعریف کالا'!$E$9","v":0},{"$f":"'تعریف کالا'!$G$9","v":0},null,{"$f":"'تعریف کالا'!$F$9","v":0},null,0,null,null,null,null,null,null,null,null,null,null,null,null,null,null,0,0,0,0,0,0,0]
[null,"کاردکس 11",{"$f":"'تعریف کالا'!$C$15","v":0},{"$f":"'تعریف کالا'!$D$15","v":0},{"$f":"'تعریف کالا'!$E$15","v":0},{"$f":"'تعریف کالا'!$G$15","v":0},null,{"$f":"'تعریف کالا'!$F$15","v":0},null,0,null,null,null,null,null,null,null,null,null,null,null,null,null,null,0,0,0,0,0,0,0]
[null,"کاردکس 16",{"$f":"'تعریف کالا'!$C$20","v":0},{"$f":"'تعریف کالا'!$D$20","v":0},{"$f":"'تعریف کالا'!$E$20","v":0},{"$f":"'تعریف کالا'!$G$20","v":0},null,{"$f":"'تعریف کالا'!$F$20","v":0},null,0,null,null,null,null,null,null,null,null,null,null,null,null,null,null,0,0,0,0,0,0,0]
[null,"کاردکس 23",{"$f":"'تعریف کالا'!$C$27","v":0},{"$f":"'تعریف کالا'!$D$27","v":0},{"$f":"'تعریف کالا'!$E$27","v":0},{"$f":"'تعریف کالا'!$G$27","v":0},null,{"$f":"'تعریف کالا'!$F$27","v":0},null,0,null,null,null,null,null,null,null,null,null,null,null,null,null,null,0,0,0,0,0,0,0]
[null,"کاردکس 31",{"$f":"'تعریف کالا'!$C$35","v":0},{"$f":"'تعریف کالا'!$D$35","v":0},{"$f":"'تعریف کالا'!$E$35","v":0},{"$f":"'تعریف کالا'!$G$35","v":0},null,{"$f":"'تعریف کالا'!$F$35","v":0},null,0,null,null,null,null,null,null,null,null,null,null,null,null,null,null,0,0,0,0,0,0,0]
[null,"کاردکس 35",{"$f":"'تعریف کالا'!$C$39","v":0},{"$f":"'تعریف کالا'!$D$39","v":0},{"$f":"'تعریف کالا'!$E$39","v":0},{"$f":"'تعریف کالا'!$G$39","v":0},null,{"$f":"'تعریف کالا'!$F$39","v":0},null,0,null,null,null,null,null,null,null,null,null,null,null,null,null,null,0,0,0,0,0,0,0]
[null,"کاردکس 40",{"$f":"'تعریف کالا'!$C$44","v":0},{"$f":"'تعریف کالا'!$D$44","v":0},{"$f":"'تعریف کالا'!$E$44","v":0},{"$f":"'تعریف کالا'!$G$44","v":0},null,{"$f":"'تعریف کالا'!$F$44","v":0},null,0,null,null,null,null,null,null,null,null,null,null,null,null,null,null,0,0,0,0,0,0,0]
[null,"کاردکس 46",{"$f":"'تعریف کالا'!$C$50","v":0},{"$f":"'تعریف کالا'!$D$50","v":0},{"$f":"'تعریف کالا'!$E$50","v":0},{"$f":"'تعریف کالا'!$G$50","v":0},null,{"$f":"'تعریف کالا'!$F$50","v":0},null,0,null,null,null,null,null,null,null,null,null,null,null,null,null,null,0,0,0,0,0,0,0]
[null,"کاردکس 49",{"$f":"'تعریف کالا'!$C$53","v":0},{"$f":"'تعریف کالا'!$D$53","v":0},{"$f":"'تعریف کالا'!$E$53","v":0},{"$f":"'تعریف کالا'!$G$53","v":0},null,{"$f":"'تعریف کالا'!$F$53","v":0},null,0,null,null,null,null,null,null,null,null,null,null,null,null,null,null,0,0,0,0,0,0,0]
[null,"کاردکس 58",{"$f":"'تعریف کالا'!$C$62","v":0},{"$f":"'تعریف کالا'!$D$62","v":0},{"$f":"'تعریف کالا'!$E$62","v":0},{"$f":"'تعریف کالا'!$G$62","v":0},null,{"$f":"'تعریف کالا'!$F$62","v":0},null,0,null,null,null,null,null,null,null,null,null,null,null,null,null,null,0,0,0,0,0,0,0]
[null,"کاردکس 64",{"$f":"'تعریف کالا'!$C$68","v":0},{"$f":"'تعریف کالا'!$D$68","v":0},{"$f":"'تعریف کالا'!$E$68","v":0},{"$f":"'تعریف کالا'!$G$68","v":0},null,{"$f":"'تعریف کالا'!$F$68","v":0},null,0,null,null,null,null,null,null,null,null,null,null,null,null,null,null,0,0,0,0,0,0,0]
[null,"کاردکس 65",{"$f":"'تعریف کالا'!$C$69","v":0},{"$f":"'تعریف کالا'!$D$69","v":0},{"$f":"'تعریف کالا'!$E$69","v":0},{"$f":"'تعریف کالا'!$G$69","v":0},null,{"$f":"'تعریف کالا'!$F$69","v":0},null,0,null,null,null,null,null,null,null,null,null,null,null,null,null,null,0,0,0,0,0,0,0]
[null,"کاردکس 75",{"$f":"'تعریف کالا'!$C$79","v":0},{"$f":"'تعریف کالا'!$D$79","v":0},{"$f":"'تعریف کالا'!$E$79","v":0},{"$f":"'تعریف کالا'!$G$79","v":0},null,{"$f":"'تعریف کالا'!$F$79","v":0},null,0,null,null,null,null,null,null,null,null,null,null,null,null,null,null,0,0,0,0,0,0,0]
[null,"کاردکس 77",{"$f":"'تعریف کالا'!$C$81","v":0},{"$f":"'تعریف کالا'!$D$81","v":0},{"$f":"'تعریف کالا'!$E$81","v":0},{"$f":"'تعریف کالا'!$G$81","v":0},null,{"$f":"'تعریف کالا'!$F$81","v":0},null,0,null,null,null,null,null,null,null,null,null,null,null,null,null,null,0,0,0,0,0,0,0]
[null,"کاردکس 84",{"$f":"'تعریف کالا'!$C$88","v":0},{"$f":"'تعریف کالا'!$D$88","v":0},{"$f":"'تعریف کالا'!$E$88","v":0},{"$f":"'تعریف کالا'!$G$88","v":0},null,{"$f":"'تعریف کالا'!$F$88","v":0},null,0,null,null,null,null,null,null,null,null,null,null,null,null,null,null,0,0,0,0,0,0,0]
[null,"کاردکس 88",{"$f":"'تعریف کالا'!$C$92","v":0},{"$f":"'تعریف کالا'!$D$92","v":0},{"$f":"'تعریف کالا'!$E$92","v":0},{"$f":"'تعریف کالا'!$G$92","v":0},null,{"$f":"'تعریف کالا'!$F$92","v":0},null,0,null,null,null,null,null,null,null,null,null,null,null,null,null,null,0,0,0,0,0,0,0]
[null,"کاردکس 93",{"$f":"'تعریف کالا'!$C$97","v":0},{"$f":"'تعریف کالا'!$D$97","v":0},{"$f":"'تعریف کالا'!$E$97","v":0},{"$f":"'تعریف کالا'!$G$97","v":0},null,{"$f":"'تعریف کالا'!$F$97","v":0},null,0,null,null,null,null,null,null,null,null,null,null,null,null,null,null,0,0,0,0,0,0,0]
[null,"کاردکس 100",{"$f":"'تعریف کالا'!$C$104","v":0},{"$f":"'تعریف کالا'!$D$104","v":0},{"$f":"'تعریف کالا'!$E$104","v":0},{"$f":"'تعریف کالا'!$G$104","v":0},null,{"$f":"'تعریف کالا'!$F$104","v":0},null,0,null,null,null,null,null,null,null,null,null,null,null,null,null,null,0,0,0,0,0,0,0]
[null,"کاردکس 108",{"$f":"'تعریف کالا'!$C$112","v":0},{"$f":"'تعریف کالا'!$D$112","v":0},{"$f":"'تعریف کالا'!$E$112","v":0},{"$f":"'تعریف کالا'!$G$112","v":0},null,{"$f":"'تعریف کالا'!$F$112","v":0},null,0,null,null,null,null,null,null,null,null,null,null,null,null,null,null,0,0,0,0,0,0,0]
[null,"کاردکس 112",{"$f":"'تعریف کالا'!$C$116","v":0},{"$f":"'تعریف کالا'!$D$116","v":0},{"$f":"'تعریف کالا'!$E$116","v":0},{"$f":"'تعریف کالا'!$G$116","v":0},null,{"$f":"'تعریف کالا'!$F$116","v":0},null,0,null,null,null,null,null,null,null,null,null,null,null,null,null,null,0,0,0,0,0,0,0]
[null,"کاردکس 119",{"$f":"'تعریف کالا'!$C$123","v":0},{"$f":"'تعریف کالا'!$D$123","v":0},{"$f":"'تعریف کالا'!$E$123","v":0},{"$f":"'تعریف کالا'!$G$123","v":0},null,{"$f":"'تعریف کالا'!$F$123","v":0},null,0,null,null,null,null,null,null,null,null,null,null,null,null,null,null,0,0,0,0,0,0,0]
[null,"کاردکس 124",{"$f":"'تعریف کالا'!$C$128","v":0},{"$f":"'تعریف کالا'!$D$128","v":0},{"$f":"'تعریف کالا'!$E$128","v":0},{"$f":"'تعریف کالا'!$G$128","v":0},null,{"$f":"'تعریف کالا'!$F$128","v":0},null,0,null,null,null,null,null,null,null,null,null,null,null,null,null,null,0,0,0,0,0,0,0]
[null,"کاردکس 128",{"$f":"'تعریف کالا'!$C$132","v":0},{"$f":"'تعریف کالا'!$D$132","v":0},{"$f":"'تعریف کالا'!$E$132","v":0},{"$f":"'تعریف کالا'!$G$132","v":0},null,{"$f":"'تعریف کالا'!$F$132","v":0},null,0,null,null,null,null,null,null,null,null,null,null,null,null,null,null,0,0,0,0,0,0,0]
[null,"کاردکس 131",{"$f":"'تعریف کالا'!$C$135","v":0},{"$f":"'تعریف کالا'!$D$135","v":0},{"$f":"'تعریف کالا'!$E$135","v":0},{"$f":"'تعریف کالا'!$G$135","v":0},null,{"$f":"'تعریف کالا'!$F$135","v":0},null,{"$f":"(F3073*I3073)-(F3073*I3073*G3073%)","v":0},null,null,null,null,null,null,null,null,null,null,null,null,null,null,{"$f":"C3073","v":0},{"$f":"D3073","v":0},{"$f":"E3073","v":0},0,0,0,0]
[null,"کاردکس 137",{"$f":"'تعریف کالا'!$C$141","v":0},{"$f":"'تعریف کالا'!$D$141","v":0},{"$f":"'تعریف کالا'!$E$141","v":0},{"$f":"'تعریف کالا'!$G$141","v":0},null,{"$f":"'تعریف کالا'!$F$141","v":0},null,0,null,null,null,null,null,null,null,null,null,null,null,null,null,null,0,0,0,0,0,0,0]
[null,"کاردکس 142",{"$f":"'تعریف کالا'!$C$146","v":0},{"$f":"'تعریف کالا'!$D$146","v":0},{"$f":"'تعریف کالا'!$E$146","v":0},{"$f":"'تعریف کالا'!$G$146","v":0},null,{"$f":"'تعریف کالا'!$F$146","v":0},null,0,null,null,null,null,null,null,null,null,null,null,null,null,null,null,0,0,0,0,0,0,0]
[null,"کاردکس 152",{"$f":"'تعریف کالا'!$C$156","v":0},{"$f":"'تعریف کالا'!$D$156","v":0},{"$f":"'تعریف کالا'!$E$156","v":0},{"$f":"'تعریف کالا'!$G$156","v":0},null,{"$f":"'تعریف کالا'!$F$156","v":0},null,0,null,null,null,null,null,null,null,null,null,null,null,null,null,null,0,0,0,0,0,0,0]
[null,"کاردکس 154",{"$f":"'تعریف کالا'!$C$158","v":0},{"$f":"'تعریف کالا'!$D$158","v":0},{"$f":"'تعریف کالا'!$E$158","v":0},{"$f":"'تعریف کالا'!$G$158","v":0},null,{"$f":"'تعریف کالا'!$F$158","v":0},null,0,null,null,null,null,null,null,null,null,null,null,null,null,null,null,0,0,0,0,0,0,0]
[null,"کاردکس 163",{"$f":"'تعریف کالا'!$C$167","v":0},{"$f":"'تعریف کالا'!$D$167","v":0},{"$f":"'تعریف کالا'!$E$167","v":0},{"$f":"'تعریف کالا'!$G$167","v":0},null,{"$f":"'تعریف کالا'!$F$167","v":0},null,0,null,null,null,null,null,null,null,null,null,null,null,null,null,null,0,0,0,0,0,0,0]
[null,"کاردکس 166",{"$f":"'تعریف کالا'!$C$170","v":0},{"$f":"'تعریف کالا'!$D$170","v":0},{"$f":"'تعریف کالا'!$E$170","v":0},{"$f":"'تعریف کالا'!$G$170","v":0},null,{"$f":"'تعریف کالا'!$F$170","v":0},null,0,null,null,null,null,null,null,null,null,null,null,null,null,null,null,0,0,0,0,0,0,0]
[null,"کاردکس 172",{"$f":"'تعریف کالا'!$C$176","v":0},{"$f":"'تعریف کالا'!$D$176","v":0},{"$f":"'تعریف کالا'!$E$176","v":0},{"$f":"'تعریف کالا'!$G$176","v":0},null,{"$f":"'تعریف کالا'!$F$176","v":0},null,0,null,null,null,null,null,null,null,null,null,null,null,null,null,null,0,0,0,0,0,0,0]
[null,"کاردکس 178",{"$f":"'تعریف کالا'!$C$182","v":0},{"$f":"'تعریف کالا'!$D$182","v":0},{"$f":"'تعریف کالا'!$E$182","v":0},{"$f":"'تعریف کالا'!$G$182","v":0},null,{"$f":"'تعریف کالا'!$F$182","v":0},null,0,null,null,null,null,null,null,null,null,null,null,null,null,null,null,0,0,0,0,0,0,0]
[null,"کاردکس 181",{"$f":"'تعریف کالا'!$C$185","v":0},{"$f":"'تعریف کالا'!$D$185","v":0},{"$f":"'تعریف کالا'!$E$185","v":0},{"$f":"'تعریف کالا'!$G$185","v":0},null,{"$f":"'تعریف کالا'!$F$185","v":0},null,0,null,null,null,null,null,null,null,null,null,null,null,null,null,null,0,0,0,0,0,0,0]
[null,"کاردکس 189",{"$f":"'تعریف کالا'!$C$193","v":0},{"$f":"'تعریف کالا'!$D$193","v":0},{"$f":"'تعریف کالا'!$E$193","v":0},{"$f":"'تعریف کالا'!$G$193","v":0},null,{"$f":"'تعریف کالا'!$F$193","v":0},null,0,null,null,null,null,null,null,null,null,null,null,null,null,null,null,0,0,0,0,0,0,0]
[null,"کاردکس 196",{"$f":"'تعریف کالا'!$C$200","v":0},{"$f":"'تعریف کالا'!$D$200","v":0},{"$f":"'تعریف کالا'!$E$200","v":0},{"$f":"'تعریف کالا'!$G$200","v":0},null,{"$f":"'تعریف کالا'!$F$200","v":0},null,0,null,null,null,null,null,null,null,null,null,null,null,null,null,null,0,0,0,0,0,0,0]
[null,"     جمع کل",null,{"$f":"abh(I3143)&L3139","v":"منفي "},null,null,null,null,{"$f":"SUM(J2943:J3142)","v":0},null,null,null,null,null,null,null,null,null,null,null,null,null,null,"مانده حساب",null,{"$f":"abh(AD3143)& \"ریال\"","v":"منفي ریال"},null,null,null,{"$f":"I3145","v":0}]
[]
[]
[null,null,null,null,null,null,null,null,null,null,null,null,null,null,null,null,null,null,null,null,null,null,null,"شماره سند",{"$f":"C3156","v":15}]
[null,null,"پرداخت نقدی",null,null,null,null,null,"مبلغ قابل پرداخت",{"$f":"I3368-J3159+J3160+J3161","v":0},null,null,null,null,null,null,null,null,null,null,null,null,null,null,"فروشنده :",{"$f":"D3160","v":"علی منصوری"}]
[null,"شماره کاردکس","کد کالا","نام کالا","گروه بندی","قیمت واحد","درصد تخفیف","واحد شمارش","تعداد","قیمت کل",null,null,null,null,null,null,null,null,null,null,null,null,null,"ردیف","کد کالا","نام کالا","گروه بندی","قیمت واحد","واحد شمارش","تعداد","قیمت کل"]
[null,"کاردکس 6",{"$f":"'تعریف کالا'!$C$10","v":0},{"$f":"'تعریف کالا'!$D$10","v":0},{"$f":"'تعریف کالا'!$E$10","v":0},{"$f":"'تعریف کالا'!$G$10","v":0},null,{"$f":"'تعریف کالا'!$F$10","v":0},null,0,null,null,null,null,null,null,null,null,null,null,null,null,null,null,0,0,0,0,0,0,0]
[null,"کاردکس 15",{"$f":"'تعریف کالا'!$C$19","v":0},{"$f":"'تعریف کالا'!$D$19","v":0},{"$f":"'تعریف کالا'!$E$19","v":0},{"$f":"'تعریف کالا'!$G$19","v":0},null,{"$f":"'تعریف کالا'!$F$19","v":0},null,0,null,null,null,null,null,null,null,null,null,null,null,null,null,null,0,0,0,0,0,0,0]
[null,"کاردکس 18",{"$f":"'تعریف کالا'!$C$22","v":0},{"$f":"'تعریف کالا'!$D$22","v":0},{"$f":"'تعریف کالا'!$E$22","v":0},{"$f":"'تعریف کالا'!$G$22","v":0},null,{"$f":"'تعریف کالا'!$F$22","v":0},null,0,null,null,null,null,null,null,null,null,null,null,null,null,null,null,0,0,0,0,0,0,0]
[null,"کاردکس 24",{"$f":"'تعریف کالا'!$C$28","v":0},{"$f":"'تعریف کالا'!$D$28","v":0},{"$f":"'تعریف کالا'!$E$28","v":0},{"$f":"'تعریف کالا'!$G$28","v":0},null,{"$f":"'تعریف کالا'!$F$28","v":0},null,0,null,null,null,null,null,null,null,null,null,null,null,null,null,null,0,0,0,0,0,0,0]
[null,"کاردکس 30",{"$f":"'تعریف کالا'!$C$34","v":0},{"$f":"'تعریف کالا'!$D$34","v":0},{"$f":"'تعریف کالا'!$E$34","v":0},{"$f":"'تعریف کالا'!$G$34","v":0},null,{"$f":"'تعریف کالا'!$F$34","v":0},null,0,null,null,null,null,null,null,null,null,null,null,null,null,null,null,0,0,0,0,0,0,0]
[null,"کاردکس 35",{"$f":"'تعریف کالا'!$C$39","v":0},{"$f":"'تعریف کالا'!$D$39","v":0},{"$f":"'تعریف کالا'!$E$39","v":0},{"$f":"'تعریف کالا'!$G$39","v":0},null,{"$f":"'تعریف کالا'!$F$39","v":0},null,0,null,null,null,null,null,null,null,null,null,null,null,null,null,null,0,0,0,0,0,0,0]
[null,"کاردکس 42",{"$f":"'تعریف کالا'!$C$46","v":0},{"$f":"'تعریف کالا'!$D$46","v":0},{"$f":"'تعریف کالا'!$E$46","v":0},{"$f":"'تعریف کالا'!$G$46","v":0},null,{"$f":"'تعریف کالا'!$F$46","v":0},null,0,null,null,null,null,null,null,null,null,null,null,null,null,null,null,0,0,0,0,0,0,0]
[null,"کاردکس 44",{"$f":"'تعریف کالا'!$C$48","v":0},{"$f":"'تعریف کالا'!$D$48","v":0},{"$f":"'تعریف کالا'!$E$48","v":0},{"$f":"'تعریف کالا'!$G$48","v":0},null,{"$f":"'تعریف کالا'!$F$48","v":0},null,0,null,null,null,null,null,null,null,null,null,null,null,null,null,null,0,0,0,0,0,0,0]
[null,"کاردکس 53",{"$f":"'تعریف کالا'!$C$57","v":0},{"$f":"'تعریف کالا'!$D$57","v":0},{"$f":"'تعریف کالا'!$E$57","v":0},{"$f":"'تعریف کالا'!$G$57","v":0},null,{"$f":"'تعریف کالا'!$F$57","v":0},null,0,null,null,null,null,null,null,null,null,null,null,null,null,null,null,0,0,0,0,0,0,0]
[null,"کاردکس 59",{"$f":"'تعریف کالا'!$C$63","v":0},{"$f":"'تعریف کالا'!$D$63","v":0},{"$f":"'تعریف کالا'!$E$63","v":0},{"$f":"'تعریف کالا'!$G$63","v":0},null,{"$f":"'تعریف کالا'!$F$63","v":0},null,0,null,null,null,null,null,null,null,null,null,null,null,null,null,null,0,0,0,0,0,0,0]
[null,"کاردکس 60",{"$f":"'تعریف کالا'!$C$64","v":0},{"$f":"'تعریف کالا'!$D$64","v":0},{"$f":"'تعریف کالا'!$E$64","v":0},{"$f":"'تعریف کالا'!$G$64","v":0},null,{"$f":"'تعریف کالا'!$F$64","v":0},null,0,null,null,null,null,null,null,null,null,null,null,null,null,null,null,0,0,0,0,0,0,0]
[null,"کاردکس 68",{"$f":"'تعریف کالا'!$C$72","v":0},{"$f":"'تعریف کالا'!$D$72","v":0},{"$f":"'تعریف کالا'!$E$72","v":0},{"$f":"'تعریف کالا'!$G$72","v":0},null,{"$f":"'تعریف کالا'!$F$72","v":0},null,0,null,null,null,null,null,null,null,null,null,null,null,null,null,null,0,0,0,0,0,0,0]
[null,"کاردکس 72",{"$f":"'تعریف کالا'!$C$76","v":0},{"$f":"'تعریف کالا'!$D$76","v":0},{"$f":"'تعریف کالا'!$E$76","v":0},{"$f":"'تعریف کالا'!$G$76","v":0},null,{"$f":"'تعریف کالا'!$F$76","v":0},null,0,null,null,null,null,null,null,null,null,null,null,null,null,null,null,0,0,0,0,0,0,0]
[null,"کاردکس 79",{"$f":"'تعریف کالا'!$C$83","v":0},{"$f":"'تعریف کالا'!$D$83","v":0},{"$f":"'تعریف کالا'!$E$83","v":0},{"$f":"'تعریف کالا'!$G$83","v":0},null,{"$f":"'تعریف کالا'!$F$83","v":0},null,0,null,null,null,null,null,null,null,null,null,null,null,null,null,null,0,0,0,0,0,0,0]
[null,"کاردکس 84",{"$f":"'تعریف کالا'!$C$88","v":0},{"$f":"'تعریف کالا'!$D$88","v":0},{"$f":"'تعریف کالا'!$E$88","v":0},{"$f":"'تعریف کالا'!$G$88","v":0},null,{"$f":"'تعریف کالا'!$F$88","v":0},null,0,null,null,null,null,null,null,null,null,null,null,null,null,null,null,0,0,0,0,0,0,0]
[null,"کاردکس 88",{"$f":"'تعریف کالا'!$C$92","v":0},{"$f":"'تعریف کالا'!$D$92","v":0},{"$f":"'تعریف کالا'!$E$92","v":0},{"$f":"'تعریف کالا'!$G$92","v":0},null,{"$f":"'تعریف کالا'!$F$92","v":0},null,0,null,null,null,null,null,null,null,null,null,null,null,null,null,null,0,0,0,0,0,0,0]
[null,"کاردکس 95",{"$f":"'تعریف کالا'!$C$99","v":0},{"$f":"'تعریف کالا'!$D$99","v":0},{"$f":"'تعریف کالا'!$E$99","v":0},{"$f":"'تعریف کالا'!$G$99","v":0},null,{"$f":"'تعریف کالا'!$F$99","v":0},null,0,null,null,null,null,null,null,null,null,null,null,null,null,null,null,0,0,0,0,0,0,0]
[null,"کاردکس 103",{"$f":"'تعریف کالا'!$C$107","v":0},{"$f":"'تعریف کالا'!$D$107","v":0},{"$f":"'تعریف کالا'!$E$107","v":0},{"$f":"'تعریف کالا'!$G$107","v":0},null,{"$f":"'تعریف کالا'!$F$107","v":0},null,0,null,null,null,null,null,null,null,null,null,null,null,null,null,null,0,0,0,0,0,0,0]
[null,"کاردکس 107",{"$f":"'تعریف کالا'!$C$111","v":0},{"$f":"'تعریف کالا'!$D$111","v":0},{"$f":"'تعریف کالا'!$E$111","v":0},{"$f":"'تعریف کالا'!$G$111","v":0},null,{"$f":"'تعریف کالا'!$F$111","v":0},null,0,null,null,null,null,null,null,null,null,null,null,null,null,null,null,0,0,0,0,0,0,0]
[null,"کاردکس 112",{"$f":"'تعریف کالا'!$C$116","v":0},{"$f":"'تعریف کالا'!$D$116","v":0},{"$f":"'تعریف کالا'!$E$116","v":0},{"$f":"'تعریف کالا'!$G$116","v":0},null,{"$f":"'تعریف کالا'!$F$116","v":0},null,0,null,null,null,null,null,null,null,null,null,null,null,null,null,null,0,0,0,0,0,0,0]
[null,"کاردکس 119",{"$f":"'تعریف کالا'!$C$123","v":0},{"$f":"'تعریف کالا'!$D$123","v":0},{"$f":"'تعریف کالا'!$E$123","v":0},{"$f":"'تعریف کالا'!$G$123","v":0},null,{"$f":"'تعریف کالا'!$F$123","v":0},null,0,null,null,null,null,null,null,null,null,null,null,null,null,null,null,0,0,0,0,0,0,0]
[null,"کاردکس 123",{"$f":"'تعریف کالا'!$C$127","v":0},{"$f":"'تعریف کالا'!$D$127","v":0},{"$f":"'تعریف کالا'!$E$127","v":0},{"$f":"'تعریف کالا'!$G$127","v":0},null,{"$f":"'تعریف کالا'!$F$127","v":0},null,0,null,null,null,null,null,null,null,null,null,null,null,null,null,null,0,0,0,0,0,0,0]
[null,"کاردکس 126",{"$f":"'تعریف کالا'!$C$130","v":0},{"$f":"'تعریف کالا'!$D$130","v":0},{"$f":"'تعریف کالا'!$E$130","v":0},{"$f":"'تعریف کالا'!$G$130","v":0},null,{"$f":"'تعریف کالا'!$F$130","v":0},null,0,null,null,null,null,null,null,null,null,null,null,null,null,null,null,0,0,0,0,0,0,0]
[null,"کاردکس 132",{"$f":"'تعریف کالا'!$C$136","v":0},{"$f":"'تعریف کالا'!$D$136","v":0},{"$f":"'تعریف کالا'!$E$136","v":0},{"$f":"'تعریف کالا'!$G$136","v":0},null,{"$f":"'تعریف کالا'!$F$136","v":0},null,0,null,null,null,null,null,null,null,null,null,null,null,null,null,null,0,0,0,0,0,0,0]
[null,"کاردکس 138",{"$f":"'تعریف کالا'!$C$142","v":0},{"$f":"'تعریف کالا'!$D$142","v":0},{"$f":"'تعریف کالا'!$E$142","v":0},{"$f":"'تعریف کالا'!$G$142","v":0},null,{"$f":"'تعریف کالا'!$F$142","v":0},null,0,null,null,null,null,null,null,null,null,null,null,null,null,null,null,0,0,0,0,0,0,0]
[null,"کاردکس 147",{"$f":"'تعریف کالا'!$C$151","v":0},{"$f":"'تعریف کالا'!$D$151","v":0},{"$f":"'تعریف کالا'!$E$151","v":0},{"$f":"'تعریف کالا'!$G$151","v":0},null,{"$f":"'تعریف کالا'!$F$151","v":0},null,0,null,null,null,null,null,null,null,null,null,null,null,null,null,null,0,0,0,0,0,0,0]
[null,"کاردکس 149",{"$f":"'تعریف کالا'!$C$153","v":0},{"$f":"'تعریف کالا'!$D$153","v":0},{"$f":"'تعریف کالا'!$E$153","v":0},{"$f":"'تعریف کالا'!$G$153","v":0},null,{"$f":"'تعریف کالا'!$F$153","v":0},null,0,null,null,null,null,null,null,null,null,null,null,null,null,null,null,0,0,0,0,0,0,0]
[null,"کاردکس 156",{"$f":"'تعریف کالا'!$C$160","v":0},{"$f":"'تعریف کالا'!$D$160","v":0},{"$f":"'تعریف کالا'!$E$160","v":0},{"$f":"'تعریف کالا'!$G$160","v":0},null,{"$f":"'تعریف کالا'!$F$160","v":0},null,0,null,null,null,null,null,null,null,null,null,null,null,null,null,null,0,0,0,0,0,0,0]
[null,"کاردکس 161",{"$f":"'تعریف کالا'!$C$165","v":0},{"$f":"'تعریف کالا'!$D$165","v":0},{"$f":"'تعریف کالا'!$E$165","v":0},{"$f":"'تعریف کالا'!$G$165","v":0},null,{"$f":"'تعریف کالا'!$F$165","v":0},null,0,null,null,null,null,null,null,null,null,null,null,null,null,null,null,0,0,0,0,0,0,0]
[null,"کاردکس 167",{"$f":"'تعریف کالا'!$C$171","v":0},{"$f":"'تعریف کالا'!$D$171","v":0},{"$f":"'تعریف کالا'!$E$171","v":0},{"$f":"'تعریف کالا'!$G$171","v":0},null,{"$f":"'تعریف کالا'!$F$171","v":0},null,0,null,null,null,null,null,null,null,null,null,null,null,null,null,null,0,0,0,0,0,0,0]
[null,"کاردکس 173",{"$f":"'تعریف کالا'!$C$177","v":0},{"$f":"'تعریف کالا'!$D$177","v":0},{"$f":"'تعریف کالا'!$E$177","v":0},{"$f":"'تعریف کالا'!$G$177","v":0},null,{"$f":"'تعریف کالا'!$F$177","v":0},null,0,null,null,null,null,null,null,null,null,null,null,null,null,null,null,0,0,0,0,0,0,0]
[null,"کاردکس 176",{"$f":"'تعریف کالا'!$C$180","v":0},{"$f":"'تعریف کالا'!$D$180","v":0},{"$f":"'تعریف کالا'!$E$180","v":0},{"$f":"'تعریف کالا'!$G$180","v":0},null,{"$f":"'تعریف کالا'!$F$180","v":0},null,0,null,null,null,null,null,null,null,null,null,null,null,null,null,null,0,0,0,0,0,0,0]
[null,"کاردکس 185",{"$f":"'تعریف کالا'!$C$189","v":0},{"$f":"'تعریف کالا'!$D$189","v":0},{"$f":"'تعریف کالا'!$E$189","v":0},{"$f":"'تعریف کالا'!$G$189","v":0},null,{"$f":"'تعریف کالا'!$F$189","v":0},null,0,null,null,null,null,null,null,null,null,null,null,null,null,null,null,0,0,0,0,0,0,0]
[null,"کاردکس 191",{"$f":"'تعریف کالا'!$C$195","v":0},{"$f":"'تعریف کالا'!$D$195","v":0},{"$f":"'تعریف کالا'!$E$195","v":0},{"$f":"'تعریف کالا'!$G$195","v":0},null,{"$f":"'تعریف کالا'!$F$195","v":0},null,0,null,null,null,null,null,null,null,null,null,null,null,null,null,null,0,0,0,0,0,0,0]
[null,"کاردکس 196",{"$f":"'تعریف کالا'!$C$200","v":0},{"$f":"'تعریف کالا'!$D$200","v":0},{"$f":"'تعریف کالا'!$E$200","v":0},{"$f":"'تعریف کالا'!$G$200","v":0},null,{"$f":"'تعریف کالا'!$F$200","v":0},null,0,null,null,null,null,null,null,null,null,null,null,null,null,null,null,0,0,0,0,0,0,0]
[null,"کاردکس 200",{"$f":"'تعریف کالا'!$C$204","v":0},{"$f":"'تعریف کالا'!$D$204","v":0},{"$f":"'تعریف کالا'!$E$204","v":0},{"$f":"'تعریف کالا'!$G$204","v":0},null,{"$f":"'تعریف کالا'!$F$204","v":0},null,0,null,null,null,null,null,null,null,null,null,null,null,null,null,null,0,0,0,0,0,0,0]
[null,"مانده حساب",null,{"$f":"abh(I3370)&\"ریال\"","v":"منفي ریال"},null,null,null,null,{"$f":"J3163","v":0},null,null,null,null,null,null,null,null,null,null,null,null,null,null,"اقلام این فاکتور سالم تحویل اینجانب  ....................  شد.               "]
[]
[null,"شماره فاکتور",16,null,null,null,null,null,"انبار",null,null,"مشاهده رسید",null,null,null,null,null,null,null,null,null,null,null,"شماره رسید",{"$f":"C3382","v":16}]
[null,null,"پرداخت نقدی",null,null,null,null,null,"مبلغ قابل پرداخت",{"$f":"I3593-J3384+J3385+J3386","v":0},null,null,null,null,null,null,null,null,null,null,null,null,null,null,"فروشنده :",{"$f":"D3385","v":"علی منصوری"}]
[null,"کاردکس 2",{"$f":"'تعریف کالا'!$C$6","v":9011121},{"$f":"'تعریف کالا'!$D$6","v":"دی وی دی"},{"$f":"'تعریف کالا'!$E$6","v":"سخت افزار"},{"$f":"'تعریف کالا'!$G$6","v":7000},null,{"$f":"'تعریف کالا'!$F$6","v":"حلقه"},null,{"$f":"(F3394*I3394)-(F3394*I3394*G3394%)","v":0},null,null,null,null,null,null,null,null,null,null,null,null,null,null,{"$f":"C3394","v":9011121},{"$f":"D3394","v":"دی وی دی"},{"$f":"E3394","v":"سخت افزار"},{"$f":"F3394","v":7000},{"$f":"H3394","v":"حلقه"},{"$f":"I3394","v":0},{"$f":"J3394","v":0}]
[null,"کاردکس 10",{"$f":"'تعریف کالا'!$C$14","v":0},{"$f":"'تعریف کالا'!$D$14","v":0},{"$f":"'تعریف کالا'!$E$14","v":0},{"$f":"'تعریف کالا'!$G$14","v":0},null,{"$f":"'تعریف کالا'!$F$14","v":0},null,0,null,null,null,null,null,null,null,null,null,null,null,null,null,null,0,0,0,0,0,0,0]
[null,"کاردکس 13",{"$f":"'تعریف کالا'!$C$17","v":0},{"$f":"'تعریف کالا'!$D$17","v":0},{"$f":"'تعریف کالا'!$E$17","v":0},{"$f":"'تعریف کالا'!$G$17","v":0},null,{"$f":"'تعریف کالا'!$F$17","v":0},null,0,null,null,null,null,null,null,null,null,null,null,null,null,null,null,0,0,0,0,0,0,0]
[null,"کاردکس 19",{"$f":"'تعریف کالا'!$C$23","v":0},{"$f":"'تعریف کالا'!$D$23","v":0},{"$f":"'تعریف کالا'!$E$23","v":0},{"$f":"'تعریف کالا'!$G$23","v":0},null,{"$f":"'تعریف کالا'!$F$23","v":0},null,0,null,null,null,null,null,null,null,null,null,null,null,null,null,null,0,0,0,0,0,0,0]
[null,"کاردکس 25",{"$f":"'تعریف کالا'!$C$29","v":0},{"$f":"'تعریف کالا'!$D$29","v":0},{"$f":"'تعریف کالا'!$E$29","v":0},{"$f":"'تعریف کالا'!$G$29","v":0},null,{"$f":"'تعریف کالا'!$F$29","v":0},null,0,null,null,null,null,null,null,null,null,null,null,null,null,null,null,0,0,0,0,0,0,0]
[null,"کاردکس 28",{"$f":"'تعریف کالا'!$C$32","v":0},{"$f":"'تعریف کالا'!$D$32","v":0},{"$f":"'تعریف کالا'!$E$32","v":0},{"$f":"'تعریف کالا'!$G$32","v":0},null,{"$f":"'تعریف کالا'!$F$32","v":0},null,0,null,null,null,null,null,null,null,null,null,null,null,null,null,null,0,0,0,0,0,0,0]
[null,"کاردکس 37",{"$f":"'تعریف کالا'!$C$41","v":0},{"$f":"'تعریف کالا'!$D$41","v":0},{"$f":"'تعریف کالا'!$E$41","v":0},{"$f":"'تعریف کالا'!$G$41","v":0},null,{"$f":"'تعریف کالا'!$F$41","v":0},null,0,null,null,null,null,null,null,null,null,null,null,null,null,null,null,0,0,0,0,0,0,0]
[null,"کاردکس 39",{"$f":"'تعریف کالا'!$C$43","v":0},{"$f":"'تعریف کالا'!$D$43","v":0},{"$f":"'تعریف کالا'!$E$43","v":0},{"$f":"'تعریف کالا'!$G$43","v":0},null,{"$f":"'تعریف کالا'!$F$43","v":0},null,0,null,null,null,null,null,null,null,null,null,null,null,null,null,null,0,0,0,0,0,0,0]
[null,"کاردکس 44",{"$f":"'تعریف کالا'!$C$48","v":0},{"$f":"'تعریف کالا'!$D$48","v":0},{"$f":"'تعریف کالا'!$E$48","v":0},{"$f":"'تعریف کالا'!$G$48","v":0},null,{"$f":"'تعریف کالا'!$F$48","v":0},null,0,null,null,null,null,null,null,null,null,null,null,null,null,null,null,0,0,0,0,0,0,0]
[null,"کاردکس 54",{"$f":"'تعریف کالا'!$C$58","v":0},{"$f":"'تعریف کالا'!$D$58","v":0},{"$f":"'تعریف کالا'!$E$58","v":0},{"$f":"'تعریف کالا'!$G$58","v":0},null,{"$f":"'تعریف کالا'!$F$58","v":0},null,0,null,null,null,null,null,null,null,null,null,null,null,null,null,null,0,0,0,0,0,0,0]
[null,"کاردکس 55",{"$f":"'تعریف کالا'!$C$59","v":0},{"$f":"'تعریف کالا'!$D$59","v":0},{"$f":"'تعریف کالا'!$E$59","v":0},{"$f":"'تعریف کالا'!$G$59","v":0},null,{"$f":"'تعریف کالا'!$F$59","v":0},null,0,null,null,null,null,null,null,null,null,null,null,null,null,null,null,0,0,0,0,0,0,0]
[null,"کاردکس 63",{"$f":"'تعریف کالا'!$C$67","v":0},{"$f":"'تعریف کالا'!$D$67","v":0},{"$f":"'تعریف کالا'!$E$67","v":0},{"$f":"'تعریف کالا'!$G$67","v":0},null,{"$f":"'تعریف کالا'!$F$67","v":0},null,0,null,null,null,null,null,null,null,null,null,null,null,null,null,null,0,0,0,0,0,0,0]
[null,"کاردکس 67",{"$f":"'تعریف کالا'!$C$71","v":0},{"$f":"'تعریف کالا'!$D$71","v":0},{"$f":"'تعریف کالا'!$E$71","v":0},{"$f":"'تعریف کالا'!$G$71","v":0},null,{"$f":"'تعریف کالا'!$F$71","v":0},null,{"$f":"(F3459*I3459)-(F3459*I3459*G3459%)","v":0},null,null,null,null,null,null,null,null,null,null,null,null,null,null,{"$f":"C3459","v":0},0,0,0,0,0,0]
[null,"کاردکس 72",{"$f":"'تعریف کالا'!$C$76","v":0},{"$f":"'تعریف کالا'!$D$76","v":0},{"$f":"'تعریف کالا'!$E$76","v":0},{"$f":"'تعریف کالا'!$G$76","v":0},null,{"$f":"'تعریف کالا'!$F$76","v":0},null,0,null,null,null,null,null,null,null,null,null,null,null,null,null,null,0,0,0,0,0,0,0]
[null,"کاردکس 79",{"$f":"'تعریف کالا'!$C$83","v":0},{"$f":"'تعریف کالا'!$D$83","v":0},{"$f":"'تعریف کالا'!$E$83","v":0},{"$f":"'تعریف کالا'!$G$83","v":0},null,{"$f":"'تعریف کالا'!$F$83","v":0},null,0,null,null,null,null,null,null,null,null,null,null,null,null,null,null,0,0,0,0,0,0,0]
[null,"کاردکس 83",{"$f":"'تعریف کالا'!$C$87","v":0},{"$f":"'تعریف کالا'!$D$87","v":0},{"$f":"'تعریف کالا'!$E$87","v":0},{"$f":"'تعریف کالا'!$G$87","v":0},null,{"$f":"'تعریف کالا'!$F$87","v":0},null,0,null,null,null,null,null,null,null,null,null,null,null,null,null,null,0,0,0,0,0,0,0]
[null,"کاردکس 91",{"$f":"'تعریف کالا'!$C$95","v":0},{"$f":"'تعریف کالا'!$D$95","v":0},{"$f":"'تعریف کالا'!$E$95","v":0},{"$f":"'تعریف کالا'!$G$95","v":0},null,{"$f":"'تعریف کالا'!$F$95","v":0},null,0,null,null,null,null,null,null,null,null,null,null,null,null,null,null,0,0,0,0,0,0,0]
[null,"کاردکس 98",{"$f":"'تعریف کالا'!$C$102","v":0},{"$f":"'تعریف کالا'!$D$102","v":0},{"$f":"'تعریف کالا'!$E$102","v":0},{"$f":"'تعریف کالا'!$G$102","v":0},null,{"$f":"'تعریف کالا'!$F$102","v":0},null,0,null,null,null,null,null,null,null,null,null,null,null,null,null,null,0,0,0,0,0,0,0]
[null,"کاردکس 103",{"$f":"'تعریف کالا'!$C$107","v":0},{"$f":"'تعریف کالا'!$D$107","v":0},{"$f":"'تعریف کالا'!$E$107","v":0},{"$f":"'تعریف کالا'!$G$107","v":0},null,{"$f":"'تعریف کالا'!$F$107","v":0},null,0,null,null,null,null,null,null,null,null,null,null,null,null,null,null,0,0,0,0,0,0,0]
[null,"کاردکس 107",{"$f":"'تعریف کالا'!$C$111","v":0},{"$f":"'تعریف کالا'!$D$111","v":0},{"$f":"'تعریف کالا'!$E$111","v":0},{"$f":"'تعریف کالا'!$G$111","v":0},null,{"$f":"'تعریف کالا'!$F$111","v":0},null,0,null,null,null,null,null,null,null,null,null,null,null,null,null,null,0,0,0,0,0,0,0]
[null,"کاردکس 114",{"$f":"'تعریف کالا'!$C$118","v":0},{"$f":"'تعریف کالا'!$D$118","v":0},{"$f":"'تعریف کالا'!$E$118","v":0},{"$f":"'تعریف کالا'!$G$118","v":0},null,{"$f":"'تعریف کالا'!$F$118","v":0},null,0,null,null,null,null,null,null,null,null,null,null,null,null,null,null,0,0,0,0,0,0,0]
[null,"کاردکس 116",{"$f":"'تعریف کالا'!$C$120","v":0},{"$f":"'تعریف کالا'!$D$120","v":0},{"$f":"'تعریف کالا'!$E$120","v":0},{"$f":"'تعریف کالا'!$G$120","v":0},null,{"$f":"'تعریف کالا'!$F$120","v":0},null,0,null,null,null,null,null,null,null,null,null,null,null,null,null,null,0,0,0,0,0,0,0]
[null,"کاردکس 121",{"$f":"'تعریف کالا'!$C$125","v":0},{"$f":"'تعریف کالا'!$D$125","v":0},{"$f":"'تعریف کالا'!$E$125","v":0},{"$f":"'تعریف کالا'!$G$125","v":0},null,{"$f":"'تعریف کالا'!$F$125","v":0},null,0,null,null,null,null,null,null,null,null,null,null,null,null,null,null,0,0,0,0,0,0,0]
[null,"کاردکس 127",{"$f":"'تعریف کالا'!$C$131","v":0},{"$f":"'تعریف کالا'!$D$131","v":0},{"$f":"'تعریف کالا'!$E$131","v":0},{"$f":"'تعریف کالا'!$G$131","v":0},null,{"$f":"'تعریف کالا'!$F$131","v":0},null,0,null,null,null,null,null,null,null,null,null,null,null,null,null,null,0,0,0,0,0,0,0]
[null,"کاردکس 133",{"$f":"'تعریف کالا'!$C$137","v":0},{"$f":"'تعریف کالا'!$D$137","v":0},{"$f":"'تعریف کالا'!$E$137","v":0},{"$f":"'تعریف کالا'!$G$137","v":0},null,{"$f":"'تعریف کالا'!$F$137","v":0},null,0,null,null,null,null,null,null,null,null,null,null,null,null,null,null,0,0,0,0,0,0,0]
[null,"کاردکس 142",{"$f":"'تعریف کالا'!$C$146","v":0},{"$f":"'تعریف کالا'!$D$146","v":0},{"$f":"'تعریف کالا'!$E$146","v":0},{"$f":"'تعریف کالا'!$G$146","v":0},null,{"$f":"'تعریف کالا'!$F$146","v":0},null,0,null,null,null,null,null,null,null,null,null,null,null,null,null,null,0,0,0,0,0,0,0]
[null,"کاردکس 145",{"$f":"'تعریف کالا'!$C$149","v":0},{"$f":"'تعریف کالا'!$D$149","v":0},{"$f":"'تعریف کالا'!$E$149","v":0},{"$f":"'تعریف کالا'!$G$149","v":0},null,{"$f":"'تعریف کالا'!$F$149","v":0},null,0,null,null,null,null,null,null,null,null,null,null,null,null,null,null,0,0,0,0,0,0,0]
[null,"کاردکس 151",{"$f":"'تعریف کالا'!$C$155","v":0},{"$f":"'تعریف کالا'!$D$155","v":0},{"$f":"'تعریف کالا'!$E$155","v":0},{"$f":"'تعریف کالا'!$G$155","v":0},null,{"$f":"'تعریف کالا'!$F$155","v":0},null,0,null,null,null,null,null,null,null,null,null,null,null,null,null,null,0,0,0,0,0,0,0]
[null,"کاردکس 156",{"$f":"'تعریف کالا'!$C$160","v":0},{"$f":"'تعریف کالا'!$D$160","v":0},{"$f":"'تعریف کالا'!$E$160","v":0},{"$f":"'تعریف کالا'!$G$160","v":0},null,{"$f":"'تعریف کالا'!$F$160","v":0},null,0,null,null,null,null,null,null,null,null,null,null,null,null,null,null,0,0,0,0,0,0,0]
[null,"کاردکس 160",{"$f":"'تعریف کالا'!$C$164","v":0},{"$f":"'تعریف کالا'!$D$164","v":0},{"$f":"'تعریف کالا'!$E$164","v":0},{"$f":"'تعریف کالا'!$G$164","v":0},null,{"$f":"'تعریف کالا'!$F$164","v":0},null,0,null,null,null,null,null,null,null,null,null,null,null,null,null,null,0,0,0,0,0,0,0]
[null,"کاردکس 168",{"$f":"'تعریف کالا'!$C$172","v":0},{"$f":"'تعریف کالا'!$D$172","v":0},{"$f":"'تعریف کالا'!$E$172","v":0},{"$f":"'تعریف کالا'!$G$172","v":0},null,{"$f":"'تعریف کالا'!$F$172","v":0},null,0,null,null,null,null,null,null,null,null,null,null,null,null,null,null,0,0,0,0,0,0,0]
[null,"کاردکس 171",{"$f":"'تعریف کالا'!$C$175","v":0},{"$f":"'تعریف کالا'!$D$175","v":0},{"$f":"'تعریف کالا'!$E$175","v":0},{"$f":"'تعریف کالا'!$G$175","v":0},null,{"$f":"'تعریف کالا'!$F$175","v":0},null,0,null,null,null,null,null,null,null,null,null,null,null,null,null,null,0,0,0,0,0,0,0]
[null,"کاردکس 180",{"$f":"'تعریف کالا'!$C$184","v":0},{"$f":"'تعریف کالا'!$D$184","v":0},{"$f":"'تعریف کالا'!$E$184","v":0},{"$f":"'تعریف کالا'!$G$184","v":0},null,{"$f":"'تعریف کالا'!$F$184","v":0},null,0,null,null,null,null,null,null,null,null,null,null,null,null,null,null,0,0,0,0,0,0,0]
[null,"کاردکس 186",{"$f":"'تعریف کالا'!$C$190","v":0},{"$f":"'تعریف کالا'!$D$190","v":0},{"$f":"'تعریف کالا'!$E$190","v":0},{"$f":"'تعریف کالا'!$G$190","v":0},null,{"$f":"'تعریف کالا'!$F$190","v":0},null,0,null,null,null,null,null,null,null,null,null,null,null,null,null,null,0,0,0,0,0,0,0]
[null,"کاردکس 187",{"$f":"'تعریف کالا'!$C$191","v":0},{"$f":"'تعریف کالا'!$D$191","v":0},{"$f":"'تعریف کالا'!$E$191","v":0},{"$f":"'تعریف کالا'!$G$191","v":0},null,{"$f":"'تعریف کالا'!$F$191","v":0},null,0,null,null,null,null,null,null,null,null,null,null,null,null,null,null,0,0,0,0,0,0,0]
[null,"کاردکس 195",{"$f":"'تعریف کالا'!$C$199","v":0},{"$f":"'تعریف کالا'!$D$199","v":0},{"$f":"'تعریف کالا'!$E$199","v":0},{"$f":"'تعریف کالا'!$G$199","v":0},null,{"$f":"'تعریف کالا'!$F$199","v":0},null,{"$f":"(F3587*I3587)-(F3587*I3587*G3587%)","v":0},null,null,null,null,null,null,null,null,null,null,null,null,null,null,{"$f":"C3587","v":0},{"$f":"D3587","v":0},{"$f":"E3587","v":0},0,0,0,0]
[null,"کاردکس 198",{"$f":"'تعریف کالا'!$C$202","v":0},{"$f":"'تعریف کالا'!$D$202","v":0},{"$f":"'تعریف کالا'!$E$202","v":0},{"$f":"'تعریف کالا'!$G$202","v":0},null,{"$f":"'تعریف کالا'!$F$202","v":0},null,0,null,null,null,null,null,null,null,null,null,null,null,null,null,null,0,0,0,0,0,0,0]
[]
[]
[null,null,null,null,null,"          مالیات",null,null,"مالیات",{"$f":"(I3818-J3609+J3610)*G3611%","v":0}]
[null,null,null,null,null,null,null,null,null,null,null,null,null,null,null,null,null,null,null,null,null,null,null,null,"آدرس :",{"$f":"VLOOKUP(Z3612,'مشخصات فروشندگان'!$B$2:$C$502,2,FALSE)","v":0}]
[null,"کاردکس 5",{"$f":"'تعریف کالا'!$C$9","v":0},{"$f":"'تعریف کالا'!$D$9","v":0},{"$f":"'تعریف کالا'!$E$9","v":0},{"$f":"'تعریف کالا'!$G$9","v":0},null,{"$f":"'تعریف کالا'!$F$9","v":0},null,0,null,null,null,null,null,null,null,null,null,null,null,null,null,null,0,0,0,0,0,0,0]
[null,"کاردکس 9",{"$f":"'تعریف کالا'!$C$13","v":0},{"$f":"'تعریف کالا'!$D$13","v":0},{"$f":"'تعریف کالا'!$E$13","v":0},{"$f":"'تعریف کالا'!$G$13","v":0},null,{"$f":"'تعریف کالا'!$F$13","v":0},null,0,null,null,null,null,null,null,null,null,null,null,null,null,null,null,0,0,0,0,0,0,0]
[null,"کاردکس 14",{"$f":"'تعریف کالا'!$C$18","v":0},{"$f":"'تعریف کالا'!$D$18","v":0},{"$f":"'تعریف کالا'!$E$18","v":0},{"$f":"'تعریف کالا'!$G$18","v":0},null,{"$f":"'تعریف کالا'!$F$18","v":0},null,0,null,null,null,null,null,null,null,null,null,null,null,null,null,null,0,0,0,0,0,0,0]
[null,"کاردکس 20",{"$f":"'تعریف کالا'!$C$24","v":0},{"$f":"'تعریف کالا'!$D$24","v":0},{"$f":"'تعریف کالا'!$E$24","v":0},{"$f":"'تعریف کالا'!$G$24","v":0},null,{"$f":"'تعریف کالا'!$F$24","v":0},null,0,null,null,null,null,null,null,null,null,null,null,null,null,null,null,0,0,0,0,0,0,0]
[null,"کاردکس 23",{"$f":"'تعریف کالا'!$C$27","v":0},{"$f":"'تعریف کالا'!$D$27","v":0},{"$f":"'تعریف کالا'!$E$27","v":0},{"$f":"'تعریف کالا'!$G$27","v":0},null,{"$f":"'تعریف کالا'!$F$27","v":0},null,0,null,null,null,null,null,null,null,null,null,null,null,null,null,null,0,0,0,0,0,0,0]
[null,"کاردکس 32",{"$f":"'تعریف کالا'!$C$36","v":0},{"$f":"'تعریف کالا'!$D$36","v":0},{"$f":"'تعریف کالا'!$E$36","v":0},{"$f":"'تعریف کالا'!$G$36","v":0},null,{"$f":"'تعریف کالا'!$F$36","v":0},null,0,null,null,null,null,null,null,null,null,null,null,null,null,null,null,0,0,0,0,0,0,0]
[null,"کاردکس 38",{"$f":"'تعریف کالا'!$C$42","v":0},{"$f":"'تعریف کالا'!$D$42","v":0},{"$f":"'تعریف کالا'!$E$42","v":0},{"$f":"'تعریف کالا'!$G$42","v":0},null,{"$f":"'تعریف کالا'!$F$42","v":0},null,0,null,null,null,null,null,null,null,null,null,null,null,null,null,null,0,0,0,0,0,0,0]
[null,"کاردکس 39",{"$f":"'تعریف کالا'!$C$43","v":0},{"$f":"'تعریف کالا'!$D$43","v":0},{"$f":"'تعریف کالا'!$E$43","v":0},{"$f":"'تعریف کالا'!$G$43","v":0},null,{"$f":"'تعریف کالا'!$F$43","v":0},null,0,null,null,null,null,null,null,null,null,null,null,null,null,null,null,0,0,0,0,0,0,0]
[null,"کاردکس 49",{"$f":"'تعریف کالا'!$C$53","v":0},{"$f":"'تعریف کالا'!$D$53","v":0},{"$f":"'تعریف کالا'!$E$53","v":0},{"$f":"'تعریف کالا'!$G$53","v":0},null,{"$f":"'تعریف کالا'!$F$53","v":0},null,0,null,null,null,null,null,null,null,null,null,null,null,null,null,null,0,0,0,0,0,0,0]
[null,"کاردکس 51",{"$f":"'تعریف کالا'!$C$55","v":0},{"$f":"'تعریف کالا'!$D$55","v":0},{"$f":"'تعریف کالا'!$E$55","v":0},{"$f":"'تعریف کالا'!$G$55","v":0},null,{"$f":"'تعریف کالا'!$F$55","v":0},null,0,null,null,null,null,null,null,null,null,null,null,null,null,null,null,0,0,0,0,0,0,0]
[null,"کاردکس 58",{"$f":"'تعریف کالا'!$C$62","v":0},{"$f":"'تعریف کالا'!$D$62","v":0},{"$f":"'تعریف کالا'!$E$62","v":0},{"$f":"'تعریف کالا'!$G$62","v":0},null,{"$f":"'تعریف کالا'!$F$62","v":0},null,0,null,null,null,null,null,null,null,null,null,null,null,null,null,null,0,0,0,0,0,0,0]
[null,"کاردکس 63",{"$f":"'تعریف کالا'!$C$67","v":0},{"$f":"'تعریف کالا'!$D$67","v":0},{"$f":"'تعریف کالا'!$E$67","v":0},{"$f":"'تعریف کالا'!$G$67","v":0},null,{"$f":"'تعریف کالا'!$F$67","v":0},null,0,null,null,null,null,null,null,null,null,null,null,null,null,null,null,0,0,0,0,0,0,0]
[null,"کاردکس 67",{"$f":"'تعریف کالا'!$C$71","v":0},{"$f":"'تعریف کالا'!$D$71","v":0},{"$f":"'تعریف کالا'!$E$71","v":0},{"$f":"'تعریف کالا'!$G$71","v":0},null,{"$f":"'تعریف کالا'!$F$71","v":0},null,{"$f":"(F3684*I3684)-(F3684*I3684*G3684%)","v":0},null,null,null,null,null,null,null,null,null,null,null,null,null,null,{"$f":"C3684","v":0},0,0,0,0,0,0]
[null,"کاردکس 74",{"$f":"'تعریف کالا'!$C$78","v":0},{"$f":"'تعریف کالا'!$D$78","v":0},{"$f":"'تعریف کالا'!$E$78","v":0},{"$f":"'تعریف کالا'!$G$78","v":0},null,{"$f":"'تعریف کالا'!$F$78","v":0},null,0,null,null,null,null,null,null,null,null,null,null,null,null,null,null,0,0,0,0,0,0,0]
[null,"کاردکس 82",{"$f":"'تعریف کالا'!$C$86","v":0},{"$f":"'تعریف کالا'!$D$86","v":0},{"$f":"'تعریف کالا'!$E$86","v":0},{"$f":"'تعریف کالا'!$G$86","v":0},null,{"$f":"'تعریف کالا'!$F$86","v":0},null,0,null,null,null,null,null,null,null,null,null,null,null,null,null,null,0,0,0,0,0,0,0]
[null,"کاردکس 86",{"$f":"'تعریف کالا'!$C$90","v":0},{"$f":"'تعریف کالا'!$D$90","v":0},{"$f":"'تعریف کالا'!$E$90","v":0},{"$f":"'تعریف کالا'!$G$90","v":0},null,{"$f":"'تعریف کالا'!$F$90","v":0},null,0,null,null,null,null,null,null,null,null,null,null,null,null,null,null,0,0,0,0,0,0,0]
[null,"کاردکس 93",{"$f":"'تعریف کالا'!$C$97","v":0},{"$f":"'تعریف کالا'!$D$97","v":0},{"$f":"'تعریف کالا'!$E$97","v":0},{"$f":"'تعریف کالا'!$G$97","v":0},null,{"$f":"'تعریف کالا'!$F$97","v":0},null,0,null,null,null,null,null,null,null,null,null,null,null,null,null,null,0,0,0,0,0,0,0]
[null,"کاردکس 98",{"$f":"'تعریف کالا'!$C$102","v":0},{"$f":"'تعریف کالا'!$D$102","v":0},{"$f":"'تعریف کالا'!$E$102","v":0},{"$f":"'تعریف کالا'!$G$102","v":0},null,{"$f":"'تعریف کالا'!$F$102","v":0},null,0,null,null,null,null,null,null,null,null,null,null,null,null,null,null,0,0,0,0,0,0,0]
[null,"کاردکس 102",{"$f":"'تعریف کالا'!$C$106","v":0},{"$f":"'تعریف کالا'!$D$106","v":0},{"$f":"'تعریف کالا'!$E$106","v":0},{"$f":"'تعریف کالا'!$G$106","v":0},null,{"$f":"'تعریف کالا'!$F$106","v":0},null,0,null,null,null,null,null,null,null,null,null,null,null,null,null,null,0,0,0,0,0,0,0]
[null,"کاردکس 105",{"$f":"'تعریف کالا'!$C$109","v":0},{"$f":"'تعریف کالا'!$D$109","v":0},{"$f":"'تعریف کالا'!$E$109","v":0},{"$f":"'تعریف کالا'!$G$109","v":0},null,{"$f":"'تعریف کالا'!$F$109","v":0},null,0,null,null,null,null,null,null,null,null,null,null,null,null,null,null,0,0,0,0,0,0,0]
[null,"کاردکس 111",{"$f":"'تعریف کالا'!$C$115","v":0},{"$f":"'تعریف کالا'!$D$115","v":0},{"$f":"'تعریف کالا'!$E$115","v":0},{"$f":"'تعریف کالا'!$G$115","v":0},null,{"$f":"'تعریف کالا'!$F$115","v":0},null,0,null,null,null,null,null,null,null,null,null,null,null,null,null,null,0,0,0,0,0,0,0]
[null,"کاردکس 116",{"$f":"'تعریف کالا'!$C$120","v":0},{"$f":"'تعریف کالا'!$D$120","v":0},{"$f":"'تعریف کالا'!$E$120","v":0},{"$f":"'تعریف کالا'!$G$120","v":0},null,{"$f":"'تعریف کالا'!$F$120","v":0},null,0,null,null,null,null,null,null,null,null,null,null,null,null,null,null,0,0,0,0,0,0,0]
[null,"کاردکس 126",{"$f":"'تعریف کالا'!$C$130","v":0},{"$f":"'تعریف کالا'!$D$130","v":0},{"$f":"'تعریف کالا'!$E$130","v":0},{"$f":"'تعریف کالا'!$G$130","v":0},null,{"$f":"'تعریف کالا'!$F$130","v":0},null,0,null,null,null,null,null,null,null,null,null,null,null,null,null,null,0,0,0,0,0,0,0]
[null,"کاردکس 128",{"$f":"'تعریف کالا'!$C$132","v":0},{"$f":"'تعریف کالا'!$D$132","v":0},{"$f":"'تعریف کالا'!$E$132","v":0},{"$f":"'تعریف کالا'!$G$132","v":0},null,{"$f":"'تعریف کالا'!$F$132","v":0},null,0,null,null,null,null,null,null,null,null,null,null,null,null,null,null,0,0,0,0,0,0,0]
[null,"کاردکس 133",{"$f":"'تعریف کالا'!$C$137","v":0},{"$f":"'تعریف کالا'!$D$137","v":0},{"$f":"'تعریف کالا'!$E$137","v":0},{"$f":"'تعریف کالا'!$G$137","v":0},null,{"$f":"'تعریف کالا'!$F$137","v":0},null,0,null,null,null,null,null,null,null,null,null,null,null,null,null,null,0,0,0,0,0,0,0]
[null,"کاردکس 137",{"$f":"'تعریف کالا'!$C$141","v":0},{"$f":"'تعریف کالا'!$D$141","v":0},{"$f":"'تعریف کالا'!$E$141","v":0},{"$f":"'تعریف کالا'!$G$141","v":0},null,{"$f":"'تعریف کالا'!$F$141","v":0},null,0,null,null,null,null,null,null,null,null,null,null,null,null,null,null,0,0,0,0,0,0,0]
[null,"کاردکس 145",{"$f":"'تعریف کالا'!$C$149","v":0},{"$f":"'تعریف کالا'!$D$149","v":0},{"$f":"'تعریف کالا'!$E$149","v":0},{"$f":"'تعریف کالا'!$G$149","v":0},null,{"$f":"'تعریف کالا'!$F$149","v":0},null,0,null,null,null,null,null,null,null,null,null,null,null,null,null,null,0,0,0,0,0,0,0]
[null,"کاردکس 152",{"$f":"'تعریف کالا'!$C$156","v":0},{"$f":"'تعریف کالا'!$D$156","v":0},{"$f":"'تعریف کالا'!$E$156","v":0},{"$f":"'تعریف کالا'!$G$156","v":0},null,{"$f":"'تعریف کالا'!$F$156","v":0},null,0,null,null,null,null,null,null,null,null,null,null,null,null,null,null,0,0,0,0,0,0,0]
[null,"کاردکس 157",{"$f":"'تعریف کالا'!$C$161","v":0},{"$f":"'تعریف کالا'!$D$161","v":0},{"$f":"'تعریف کالا'!$E$161","v":0},{"$f":"'تعریف کالا'!$G$161","v":0},null,{"$f":"'تعریف کالا'!$F$161","v":0},null,0,null,null,null,null,null,null,null,null,null,null,null,null,null,null,0,0,0,0,0,0,0]
[null,"کاردکس 163",{"$f":"'تعریف کالا'!$C$167","v":0},{"$f":"'تعریف کالا'!$D$167","v":0},{"$f":"'تعریف کالا'!$E$167","v":0},{"$f":"'تعریف کالا'!$G$167","v":0},null,{"$f":"'تعریف کالا'!$F$167","v":0},null,0,null,null,null,null,null,null,null,null,null,null,null,null,null,null,0,0,0,0,0,0,0]
[null,"کاردکس 169",{"$f":"'تعریف کالا'!$C$173","v":0},{"$f":"'تعریف کالا'!$D$173","v":0},{"$f":"'تعریف کالا'!$E$173","v":0},{"$f":"'تعریف کالا'!$G$173","v":0},null,{"$f":"'تعریف کالا'!$F$173","v":0},null,0,null,null,null,null,null,null,null,null,null,null,null,null,null,null,0,0,0,0,0,0,0]
[null,"کاردکس 172",{"$f":"'تعریف کالا'!$C$176","v":0},{"$f":"'تعریف کالا'!$D$176","v":0},{"$f":"'تعریف کالا'!$E$176","v":0},{"$f":"'تعریف کالا'!$G$176","v":0},null,{"$f":"'تعریف کالا'!$F$176","v":0},null,0,null,null,null,null,null,null,null,null,null,null,null,null,null,null,0,0,0,0,0,0,0]
[null,"کاردکس 176",{"$f":"'تعریف کالا'!$C$180","v":0},{"$f":"'تعریف کالا'!$D$180","v":0},{"$f":"'تعریف کالا'!$E$180","v":0},{"$f":"'تعریف کالا'!$G$180","v":0},null,{"$f":"'تعریف کالا'!$F$180","v":0},null,0,null,null,null,null,null,null,null,null,null,null,null,null,null,null,0,0,0,0,0,0,0]
[null,"کاردکس 181",{"$f":"'تعریف کالا'!$C$185","v":0},{"$f":"'تعریف کالا'!$D$185","v":0},{"$f":"'تعریف کالا'!$E$185","v":0},{"$f":"'تعریف کالا'!$G$185","v":0},null,{"$f":"'تعریف کالا'!$F$185","v":0},null,0,null,null,null,null,null,null,null,null,null,null,null,null,null,null,0,0,0,0,0,0,0]
[null,"کاردکس 187",{"$f":"'تعریف کالا'!$C$191","v":0},{"$f":"'تعریف کالا'!$D$191","v":0},{"$f":"'تعریف کالا'!$E$191","v":0},{"$f":"'تعریف کالا'!$G$191","v":0},null,{"$f":"'تعریف کالا'!$F$191","v":0},null,0,null,null,null,null,null,null,null,null,null,null,null,null,null,null,0,0,0,0,0,0,0]
[null,"کاردکس 196",{"$f":"'تعریف کالا'!$C$200","v":0},{"$f":"'تعریف کالا'!$D$200","v":0},{"$f":"'تعریف کالا'!$E$200","v":0},{"$f":"'تعریف کالا'!$G$200","v":0},null,{"$f":"'تعریف کالا'!$F$200","v":0},null,0,null,null,null,null,null,null,null,null,null,null,null,null,null,null,0,0,0,0,0,0,0]
[null,"کاردکس 199",{"$f":"'تعریف کالا'!$C$203","v":0},{"$f":"'تعریف کالا'!$D$203","v":0},{"$f":"'تعریف کالا'!$E$203","v":0},{"$f":"'تعریف کالا'!$G$203","v":0},null,{"$f":"'تعریف کالا'!$F$203","v":0},null,0,null,null,null,null,null,null,null,null,null,null,null,null,null,null,0,0,0,0,0,0,0]
[]
[]
[null,null,null,null,null,null,null,null,null,null,null,null,null,null,null,null,null,null,null,null,null,null,null,"شماره سند",{"$f":"C3831","v":18}]
[null,null,"ثبت چک","شرح رویداد"]
[null,"شماره کاردکس","کد کالا","نام کالا","گروه بندی","قیمت واحد","درصد تخفیف","واحد شمارش","تعداد","قیمت کل",null,null,null,null,null,null,null,null,null,null,null,null,null,"ردیف","کد کالا","نام کالا","گروه بندی","قیمت واحد","واحد شمارش","تعداد","قیمت کل"]
[null,"کاردکس 9",{"$f":"'تعریف کالا'!$C$13","v":0},{"$f":"'تعریف کالا'!$D$13","v":0},{"$f":"'تعریف کالا'!$E$13","v":0},{"$f":"'تعریف کالا'!$G$13","v":0},null,{"$f":"'تعریف کالا'!$F$13","v":0},null,0,null,null,null,null,null,null,null,null,null,null,null,null,null,null,0,0,0,0,0,0,0]
[null,"کاردکس 15",{"$f":"'تعریف کالا'!$C$19","v":0},{"$f":"'تعریف کالا'!$D$19","v":0},{"$f":"'تعریف کالا'!$E$19","v":0},{"$f":"'تعریف کالا'!$G$19","v":0},null,{"$f":"'تعریف کالا'!$F$19","v":0},null,0,null,null,null,null,null,null,null,null,null,null,null,null,null,null,0,0,0,0,0,0,0]
[null,"کاردکس 21",{"$f":"'تعریف کالا'!$C$25","v":0},{"$f":"'تعریف کالا'!$D$25","v":0},{"$f":"'تعریف کالا'!$E$25","v":0},{"$f":"'تعریف کالا'!$G$25","v":0},null,{"$f":"'تعریف کالا'!$F$25","v":0},null,0,null,null,null,null,null,null,null,null,null,null,null,null,null,null,0,0,0,0,0,0,0]
[null,"کاردکس 24",{"$f":"'تعریف کالا'!$C$28","v":0},{"$f":"'تعریف کالا'!$D$28","v":0},{"$f":"'تعریف کالا'!$E$28","v":0},{"$f":"'تعریف کالا'!$G$28","v":0},null,{"$f":"'تعریف کالا'!$F$28","v":0},null,0,null,null,null,null,null,null,null,null,null,null,null,null,null,null,0,0,0,0,0,0,0]
[null,"کاردکس 28",{"$f":"'تعریف کالا'!$C$32","v":0},{"$f":"'تعریف کالا'!$D$32","v":0},{"$f":"'تعریف کالا'!$E$32","v":0},{"$f":"'تعریف کالا'!$G$32","v":0},null,{"$f":"'تعریف کالا'!$F$32","v":0},null,0,null,null,null,null,null,null,null,null,null,null,null,null,null,null,0,0,0,0,0,0,0]
[null,"کاردکس 35",{"$f":"'تعریف کالا'!$C$39","v":0},{"$f":"'تعریف کالا'!$D$39","v":0},{"$f":"'تعریف کالا'!$E$39","v":0},{"$f":"'تعریف کالا'!$G$39","v":0},null,{"$f":"'تعریف کالا'!$F$39","v":0},null,0,null,null,null,null,null,null,null,null,null,null,null,null,null,null,0,0,0,0,0,0,0]
[null,"کاردکس 40",{"$f":"'تعریف کالا'!$C$44","v":0},{"$f":"'تعریف کالا'!$D$44","v":0},{"$f":"'تعریف کالا'!$E$44","v":0},{"$f":"'تعریف کالا'!$G$44","v":0},null,{"$f":"'تعریف کالا'!$F$44","v":0},null,0,null,null,null,null,null,null,null,null,null,null,null,null,null,null,0,0,0,0,0,0,0]
[null,"کاردکس 44",{"$f":"'تعریف کالا'!$C$48","v":0},{"$f":"'تعریف کالا'!$D$48","v":0},{"$f":"'تعریف کالا'!$E$48","v":0},{"$f":"'تعریف کالا'!$G$48","v":0},null,{"$f":"'تعریف کالا'!$F$48","v":0},null,0,null,null,null,null,null,null,null,null,null,null,null,null,null,null,0,0,0,0,0,0,0]
[null,"کاردکس 51",{"$f":"'تعریف کالا'!$C$55","v":0},{"$f":"'تعریف کالا'!$D$55","v":0},{"$f":"'تعریف کالا'!$E$55","v":0},{"$f":"'تعریف کالا'!$G$55","v":0},null,{"$f":"'تعریف کالا'!$F$55","v":0},null,0,null,null,null,null,null,null,null,null,null,null,null,null,null,null,0,0,0,0,0,0,0]
[null,"کاردکس 59",{"$f":"'تعریف کالا'!$C$63","v":0},{"$f":"'تعریف کالا'!$D$63","v":0},{"$f":"'تعریف کالا'!$E$63","v":0},{"$f":"'تعریف کالا'!$G$63","v":0},null,{"$f":"'تعریف کالا'!$F$63","v":0},null,0,null,null,null,null,null,null,null,null,null,null,null,null,null,null,0,0,0,0,0,0,0]
[null,"کاردکس 63",{"$f":"'تعریف کالا'!$C$67","v":0},{"$f":"'تعریف کالا'!$D$67","v":0},{"$f":"'تعریف کالا'!$E$67","v":0},{"$f":"'تعریف کالا'!$G$67","v":0},null,{"$f":"'تعریف کالا'!$F$67","v":0},null,0,null,null,null,null,null,null,null,null,null,null,null,null,null,null,0,0,0,0,0,0,0]
[null,"کاردکس 68",{"$f":"'تعریف کالا'!$C$72","v":0},{"$f":"'تعریف کالا'!$D$72","v":0},{"$f":"'تعریف کالا'!$E$72","v":0},{"$f":"'تعریف کالا'!$G$72","v":0},null,{"$f":"'تعریف کالا'!$F$72","v":0},null,0,null,null,null,null,null,null,null,null,null,null,null,null,null,null,0,0,0,0,0,0,0]
[null,"کاردکس 75",{"$f":"'تعریف کالا'!$C$79","v":0},{"$f":"'تعریف کالا'!$D$79","v":0},{"$f":"'تعریف کالا'!$E$79","v":0},{"$f":"'تعریف کالا'!$G$79","v":0},null,{"$f":"'تعریف کالا'!$F$79","v":0},null,0,null,null,null,null,null,null,null,null,null,null,null,null,null,null,0,0,0,0,0,0,0]
[null,"کاردکس 79",{"$f":"'تعریف کالا'!$C$83","v":0},{"$f":"'تعریف کالا'!$D$83","v":0},{"$f":"'تعریف کالا'!$E$83","v":0},{"$f":"'تعریف کالا'!$G$83","v":0},null,{"$f":"'تعریف کالا'!$F$83","v":0},null,0,null,null,null,null,null,null,null,null,null,null,null,null,null,null,0,0,0,0,0,0,0]
[null,"کاردکس 87",{"$f":"'تعریف کالا'!$C$91","v":0},{"$f":"'تعریف کالا'!$D$91","v":0},{"$f":"'تعریف کالا'!$E$91","v":0},{"$f":"'تعریف کالا'!$G$91","v":0},null,{"$f":"'تعریف کالا'!$F$91","v":0},null,0,null,null,null,null,null,null,null,null,null,null,null,null,null,null,0,0,0,0,0,0,0]
[null,"کاردکس 88",{"$f":"'تعریف کالا'!$C$92","v":0},{"$f":"'تعریف کالا'!$D$92","v":0},{"$f":"'تعریف کالا'!$E$92","v":0},{"$f":"'تعریف کالا'!$G$92","v":0},null,{"$f":"'تعریف کالا'!$F$92","v":0},null,0,null,null,null,null,null,null,null,null,null,null,null,null,null,null,0,0,0,0,0,0,0]
[null,"کاردکس 98",{"$f":"'تعریف کالا'!$C$102","v":0},{"$f":"'تعریف کالا'!$D$102","v":0},{"$f":"'تعریف کالا'!$E$102","v":0},{"$f":"'تعریف کالا'!$G$102","v":0},null,{"$f":"'تعریف کالا'!$F$102","v":0},null,0,null,null,null,null,null,null,null,null,null,null,null,null,null,null,0,0,0,0,0,0,0]
[null,"کاردکس 103",{"$f":"'تعریف کالا'!$C$107","v":0},{"$f":"'تعریف کالا'!$D$107","v":0},{"$f":"'تعریف کالا'!$E$107","v":0},{"$f":"'تعریف کالا'!$G$107","v":0},null,{"$f":"'تعریف کالا'!$F$107","v":0},null,0,null,null,null,null,null,null,null,null,null,null,null,null,null,null,0,0,0,0,0,0,0]
[null,"کاردکس 105",{"$f":"'تعریف کالا'!$C$109","v":0},{"$f":"'تعریف کالا'!$D$109","v":0},{"$f":"'تعریف کالا'!$E$109","v":0},{"$f":"'تعریف کالا'!$G$109","v":0},null,{"$f":"'تعریف کالا'!$F$109","v":0},null,0,null,null,null,null,null,null,null,null,null,null,null,null,null,null,0,0,0,0,0,0,0]
[null,"کاردکس 112",{"$f":"'تعریف کالا'!$C$116","v":0},{"$f":"'تعریف کالا'!$D$116","v":0},{"$f":"'تعریف کالا'!$E$116","v":0},{"$f":"'تعریف کالا'!$G$116","v":0},null,{"$f":"'تعریف کالا'!$F$116","v":0},null,0,null,null,null,null,null,null,null,null,null,null,null,null,null,null,0,0,0,0,0,0,0]
[null,"کاردکس 117",{"$f":"'تعریف کالا'!$C$121","v":0},{"$f":"'تعریف کالا'!$D$121","v":0},{"$f":"'تعریف کالا'!$E$121","v":0},{"$f":"'تعریف کالا'!$G$121","v":0},null,{"$f":"'تعریف کالا'!$F$121","v":0},null,0,null,null,null,null,null,null,null,null,null,null,null,null,null,null,0,0,0,0,0,0,0]
[null,"کاردکس 123",{"$f":"'تعریف کالا'!$C$127","v":0},{"$f":"'تعریف کالا'!$D$127","v":0},{"$f":"'تعریف کالا'!$E$127","v":0},{"$f":"'تعریف کالا'!$G$127","v":0},null,{"$f":"'تعریف کالا'!$F$127","v":0},null,0,null,null,null,null,null,null,null,null,null,null,null,null,null,null,0,0,0,0,0,0,0]
[null,"کاردکس 129",{"$f":"'تعریف کالا'!$C$133","v":0},{"$f":"'تعریف کالا'!$D$133","v":0},{"$f":"'تعریف کالا'!$E$133","v":0},{"$f":"'تعریف کالا'!$G$133","v":0},null,{"$f":"'تعریف کالا'!$F$133","v":0},null,0,null,null,null,null,null,null,null,null,null,null,null,null,null,null,0,0,0,0,0,0,0]
[null,"کاردکس 132",{"$f":"'تعریف کالا'!$C$136","v":0},{"$f":"'تعریف کالا'!$D$136","v":0},{"$f":"'تعریف کالا'!$E$136","v":0},{"$f":"'تعریف کالا'!$G$136","v":0},null,{"$f":"'تعریف کالا'!$F$136","v":0},null,0,null,null,null,null,null,null,null,null,null,null,null,null,null,null,0,0,0,0,0,0,0]
[null,"کاردکس 141",{"$f":"'تعریف کالا'!$C$145","v":0},{"$f":"'تعریف کالا'!$D$145","v":0},{"$f":"'تعریف کالا'!$E$145","v":0},{"$f":"'تعریف کالا'!$G$145","v":0},null,{"$f":"'تعریف کالا'!$F$145","v":0},null,0,null,null,null,null,null,null,null,null,null,null,null,null,null,null,0,0,0,0,0,0,0]
[null,"کاردکس 147",{"$f":"'تعریف کالا'!$C$151","v":0},{"$f":"'تعریف کالا'!$D$151","v":0},{"$f":"'تعریف کالا'!$E$151","v":0},{"$f":"'تعریف کالا'!$G$151","v":0},null,{"$f":"'تعریف کالا'!$F$151","v":0},null,0,null,null,null,null,null,null,null,null,null,null,null,null,null,null,0,0,0,0,0,0,0]
[null,"کاردکس 152",{"$f":"'تعریف کالا'!$C$156","v":0},{"$f":"'تعریف کالا'!$D$156","v":0},{"$f":"'تعریف کالا'!$E$156","v":0},{"$f":"'تعریف کالا'!$G$156","v":0},null,{"$f":"'تعریف کالا'!$F$156","v":0},null,0,null,null,null,null,null,null,null,null,null,null,null,null,null,null,0,0,0,0,0,0,0]
[null,"کاردکس 156",{"$f":"'تعریف کالا'!$C$160","v":0},{"$f":"'تعریف کالا'!$D$160","v":0},{"$f":"'تعریف کالا'!$E$160","v":0},{"$f":"'تعریف کالا'!$G$160","v":0},null,{"$f":"'تعریف کالا'!$F$160","v":0},null,0,null,null,null,null,null,null,null,null,null,null,null,null,null,null,0,0,0,0,0,0,0]
[null,"کاردکس 164",{"$f":"'تعریف کالا'!$C$168","v":0},{"$f":"'تعریف کالا'!$D$168","v":0},{"$f":"'تعریف کالا'!$E$168","v":0},{"$f":"'تعریف کالا'!$G$168","v":0},null,{"$f":"'تعریف کالا'!$F$168","v":0},null,0,null,null,null,null,null,null,null,null,null,null,null,null,null,null,0,0,0,0,0,0,0]
[null,"کاردکس 167",{"$f":"'تعریف کالا'!$C$171","v":0},{"$f":"'تعریف کالا'!$D$171","v":0},{"$f":"'تعریف کالا'!$E$171","v":0},{"$f":"'تعریف کالا'!$G$171","v":0},null,{"$f":"'تعریف کالا'!$F$171","v":0},null,0,null,null,null,null,null,null,null,null,null,null,null,null,null,null,0,0,0,0,0,0,0]
[null,"کاردکس 171",{"$f":"'تعریف کالا'!$C$175","v":0},{"$f":"'تعریف کالا'!$D$175","v":0},{"$f":"'تعریف کالا'!$E$175","v":0},{"$f":"'تعریف کالا'!$G$175","v":0},null,{"$f":"'تعریف کالا'!$F$175","v":0},null,0,null,null,null,null,null,null,null,null,null,null,null,null,null,null,0,0,0,0,0,0,0]
[null,"کاردکس 176",{"$f":"'تعریف کالا'!$C$180","v":0},{"$f":"'تعریف کالا'!$D$180","v":0},{"$f":"'تعریف کالا'!$E$180","v":0},{"$f":"'تعریف کالا'!$G$180","v":0},null,{"$f":"'تعریف کالا'!$F$180","v":0},null,0,null,null,null,null,null,null,null,null,null,null,null,null,null,null,0,0,0,0,0,0,0]
[null,"کاردکس 183",{"$f":"'تعریف کالا'!$C$187","v":0},{"$f":"'تعریف کالا'!$D$187","v":0},{"$f":"'تعریف کالا'!$E$187","v":0},{"$f":"'تعریف کالا'!$G$187","v":0},null,{"$f":"'تعریف کالا'!$F$187","v":0},null,0,null,null,null,null,null,null,null,null,null,null,null,null,null,null,0,0,0,0,0,0,0]
[null,"کاردکس 191",{"$f":"'تعریف کالا'!$C$195","v":0},{"$f":"'تعریف کالا'!$D$195","v":0},{"$f":"'تعریف کالا'!$E$195","v":0},{"$f":"'تعریف کالا'!$G$195","v":0},null,{"$f":"'تعریف کالا'!$F$195","v":0},null,0,null,null,null,null,null,null,null,null,null,null,null,null,null,null,0,0,0,0,0,0,0]
[null,"کاردکس 194",{"$f":"'تعریف کالا'!$C$198","v":0},{"$f":"'تعریف کالا'!$D$198","v":0},{"$f":"'تعریف کالا'!$E$198","v":0},{"$f":"'تعریف کالا'!$G$198","v":0},null,{"$f":"'تعریف کالا'!$F$198","v":0},null,0,null,null,null,null,null,null,null,null,null,null,null,null,null,null,0,0,0,{"$f":"F4036","v":0},{"$f":"H4036","v":0},{"$f":"I4036","v":0},{"$f":"J4036","v":0}]
[null,"کاردکس 200",{"$f":"'تعریف کالا'!$C$204","v":0},{"$f":"'تعریف کالا'!$D$204","v":0},{"$f":"'تعریف کالا'!$E$204","v":0},{"$f":"'تعریف کالا'!$G$204","v":0},null,{"$f":"'تعریف کالا'!$F$204","v":0},null,0,null,null,null,null,null,null,null,null,null,null,null,null,null,null,0,0,0,0,0,0,0]
[]
[]
[null,null,"نام فروشنده","علی منصوری",null,"          کرایه حمل",null,null,"کرایه حمل",{"$f":"G4060","v":0}]
[null,null,"پرداخت نقدی",null,null,null,null,null,"مبلغ قابل پرداخت",{"$f":"I4268-J4059+J4060+J4061","v":0},null,null,null,null,null,null,null,null,null,null,null,null,null,null,"فروشنده :",{"$f":"D4060","v":"علی منصوری"}]
[null,"کاردکس 5",{"$f":"'تعریف کالا'!$C$9","v":0},{"$f":"'تعریف کالا'!$D$9","v":0},{"$f":"'تعریف کالا'!$E$9","v":0},{"$f":"'تعریف کالا'!$G$9","v":0},null,{"$f":"'تعریف کالا'!$F$9","v":0},null,0,null,null,null,null,null,null,null,null,null,null,null,null,null,null,0,0,0,0,0,0,0]
[null,"کاردکس 10",{"$f":"'تعریف کالا'!$C$14","v":0},{"$f":"'تعریف کالا'!$D$14","v":0},{"$f":"'تعریف کالا'!$E$14","v":0},{"$f":"'تعریف کالا'!$G$14","v":0},null,{"$f":"'تعریف کالا'!$F$14","v":0},null,0,null,null,null,null,null,null,null,null,null,null,null,null,null,null,0,0,0,0,0,0,0]
[null,"کاردکس 16",{"$f":"'تعریف کالا'!$C$20","v":0},{"$f":"'تعریف کالا'!$D$20","v":0},{"$f":"'تعریف کالا'!$E$20","v":0},{"$f":"'تعریف کالا'!$G$20","v":0},null,{"$f":"'تعریف کالا'!$F$20","v":0},null,0,null,null,null,null,null,null,null,null,null,null,null,null,null,null,0,0,0,0,0,0,0]
[null,"کاردکس 19",{"$f":"'تعریف کالا'!$C$23","v":0},{"$f":"'تعریف کالا'!$D$23","v":0},{"$f":"'تعریف کالا'!$E$23","v":0},{"$f":"'تعریف کالا'!$G$23","v":0},null,{"$f":"'تعریف کالا'!$F$23","v":0},null,0,null,null,null,null,null,null,null,null,null,null,null,null,null,null,0,0,0,0,0,0,0]
[null,"کاردکس 23",{"$f":"'تعریف کالا'!$C$27","v":0},{"$f":"'تعریف کالا'!$D$27","v":0},{"$f":"'تعریف کالا'!$E$27","v":0},{"$f":"'تعریف کالا'!$G$27","v":0},null,{"$f":"'تعریف کالا'!$F$27","v":0},null,0,null,null,null,null,null,null,null,null,null,null,null,null,null,null,0,0,0,0,0,0,0]
[null,"کاردکس 28",{"$f":"'تعریف کالا'!$C$32","v":0},{"$f":"'تعریف کالا'!$D$32","v":0},{"$f":"'تعریف کالا'!$E$32","v":0},{"$f":"'تعریف کالا'!$G$32","v":0},null,{"$f":"'تعریف کالا'!$F$32","v":0},null,0,null,null,null,null,null,null,null,null,null,null,null,null,null,null,0,0,0,0,0,0,0]
[null,"کاردکس 35",{"$f":"'تعریف کالا'!$C$39","v":0},{"$f":"'تعریف کالا'!$D$39","v":0},{"$f":"'تعریف کالا'!$E$39","v":0},{"$f":"'تعریف کالا'!$G$39","v":0},null,{"$f":"'تعریف کالا'!$F$39","v":0},null,0,null,null,null,null,null,null,null,null,null,null,null,null,null,null,0,0,0,0,0,0,0]
[null,"کاردکس 39",{"$f":"'تعریف کالا'!$C$43","v":0},{"$f":"'تعریف کالا'!$D$43","v":0},{"$f":"'تعریف کالا'!$E$43","v":0},{"$f":"'تعریف کالا'!$G$43","v":0},null,{"$f":"'تعریف کالا'!$F$43","v":0},null,0,null,null,null,null,null,null,null,null,null,null,null,null,null,null,0,0,0,0,0,0,0]
[null,"کاردکس 47",{"$f":"'تعریف کالا'!$C$51","v":0},{"$f":"'تعریف کالا'!$D$51","v":0},{"$f":"'تعریف کالا'!$E$51","v":0},{"$f":"'تعریف کالا'!$G$51","v":0},null,{"$f":"'تعریف کالا'!$F$51","v":0},null,0,null,null,null,null,null,null,null,null,null,null,null,null,null,null,0,0,0,0,0,0,0]
[null,"کاردکس 54",{"$f":"'تعریف کالا'!$C$58","v":0},{"$f":"'تعریف کالا'!$D$58","v":0},{"$f":"'تعریف کالا'!$E$58","v":0},{"$f":"'تعریف کالا'!$G$58","v":0},null,{"$f":"'تعریف کالا'!$F$58","v":0},null,0,null,null,null,null,null,null,null,null,null,null,null,null,null,null,0,0,0,0,0,0,0]
[null,"کاردکس 58",{"$f":"'تعریف کالا'!$C$62","v":0},{"$f":"'تعریف کالا'!$D$62","v":0},{"$f":"'تعریف کالا'!$E$62","v":0},{"$f":"'تعریف کالا'!$G$62","v":0},null,{"$f":"'تعریف کالا'!$F$62","v":0},null,0,null,null,null,null,null,null,null,null,null,null,null,null,null,null,0,0,0,0,0,0,0]
[null,"کاردکس 63",{"$f":"'تعریف کالا'!$C$67","v":0},{"$f":"'تعریف کالا'!$D$67","v":0},{"$f":"'تعریف کالا'!$E$67","v":0},{"$f":"'تعریف کالا'!$G$67","v":0},null,{"$f":"'تعریف کالا'!$F$67","v":0},null,0,null,null,null,null,null,null,null,null,null,null,null,null,null,null,0,0,0,0,0,0,0]
[null,"کاردکس 70",{"$f":"'تعریف کالا'!$C$74","v":0},{"$f":"'تعریف کالا'!$D$74","v":0},{"$f":"'تعریف کالا'!$E$74","v":0},{"$f":"'تعریف کالا'!$G$74","v":0},null,{"$f":"'تعریف کالا'!$F$74","v":0},null,0,null,null,null,null,null,null,null,null,null,null,null,null,null,null,0,0,0,0,0,0,0]
[null,"کاردکس 72",{"$f":"'تعریف کالا'!$C$76","v":0},{"$f":"'تعریف کالا'!$D$76","v":0},{"$f":"'تعریف کالا'!$E$76","v":0},{"$f":"'تعریف کالا'!$G$76","v":0},null,{"$f":"'تعریف کالا'!$F$76","v":0},null,0,null,null,null,null,null,null,null,null,null,null,null,null,null,null,0,0,0,0,0,0,0]
[null,"کاردکس 82",{"$f":"'تعریف کالا'!$C$86","v":0},{"$f":"'تعریف کالا'!$D$86","v":0},{"$f":"'تعریف کالا'!$E$86","v":0},{"$f":"'تعریف کالا'!$G$86","v":0},null,{"$f":"'تعریف کالا'!$F$86","v":0},null,0,null,null,null,null,null,null,null,null,null,null,null,null,null,null,0,0,0,0,0,0,0]
[null,"کاردکس 83",{"$f":"'تعریف کالا'!$C$87","v":0},{"$f":"'تعریف کالا'!$D$87","v":0},{"$f":"'تعریف کالا'!$E$87","v":0},{"$f":"'تعریف کالا'!$G$87","v":0},null,{"$f":"'تعریف کالا'!$F$87","v":0},null,0,null,null,null,null,null,null,null,null,null,null,null,null,null,null,0,0,0,0,0,0,0]
[null,"کاردکس 89",{"$f":"'تعریف کالا'!$C$93","v":0},{"$f":"'تعریف کالا'!$D$93","v":0},{"$f":"'تعریف کالا'!$E$93","v":0},{"$f":"'تعریف کالا'!$G$93","v":0},null,{"$f":"'تعریف کالا'!$F$93","v":0},null,0,null,null,null,null,null,null,null,null,null,null,null,null,null,null,0,0,0,0,0,0,0]
[null,"کاردکس 98",{"$f":"'تعریف کالا'!$C$102","v":0},{"$f":"'تعریف کالا'!$D$102","v":0},{"$f":"'تعریف کالا'!$E$102","v":0},{"$f":"'تعریف کالا'!$G$102","v":0},null,{"$f":"'تعریف کالا'!$F$102","v":0},null,0,null,null,null,null,null,null,null,null,null,null,null,null,null,null,0,0,0,0,0,0,0]
[null,"کاردکس 101",{"$f":"'تعریف کالا'!$C$105","v":0},{"$f":"'تعریف کالا'!$D$105","v":0},{"$f":"'تعریف کالا'!$E$105","v":0},{"$f":"'تعریف کالا'!$G$105","v":0},null,{"$f":"'تعریف کالا'!$F$105","v":0},null,0,null,null,null,null,null,null,null,null,null,null,null,null,null,null,0,0,0,0,0,0,0]
[null,"کاردکس 107",{"$f":"'تعریف کالا'!$C$111","v":0},{"$f":"'تعریف کالا'!$D$111","v":0},{"$f":"'تعریف کالا'!$E$111","v":0},{"$f":"'تعریف کالا'!$G$111","v":0},null,{"$f":"'تعریف کالا'!$F$111","v":0},null,0,null,null,null,null,null,null,null,null,null,null,null,null,null,null,0,0,0,0,0,0,0]
[null,"کاردکس 112",{"$f":"'تعریف کالا'!$C$116","v":0},{"$f":"'تعریف کالا'!$D$116","v":0},{"$f":"'تعریف کالا'!$E$116","v":0},{"$f":"'تعریف کالا'!$G$116","v":0},null,{"$f":"'تعریف کالا'!$F$116","v":0},null,0,null,null,null,null,null,null,null,null,null,null,null,null,null,null,0,0,0,0,0,0,0]
[null,"کاردکس 116",{"$f":"'تعریف کالا'!$C$120","v":0},{"$f":"'تعریف کالا'!$D$120","v":0},{"$f":"'تعریف کالا'!$E$120","v":0},{"$f":"'تعریف کالا'!$G$120","v":0},null,{"$f":"'تعریف کالا'!$F$120","v":0},null,0,null,null,null,null,null,null,null,null,null,null,null,null,null,null,0,0,0,0,0,0,0]
[null,"کاردکس 124",{"$f":"'تعریف کالا'!$C$128","v":0},{"$f":"'تعریف کالا'!$D$128","v":0},{"$f":"'تعریف کالا'!$E$128","v":0},{"$f":"'تعریف کالا'!$G$128","v":0},null,{"$f":"'تعریف کالا'!$F$128","v":0},null,0,null,null,null,null,null,null,null,null,null,null,null,null,null,null,0,0,0,0,0,0,0]
[null,"کاردکس 127",{"$f":"'تعریف کالا'!$C$131","v":0},{"$f":"'تعریف کالا'!$D$131","v":0},{"$f":"'تعریف کالا'!$E$131","v":0},{"$f":"'تعریف کالا'!$G$131","v":0},null,{"$f":"'تعریف کالا'!$F$131","v":0},null,0,null,null,null,null,null,null,null,null,null,null,null,null,null,null,0,0,0,0,0,0,0]
[null,"کاردکس 136",{"$f":"'تعریف کالا'!$C$140","v":0},{"$f":"'تعریف کالا'!$D$140","v":0},{"$f":"'تعریف کالا'!$E$140","v":0},{"$f":"'تعریف کالا'!$G$140","v":0},null,{"$f":"'تعریف کالا'!$F$140","v":0},null,0,null,null,null,null,null,null,null,null,null,null,null,null,null,null,0,0,0,0,0,0,0]
[null,"کاردکس 142",{"$f":"'تعریف کالا'!$C$146","v":0},{"$f":"'تعریف کالا'!$D$146","v":0},{"$f":"'تعریف کالا'!$E$146","v":0},{"$f":"'تعریف کالا'!$G$146","v":0},null,{"$f":"'تعریف کالا'!$F$146","v":0},null,0,null,null,null,null,null,null,null,null,null,null,null,null,null,null,0,0,0,0,0,0,0]
[null,"کاردکس 148",{"$f":"'تعریف کالا'!$C$152","v":0},{"$f":"'تعریف کالا'!$D$152","v":0},{"$f":"'تعریف کالا'!$E$152","v":0},{"$f":"'تعریف کالا'!$G$152","v":0},null,{"$f":"'تعریف کالا'!$F$152","v":0},null,0,null,null,null,null,null,null,null,null,null,null,null,null,null,null,0,0,0,0,0,0,0]
[null,"کاردکس 151",{"$f":"'تعریف کالا'!$C$155","v":0},{"$f":"'تعریف کالا'!$D$155","v":0},{"$f":"'تعریف کالا'!$E$155","v":0},{"$f":"'تعریف کالا'!$G$155","v":0},null,{"$f":"'تعریف کالا'!$F$155","v":0},null,0,null,null,null,null,null,null,null,null,null,null,null,null,null,null,0,0,0,0,0,0,0]
[null,"کاردکس 159",{"$f":"'تعریف کالا'!$C$163","v":0},{"$f":"'تعریف کالا'!$D$163","v":0},{"$f":"'تعریف کالا'!$E$163","v":0},{"$f":"'تعریف کالا'!$G$163","v":0},null,{"$f":"'تعریف کالا'!$F$163","v":0},null,0,null,null,null,null,null,null,null,null,null,null,null,null,null,null,0,0,0,0,0,0,0]
[null,"کاردکس 160",{"$f":"'تعریف کالا'!$C$164","v":0},{"$f":"'تعریف کالا'!$D$164","v":0},{"$f":"'تعریف کالا'!$E$164","v":0},{"$f":"'تعریف کالا'!$G$164","v":0},null,{"$f":"'تعریف کالا'!$F$164","v":0},null,0,null,null,null,null,null,null,null,null,null,null,null,null,null,null,0,0,0,0,0,0,0]
[null,"کاردکس 166",{"$f":"'تعریف کالا'!$C$170","v":0},{"$f":"'تعریف کالا'!$D$170","v":0},{"$f":"'تعریف کالا'!$E$170","v":0},{"$f":"'تعریف کالا'!$G$170","v":0},null,{"$f":"'تعریف کالا'!$F$170","v":0},null,0,null,null,null,null,null,null,null,null,null,null,null,null,null,null,0,0,0,0,0,0,0]
[null,"کاردکس 171",{"$f":"'تعریف کالا'!$C$175","v":0},{"$f":"'تعریف کالا'!$D$175","v":0},{"$f":"'تعریف کالا'!$E$175","v":0},{"$f":"'تعریف کالا'!$G$175","v":0},null,{"$f":"'تعریف کالا'!$F$175","v":0},null,0,null,null,null,null,null,null,null,null,null,null,null,null,null,null,0,0,0,0,0,0,0]
[null,"کاردکس 178",{"$f":"'تعریف کالا'!$C$182","v":0},{"$f":"'تعریف کالا'!$D$182","v":0},{"$f":"'تعریف کالا'!$E$182","v":0},{"$f":"'تعریف کالا'!$G$182","v":0},null,{"$f":"'تعریف کالا'!$F$182","v":0},null,0,null,null,null,null,null,null,null,null,null,null,null,null,null,null,0,0,0,0,0,0,0]
[null,"کاردکس 186",{"$f":"'تعریف کالا'!$C$190","v":0},{"$f":"'تعریف کالا'!$D$190","v":0},{"$f":"'تعریف کالا'!$E$190","v":0},{"$f":"'تعریف کالا'!$G$190","v":0},null,{"$f":"'تعریف کالا'!$F$190","v":0},null,0,null,null,null,null,null,null,null,null,null,null,null,null,null,null,0,0,0,0,0,0,0]
[null,"کاردکس 190",{"$f":"'تعریف کالا'!$C$194","v":0},{"$f":"'تعریف کالا'!$D$194","v":0},{"$f":"'تعریف کالا'!$E$194","v":0},{"$f":"'تعریف کالا'!$G$194","v":0},null,{"$f":"'تعریف کالا'!$F$194","v":0},null,0,null,null,null,null,null,null,null,null,null,null,null,null,null,null,0,0,0,0,0,0,0]
[null,"کاردکس 195",{"$f":"'تعریف کالا'!$C$199","v":0},{"$f":"'تعریف کالا'!$D$199","v":0},{"$f":"'تعریف کالا'!$E$199","v":0},{"$f":"'تعریف کالا'!$G$199","v":0},null,{"$f":"'تعریف کالا'!$F$199","v":0},null,{"$f":"(F4262*I4262)-(F4262*I4262*G4262%)","v":0},null,null,null,null,null,null,null,null,null,null,null,null,null,null,{"$f":"C4262","v":0},{"$f":"D4262","v":0},{"$f":"E4262","v":0},0,0,0,0]
[null,"     جمع کل",null,{"$f":"abh(I4268)&L4264","v":"منفي "},null,null,null,null,{"$f":"SUM(J4068:J4267)","v":0},null,null,null,null,null,null,null,null,null,null,null,null,null,null,"مانده حساب",null,{"$f":"abh(AD4268)& \"ریال\"","v":"منفي ریال"},null,null,null,{"$f":"I4270","v":0}]
[]
[null,null,null,null,null,{"$f":"'صفحه اصلی'!$J$4","v":0},null,null,null,null,null,"فاکتور بعدی",null,null,null,null,null,null,null,null,null,null,null,"رسید کالا"]
[null,null,null,null,null,"          مالیات",null,null,"مالیات",{"$f":"(I4493-J4284+J4285)*G4286%","v":0}]
[null,"شماره کاردکس","کد کالا","نام کالا","گروه بندی","قیمت واحد","درصد تخفیف","واحد شمارش","تعداد","قیمت کل",null,null,null,null,null,null,null,null,null,null,null,null,null,"ردیف","کد کالا","نام کالا","گروه بندی","قیمت واحد","واحد شمارش","تعداد","قیمت کل"]
[null,"کاردکس 5",{"$f":"'تعریف کالا'!$C$9","v":0},{"$f":"'تعریف کالا'!$D$9","v":0},{"$f":"'تعریف کالا'!$E$9","v":0},{"$f":"'تعریف کالا'!$G$9","v":0},null,{"$f":"'تعریف کالا'!$F$9","v":0},null,0,null,null,null,null,null,null,null,null,null,null,null,null,null,null,0,0,0,0,0,0,0]
[null,"کاردکس 7",{"$f":"'تعریف کالا'!$C$11","v":0},{"$f":"'تعریف کالا'!$D$11","v":0},{"$f":"'تعریف کالا'!$E$11","v":0},{"$f":"'تعریف کالا'!$G$11","v":0},null,{"$f":"'تعریف کالا'!$F$11","v":0},null,0,null,null,null,null,null,null,null,null,null,null,null,null,null,null,0,0,0,0,0,0,0]
[null,"کاردکس 14",{"$f":"'تعریف کالا'!$C$18","v":0},{"$f":"'تعریف کالا'!$D$18","v":0},{"$f":"'تعریف کالا'!$E$18","v":0},{"$f":"'تعریف کالا'!$G$18","v":0},null,{"$f":"'تعریف کالا'!$F$18","v":0},null,0,null,null,null,null,null,null,null,null,null,null,null,null,null,null,0,0,0,0,0,0,0]
[null,"کاردکس 18",{"$f":"'تعریف کالا'!$C$22","v":0},{"$f":"'تعریف کالا'!$D$22","v":0},{"$f":"'تعریف کالا'!$E$22","v":0},{"$f":"'تعریف کالا'!$G$22","v":0},null,{"$f":"'تعریف کالا'!$F$22","v":0},null,0,null,null,null,null,null,null,null,null,null,null,null,null,null,null,0,0,0,0,0,0,0]
[null,"کاردکس 23",{"$f":"'تعریف کالا'!$C$27","v":0},{"$f":"'تعریف کالا'!$D$27","v":0},{"$f":"'تعریف کالا'!$E$27","v":0},{"$f":"'تعریف کالا'!$G$27","v":0},null,{"$f":"'تعریف کالا'!$F$27","v":0},null,0,null,null,null,null,null,null,null,null,null,null,null,null,null,null,0,0,0,0,0,0,0]
[null,"کاردکس 30",{"$f":"'تعریف کالا'!$C$34","v":0},{"$f":"'تعریف کالا'!$D$34","v":0},{"$f":"'تعریف کالا'!$E$34","v":0},{"$f":"'تعریف کالا'!$G$34","v":0},null,{"$f":"'تعریف کالا'!$F$34","v":0},null,0,null,null,null,null,null,null,null,null,null,null,null,null,null,null,0,0,0,0,0,0,0]
[null,"کاردکس 38",{"$f":"'تعریف کالا'!$C$42","v":0},{"$f":"'تعریف کالا'!$D$42","v":0},{"$f":"'تعریف کالا'!$E$42","v":0},{"$f":"'تعریف کالا'!$G$42","v":0},null,{"$f":"'تعریف کالا'!$F$42","v":0},null,0,null,null,null,null,null,null,null,null,null,null,null,null,null,null,0,0,0,0,0,0,0]
[null,"کاردکس 42",{"$f":"'تعریف کالا'!$C$46","v":0},{"$f":"'تعریف کالا'!$D$46","v":0},{"$f":"'تعریف کالا'!$E$46","v":0},{"$f":"'تعریف کالا'!$G$46","v":0},null,{"$f":"'تعریف کالا'!$F$46","v":0},null,0,null,null,null,null,null,null,null,null,null,null,null,null,null,null,0,0,0,0,0,0,0]
[null,"کاردکس 49",{"$f":"'تعریف کالا'!$C$53","v":0},{"$f":"'تعریف کالا'!$D$53","v":0},{"$f":"'تعریف کالا'!$E$53","v":0},{"$f":"'تعریف کالا'!$G$53","v":0},null,{"$f":"'تعریف کالا'!$F$53","v":0},null,0,null,null,null,null,null,null,null,null,null,null,null,null,null,null,0,0,0,0,0,0,0]
[null,"کاردکس 54",{"$f":"'تعریف کالا'!$C$58","v":0},{"$f":"'تعریف کالا'!$D$58","v":0},{"$f":"'تعریف کالا'!$E$58","v":0},{"$f":"'تعریف کالا'!$G$58","v":0},null,{"$f":"'تعریف کالا'!$F$58","v":0},null,0,null,null,null,null,null,null,null,null,null,null,null,null,null,null,0,0,0,0,0,0,0]
[null,"کاردکس 58",{"$f":"'تعریف کالا'!$C$62","v":0},{"$f":"'تعریف کالا'!$D$62","v":0},{"$f":"'تعریف کالا'!$E$62","v":0},{"$f":"'تعریف کالا'!$G$62","v":0},null,{"$f":"'تعریف کالا'!$F$62","v":0},null,0,null,null,null,null,null,null,null,null,null,null,null,null,null,null,0,0,0,0,0,0,0]
[null,"کاردکس 65",{"$f":"'تعریف کالا'!$C$69","v":0},{"$f":"'تعریف کالا'!$D$69","v":0},{"$f":"'تعریف کالا'!$E$69","v":0},{"$f":"'تعریف کالا'!$G$69","v":0},null,{"$f":"'تعریف کالا'!$F$69","v":0},null,0,null,null,null,null,null,null,null,null,null,null,null,null,null,null,0,0,0,0,0,0,0]
[null,"کاردکس 67",{"$f":"'تعریف کالا'!$C$71","v":0},{"$f":"'تعریف کالا'!$D$71","v":0},{"$f":"'تعریف کالا'!$E$71","v":0},{"$f":"'تعریف کالا'!$G$71","v":0},null,{"$f":"'تعریف کالا'!$F$71","v":0},null,{"$f":"(F4359*I4359)-(F4359*I4359*G4359%)","v":0},null,null,null,null,null,null,null,null,null,null,null,null,null,null,{"$f":"C4359","v":0},0,0,0,0,0,0]
[null,"کاردکس 77",{"$f":"'تعریف کالا'!$C$81","v":0},{"$f":"'تعریف کالا'!$D$81","v":0},{"$f":"'تعریف کالا'!$E$81","v":0},{"$f":"'تعریف کالا'!$G$81","v":0},null,{"$f":"'تعریف کالا'!$F$81","v":0},null,0,null,null,null,null,null,null,null,null,null,null,null,null,null,null,0,0,0,0,0,0,0]
[null,"کاردکس 82",{"$f":"'تعریف کالا'!$C$86","v":0},{"$f":"'تعریف کالا'!$D$86","v":0},{"$f":"'تعریف کالا'!$E$86","v":0},{"$f":"'تعریف کالا'!$G$86","v":0},null,{"$f":"'تعریف کالا'!$F$86","v":0},null,0,null,null,null,null,null,null,null,null,null,null,null,null,null,null,0,0,0,0,0,0,0]
[null,"کاردکس 84",{"$f":"'تعریف کالا'!$C$88","v":0},{"$f":"'تعریف کالا'!$D$88","v":0},{"$f":"'تعریف کالا'!$E$88","v":0},{"$f":"'تعریف کالا'!$G$88","v":0},null,{"$f":"'تعریف کالا'!$F$88","v":0},null,0,null,null,null,null,null,null,null,null,null,null,null,null,null,null,0,0,0,0,0,0,0]
[null,"کاردکس 93",{"$f":"'تعریف کالا'!$C$97","v":0},{"$f":"'تعریف کالا'!$D$97","v":0},{"$f":"'تعریف کالا'!$E$97","v":0},{"$f":"'تعریف کالا'!$G$97","v":0},null,{"$f":"'تعریف کالا'!$F$97","v":0},null,0,null,null,null,null,null,null,null,null,null,null,null,null,null,null,0,0,0,0,0,0,0]
[null,"کاردکس 96",{"$f":"'تعریف کالا'!$C$100","v":0},{"$f":"'تعریف کالا'!$D$100","v":0},{"$f":"'تعریف کالا'!$E$100","v":0},{"$f":"'تعریف کالا'!$G$100","v":0},null,{"$f":"'تعریف کالا'!$F$100","v":0},null,0,null,null,null,null,null,null,null,null,null,null,null,null,null,null,0,0,0,0,0,0,0]
[null,"کاردکس 102",{"$f":"'تعریف کالا'!$C$106","v":0},{"$f":"'تعریف کالا'!$D$106","v":0},{"$f":"'تعریف کالا'!$E$106","v":0},{"$f":"'تعریف کالا'!$G$106","v":0},null,{"$f":"'تعریف کالا'!$F$106","v":0},null,0,null,null,null,null,null,null,null,null,null,null,null,null,null,null,0,0,0,0,0,0,0]
[null,"کاردکس 108",{"$f":"'تعریف کالا'!$C$112","v":0},{"$f":"'تعریف کالا'!$D$112","v":0},{"$f":"'تعریف کالا'!$E$112","v":0},{"$f":"'تعریف کالا'!$G$112","v":0},null,{"$f":"'تعریف کالا'!$F$112","v":0},null,0,null,null,null,null,null,null,null,null,null,null,null,null,null,null,0,0,0,0,0,0,0]
[null,"کاردکس 111",{"$f":"'تعریف کالا'!$C$115","v":0},{"$f":"'تعریف کالا'!$D$115","v":0},{"$f":"'تعریف کالا'!$E$115","v":0},{"$f":"'تعریف کالا'!$G$115","v":0},null,{"$f":"'تعریف کالا'!$F$115","v":0},null,0,null,null,null,null,null,null,null,null,null,null,null,null,null,null,0,0,0,0,0,0,0]
[null,"کاردکس 119",{"$f":"'تعریف کالا'!$C$123","v":0},{"$f":"'تعریف کالا'!$D$123","v":0},{"$f":"'تعریف کالا'!$E$123","v":0},{"$f":"'تعریف کالا'!$G$123","v":0},null,{"$f":"'تعریف کالا'!$F$123","v":0},null,0,null,null,null,null,null,null,null,null,null,null,null,null,null,null,0,0,0,0,0,0,0]
[null,"کاردکس 126",{"$f":"'تعریف کالا'!$C$130","v":0},{"$f":"'تعریف کالا'!$D$130","v":0},{"$f":"'تعریف کالا'!$E$130","v":0},{"$f":"'تعریف کالا'!$G$130","v":0},null,{"$f":"'تعریف کالا'!$F$130","v":0},null,0,null,null,null,null,null,null,null,null,null,null,null,null,null,null,0,0,0,0,0,0,0]
[null,"کاردکس 131",{"$f":"'تعریف کالا'!$C$135","v":0},{"$f":"'تعریف کالا'!$D$135","v":0},{"$f":"'تعریف کالا'!$E$135","v":0},{"$f":"'تعریف کالا'!$G$135","v":0},null,{"$f":"'تعریف کالا'!$F$135","v":0},null,{"$f":"(F4423*I4423)-(F4423*I4423*G4423%)","v":0},null,null,null,null,null,null,null,null,null,null,null,null,null,null,{"$f":"C4423","v":0},{"$f":"D4423","v":0},{"$f":"E4423","v":0},0,0,0,0]
[null,"کاردکس 137",{"$f":"'تعریف کالا'!$C$141","v":0},{"$f":"'تعریف کالا'!$D$141","v":0},{"$f":"'تعریف کالا'!$E$141","v":0},{"$f":"'تعریف کالا'!$G$141","v":0},null,{"$f":"'تعریف کالا'!$F$141","v":0},null,0,null,null,null,null,null,null,null,null,null,null,null,null,null,null,0,0,0,0,0,0,0]
[null,"کاردکس 143",{"$f":"'تعریف کالا'!$C$147","v":0},{"$f":"'تعریف کالا'!$D$147","v":0},{"$f":"'تعریف کالا'!$E$147","v":0},{"$f":"'تعریف کالا'!$G$147","v":0},null,{"$f":"'تعریف کالا'!$F$147","v":0},null,0,null,null,null,null,null,null,null,null,null,null,null,null,null,null,0,0,0,0,0,0,0]
[null,"کاردکس 146",{"$f":"'تعریف کالا'!$C$150","v":0},{"$f":"'تعریف کالا'!$D$150","v":0},{"$f":"'تعریف کالا'!$E$150","v":0},{"$f":"'تعریف کالا'!$G$150","v":0},null,{"$f":"'تعریف کالا'!$F$150","v":0},null,0,null,null,null,null,null,null,null,null,null,null,null,null,null,null,0,0,0,0,0,0,0]
[null,"کاردکس 150",{"$f":"'تعریف کالا'!$C$154","v":0},{"$f":"'تعریف کالا'!$D$154","v":0},{"$f":"'تعریف کالا'!$E$154","v":0},{"$f":"'تعریف کالا'!$G$154","v":0},null,{"$f":"'تعریف کالا'!$F$154","v":0},null,0,null,null,null,null,null,null,null,null,null,null,null,null,null,null,0,0,0,0,0,0,0]
[null,"کاردکس 155",{"$f":"'تعریف کالا'!$C$159","v":0},{"$f":"'تعریف کالا'!$D$159","v":0},{"$f":"'تعریف کالا'!$E$159","v":0},{"$f":"'تعریف کالا'!$G$159","v":0},null,{"$f":"'تعریف کالا'!$F$159","v":0},null,0,null,null,null,null,null,null,null,null,null,null,null,null,null,null,0,0,0,0,0,0,0]
[null,"کاردکس 161",{"$f":"'تعریف کالا'!$C$165","v":0},{"$f":"'تعریف کالا'!$D$165","v":0},{"$f":"'تعریف کالا'!$E$165","v":0},{"$f":"'تعریف کالا'!$G$165","v":0},null,{"$f":"'تعریف کالا'!$F$165","v":0},null,0,null,null,null,null,null,null,null,null,null,null,null,null,null,null,0,0,0,0,0,0,0]
[null,"کاردکس 170",{"$f":"'تعریف کالا'!$C$174","v":0},{"$f":"'تعریف کالا'!$D$174","v":0},{"$f":"'تعریف کالا'!$E$174","v":0},{"$f":"'تعریف کالا'!$G$174","v":0},null,{"$f":"'تعریف کالا'!$F$174","v":0},null,0,null,null,null,null,null,null,null,null,null,null,null,null,null,null,0,0,0,0,0,0,0]
[null,"کاردکس 173",{"$f":"'تعریف کالا'!$C$177","v":0},{"$f":"'تعریف کالا'!$D$177","v":0},{"$f":"'تعریف کالا'!$E$177","v":0},{"$f":"'تعریف کالا'!$G$177","v":0},null,{"$f":"'تعریف کالا'!$F$177","v":0},null,0,null,null,null,null,null,null,null,null,null,null,null,null,null,null,0,0,0,0,0,0,0]
[null,"کاردکس 179",{"$f":"'تعریف کالا'!$C$183","v":0},{"$f":"'تعریف کالا'!$D$183","v":0},{"$f":"'تعریف کالا'!$E$183","v":0},{"$f":"'تعریف کالا'!$G$183","v":0},null,{"$f":"'تعریف کالا'!$F$183","v":0},null,0,null,null,null,null,null,null,null,null,null,null,null,null,null,null,0,0,0,0,0,0,0]
[null,"کاردکس 185",{"$f":"'تعریف کالا'!$C$189","v":0},{"$f":"'تعریف کالا'!$D$189","v":0},{"$f":"'تعریف کالا'!$E$189","v":0},{"$f":"'تعریف کالا'!$G$189","v":0},null,{"$f":"'تعریف کالا'!$F$189","v":0},null,0,null,null,null,null,null,null,null,null,null,null,null,null,null,null,0,0,0,0,0,0,0]
[null,"کاردکس 190",{"$f":"'تعریف کالا'!$C$194","v":0},{"$f":"'تعریف کالا'!$D$194","v":0},{"$f":"'تعریف کالا'!$E$194","v":0},{"$f":"'تعریف کالا'!$G$194","v":0},null,{"$f":"'تعریف کالا'!$F$194","v":0},null,0,null,null,null,null,null,null,null,null,null,null,null,null,null,null,0,0,0,0,0,0,0]
[null,"کاردکس 197",{"$f":"'تعریف کالا'!$C$201","v":0},{"$f":"'تعریف کالا'!$D$201","v":0},{"$f":"'تعریف کالا'!$E$201","v":0},{"$f":"'تعریف کالا'!$G$201","v":0},null,{"$f":"'تعریف کالا'!$F$201","v":0},null,0,null,null,null,null,null,null,null,null,null,null,null,null,null,null,0,0,0,0,0,0,0]
[null,"کاردکس 199",{"$f":"'تعریف کالا'!$C$203","v":0},{"$f":"'تعریف کالا'!$D$203","v":0},{"$f":"'تعریف کالا'!$E$203","v":0},{"$f":"'تعریف کالا'!$G$203","v":0},null,{"$f":"'تعریف کالا'!$F$203","v":0},null,0,null,null,null,null,null,null,null,null,null,null,null,null,null,null,0,0,0,0,0,0,0]
[]
[null,"شماره سند ",21,null,null,null,null,null,"تاریخ",null,null,null,null,null,null,null,null,null,null,null,null,null,null,null,null,null,{"$f":"F4505","v":0},null,null,"تاریخ",{"$f":"J4506","v":0}]
[null,null,"پرداخت نقدی",null,null,null,null,null,"مبلغ قابل پرداخت",{"$f":"I4718-J4509+J4510+J4511","v":0},null,null,null,null,null,null,null,null,null,null,null,null,null,null,"فروشنده :",{"$f":"D4510","v":"علی منصوری"}]
[null,null,"ثبت چک","شرح رویداد"]
[null,"کاردکس 2",{"$f":"'تعریف کالا'!$C$6","v":9011121},{"$f":"'تعریف کالا'!$D$6","v":"دی وی دی"},{"$f":"'تعریف کالا'!$E$6","v":"سخت افزار"},{"$f":"'تعریف کالا'!$G$6","v":7000},null,{"$f":"'تعریف کالا'!$F$6","v":"حلقه"},null,{"$f":"(F4519*I4519)-(F4519*I4519*G4519%)","v":0},null,null,null,null,null,null,null,null,null,null,null,null,null,null,{"$f":"C4519","v":9011121},{"$f":"D4519","v":"دی وی دی"},{"$f":"E4519","v":"سخت افزار"},{"$f":"F4519","v":7000},{"$f":"H4519","v":"حلقه"},{"$f":"I4519","v":0},{"$f":"J4519","v":0}]
[null,"کاردکس 9",{"$f":"'تعریف کالا'!$C$13","v":0},{"$f":"'تعریف کالا'!$D$13","v":0},{"$f":"'تعریف کالا'!$E$13","v":0},{"$f":"'تعریف کالا'!$G$13","v":0},null,{"$f":"'تعریف کالا'!$F$13","v":0},null,0,null,null,null,null,null,null,null,null,null,null,null,null,null,null,0,0,0,0,0,0,0]
[null,"کاردکس 14",{"$f":"'تعریف کالا'!$C$18","v":0},{"$f":"'تعریف کالا'!$D$18","v":0},{"$f":"'تعریف کالا'!$E$18","v":0},{"$f":"'تعریف کالا'!$G$18","v":0},null,{"$f":"'تعریف کالا'!$F$18","v":0},null,0,null,null,null,null,null,null,null,null,null,null,null,null,null,null,0,0,0,0,0,0,0]
[null,"کاردکس 18",{"$f":"'تعریف کالا'!$C$22","v":0},{"$f":"'تعریف کالا'!$D$22","v":0},{"$f":"'تعریف کالا'!$E$22","v":0},{"$f":"'تعریف کالا'!$G$22","v":0},null,{"$f":"'تعریف کالا'!$F$22","v":0},null,0,null,null,null,null,null,null,null,null,null,null,null,null,null,null,0,0,0,0,0,0,0]
[null,"کاردکس 25",{"$f":"'تعریف کالا'!$C$29","v":0},{"$f":"'تعریف کالا'!$D$29","v":0},{"$f":"'تعریف کالا'!$E$29","v":0},{"$f":"'تعریف کالا'!$G$29","v":0},null,{"$f":"'تعریف کالا'!$F$29","v":0},null,0,null,null,null,null,null,null,null,null,null,null,null,null,null,null,0,0,0,0,0,0,0]
[null,"کاردکس 33",{"$f":"'تعریف کالا'!$C$37","v":0},{"$f":"'تعریف کالا'!$D$37","v":0},{"$f":"'تعریف کالا'!$E$37","v":0},{"$f":"'تعریف کالا'!$G$37","v":0},null,{"$f":"'تعریف کالا'!$F$37","v":0},null,0,null,null,null,null,null,null,null,null,null,null,null,null,null,null,0,0,0,0,0,0,0]
[null,"کاردکس 37",{"$f":"'تعریف کالا'!$C$41","v":0},{"$f":"'تعریف کالا'!$D$41","v":0},{"$f":"'تعریف کالا'!$E$41","v":0},{"$f":"'تعریف کالا'!$G$41","v":0},null,{"$f":"'تعریف کالا'!$F$41","v":0},null,0,null,null,null,null,null,null,null,null,null,null,null,null,null,null,0,0,0,0,0,0,0]
[null,"کاردکس 42",{"$f":"'تعریف کالا'!$C$46","v":0},{"$f":"'تعریف کالا'!$D$46","v":0},{"$f":"'تعریف کالا'!$E$46","v":0},{"$f":"'تعریف کالا'!$G$46","v":0},null,{"$f":"'تعریف کالا'!$F$46","v":0},null,0,null,null,null,null,null,null,null,null,null,null,null,null,null,null,0,0,0,0,0,0,0]
[null,"کاردکس 49",{"$f":"'تعریف کالا'!$C$53","v":0},{"$f":"'تعریف کالا'!$D$53","v":0},{"$f":"'تعریف کالا'!$E$53","v":0},{"$f":"'تعریف کالا'!$G$53","v":0},null,{"$f":"'تعریف کالا'!$F$53","v":0},null,0,null,null,null,null,null,null,null,null,null,null,null,null,null,null,0,0,0,0,0,0,0]
[null,"کاردکس 53",{"$f":"'تعریف کالا'!$C$57","v":0},{"$f":"'تعریف کالا'!$D$57","v":0},{"$f":"'تعریف کالا'!$E$57","v":0},{"$f":"'تعریف کالا'!$G$57","v":0},null,{"$f":"'تعریف کالا'!$F$57","v":0},null,0,null,null,null,null,null,null,null,null,null,null,null,null,null,null,0,0,0,0,0,0,0]
[null,"کاردکس 61",{"$f":"'تعریف کالا'!$C$65","v":0},{"$f":"'تعریف کالا'!$D$65","v":0},{"$f":"'تعریف کالا'!$E$65","v":0},{"$f":"'تعریف کالا'!$G$65","v":0},null,{"$f":"'تعریف کالا'!$F$65","v":0},null,0,null,null,null,null,null,null,null,null,null,null,null,null,null,null,0,0,0,0,0,0,0]
[null,"کاردکس 62",{"$f":"'تعریف کالا'!$C$66","v":0},{"$f":"'تعریف کالا'!$D$66","v":0},{"$f":"'تعریف کالا'!$E$66","v":0},{"$f":"'تعریف کالا'!$G$66","v":0},null,{"$f":"'تعریف کالا'!$F$66","v":0},null,0,null,null,null,null,null,null,null,null,null,null,null,null,null,null,0,0,0,0,0,0,0]
[null,"کاردکس 68",{"$f":"'تعریف کالا'!$C$72","v":0},{"$f":"'تعریف کالا'!$D$72","v":0},{"$f":"'تعریف کالا'!$E$72","v":0},{"$f":"'تعریف کالا'!$G$72","v":0},null,{"$f":"'تعریف کالا'!$F$72","v":0},null,0,null,null,null,null,null,null,null,null,null,null,null,null,null,null,0,0,0,0,0,0,0]
[null,"کاردکس 77",{"$f":"'تعریف کالا'!$C$81","v":0},{"$f":"'تعریف کالا'!$D$81","v":0},{"$f":"'تعریف کالا'!$E$81","v":0},{"$f":"'تعریف کالا'!$G$81","v":0},null,{"$f":"'تعریف کالا'!$F$81","v":0},null,0,null,null,null,null,null,null,null,null,null,null,null,null,null,null,0,0,0,0,0,0,0]
[null,"کاردکس 79",{"$f":"'تعریف کالا'!$C$83","v":0},{"$f":"'تعریف کالا'!$D$83","v":0},{"$f":"'تعریف کالا'!$E$83","v":0},{"$f":"'تعریف کالا'!$G$83","v":0},null,{"$f":"'تعریف کالا'!$F$83","v":0},null,0,null,null,null,null,null,null,null,null,null,null,null,null,null,null,0,0,0,0,0,0,0]
[null,"کاردکس 86",{"$f":"'تعریف کالا'!$C$90","v":0},{"$f":"'تعریف کالا'!$D$90","v":0},{"$f":"'تعریف کالا'!$E$90","v":0},{"$f":"'تعریف کالا'!$G$90","v":0},null,{"$f":"'تعریف کالا'!$F$90","v":0},null,0,null,null,null,null,null,null,null,null,null,null,null,null,null,null,0,0,0,0,0,0,0]
[null,"کاردکس 91",{"$f":"'تعریف کالا'!$C$95","v":0},{"$f":"'تعریف کالا'!$D$95","v":0},{"$f":"'تعریف کالا'!$E$95","v":0},{"$f":"'تعریف کالا'!$G$95","v":0},null,{"$f":"'تعریف کالا'!$F$95","v":0},null,0,null,null,null,null,null,null,null,null,null,null,null,null,null,null,0,0,0,0,0,0,0]
[null,"کاردکس 97",{"$f":"'تعریف کالا'!$C$101","v":0},{"$f":"'تعریف کالا'!$D$101","v":0},{"$f":"'تعریف کالا'!$E$101","v":0},{"$f":"'تعریف کالا'!$G$101","v":0},null,{"$f":"'تعریف کالا'!$F$101","v":0},null,0,null,null,null,null,null,null,null,null,null,null,null,null,null,null,0,0,0,0,0,0,0]
[null,"کاردکس 103",{"$f":"'تعریف کالا'!$C$107","v":0},{"$f":"'تعریف کالا'!$D$107","v":0},{"$f":"'تعریف کالا'!$E$107","v":0},{"$f":"'تعریف کالا'!$G$107","v":0},null,{"$f":"'تعریف کالا'!$F$107","v":0},null,0,null,null,null,null,null,null,null,null,null,null,null,null,null,null,0,0,0,0,0,0,0]
[null,"کاردکس 106",{"$f":"'تعریف کالا'!$C$110","v":0},{"$f":"'تعریف کالا'!$D$110","v":0},{"$f":"'تعریف کالا'!$E$110","v":0},{"$f":"'تعریف کالا'!$G$110","v":0},null,{"$f":"'تعریف کالا'!$F$110","v":0},null,0,null,null,null,null,null,null,null,null,null,null,null,null,null,null,0,0,0,0,0,0,0]
[null,"کاردکس 115",{"$f":"'تعریف کالا'!$C$119","v":0},{"$f":"'تعریف کالا'!$D$119","v":0},{"$f":"'تعریف کالا'!$E$119","v":0},{"$f":"'تعریف کالا'!$G$119","v":0},null,{"$f":"'تعریف کالا'!$F$119","v":0},null,0,null,null,null,null,null,null,null,null,null,null,null,null,null,null,0,0,0,0,0,0,0]
[null,"کاردکس 121",{"$f":"'تعریف کالا'!$C$125","v":0},{"$f":"'تعریف کالا'!$D$125","v":0},{"$f":"'تعریف کالا'!$E$125","v":0},{"$f":"'تعریف کالا'!$G$125","v":0},null,{"$f":"'تعریف کالا'!$F$125","v":0},null,0,null,null,null,null,null,null,null,null,null,null,null,null,null,null,0,0,0,0,0,0,0]
[null,"کاردکس 126",{"$f":"'تعریف کالا'!$C$130","v":0},{"$f":"'تعریف کالا'!$D$130","v":0},{"$f":"'تعریف کالا'!$E$130","v":0},{"$f":"'تعریف کالا'!$G$130","v":0},null,{"$f":"'تعریف کالا'!$F$130","v":0},null,0,null,null,null,null,null,null,null,null,null,null,null,null,null,null,0,0,0,0,0,0,0]
[null,"کاردکس 130",{"$f":"'تعریف کالا'!$C$134","v":0},{"$f":"'تعریف کالا'!$D$134","v":0},{"$f":"'تعریف کالا'!$E$134","v":0},{"$f":"'تعریف کالا'!$G$134","v":0},null,{"$f":"'تعریف کالا'!$F$134","v":0},null,0,null,null,null,null,null,null,null,null,null,null,null,null,null,null,0,0,0,{"$f":"F4647","v":0},{"$f":"H4647","v":0},{"$f":"I4647","v":0},{"$f":"J4647","v":0}]
[null,"کاردکس 138",{"$f":"'تعریف کالا'!$C$142","v":0},{"$f":"'تعریف کالا'!$D$142","v":0},{"$f":"'تعریف کالا'!$E$142","v":0},{"$f":"'تعریف کالا'!$G$142","v":0},null,{"$f":"'تعریف کالا'!$F$142","v":0},null,0,null,null,null,null,null,null,null,null,null,null,null,null,null,null,0,0,0,0,0,0,0]
[null,"کاردکس 139",{"$f":"'تعریف کالا'!$C$143","v":0},{"$f":"'تعریف کالا'!$D$143","v":0},{"$f":"'تعریف کالا'!$E$143","v":0},{"$f":"'تعریف کالا'!$G$143","v":0},null,{"$f":"'تعریف کالا'!$F$143","v":0},null,0,null,null,null,null,null,null,null,null,null,null,null,null,null,null,0,0,0,0,0,0,0]
[null,"کاردکس 145",{"$f":"'تعریف کالا'!$C$149","v":0},{"$f":"'تعریف کالا'!$D$149","v":0},{"$f":"'تعریف کالا'!$E$149","v":0},{"$f":"'تعریف کالا'!$G$149","v":0},null,{"$f":"'تعریف کالا'!$F$149","v":0},null,0,null,null,null,null,null,null,null,null,null,null,null,null,null,null,0,0,0,0,0,0,0]
[null,"کاردکس 150",{"$f":"'تعریف کالا'!$C$154","v":0},{"$f":"'تعریف کالا'!$D$154","v":0},{"$f":"'تعریف کالا'!$E$154","v":0},{"$f":"'تعریف کالا'!$G$154","v":0},null,{"$f":"'تعریف کالا'!$F$154","v":0},null,0,null,null,null,null,null,null,null,null,null,null,null,null,null,null,0,0,0,0,0,0,0]
[null,"کاردکس 156",{"$f":"'تعریف کالا'!$C$160","v":0},{"$f":"'تعریف کالا'!$D$160","v":0},{"$f":"'تعریف کالا'!$E$160","v":0},{"$f":"'تعریف کالا'!$G$160","v":0},null,{"$f":"'تعریف کالا'!$F$160","v":0},null,0,null,null,null,null,null,null,null,null,null,null,null,null,null,null,0,0,0,0,0,0,0]
[null,"کاردکس 162",{"$f":"'تعریف کالا'!$C$166","v":0},{"$f":"'تعریف کالا'!$D$166","v":0},{"$f":"'تعریف کالا'!$E$166","v":0},{"$f":"'تعریف کالا'!$G$166","v":0},null,{"$f":"'تعریف کالا'!$F$166","v":0},null,0,null,null,null,null,null,null,null,null,null,null,null,null,null,null,0,0,0,0,0,0,0]
[null,"کاردکس 167",{"$f":"'تعریف کالا'!$C$171","v":0},{"$f":"'تعریف کالا'!$D$171","v":0},{"$f":"'تعریف کالا'!$E$171","v":0},{"$f":"'تعریف کالا'!$G$171","v":0},null,{"$f":"'تعریف کالا'!$F$171","v":0},null,0,null,null,null,null,null,null,null,null,null,null,null,null,null,null,0,0,0,0,0,0,0]
[null,"کاردکس 174",{"$f":"'تعریف کالا'!$C$178","v":0},{"$f":"'تعریف کالا'!$D$178","v":0},{"$f":"'تعریف کالا'!$E$178","v":0},{"$f":"'تعریف کالا'!$G$178","v":0},null,{"$f":"'تعریف کالا'!$F$178","v":0},null,0,null,null,null,null,null,null,null,null,null,null,null,null,null,null,0,0,0,0,0,0,0]
[null,"کاردکس 182",{"$f":"'تعریف کالا'!$C$186","v":0},{"$f":"'تعریف کالا'!$D$186","v":0},{"$f":"'تعریف کالا'!$E$186","v":0},{"$f":"'تعریف کالا'!$G$186","v":0},null,{"$f":"'تعریف کالا'!$F$186","v":0},null,0,null,null,null,null,null,null,null,null,null,null,null,null,null,null,0,0,0,0,0,0,0]
[null,"کاردکس 186",{"$f":"'تعریف کالا'!$C$190","v":0},{"$f":"'تعریف کالا'!$D$190","v":0},{"$f":"'تعریف کالا'!$E$190","v":0},{"$f":"'تعریف کالا'!$G$190","v":0},null,{"$f":"'تعریف کالا'!$F$190","v":0},null,0,null,null,null,null,null,null,null,null,null,null,null,null,null,null,0,0,0,0,0,0,0]
[null,"کاردکس 191",{"$f":"'تعریف کالا'!$C$195","v":0},{"$f":"'تعریف کالا'!$D$195","v":0},{"$f":"'تعریف کالا'!$E$195","v":0},{"$f":"'تعریف کالا'!$G$195","v":0},null,{"$f":"'تعریف کالا'!$F$195","v":0},null,0,null,null,null,null,null,null,null,null,null,null,null,null,null,null,0,0,0,0,0,0,0]
[null,"کاردکس 197",{"$f":"'تعریف کالا'!$C$201","v":0},{"$f":"'تعریف کالا'!$D$201","v":0},{"$f":"'تعریف کالا'!$E$201","v":0},{"$f":"'تعریف کالا'!$G$201","v":0},null,{"$f":"'تعریف کالا'!$F$201","v":0},null,0,null,null,null,null,null,null,null,null,null,null,null,null,null,null,0,0,0,0,0,0,0]
[null,"کاردکس 200",{"$f":"'تعریف کالا'!$C$204","v":0},{"$f":"'تعریف کالا'!$D$204","v":0},{"$f":"'تعریف کالا'!$E$204","v":0},{"$f":"'تعریف کالا'!$G$204","v":0},null,{"$f":"'تعریف کالا'!$F$204","v":0},null,0,null,null,null,null,null,null,null,null,null,null,null,null,null,null,0,0,0,0,0,0,0]
[]
[]
[null,null,null,null,null,null,null,null,null,null,null,null,null,null,null,null,null,null,null,null,null,null,null,"شماره سند",{"$f":"C4731","v":22}]
[null,"کاردکس 1",{"$f":"'تعریف کالا'!$C$5","v":9011120},{"$f":"'تعریف کالا'!$D$5","v":"سی دی"},{"$f":"'تعریف کالا'!$E$5","v":"سخت افزار"},{"$f":"'تعریف کالا'!$G$5","v":3000},null,{"$f":"'تعریف کالا'!$F$5","v":"حلقه"},null,{"$f":"(F4743*I4743)-(F4743*I4743*G4743%)","v":0},null,null,null,null,null,null,null,null,null,null,null,null,null,null,{"$f":"C4743","v":9011120},{"$f":"D4743","v":"سی دی"},{"$f":"E4743","v":"سخت افزار"},{"$f":"F4743","v":3000},{"$f":"H4743","v":"حلقه"},{"$f":"I4743","v":0},{"$f":"J4743","v":0}]
[null,"کاردکس 3",{"$f":"'تعریف کالا'!$C$7","v":9011122},{"$f":"'تعریف کالا'!$D$7","v":"نوت بوک"},{"$f":"'تعریف کالا'!$E$7","v":"سخت افزار"},{"$f":"'تعریف کالا'!$G$7","v":10000000},null,{"$f":"'تعریف کالا'!$F$7","v":"دستگاه"},null,{"$f":"(F4745*I4745)-(F4745*I4745*G4745%)","v":0},null,null,null,null,null,null,null,null,null,null,null,null,null,null,{"$f":"C4745","v":9011122},"نوت بوک","سخت افزار",10000000,"دستگاه",0,0]
[null,"کاردکس 10",{"$f":"'تعریف کالا'!$C$14","v":0},{"$f":"'تعریف کالا'!$D$14","v":0},{"$f":"'تعریف کالا'!$E$14","v":0},{"$f":"'تعریف کالا'!$G$14","v":0},null,{"$f":"'تعریف کالا'!$F$14","v":0},null,0,null,null,null,null,null,null,null,null,null,null,null,null,null,null,0,0,0,0,0,0,0]
[null,"کاردکس 14",{"$f":"'تعریف کالا'!$C$18","v":0},{"$f":"'تعریف کالا'!$D$18","v":0},{"$f":"'تعریف کالا'!$E$18","v":0},{"$f":"'تعریف کالا'!$G$18","v":0},null,{"$f":"'تعریف کالا'!$F$18","v":0},null,0,null,null,null,null,null,null,null,null,null,null,null,null,null,null,0,0,0,0,0,0,0]
[null,"کاردکس 19",{"$f":"'تعریف کالا'!$C$23","v":0},{"$f":"'تعریف کالا'!$D$23","v":0},{"$f":"'تعریف کالا'!$E$23","v":0},{"$f":"'تعریف کالا'!$G$23","v":0},null,{"$f":"'تعریف کالا'!$F$23","v":0},null,0,null,null,null,null,null,null,null,null,null,null,null,null,null,null,0,0,0,0,0,0,0]
[null,"کاردکس 26",{"$f":"'تعریف کالا'!$C$30","v":0},{"$f":"'تعریف کالا'!$D$30","v":0},{"$f":"'تعریف کالا'!$E$30","v":0},{"$f":"'تعریف کالا'!$G$30","v":0},null,{"$f":"'تعریف کالا'!$F$30","v":0},null,0,null,null,null,null,null,null,null,null,null,null,null,null,null,null,0,0,0,0,0,0,0]
[null,"کاردکس 34",{"$f":"'تعریف کالا'!$C$38","v":0},{"$f":"'تعریف کالا'!$D$38","v":0},{"$f":"'تعریف کالا'!$E$38","v":0},{"$f":"'تعریف کالا'!$G$38","v":0},null,{"$f":"'تعریف کالا'!$F$38","v":0},null,0,null,null,null,null,null,null,null,null,null,null,null,null,null,null,0,0,0,0,0,0,0]
[null,"کاردکس 38",{"$f":"'تعریف کالا'!$C$42","v":0},{"$f":"'تعریف کالا'!$D$42","v":0},{"$f":"'تعریف کالا'!$E$42","v":0},{"$f":"'تعریف کالا'!$G$42","v":0},null,{"$f":"'تعریف کالا'!$F$42","v":0},null,0,null,null,null,null,null,null,null,null,null,null,null,null,null,null,0,0,0,0,0,0,0]
[null,"کاردکس 45",{"$f":"'تعریف کالا'!$C$49","v":0},{"$f":"'تعریف کالا'!$D$49","v":0},{"$f":"'تعریف کالا'!$E$49","v":0},{"$f":"'تعریف کالا'!$G$49","v":0},null,{"$f":"'تعریف کالا'!$F$49","v":0},null,0,null,null,null,null,null,null,null,null,null,null,null,null,null,null,0,0,0,0,0,0,0]
[null,"کاردکس 50",{"$f":"'تعریف کالا'!$C$54","v":0},{"$f":"'تعریف کالا'!$D$54","v":0},{"$f":"'تعریف کالا'!$E$54","v":0},{"$f":"'تعریف کالا'!$G$54","v":0},null,{"$f":"'تعریف کالا'!$F$54","v":0},null,0,null,null,null,null,null,null,null,null,null,null,null,null,null,null,0,0,0,0,0,0,0]
[null,"کاردکس 54",{"$f":"'تعریف کالا'!$C$58","v":0},{"$f":"'تعریف کالا'!$D$58","v":0},{"$f":"'تعریف کالا'!$E$58","v":0},{"$f":"'تعریف کالا'!$G$58","v":0},null,{"$f":"'تعریف کالا'!$F$58","v":0},null,0,null,null,null,null,null,null,null,null,null,null,null,null,null,null,0,0,0,0,0,0,0]
[null,"کاردکس 61",{"$f":"'تعریف کالا'!$C$65","v":0},{"$f":"'تعریف کالا'!$D$65","v":0},{"$f":"'تعریف کالا'!$E$65","v":0},{"$f":"'تعریف کالا'!$G$65","v":0},null,{"$f":"'تعریف کالا'!$F$65","v":0},null,0,null,null,null,null,null,null,null,null,null,null,null,null,null,null,0,0,0,0,0,0,0]
[null,"کاردکس 63",{"$f":"'تعریف کالا'!$C$67","v":0},{"$f":"'تعریف کالا'!$D$67","v":0},{"$f":"'تعریف کالا'!$E$67","v":0},{"$f":"'تعریف کالا'!$G$67","v":0},null,{"$f":"'تعریف کالا'!$F$67","v":0},null,0,null,null,null,null,null,null,null,null,null,null,null,null,null,null,0,0,0,0,0,0,0]
[null,"کاردکس 68",{"$f":"'تعریف کالا'!$C$72","v":0},{"$f":"'تعریف کالا'!$D$72","v":0},{"$f":"'تعریف کالا'!$E$72","v":0},{"$f":"'تعریف کالا'!$G$72","v":0},null,{"$f":"'تعریف کالا'!$F$72","v":0},null,0,null,null,null,null,null,null,null,null,null,null,null,null,null,null,0,0,0,0,0,0,0]
[null,"کاردکس 78",{"$f":"'تعریف کالا'!$C$82","v":0},{"$f":"'تعریف کالا'!$D$82","v":0},{"$f":"'تعریف کالا'!$E$82","v":0},{"$f":"'تعریف کالا'!$G$82","v":0},null,{"$f":"'تعریف کالا'!$F$82","v":0},null,0,null,null,null,null,null,null,null,null,null,null,null,null,null,null,0,0,0,0,0,0,0]
[null,"کاردکس 80",{"$f":"'تعریف کالا'!$C$84","v":0},{"$f":"'تعریف کالا'!$D$84","v":0},{"$f":"'تعریف کالا'!$E$84","v":0},{"$f":"'تعریف کالا'!$G$84","v":0},null,{"$f":"'تعریف کالا'!$F$84","v":0},null,0,null,null,null,null,null,null,null,null,null,null,null,null,null,null,0,0,0,0,0,0,0]
[null,"کاردکس 89",{"$f":"'تعریف کالا'!$C$93","v":0},{"$f":"'تعریف کالا'!$D$93","v":0},{"$f":"'تعریف کالا'!$E$93","v":0},{"$f":"'تعریف کالا'!$G$93","v":0},null,{"$f":"'تعریف کالا'!$F$93","v":0},null,0,null,null,null,null,null,null,null,null,null,null,null,null,null,null,0,0,0,0,0,0,0]
[null,"کاردکس 92",{"$f":"'تعریف کالا'!$C$96","v":0},{"$f":"'تعریف کالا'!$D$96","v":0},{"$f":"'تعریف کالا'!$E$96","v":0},{"$f":"'تعریف کالا'!$G$96","v":0},null,{"$f":"'تعریف کالا'!$F$96","v":0},null,0,null,null,null,null,null,null,null,null,null,null,null,null,null,null,0,0,0,0,0,0,0]
[null,"کاردکس 98",{"$f":"'تعریف کالا'!$C$102","v":0},{"$f":"'تعریف کالا'!$D$102","v":0},{"$f":"'تعریف کالا'!$E$102","v":0},{"$f":"'تعریف کالا'!$G$102","v":0},null,{"$f":"'تعریف کالا'!$F$102","v":0},null,0,null,null,null,null,null,null,null,null,null,null,null,null,null,null,0,0,0,0,0,0,0]
[null,"کاردکس 103",{"$f":"'تعریف کالا'!$C$107","v":0},{"$f":"'تعریف کالا'!$D$107","v":0},{"$f":"'تعریف کالا'!$E$107","v":0},{"$f":"'تعریف کالا'!$G$107","v":0},null,{"$f":"'تعریف کالا'!$F$107","v":0},null,0,null,null,null,null,null,null,null,null,null,null,null,null,null,null,0,0,0,0,0,0,0]
[null,"کاردکس 107",{"$f":"'تعریف کالا'!$C$111","v":0},{"$f":"'تعریف کالا'!$D$111","v":0},{"$f":"'تعریف کالا'!$E$111","v":0},{"$f":"'تعریف کالا'!$G$111","v":0},null,{"$f":"'تعریف کالا'!$F$111","v":0},null,0,null,null,null,null,null,null,null,null,null,null,null,null,null,null,0,0,0,0,0,0,0]
[null,"کاردکس 115",{"$f":"'تعریف کالا'!$C$119","v":0},{"$f":"'تعریف کالا'!$D$119","v":0},{"$f":"'تعریف کالا'!$E$119","v":0},{"$f":"'تعریف کالا'!$G$119","v":0},null,{"$f":"'تعریف کالا'!$F$119","v":0},null,0,null,null,null,null,null,null,null,null,null,null,null,null,null,null,0,0,0,0,0,0,0]
[null,"کاردکس 122",{"$f":"'تعریف کالا'!$C$126","v":0},{"$f":"'تعریف کالا'!$D$126","v":0},{"$f":"'تعریف کالا'!$E$126","v":0},{"$f":"'تعریف کالا'!$G$126","v":0},null,{"$f":"'تعریف کالا'!$F$126","v":0},null,0,null,null,null,null,null,null,null,null,null,null,null,null,null,null,0,0,0,0,0,0,0]
[null,"کاردکس 127",{"$f":"'تعریف کالا'!$C$131","v":0},{"$f":"'تعریف کالا'!$D$131","v":0},{"$f":"'تعریف کالا'!$E$131","v":0},{"$f":"'تعریف کالا'!$G$131","v":0},null,{"$f":"'تعریف کالا'!$F$131","v":0},null,0,null,null,null,null,null,null,null,null,null,null,null,null,null,null,0,0,0,0,0,0,0]
[null,"کاردکس 133",{"$f":"'تعریف کالا'!$C$137","v":0},{"$f":"'تعریف کالا'!$D$137","v":0},{"$f":"'تعریف کالا'!$E$137","v":0},{"$f":"'تعریف کالا'!$G$137","v":0},null,{"$f":"'تعریف کالا'!$F$137","v":0},null,0,null,null,null,null,null,null,null,null,null,null,null,null,null,null,0,0,0,0,0,0,0]
[null,"کاردکس 134",{"$f":"'تعریف کالا'!$C$138","v":0},{"$f":"'تعریف کالا'!$D$138","v":0},{"$f":"'تعریف کالا'!$E$138","v":0},{"$f":"'تعریف کالا'!$G$138","v":0},null,{"$f":"'تعریف کالا'!$F$138","v":0},null,0,null,null,null,null,null,null,null,null,null,null,null,null,null,null,0,0,0,0,0,0,0]
[null,"کاردکس 142",{"$f":"'تعریف کالا'!$C$146","v":0},{"$f":"'تعریف کالا'!$D$146","v":0},{"$f":"'تعریف کالا'!$E$146","v":0},{"$f":"'تعریف کالا'!$G$146","v":0},null,{"$f":"'تعریف کالا'!$F$146","v":0},null,0,null,null,null,null,null,null,null,null,null,null,null,null,null,null,0,0,0,0,0,0,0]
[null,"کاردکس 146",{"$f":"'تعریف کالا'!$C$150","v":0},{"$f":"'تعریف کالا'!$D$150","v":0},{"$f":"'تعریف کالا'!$E$150","v":0},{"$f":"'تعریف کالا'!$G$150","v":0},null,{"$f":"'تعریف کالا'!$F$150","v":0},null,0,null,null,null,null,null,null,null,null,null,null,null,null,null,null,0,0,0,0,0,0,0]
[null,"کاردکس 151",{"$f":"'تعریف کالا'!$C$155","v":0},{"$f":"'تعریف کالا'!$D$155","v":0},{"$f":"'تعریف کالا'!$E$155","v":0},{"$f":"'تعریف کالا'!$G$155","v":0},null,{"$f":"'تعریف کالا'!$F$155","v":0},null,0,null,null,null,null,null,null,null,null,null,null,null,null,null,null,0,0,0,0,0,0,0]
[null,"کاردکس 157",{"$f":"'تعریف کالا'!$C$161","v":0},{"$f":"'تعریف کالا'!$D$161","v":0},{"$f":"'تعریف کالا'!$E$161","v":0},{"$f":"'تعریف کالا'!$G$161","v":0},null,{"$f":"'تعریف کالا'!$F$161","v":0},null,0,null,null,null,null,null,null,null,null,null,null,null,null,null,null,0,0,0,0,0,0,0]
[null,"کاردکس 166",{"$f":"'تعریف کالا'!$C$170","v":0},{"$f":"'تعریف کالا'!$D$170","v":0},{"$f":"'تعریف کالا'!$E$170","v":0},{"$f":"'تعریف کالا'!$G$170","v":0},null,{"$f":"'تعریف کالا'!$F$170","v":0},null,0,null,null,null,null,null,null,null,null,null,null,null,null,null,null,0,0,0,0,0,0,0]
[null,"کاردکس 169",{"$f":"'تعریف کالا'!$C$173","v":0},{"$f":"'تعریف کالا'!$D$173","v":0},{"$f":"'تعریف کالا'!$E$173","v":0},{"$f":"'تعریف کالا'!$G$173","v":0},null,{"$f":"'تعریف کالا'!$F$173","v":0},null,0,null,null,null,null,null,null,null,null,null,null,null,null,null,null,0,0,0,0,0,0,0]
[null,"کاردکس 177",{"$f":"'تعریف کالا'!$C$181","v":0},{"$f":"'تعریف کالا'!$D$181","v":0},{"$f":"'تعریف کالا'!$E$181","v":0},{"$f":"'تعریف کالا'!$G$181","v":0},null,{"$f":"'تعریف کالا'!$F$181","v":0},null,0,null,null,null,null,null,null,null,null,null,null,null,null,null,null,0,0,0,0,0,0,0]
[null,"کاردکس 181",{"$f":"'تعریف کالا'!$C$185","v":0},{"$f":"'تعریف کالا'!$D$185","v":0},{"$f":"'تعریف کالا'!$E$185","v":0},{"$f":"'تعریف کالا'!$G$185","v":0},null,{"$f":"'تعریف کالا'!$F$185","v":0},null,0,null,null,null,null,null,null,null,null,null,null,null,null,null,null,0,0,0,0,0,0,0]
[null,"کاردکس 186",{"$f":"'تعریف کالا'!$C$190","v":0},{"$f":"'تعریف کالا'!$D$190","v":0},{"$f":"'تعریف کالا'!$E$190","v":0},{"$f":"'تعریف کالا'!$G$190","v":0},null,{"$f":"'تعریف کالا'!$F$190","v":0},null,0,null,null,null,null,null,null,null,null,null,null,null,null,null,null,0,0,0,0,0,0,0]
[null,"کاردکس 193",{"$f":"'تعریف کالا'!$C$197","v":0},{"$f":"'تعریف کالا'!$D$197","v":0},{"$f":"'تعریف کالا'!$E$197","v":0},{"$f":"'تعریف کالا'!$G$197","v":0},null,{"$f":"'تعریف کالا'!$F$197","v":0},null,0,null,null,null,null,null,null,null,null,null,null,null,null,null,null,0,0,0,0,0,0,0]
[null,"کاردکس 195",{"$f":"'تعریف کالا'!$C$199","v":0},{"$f":"'تعریف کالا'!$D$199","v":0},{"$f":"'تعریف کالا'!$E$199","v":0},{"$f":"'تعریف کالا'!$G$199","v":0},null,{"$f":"'تعریف کالا'!$F$199","v":0},null,{"$f":"(F4937*I4937)-(F4937*I4937*G4937%)","v":0},null,null,null,null,null,null,null,null,null,null,null,null,null,null,{"$f":"C4937","v":0},{"$f":"D4937","v":0},{"$f":"E4937","v":0},0,0,0,0]
[]
[]
[]
[null,null,null,null,null,"          مالیات",null,null,"مالیات",{"$f":"(I5168-J4959+J4960)*G4961%","v":0}]
[null,null,"ثبت چک","شرح رویداد"]
[null,"کاردکس 5",{"$f":"'تعریف کالا'!$C$9","v":0},{"$f":"'تعریف کالا'!$D$9","v":0},{"$f":"'تعریف کالا'!$E$9","v":0},{"$f":"'تعریف کالا'!$G$9","v":0},null,{"$f":"'تعریف کالا'!$F$9","v":0},null,0,null,null,null,null,null,null,null,null,null,null,null,null,null,null,0,0,0,0,0,0,0]
[null,"کاردکس 10",{"$f":"'تعریف کالا'!$C$14","v":0},{"$f":"'تعریف کالا'!$D$14","v":0},{"$f":"'تعریف کالا'!$E$14","v":0},{"$f":"'تعریف کالا'!$G$14","v":0},null,{"$f":"'تعریف کالا'!$F$14","v":0},null,0,null,null,null,null,null,null,null,null,null,null,null,null,null,null,0,0,0,0,0,0,0]
[null,"کاردکس 14",{"$f":"'تعریف کالا'!$C$18","v":0},{"$f":"'تعریف کالا'!$D$18","v":0},{"$f":"'تعریف کالا'!$E$18","v":0},{"$f":"'تعریف کالا'!$G$18","v":0},null,{"$f":"'تعریف کالا'!$F$18","v":0},null,0,null,null,null,null,null,null,null,null,null,null,null,null,null,null,0,0,0,0,0,0,0]
[null,"کاردکس 21",{"$f":"'تعریف کالا'!$C$25","v":0},{"$f":"'تعریف کالا'!$D$25","v":0},{"$f":"'تعریف کالا'!$E$25","v":0},{"$f":"'تعریف کالا'!$G$25","v":0},null,{"$f":"'تعریف کالا'!$F$25","v":0},null,0,null,null,null,null,null,null,null,null,null,null,null,null,null,null,0,0,0,0,0,0,0]
[null,"کاردکس 29",{"$f":"'تعریف کالا'!$C$33","v":0},{"$f":"'تعریف کالا'!$D$33","v":0},{"$f":"'تعریف کالا'!$E$33","v":0},{"$f":"'تعریف کالا'!$G$33","v":0},null,{"$f":"'تعریف کالا'!$F$33","v":0},null,0,null,null,null,null,null,null,null,null,null,null,null,null,null,null,0,0,0,0,0,0,0]
[null,"کاردکس 33",{"$f":"'تعریف کالا'!$C$37","v":0},{"$f":"'تعریف کالا'!$D$37","v":0},{"$f":"'تعریف کالا'!$E$37","v":0},{"$f":"'تعریف کالا'!$G$37","v":0},null,{"$f":"'تعریف کالا'!$F$37","v":0},null,0,null,null,null,null,null,null,null,null,null,null,null,null,null,null,0,0,0,0,0,0,0]
[null,"کاردکس 38",{"$f":"'تعریف کالا'!$C$42","v":0},{"$f":"'تعریف کالا'!$D$42","v":0},{"$f":"'تعریف کالا'!$E$42","v":0},{"$f":"'تعریف کالا'!$G$42","v":0},null,{"$f":"'تعریف کالا'!$F$42","v":0},null,0,null,null,null,null,null,null,null,null,null,null,null,null,null,null,0,0,0,0,0,0,0]
[null,"کاردکس 45",{"$f":"'تعریف کالا'!$C$49","v":0},{"$f":"'تعریف کالا'!$D$49","v":0},{"$f":"'تعریف کالا'!$E$49","v":0},{"$f":"'تعریف کالا'!$G$49","v":0},null,{"$f":"'تعریف کالا'!$F$49","v":0},null,0,null,null,null,null,null,null,null,null,null,null,null,null,null,null,0,0,0,0,0,0,0]
[null,"کاردکس 49",{"$f":"'تعریف کالا'!$C$53","v":0},{"$f":"'تعریف کالا'!$D$53","v":0},{"$f":"'تعریف کالا'!$E$53","v":0},{"$f":"'تعریف کالا'!$G$53","v":0},null,{"$f":"'تعریف کالا'!$F$53","v":0},null,0,null,null,null,null,null,null,null,null,null,null,null,null,null,null,0,0,0,0,0,0,0]
[null,"کاردکس 52",{"$f":"'تعریف کالا'!$C$56","v":0},{"$f":"'تعریف کالا'!$D$56","v":0},{"$f":"'تعریف کالا'!$E$56","v":0},{"$f":"'تعریف کالا'!$G$56","v":0},null,{"$f":"'تعریف کالا'!$F$56","v":0},null,0,null,null,null,null,null,null,null,null,null,null,null,null,null,null,0,0,0,0,0,0,0]
[null,"کاردکس 58",{"$f":"'تعریف کالا'!$C$62","v":0},{"$f":"'تعریف کالا'!$D$62","v":0},{"$f":"'تعریف کالا'!$E$62","v":0},{"$f":"'تعریف کالا'!$G$62","v":0},null,{"$f":"'تعریف کالا'!$F$62","v":0},null,0,null,null,null,null,null,null,null,null,null,null,null,null,null,null,0,0,0,0,0,0,0]
[null,"کاردکس 63",{"$f":"'تعریف کالا'!$C$67","v":0},{"$f":"'تعریف کالا'!$D$67","v":0},{"$f":"'تعریف کالا'!$E$67","v":0},{"$f":"'تعریف کالا'!$G$67","v":0},null,{"$f":"'تعریف کالا'!$F$67","v":0},null,0,null,null,null,null,null,null,null,null,null,null,null,null,null,null,0,0,0,0,0,0,0]
[null,"کاردکس 73",{"$f":"'تعریف کالا'!$C$77","v":0},{"$f":"'تعریف کالا'!$D$77","v":0},{"$f":"'تعریف کالا'!$E$77","v":0},{"$f":"'تعریف کالا'!$G$77","v":0},null,{"$f":"'تعریف کالا'!$F$77","v":0},null,0,null,null,null,null,null,null,null,null,null,null,null,null,null,null,0,0,0,0,0,0,0]
[null,"کاردکس 75",{"$f":"'تعریف کالا'!$C$79","v":0},{"$f":"'تعریف کالا'!$D$79","v":0},{"$f":"'تعریف کالا'!$E$79","v":0},{"$f":"'تعریف کالا'!$G$79","v":0},null,{"$f":"'تعریف کالا'!$F$79","v":0},null,0,null,null,null,null,null,null,null,null,null,null,null,null,null,null,0,0,0,0,0,0,0]
[null,"کاردکس 82",{"$f":"'تعریف کالا'!$C$86","v":0},{"$f":"'تعریف کالا'!$D$86","v":0},{"$f":"'تعریف کالا'!$E$86","v":0},{"$f":"'تعریف کالا'!$G$86","v":0},null,{"$f":"'تعریف کالا'!$F$86","v":0},null,0,null,null,null,null,null,null,null,null,null,null,null,null,null,null,0,0,0,0,0,0,0]
[null,"کاردکس 87",{"$f":"'تعریف کالا'!$C$91","v":0},{"$f":"'تعریف کالا'!$D$91","v":0},{"$f":"'تعریف کالا'!$E$91","v":0},{"$f":"'تعریف کالا'!$G$91","v":0},null,{"$f":"'تعریف کالا'!$F$91","v":0},null,0,null,null,null,null,null,null,null,null,null,null,null,null,null,null,0,0,0,0,0,0,0]
[null,"کاردکس 93",{"$f":"'تعریف کالا'!$C$97","v":0},{"$f":"'تعریف کالا'!$D$97","v":0},{"$f":"'تعریف کالا'!$E$97","v":0},{"$f":"'تعریف کالا'!$G$97","v":0},null,{"$f":"'تعریف کالا'!$F$97","v":0},null,0,null,null,null,null,null,null,null,null,null,null,null,null,null,null,0,0,0,0,0,0,0]
[null,"کاردکس 99",{"$f":"'تعریف کالا'!$C$103","v":0},{"$f":"'تعریف کالا'!$D$103","v":0},{"$f":"'تعریف کالا'!$E$103","v":0},{"$f":"'تعریف کالا'!$G$103","v":0},null,{"$f":"'تعریف کالا'!$F$103","v":0},null,0,null,null,null,null,null,null,null,null,null,null,null,null,null,null,0,0,0,0,0,0,0]
[null,"کاردکس 102",{"$f":"'تعریف کالا'!$C$106","v":0},{"$f":"'تعریف کالا'!$D$106","v":0},{"$f":"'تعریف کالا'!$E$106","v":0},{"$f":"'تعریف کالا'!$G$106","v":0},null,{"$f":"'تعریف کالا'!$F$106","v":0},null,0,null,null,null,null,null,null,null,null,null,null,null,null,null,null,0,0,0,0,0,0,0]
[null,"کاردکس 111",{"$f":"'تعریف کالا'!$C$115","v":0},{"$f":"'تعریف کالا'!$D$115","v":0},{"$f":"'تعریف کالا'!$E$115","v":0},{"$f":"'تعریف کالا'!$G$115","v":0},null,{"$f":"'تعریف کالا'!$F$115","v":0},null,0,null,null,null,null,null,null,null,null,null,null,null,null,null,null,0,0,0,0,0,0,0]
[null,"کاردکس 117",{"$f":"'تعریف کالا'!$C$121","v":0},{"$f":"'تعریف کالا'!$D$121","v":0},{"$f":"'تعریف کالا'!$E$121","v":0},{"$f":"'تعریف کالا'!$G$121","v":0},null,{"$f":"'تعریف کالا'!$F$121","v":0},null,0,null,null,null,null,null,null,null,null,null,null,null,null,null,null,0,0,0,0,0,0,0]
[null,"کاردکس 122",{"$f":"'تعریف کالا'!$C$126","v":0},{"$f":"'تعریف کالا'!$D$126","v":0},{"$f":"'تعریف کالا'!$E$126","v":0},{"$f":"'تعریف کالا'!$G$126","v":0},null,{"$f":"'تعریف کالا'!$F$126","v":0},null,0,null,null,null,null,null,null,null,null,null,null,null,null,null,null,0,0,0,0,0,0,0]
[null,"کاردکس 126",{"$f":"'تعریف کالا'!$C$130","v":0},{"$f":"'تعریف کالا'!$D$130","v":0},{"$f":"'تعریف کالا'!$E$130","v":0},{"$f":"'تعریف کالا'!$G$130","v":0},null,{"$f":"'تعریف کالا'!$F$130","v":0},null,0,null,null,null,null,null,null,null,null,null,null,null,null,null,null,0,0,0,0,0,0,0]
[null,"کاردکس 129",{"$f":"'تعریف کالا'!$C$133","v":0},{"$f":"'تعریف کالا'!$D$133","v":0},{"$f":"'تعریف کالا'!$E$133","v":0},{"$f":"'تعریف کالا'!$G$133","v":0},null,{"$f":"'تعریف کالا'!$F$133","v":0},null,0,null,null,null,null,null,null,null,null,null,null,null,null,null,null,0,0,0,0,0,0,0]
[null,"کاردکس 137",{"$f":"'تعریف کالا'!$C$141","v":0},{"$f":"'تعریف کالا'!$D$141","v":0},{"$f":"'تعریف کالا'!$E$141","v":0},{"$f":"'تعریف کالا'!$G$141","v":0},null,{"$f":"'تعریف کالا'!$F$141","v":0},null,0,null,null,null,null,null,null,null,null,null,null,null,null,null,null,0,0,0,0,0,0,0]
[null,"کاردکس 141",{"$f":"'تعریف کالا'!$C$145","v":0},{"$f":"'تعریف کالا'!$D$145","v":0},{"$f":"'تعریف کالا'!$E$145","v":0},{"$f":"'تعریف کالا'!$G$145","v":0},null,{"$f":"'تعریف کالا'!$F$145","v":0},null,0,null,null,null,null,null,null,null,null,null,null,null,null,null,null,0,0,0,0,0,0,0]
[null,"کاردکس 146",{"$f":"'تعریف کالا'!$C$150","v":0},{"$f":"'تعریف کالا'!$D$150","v":0},{"$f":"'تعریف کالا'!$E$150","v":0},{"$f":"'تعریف کالا'!$G$150","v":0},null,{"$f":"'تعریف کالا'!$F$150","v":0},null,0,null,null,null,null,null,null,null,null,null,null,null,null,null,null,0,0,0,0,0,0,0]
[null,"کاردکس 153",{"$f":"'تعریف کالا'!$C$157","v":0},{"$f":"'تعریف کالا'!$D$157","v":0},{"$f":"'تعریف کالا'!$E$157","v":0},{"$f":"'تعریف کالا'!$G$157","v":0},null,{"$f":"'تعریف کالا'!$F$157","v":0},null,0,null,null,null,null,null,null,null,null,null,null,null,null,null,null,0,0,0,0,0,0,0]
[null,"کاردکس 161",{"$f":"'تعریف کالا'!$C$165","v":0},{"$f":"'تعریف کالا'!$D$165","v":0},{"$f":"'تعریف کالا'!$E$165","v":0},{"$f":"'تعریف کالا'!$G$165","v":0},null,{"$f":"'تعریف کالا'!$F$165","v":0},null,0,null,null,null,null,null,null,null,null,null,null,null,null,null,null,0,0,0,0,0,0,0]
[null,"کاردکس 164",{"$f":"'تعریف کالا'!$C$168","v":0},{"$f":"'تعریف کالا'!$D$168","v":0},{"$f":"'تعریف کالا'!$E$168","v":0},{"$f":"'تعریف کالا'!$G$168","v":0},null,{"$f":"'تعریف کالا'!$F$168","v":0},null,0,null,null,null,null,null,null,null,null,null,null,null,null,null,null,0,0,0,0,0,0,0]
[null,"کاردکس 170",{"$f":"'تعریف کالا'!$C$174","v":0},{"$f":"'تعریف کالا'!$D$174","v":0},{"$f":"'تعریف کالا'!$E$174","v":0},{"$f":"'تعریف کالا'!$G$174","v":0},null,{"$f":"'تعریف کالا'!$F$174","v":0},null,0,null,null,null,null,null,null,null,null,null,null,null,null,null,null,0,0,0,0,0,0,0]
[null,"کاردکس 176",{"$f":"'تعریف کالا'!$C$180","v":0},{"$f":"'تعریف کالا'!$D$180","v":0},{"$f":"'تعریف کالا'!$E$180","v":0},{"$f":"'تعریف کالا'!$G$180","v":0},null,{"$f":"'تعریف کالا'!$F$180","v":0},null,0,null,null,null,null,null,null,null,null,null,null,null,null,null,null,0,0,0,0,0,0,0]
[null,"کاردکس 179",{"$f":"'تعریف کالا'!$C$183","v":0},{"$f":"'تعریف کالا'!$D$183","v":0},{"$f":"'تعریف کالا'!$E$183","v":0},{"$f":"'تعریف کالا'!$G$183","v":0},null,{"$f":"'تعریف کالا'!$F$183","v":0},null,0,null,null,null,null,null,null,null,null,null,null,null,null,null,null,0,0,0,0,0,0,0]
[null,"کاردکس 188",{"$f":"'تعریف کالا'!$C$192","v":0},{"$f":"'تعریف کالا'!$D$192","v":0},{"$f":"'تعریف کالا'!$E$192","v":0},{"$f":"'تعریف کالا'!$G$192","v":0},null,{"$f":"'تعریف کالا'!$F$192","v":0},null,0,null,null,null,null,null,null,null,null,null,null,null,null,null,null,0,0,0,0,0,0,0]
[null,"کاردکس 190",{"$f":"'تعریف کالا'!$C$194","v":0},{"$f":"'تعریف کالا'!$D$194","v":0},{"$f":"'تعریف کالا'!$E$194","v":0},{"$f":"'تعریف کالا'!$G$194","v":0},null,{"$f":"'تعریف کالا'!$F$194","v":0},null,0,null,null,null,null,null,null,null,null,null,null,null,null,null,null,0,0,0,0,0,0,0]
[null,"کاردکس 195",{"$f":"'تعریف کالا'!$C$199","v":0},{"$f":"'تعریف کالا'!$D$199","v":0},{"$f":"'تعریف کالا'!$E$199","v":0},{"$f":"'تعریف کالا'!$G$199","v":0},null,{"$f":"'تعریف کالا'!$F$199","v":0},null,{"$f":"(F5162*I5162)-(F5162*I5162*G5162%)","v":0},null,null,null,null,null,null,null,null,null,null,null,null,null,null,{"$f":"C5162","v":0},{"$f":"D5162","v":0},{"$f":"E5162","v":0},0,0,0,0]
[null,null,null,null,null,null,null,null,null,null,null,null,null,null,null,null,null,null,null,null,null,null,null,null,"امضا صادر کننده",null,"امضا فروشنده",null,"امضا مسئول انبار",null,"امضا خریدار"]
[]
[null,"شماره سند ",24,null,null,null,null,null,"تاریخ",null,null,null,null,null,null,null,null,null,null,null,null,null,null,null,null,null,{"$f":"F5180","v":0},null,null,"تاریخ",{"$f":"J5181","v":0}]
[null,null,"نام فروشنده","علی منصوری",null,"          کرایه حمل",null,null,"کرایه حمل",{"$f":"G5185","v":0}]
[null,null,"ثبت چک","شرح رویداد"]
[null,"کاردکس 5",{"$f":"'تعریف کالا'!$C$9","v":0},{"$f":"'تعریف کالا'!$D$9","v":0},{"$f":"'تعریف کالا'!$E$9","v":0},{"$f":"'تعریف کالا'!$G$9","v":0},null,{"$f":"'تعریف کالا'!$F$9","v":0},null,0,null,null,null,null,null,null,null,null,null,null,null,null,null,null,0,0,0,0,0,0,0]
[null,"کاردکس 9",{"$f":"'تعریف کالا'!$C$13","v":0},{"$f":"'تعریف کالا'!$D$13","v":0},{"$f":"'تعریف کالا'!$E$13","v":0},{"$f":"'تعریف کالا'!$G$13","v":0},null,{"$f":"'تعریف کالا'!$F$13","v":0},null,0,null,null,null,null,null,null,null,null,null,null,null,null,null,null,0,0,0,0,0,0,0]
[null,"کاردکس 17",{"$f":"'تعریف کالا'!$C$21","v":0},{"$f":"'تعریف کالا'!$D$21","v":0},{"$f":"'تعریف کالا'!$E$21","v":0},{"$f":"'تعریف کالا'!$G$21","v":0},null,{"$f":"'تعریف کالا'!$F$21","v":0},null,0,null,null,null,null,null,null,null,null,null,null,null,null,null,null,0,0,0,0,0,0,0]
[null,"کاردکس 24",{"$f":"'تعریف کالا'!$C$28","v":0},{"$f":"'تعریف کالا'!$D$28","v":0},{"$f":"'تعریف کالا'!$E$28","v":0},{"$f":"'تعریف کالا'!$G$28","v":0},null,{"$f":"'تعریف کالا'!$F$28","v":0},null,0,null,null,null,null,null,null,null,null,null,null,null,null,null,null,0,0,0,0,0,0,0]
[null,"کاردکس 28",{"$f":"'تعریف کالا'!$C$32","v":0},{"$f":"'تعریف کالا'!$D$32","v":0},{"$f":"'تعریف کالا'!$E$32","v":0},{"$f":"'تعریف کالا'!$G$32","v":0},null,{"$f":"'تعریف کالا'!$F$32","v":0},null,0,null,null,null,null,null,null,null,null,null,null,null,null,null,null,0,0,0,0,0,0,0]
[null,"کاردکس 33",{"$f":"'تعریف کالا'!$C$37","v":0},{"$f":"'تعریف کالا'!$D$37","v":0},{"$f":"'تعریف کالا'!$E$37","v":0},{"$f":"'تعریف کالا'!$G$37","v":0},null,{"$f":"'تعریف کالا'!$F$37","v":0},null,0,null,null,null,null,null,null,null,null,null,null,null,null,null,null,0,0,0,0,0,0,0]
[null,"کاردکس 40",{"$f":"'تعریف کالا'!$C$44","v":0},{"$f":"'تعریف کالا'!$D$44","v":0},{"$f":"'تعریف کالا'!$E$44","v":0},{"$f":"'تعریف کالا'!$G$44","v":0},null,{"$f":"'تعریف کالا'!$F$44","v":0},null,0,null,null,null,null,null,null,null,null,null,null,null,null,null,null,0,0,0,0,0,0,0]
[null,"کاردکس 42",{"$f":"'تعریف کالا'!$C$46","v":0},{"$f":"'تعریف کالا'!$D$46","v":0},{"$f":"'تعریف کالا'!$E$46","v":0},{"$f":"'تعریف کالا'!$G$46","v":0},null,{"$f":"'تعریف کالا'!$F$46","v":0},null,0,null,null,null,null,null,null,null,null,null,null,null,null,null,null,0,0,0,0,0,0,0]
[null,"کاردکس 47",{"$f":"'تعریف کالا'!$C$51","v":0},{"$f":"'تعریف کالا'!$D$51","v":0},{"$f":"'تعریف کالا'!$E$51","v":0},{"$f":"'تعریف کالا'!$G$51","v":0},null,{"$f":"'تعریف کالا'!$F$51","v":0},null,0,null,null,null,null,null,null,null,null,null,null,null,null,null,null,0,0,0,0,0,0,0]
[null,"کاردکس 53",{"$f":"'تعریف کالا'!$C$57","v":0},{"$f":"'تعریف کالا'!$D$57","v":0},{"$f":"'تعریف کالا'!$E$57","v":0},{"$f":"'تعریف کالا'!$G$57","v":0},null,{"$f":"'تعریف کالا'!$F$57","v":0},null,0,null,null,null,null,null,null,null,null,null,null,null,null,null,null,0,0,0,0,0,0,0]
[null,"کاردکس 59",{"$f":"'تعریف کالا'!$C$63","v":0},{"$f":"'تعریف کالا'!$D$63","v":0},{"$f":"'تعریف کالا'!$E$63","v":0},{"$f":"'تعریف کالا'!$G$63","v":0},null,{"$f":"'تعریف کالا'!$F$63","v":0},null,0,null,null,null,null,null,null,null,null,null,null,null,null,null,null,0,0,0,0,0,0,0]
[null,"کاردکس 68",{"$f":"'تعریف کالا'!$C$72","v":0},{"$f":"'تعریف کالا'!$D$72","v":0},{"$f":"'تعریف کالا'!$E$72","v":0},{"$f":"'تعریف کالا'!$G$72","v":0},null,{"$f":"'تعریف کالا'!$F$72","v":0},null,0,null,null,null,null,null,null,null,null,null,null,null,null,null,null,0,0,0,0,0,0,0]
[null,"کاردکس 71",{"$f":"'تعریف کالا'!$C$75","v":0},{"$f":"'تعریف کالا'!$D$75","v":0},{"$f":"'تعریف کالا'!$E$75","v":0},{"$f":"'تعریف کالا'!$G$75","v":0},null,{"$f":"'تعریف کالا'!$F$75","v":0},null,0,null,null,null,null,null,null,null,null,null,null,null,null,null,null,0,0,0,0,0,0,0]
[null,"کاردکس 77",{"$f":"'تعریف کالا'!$C$81","v":0},{"$f":"'تعریف کالا'!$D$81","v":0},{"$f":"'تعریف کالا'!$E$81","v":0},{"$f":"'تعریف کالا'!$G$81","v":0},null,{"$f":"'تعریف کالا'!$F$81","v":0},null,0,null,null,null,null,null,null,null,null,null,null,null,null,null,null,0,0,0,0,0,0,0]
[null,"کاردکس 82",{"$f":"'تعریف کالا'!$C$86","v":0},{"$f":"'تعریف کالا'!$D$86","v":0},{"$f":"'تعریف کالا'!$E$86","v":0},{"$f":"'تعریف کالا'!$G$86","v":0},null,{"$f":"'تعریف کالا'!$F$86","v":0},null,0,null,null,null,null,null,null,null,null,null,null,null,null,null,null,0,0,0,0,0,0,0]
[null,"کاردکس 86",{"$f":"'تعریف کالا'!$C$90","v":0},{"$f":"'تعریف کالا'!$D$90","v":0},{"$f":"'تعریف کالا'!$E$90","v":0},{"$f":"'تعریف کالا'!$G$90","v":0},null,{"$f":"'تعریف کالا'!$F$90","v":0},null,0,null,null,null,null,null,null,null,null,null,null,null,null,null,null,0,0,0,0,0,0,0]
[null,"کاردکس 94",{"$f":"'تعریف کالا'!$C$98","v":0},{"$f":"'تعریف کالا'!$D$98","v":0},{"$f":"'تعریف کالا'!$E$98","v":0},{"$f":"'تعریف کالا'!$G$98","v":0},null,{"$f":"'تعریف کالا'!$F$98","v":0},null,0,null,null,null,null,null,null,null,null,null,null,null,null,null,null,0,0,0,0,0,0,0]
[null,"کاردکس 97",{"$f":"'تعریف کالا'!$C$101","v":0},{"$f":"'تعریف کالا'!$D$101","v":0},{"$f":"'تعریف کالا'!$E$101","v":0},{"$f":"'تعریف کالا'!$G$101","v":0},null,{"$f":"'تعریف کالا'!$F$101","v":0},null,0,null,null,null,null,null,null,null,null,null,null,null,null,null,null,0,0,0,0,0,0,0]
[null,"کاردکس 106",{"$f":"'تعریف کالا'!$C$110","v":0},{"$f":"'تعریف کالا'!$D$110","v":0},{"$f":"'تعریف کالا'!$E$110","v":0},{"$f":"'تعریف کالا'!$G$110","v":0},null,{"$f":"'تعریف کالا'!$F$110","v":0},null,0,null,null,null,null,null,null,null,null,null,null,null,null,null,null,0,0,0,0,0,0,0]
[null,"کاردکس 112",{"$f":"'تعریف کالا'!$C$116","v":0},{"$f":"'تعریف کالا'!$D$116","v":0},{"$f":"'تعریف کالا'!$E$116","v":0},{"$f":"'تعریف کالا'!$G$116","v":0},null,{"$f":"'تعریف کالا'!$F$116","v":0},null,0,null,null,null,null,null,null,null,null,null,null,null,null,null,null,0,0,0,0,0,0,0]
[null,"کاردکس 113",{"$f":"'تعریف کالا'!$C$117","v":0},{"$f":"'تعریف کالا'!$D$117","v":0},{"$f":"'تعریف کالا'!$E$117","v":0},{"$f":"'تعریف کالا'!$G$117","v":0},null,{"$f":"'تعریف کالا'!$F$117","v":0},null,0,null,null,null,null,null,null,null,null,null,null,null,null,null,null,0,0,0,0,0,0,0]
[null,"کاردکس 121",{"$f":"'تعریف کالا'!$C$125","v":0},{"$f":"'تعریف کالا'!$D$125","v":0},{"$f":"'تعریف کالا'!$E$125","v":0},{"$f":"'تعریف کالا'!$G$125","v":0},null,{"$f":"'تعریف کالا'!$F$125","v":0},null,0,null,null,null,null,null,null,null,null,null,null,null,null,null,null,0,0,0,0,0,0,0]
[null,"کاردکس 124",{"$f":"'تعریف کالا'!$C$128","v":0},{"$f":"'تعریف کالا'!$D$128","v":0},{"$f":"'تعریف کالا'!$E$128","v":0},{"$f":"'تعریف کالا'!$G$128","v":0},null,{"$f":"'تعریف کالا'!$F$128","v":0},null,0,null,null,null,null,null,null,null,null,null,null,null,null,null,null,0,0,0,0,0,0,0]
[null,"کاردکس 130",{"$f":"'تعریف کالا'!$C$134","v":0},{"$f":"'تعریف کالا'!$D$134","v":0},{"$f":"'تعریف کالا'!$E$134","v":0},{"$f":"'تعریف کالا'!$G$134","v":0},null,{"$f":"'تعریف کالا'!$F$134","v":0},null,0,null,null,null,null,null,null,null,null,null,null,null,null,null,null,0,0,0,{"$f":"F5322","v":0},{"$f":"H5322","v":0},{"$f":"I5322","v":0},{"$f":"J5322","v":0}]
[null,"کاردکس 136",{"$f":"'تعریف کالا'!$C$140","v":0},{"$f":"'تعریف کالا'!$D$140","v":0},{"$f":"'تعریف کالا'!$E$140","v":0},{"$f":"'تعریف کالا'!$G$140","v":0},null,{"$f":"'تعریف کالا'!$F$140","v":0},null,0,null,null,null,null,null,null,null,null,null,null,null,null,null,null,0,0,0,0,0,0,0]
[null,"کاردکس 141",{"$f":"'تعریف کالا'!$C$145","v":0},{"$f":"'تعریف کالا'!$D$145","v":0},{"$f":"'تعریف کالا'!$E$145","v":0},{"$f":"'تعریف کالا'!$G$145","v":0},null,{"$f":"'تعریف کالا'!$F$145","v":0},null,0,null,null,null,null,null,null,null,null,null,null,null,null,null,null,0,0,0,0,0,0,0]
[null,"کاردکس 148",{"$f":"'تعریف کالا'!$C$152","v":0},{"$f":"'تعریف کالا'!$D$152","v":0},{"$f":"'تعریف کالا'!$E$152","v":0},{"$f":"'تعریف کالا'!$G$152","v":0},null,{"$f":"'تعریف کالا'!$F$152","v":0},null,0,null,null,null,null,null,null,null,null,null,null,null,null,null,null,0,0,0,0,0,0,0]
[null,"کاردکس 156",{"$f":"'تعریف کالا'!$C$160","v":0},{"$f":"'تعریف کالا'!$D$160","v":0},{"$f":"'تعریف کالا'!$E$160","v":0},{"$f":"'تعریف کالا'!$G$160","v":0},null,{"$f":"'تعریف کالا'!$F$160","v":0},null,0,null,null,null,null,null,null,null,null,null,null,null,null,null,null,0,0,0,0,0,0,0]
[null,"کاردکس 160",{"$f":"'تعریف کالا'!$C$164","v":0},{"$f":"'تعریف کالا'!$D$164","v":0},{"$f":"'تعریف کالا'!$E$164","v":0},{"$f":"'تعریف کالا'!$G$164","v":0},null,{"$f":"'تعریف کالا'!$F$164","v":0},null,0,null,null,null,null,null,null,null,null,null,null,null,null,null,null,0,0,0,0,0,0,0]
[null,"کاردکس 165",{"$f":"'تعریف کالا'!$C$169","v":0},{"$f":"'تعریف کالا'!$D$169","v":0},{"$f":"'تعریف کالا'!$E$169","v":0},{"$f":"'تعریف کالا'!$G$169","v":0},null,{"$f":"'تعریف کالا'!$F$169","v":0},null,0,null,null,null,null,null,null,null,null,null,null,null,null,null,null,0,0,0,0,0,0,0]
[null,"کاردکس 171",{"$f":"'تعریف کالا'!$C$175","v":0},{"$f":"'تعریف کالا'!$D$175","v":0},{"$f":"'تعریف کالا'!$E$175","v":0},{"$f":"'تعریف کالا'!$G$175","v":0},null,{"$f":"'تعریف کالا'!$F$175","v":0},null,0,null,null,null,null,null,null,null,null,null,null,null,null,null,null,0,0,0,0,0,0,0]
[null,"کاردکس 174",{"$f":"'تعریف کالا'!$C$178","v":0},{"$f":"'تعریف کالا'!$D$178","v":0},{"$f":"'تعریف کالا'!$E$178","v":0},{"$f":"'تعریف کالا'!$G$178","v":0},null,{"$f":"'تعریف کالا'!$F$178","v":0},null,0,null,null,null,null,null,null,null,null,null,null,null,null,null,null,0,0,0,0,0,0,0]
[null,"کاردکس 183",{"$f":"'تعریف کالا'!$C$187","v":0},{"$f":"'تعریف کالا'!$D$187","v":0},{"$f":"'تعریف کالا'!$E$187","v":0},{"$f":"'تعریف کالا'!$G$187","v":0},null,{"$f":"'تعریف کالا'!$F$187","v":0},null,0,null,null,null,null,null,null,null,null,null,null,null,null,null,null,0,0,0,0,0,0,0]
[null,"کاردکس 189",{"$f":"'تعریف کالا'!$C$193","v":0},{"$f":"'تعریف کالا'!$D$193","v":0},{"$f":"'تعریف کالا'!$E$193","v":0},{"$f":"'تعریف کالا'!$G$193","v":0},null,{"$f":"'تعریف کالا'!$F$193","v":0},null,0,null,null,null,null,null,null,null,null,null,null,null,null,null,null,0,0,0,0,0,0,0]
[null,"کاردکس 190",{"$f":"'تعریف کالا'!$C$194","v":0},{"$f":"'تعریف کالا'!$D$194","v":0},{"$f":"'تعریف کالا'!$E$194","v":0},{"$f":"'تعریف کالا'!$G$194","v":0},null,{"$f":"'تعریف کالا'!$F$194","v":0},null,0,null,null,null,null,null,null,null,null,null,null,null,null,null,null,0,0,0,0,0,0,0]
[null,"کاردکس 200",{"$f":"'تعریف کالا'!$C$204","v":0},{"$f":"'تعریف کالا'!$D$204","v":0},{"$f":"'تعریف کالا'!$E$204","v":0},{"$f":"'تعریف کالا'!$G$204","v":0},null,{"$f":"'تعریف کالا'!$F$204","v":0},null,0,null,null,null,null,null,null,null,null,null,null,null,null,null,null,0,0,0,0,0,0,0]
[null,"                  مبلغ قابل  پرداخت        ",null,{"$f":"abh(I5394)&\"ریال\"","v":"منفي ریال"},null,null,null,null,{"$f":"J5187","v":0},null,null,null,null,null,null,null,null,null,null,null,null,null,null,"شرح رویداد :",null,{"$f":"E5190","v":0}]
[]
[null,null,null,null,null,{"$f":"'صفحه اصلی'!$J$4","v":0},null,null,null,null,null,"فاکتور بعدی",null,null,null,null,null,null,null,null,null,null,null,"رسید کالا"]
[null,null,"نام فروشنده","علی منصوری",null,"          کرایه حمل",null,null,"کرایه حمل",{"$f":"G5410","v":0}]
[null,"شماره کاردکس","کد کالا","نام کالا","گروه بندی","قیمت واحد","درصد تخفیف","واحد شمارش","تعداد","قیمت کل",null,null,null,null,null,null,null,null,null,null,null,null,null,"ردیف","کد کالا","نام کالا","گروه بندی","قیمت واحد","واحد شمارش","تعداد","قیمت کل"]
[null,"کاردکس 8",{"$f":"'تعریف کالا'!$C$12","v":0},{"$f":"'تعریف کالا'!$D$12","v":0},{"$f":"'تعریف کالا'!$E$12","v":0},{"$f":"'تعریف کالا'!$G$12","v":0},null,{"$f":"'تعریف کالا'!$F$12","v":0},null,0,null,null,null,null,null,null,null,null,null,null,null,null,null,null,0,0,0,0,0,0,0]
[null,"کاردکس 12",{"$f":"'تعریف کالا'!$C$16","v":0},{"$f":"'تعریف کالا'!$D$16","v":0},{"$f":"'تعریف کالا'!$E$16","v":0},{"$f":"'تعریف کالا'!$G$16","v":0},null,{"$f":"'تعریف کالا'!$F$16","v":0},null,0,null,null,null,null,null,null,null,null,null,null,null,null,null,null,0,0,0,0,0,0,0]
[null,"کاردکس 19",{"$f":"'تعریف کالا'!$C$23","v":0},{"$f":"'تعریف کالا'!$D$23","v":0},{"$f":"'تعریف کالا'!$E$23","v":0},{"$f":"'تعریف کالا'!$G$23","v":0},null,{"$f":"'تعریف کالا'!$F$23","v":0},null,0,null,null,null,null,null,null,null,null,null,null,null,null,null,null,0,0,0,0,0,0,0]
[null,"کاردکس 24",{"$f":"'تعریف کالا'!$C$28","v":0},{"$f":"'تعریف کالا'!$D$28","v":0},{"$f":"'تعریف کالا'!$E$28","v":0},{"$f":"'تعریف کالا'!$G$28","v":0},null,{"$f":"'تعریف کالا'!$F$28","v":0},null,0,null,null,null,null,null,null,null,null,null,null,null,null,null,null,0,0,0,0,0,0,0]
[null,"کاردکس 28",{"$f":"'تعریف کالا'!$C$32","v":0},{"$f":"'تعریف کالا'!$D$32","v":0},{"$f":"'تعریف کالا'!$E$32","v":0},{"$f":"'تعریف کالا'!$G$32","v":0},null,{"$f":"'تعریف کالا'!$F$32","v":0},null,0,null,null,null,null,null,null,null,null,null,null,null,null,null,null,0,0,0,0,0,0,0]
[null,"کاردکس 31",{"$f":"'تعریف کالا'!$C$35","v":0},{"$f":"'تعریف کالا'!$D$35","v":0},{"$f":"'تعریف کالا'!$E$35","v":0},{"$f":"'تعریف کالا'!$G$35","v":0},null,{"$f":"'تعریف کالا'!$F$35","v":0},null,0,null,null,null,null,null,null,null,null,null,null,null,null,null,null,0,0,0,0,0,0,0]
[null,"کاردکس 37",{"$f":"'تعریف کالا'!$C$41","v":0},{"$f":"'تعریف کالا'!$D$41","v":0},{"$f":"'تعریف کالا'!$E$41","v":0},{"$f":"'تعریف کالا'!$G$41","v":0},null,{"$f":"'تعریف کالا'!$F$41","v":0},null,0,null,null,null,null,null,null,null,null,null,null,null,null,null,null,0,0,0,0,0,0,0]
[null,"کاردکس 42",{"$f":"'تعریف کالا'!$C$46","v":0},{"$f":"'تعریف کالا'!$D$46","v":0},{"$f":"'تعریف کالا'!$E$46","v":0},{"$f":"'تعریف کالا'!$G$46","v":0},null,{"$f":"'تعریف کالا'!$F$46","v":0},null,0,null,null,null,null,null,null,null,null,null,null,null,null,null,null,0,0,0,0,0,0,0]
[null,"کاردکس 52",{"$f":"'تعریف کالا'!$C$56","v":0},{"$f":"'تعریف کالا'!$D$56","v":0},{"$f":"'تعریف کالا'!$E$56","v":0},{"$f":"'تعریف کالا'!$G$56","v":0},null,{"$f":"'تعریف کالا'!$F$56","v":0},null,0,null,null,null,null,null,null,null,null,null,null,null,null,null,null,0,0,0,0,0,0,0]
[null,"کاردکس 54",{"$f":"'تعریف کالا'!$C$58","v":0},{"$f":"'تعریف کالا'!$D$58","v":0},{"$f":"'تعریف کالا'!$E$58","v":0},{"$f":"'تعریف کالا'!$G$58","v":0},null,{"$f":"'تعریف کالا'!$F$58","v":0},null,0,null,null,null,null,null,null,null,null,null,null,null,null,null,null,0,0,0,0,0,0,0]
[null,"کاردکس 63",{"$f":"'تعریف کالا'!$C$67","v":0},{"$f":"'تعریف کالا'!$D$67","v":0},{"$f":"'تعریف کالا'!$E$67","v":0},{"$f":"'تعریف کالا'!$G$67","v":0},null,{"$f":"'تعریف کالا'!$F$67","v":0},null,0,null,null,null,null,null,null,null,null,null,null,null,null,null,null,0,0,0,0,0,0,0]
[null,"کاردکس 66",{"$f":"'تعریف کالا'!$C$70","v":0},{"$f":"'تعریف کالا'!$D$70","v":0},{"$f":"'تعریف کالا'!$E$70","v":0},{"$f":"'تعریف کالا'!$G$70","v":0},null,{"$f":"'تعریف کالا'!$F$70","v":0},null,0,null,null,null,null,null,null,null,null,null,null,null,null,null,null,0,{"$f":"D5483","v":0},{"$f":"E5483","v":0},{"$f":"F5483","v":0},{"$f":"H5483","v":0},{"$f":"I5483","v":0},{"$f":"J5483","v":0}]
[null,"کاردکس 72",{"$f":"'تعریف کالا'!$C$76","v":0},{"$f":"'تعریف کالا'!$D$76","v":0},{"$f":"'تعریف کالا'!$E$76","v":0},{"$f":"'تعریف کالا'!$G$76","v":0},null,{"$f":"'تعریف کالا'!$F$76","v":0},null,0,null,null,null,null,null,null,null,null,null,null,null,null,null,null,0,0,0,0,0,0,0]
[null,"کاردکس 78",{"$f":"'تعریف کالا'!$C$82","v":0},{"$f":"'تعریف کالا'!$D$82","v":0},{"$f":"'تعریف کالا'!$E$82","v":0},{"$f":"'تعریف کالا'!$G$82","v":0},null,{"$f":"'تعریف کالا'!$F$82","v":0},null,0,null,null,null,null,null,null,null,null,null,null,null,null,null,null,0,0,0,0,0,0,0]
[null,"کاردکس 81",{"$f":"'تعریف کالا'!$C$85","v":0},{"$f":"'تعریف کالا'!$D$85","v":0},{"$f":"'تعریف کالا'!$E$85","v":0},{"$f":"'تعریف کالا'!$G$85","v":0},null,{"$f":"'تعریف کالا'!$F$85","v":0},null,0,null,null,null,null,null,null,null,null,null,null,null,null,null,null,0,0,0,0,0,0,0]
[null,"کاردکس 89",{"$f":"'تعریف کالا'!$C$93","v":0},{"$f":"'تعریف کالا'!$D$93","v":0},{"$f":"'تعریف کالا'!$E$93","v":0},{"$f":"'تعریف کالا'!$G$93","v":0},null,{"$f":"'تعریف کالا'!$F$93","v":0},null,0,null,null,null,null,null,null,null,null,null,null,null,null,null,null,0,0,0,0,0,0,0]
[null,"کاردکس 96",{"$f":"'تعریف کالا'!$C$100","v":0},{"$f":"'تعریف کالا'!$D$100","v":0},{"$f":"'تعریف کالا'!$E$100","v":0},{"$f":"'تعریف کالا'!$G$100","v":0},null,{"$f":"'تعریف کالا'!$F$100","v":0},null,0,null,null,null,null,null,null,null,null,null,null,null,null,null,null,0,0,0,0,0,0,0]
[null,"کاردکس 101",{"$f":"'تعریف کالا'!$C$105","v":0},{"$f":"'تعریف کالا'!$D$105","v":0},{"$f":"'تعریف کالا'!$E$105","v":0},{"$f":"'تعریف کالا'!$G$105","v":0},null,{"$f":"'تعریف کالا'!$F$105","v":0},null,0,null,null,null,null,null,null,null,null,null,null,null,null,null,null,0,0,0,0,0,0,0]
[null,"کاردکس 107",{"$f":"'تعریف کالا'!$C$111","v":0},{"$f":"'تعریف کالا'!$D$111","v":0},{"$f":"'تعریف کالا'!$E$111","v":0},{"$f":"'تعریف کالا'!$G$111","v":0},null,{"$f":"'تعریف کالا'!$F$111","v":0},null,0,null,null,null,null,null,null,null,null,null,null,null,null,null,null,0,0,0,0,0,0,0]
[null,"کاردکس 108",{"$f":"'تعریف کالا'!$C$112","v":0},{"$f":"'تعریف کالا'!$D$112","v":0},{"$f":"'تعریف کالا'!$E$112","v":0},{"$f":"'تعریف کالا'!$G$112","v":0},null,{"$f":"'تعریف کالا'!$F$112","v":0},null,0,null,null,null,null,null,null,null,null,null,null,null,null,null,null,0,0,0,0,0,0,0]
[null,"کاردکس 116",{"$f":"'تعریف کالا'!$C$120","v":0},{"$f":"'تعریف کالا'!$D$120","v":0},{"$f":"'تعریف کالا'!$E$120","v":0},{"$f":"'تعریف کالا'!$G$120","v":0},null,{"$f":"'تعریف کالا'!$F$120","v":0},null,0,null,null,null,null,null,null,null,null,null,null,null,null,null,null,0,0,0,0,0,0,0]
[null,"کاردکس 120",{"$f":"'تعریف کالا'!$C$124","v":0},{"$f":"'تعریف کالا'!$D$124","v":0},{"$f":"'تعریف کالا'!$E$124","v":0},{"$f":"'تعریف کالا'!$G$124","v":0},null,{"$f":"'تعریف کالا'!$F$124","v":0},null,0,null,null,null,null,null,null,null,null,null,null,null,null,null,null,0,0,0,0,0,0,0]
[null,"کاردکس 125",{"$f":"'تعریف کالا'!$C$129","v":0},{"$f":"'تعریف کالا'!$D$129","v":0},{"$f":"'تعریف کالا'!$E$129","v":0},{"$f":"'تعریف کالا'!$G$129","v":0},null,{"$f":"'تعریف کالا'!$F$129","v":0},null,0,null,null,null,null,null,null,null,null,null,null,null,null,null,null,0,0,0,0,0,0,0]
[null,"کاردکس 131",{"$f":"'تعریف کالا'!$C$135","v":0},{"$f":"'تعریف کالا'!$D$135","v":0},{"$f":"'تعریف کالا'!$E$135","v":0},{"$f":"'تعریف کالا'!$G$135","v":0},null,{"$f":"'تعریف کالا'!$F$135","v":0},null,{"$f":"(F5548*I5548)-(F5548*I5548*G5548%)","v":0},null,null,null,null,null,null,null,null,null,null,null,null,null,null,{"$f":"C5548","v":0},{"$f":"D5548","v":0},{"$f":"E5548","v":0},0,0,0,0]
[null,"کاردکس 140",{"$f":"'تعریف کالا'!$C$144","v":0},{"$f":"'تعریف کالا'!$D$144","v":0},{"$f":"'تعریف کالا'!$E$144","v":0},{"$f":"'تعریف کالا'!$G$144","v":0},null,{"$f":"'تعریف کالا'!$F$144","v":0},null,0,null,null,null,null,null,null,null,null,null,null,null,null,null,null,0,0,0,0,0,0,0]
[null,"کاردکس 143",{"$f":"'تعریف کالا'!$C$147","v":0},{"$f":"'تعریف کالا'!$D$147","v":0},{"$f":"'تعریف کالا'!$E$147","v":0},{"$f":"'تعریف کالا'!$G$147","v":0},null,{"$f":"'تعریف کالا'!$F$147","v":0},null,0,null,null,null,null,null,null,null,null,null,null,null,null,null,null,0,0,0,0,0,0,0]
[null,"کاردکس 149",{"$f":"'تعریف کالا'!$C$153","v":0},{"$f":"'تعریف کالا'!$D$153","v":0},{"$f":"'تعریف کالا'!$E$153","v":0},{"$f":"'تعریف کالا'!$G$153","v":0},null,{"$f":"'تعریف کالا'!$F$153","v":0},null,0,null,null,null,null,null,null,null,null,null,null,null,null,null,null,0,0,0,0,0,0,0]
[null,"کاردکس 155",{"$f":"'تعریف کالا'!$C$159","v":0},{"$f":"'تعریف کالا'!$D$159","v":0},{"$f":"'تعریف کالا'!$E$159","v":0},{"$f":"'تعریف کالا'!$G$159","v":0},null,{"$f":"'تعریف کالا'!$F$159","v":0},null,0,null,null,null,null,null,null,null,null,null,null,null,null,null,null,0,0,0,0,0,0,0]
[null,"کاردکس 160",{"$f":"'تعریف کالا'!$C$164","v":0},{"$f":"'تعریف کالا'!$D$164","v":0},{"$f":"'تعریف کالا'!$E$164","v":0},{"$f":"'تعریف کالا'!$G$164","v":0},null,{"$f":"'تعریف کالا'!$F$164","v":0},null,0,null,null,null,null,null,null,null,null,null,null,null,null,null,null,0,0,0,0,0,0,0]
[null,"کاردکس 167",{"$f":"'تعریف کالا'!$C$171","v":0},{"$f":"'تعریف کالا'!$D$171","v":0},{"$f":"'تعریف کالا'!$E$171","v":0},{"$f":"'تعریف کالا'!$G$171","v":0},null,{"$f":"'تعریف کالا'!$F$171","v":0},null,0,null,null,null,null,null,null,null,null,null,null,null,null,null,null,0,0,0,0,0,0,0]
[null,"کاردکس 172",{"$f":"'تعریف کالا'!$C$176","v":0},{"$f":"'تعریف کالا'!$D$176","v":0},{"$f":"'تعریف کالا'!$E$176","v":0},{"$f":"'تعریف کالا'!$G$176","v":0},null,{"$f":"'تعریف کالا'!$F$176","v":0},null,0,null,null,null,null,null,null,null,null,null,null,null,null,null,null,0,0,0,0,0,0,0]
[null,"کاردکس 177",{"$f":"'تعریف کالا'!$C$181","v":0},{"$f":"'تعریف کالا'!$D$181","v":0},{"$f":"'تعریف کالا'!$E$181","v":0},{"$f":"'تعریف کالا'!$G$181","v":0},null,{"$f":"'تعریف کالا'!$F$181","v":0},null,0,null,null,null,null,null,null,null,null,null,null,null,null,null,null,0,0,0,0,0,0,0]
[null,"کاردکس 179",{"$f":"'تعریف کالا'!$C$183","v":0},{"$f":"'تعریف کالا'!$D$183","v":0},{"$f":"'تعریف کالا'!$E$183","v":0},{"$f":"'تعریف کالا'!$G$183","v":0},null,{"$f":"'تعریف کالا'!$F$183","v":0},null,0,null,null,null,null,null,null,null,null,null,null,null,null,null,null,0,0,0,0,0,0,0]
[null,"کاردکس 186",{"$f":"'تعریف کالا'!$C$190","v":0},{"$f":"'تعریف کالا'!$D$190","v":0},{"$f":"'تعریف کالا'!$E$190","v":0},{"$f":"'تعریف کالا'!$G$190","v":0},null,{"$f":"'تعریف کالا'!$F$190","v":0},null,0,null,null,null,null,null,null,null,null,null,null,null,null,null,null,0,0,0,0,0,0,0]
[null,"کاردکس 191",{"$f":"'تعریف کالا'!$C$195","v":0},{"$f":"'تعریف کالا'!$D$195","v":0},{"$f":"'تعریف کالا'!$E$195","v":0},{"$f":"'تعریف کالا'!$G$195","v":0},null,{"$f":"'تعریف کالا'!$F$195","v":0},null,0,null,null,null,null,null,null,null,null,null,null,null,null,null,null,0,0,0,0,0,0,0]
[null,"کاردکس 195",{"$f":"'تعریف کالا'!$C$199","v":0},{"$f":"'تعریف کالا'!$D$199","v":0},{"$f":"'تعریف کالا'!$E$199","v":0},{"$f":"'تعریف کالا'!$G$199","v":0},null,{"$f":"'تعریف کالا'!$F$199","v":0},null,{"$f":"(F5612*I5612)-(F5612*I5612*G5612%)","v":0},null,null,null,null,null,null,null,null,null,null,null,null,null,null,{"$f":"C5612","v":0},{"$f":"D5612","v":0},{"$f":"E5612","v":0},0,0,0,0]
[null,"                  مبلغ قابل  پرداخت        ",null,{"$f":"abh(I5619)&\"ریال\"","v":"منفي ریال"},null,null,null,null,{"$f":"J5412","v":0},null,null,null,null,null,null,null,null,null,null,null,null,null,null,"شرح رویداد :",null,{"$f":"E5415","v":0}]
[]
[null,"شماره سند ",26,null,null,null,null,null,"تاریخ",null,null,null,null,null,null,null,null,null,null,null,null,null,null,null,null,null,{"$f":"F5630","v":0},null,null,"تاریخ",{"$f":"J5631","v":0}]
[null,null,"پرداخت با چک",null,null,null,null,null,"مانده حساب",{"$f":"J5637-D5637-D5638","v":0}]
[null,"کاردکس 1",{"$f":"'تعریف کالا'!$C$5","v":9011120},{"$f":"'تعریف کالا'!$D$5","v":"سی دی"},{"$f":"'تعریف کالا'!$E$5","v":"سخت افزار"},{"$f":"'تعریف کالا'!$G$5","v":3000},null,{"$f":"'تعریف کالا'!$F$5","v":"حلقه"},null,{"$f":"(F5643*I5643)-(F5643*I5643*G5643%)","v":0},null,null,null,null,null,null,null,null,null,null,null,null,null,null,{"$f":"C5643","v":9011120},{"$f":"D5643","v":"سی دی"},{"$f":"E5643","v":"سخت افزار"},{"$f":"F5643","v":3000},{"$f":"H5643","v":"حلقه"},{"$f":"I5643","v":0},{"$f":"J5643","v":0}]
[null,"کاردکس 5",{"$f":"'تعریف کالا'!$C$9","v":0},{"$f":"'تعریف کالا'!$D$9","v":0},{"$f":"'تعریف کالا'!$E$9","v":0},{"$f":"'تعریف کالا'!$G$9","v":0},null,{"$f":"'تعریف کالا'!$F$9","v":0},null,0,null,null,null,null,null,null,null,null,null,null,null,null,null,null,0,0,0,0,0,0,0]
[null,"کاردکس 13",{"$f":"'تعریف کالا'!$C$17","v":0},{"$f":"'تعریف کالا'!$D$17","v":0},{"$f":"'تعریف کالا'!$E$17","v":0},{"$f":"'تعریف کالا'!$G$17","v":0},null,{"$f":"'تعریف کالا'!$F$17","v":0},null,0,null,null,null,null,null,null,null,null,null,null,null,null,null,null,0,0,0,0,0,0,0]
[null,"کاردکس 14",{"$f":"'تعریف کالا'!$C$18","v":0},{"$f":"'تعریف کالا'!$D$18","v":0},{"$f":"'تعریف کالا'!$E$18","v":0},{"$f":"'تعریف کالا'!$G$18","v":0},null,{"$f":"'تعریف کالا'!$F$18","v":0},null,0,null,null,null,null,null,null,null,null,null,null,null,null,null,null,0,0,0,0,0,0,0]
[null,"کاردکس 24",{"$f":"'تعریف کالا'!$C$28","v":0},{"$f":"'تعریف کالا'!$D$28","v":0},{"$f":"'تعریف کالا'!$E$28","v":0},{"$f":"'تعریف کالا'!$G$28","v":0},null,{"$f":"'تعریف کالا'!$F$28","v":0},null,0,null,null,null,null,null,null,null,null,null,null,null,null,null,null,0,0,0,0,0,0,0]
[null,"کاردکس 29",{"$f":"'تعریف کالا'!$C$33","v":0},{"$f":"'تعریف کالا'!$D$33","v":0},{"$f":"'تعریف کالا'!$E$33","v":0},{"$f":"'تعریف کالا'!$G$33","v":0},null,{"$f":"'تعریف کالا'!$F$33","v":0},null,0,null,null,null,null,null,null,null,null,null,null,null,null,null,null,0,0,0,0,0,0,0]
[null,"کاردکس 31",{"$f":"'تعریف کالا'!$C$35","v":0},{"$f":"'تعریف کالا'!$D$35","v":0},{"$f":"'تعریف کالا'!$E$35","v":0},{"$f":"'تعریف کالا'!$G$35","v":0},null,{"$f":"'تعریف کالا'!$F$35","v":0},null,0,null,null,null,null,null,null,null,null,null,null,null,null,null,null,0,0,0,0,0,0,0]
[null,"کاردکس 38",{"$f":"'تعریف کالا'!$C$42","v":0},{"$f":"'تعریف کالا'!$D$42","v":0},{"$f":"'تعریف کالا'!$E$42","v":0},{"$f":"'تعریف کالا'!$G$42","v":0},null,{"$f":"'تعریف کالا'!$F$42","v":0},null,0,null,null,null,null,null,null,null,null,null,null,null,null,null,null,0,0,0,0,0,0,0]
[null,"کاردکس 43",{"$f":"'تعریف کالا'!$C$47","v":0},{"$f":"'تعریف کالا'!$D$47","v":0},{"$f":"'تعریف کالا'!$E$47","v":0},{"$f":"'تعریف کالا'!$G$47","v":0},null,{"$f":"'تعریف کالا'!$F$47","v":0},null,0,null,null,null,null,null,null,null,null,null,null,null,null,null,null,0,0,0,0,0,0,0]
[null,"کاردکس 49",{"$f":"'تعریف کالا'!$C$53","v":0},{"$f":"'تعریف کالا'!$D$53","v":0},{"$f":"'تعریف کالا'!$E$53","v":0},{"$f":"'تعریف کالا'!$G$53","v":0},null,{"$f":"'تعریف کالا'!$F$53","v":0},null,0,null,null,null,null,null,null,null,null,null,null,null,null,null,null,0,0,0,0,0,0,0]
[null,"کاردکس 55",{"$f":"'تعریف کالا'!$C$59","v":0},{"$f":"'تعریف کالا'!$D$59","v":0},{"$f":"'تعریف کالا'!$E$59","v":0},{"$f":"'تعریف کالا'!$G$59","v":0},null,{"$f":"'تعریف کالا'!$F$59","v":0},null,0,null,null,null,null,null,null,null,null,null,null,null,null,null,null,0,0,0,0,0,0,0]
[null,"کاردکس 58",{"$f":"'تعریف کالا'!$C$62","v":0},{"$f":"'تعریف کالا'!$D$62","v":0},{"$f":"'تعریف کالا'!$E$62","v":0},{"$f":"'تعریف کالا'!$G$62","v":0},null,{"$f":"'تعریف کالا'!$F$62","v":0},null,0,null,null,null,null,null,null,null,null,null,null,null,null,null,null,0,0,0,0,0,0,0]
[null,"کاردکس 66",{"$f":"'تعریف کالا'!$C$70","v":0},{"$f":"'تعریف کالا'!$D$70","v":0},{"$f":"'تعریف کالا'!$E$70","v":0},{"$f":"'تعریف کالا'!$G$70","v":0},null,{"$f":"'تعریف کالا'!$F$70","v":0},null,0,null,null,null,null,null,null,null,null,null,null,null,null,null,null,0,{"$f":"D5708","v":0},{"$f":"E5708","v":0},{"$f":"F5708","v":0},{"$f":"H5708","v":0},{"$f":"I5708","v":0},{"$f":"J5708","v":0}]
[null,"کاردکس 73",{"$f":"'تعریف کالا'!$C$77","v":0},{"$f":"'تعریف کالا'!$D$77","v":0},{"$f":"'تعریف کالا'!$E$77","v":0},{"$f":"'تعریف کالا'!$G$77","v":0},null,{"$f":"'تعریف کالا'!$F$77","v":0},null,0,null,null,null,null,null,null,null,null,null,null,null,null,null,null,0,0,0,0,0,0,0]
[null,"کاردکس 78",{"$f":"'تعریف کالا'!$C$82","v":0},{"$f":"'تعریف کالا'!$D$82","v":0},{"$f":"'تعریف کالا'!$E$82","v":0},{"$f":"'تعریف کالا'!$G$82","v":0},null,{"$f":"'تعریف کالا'!$F$82","v":0},null,0,null,null,null,null,null,null,null,null,null,null,null,null,null,null,0,0,0,0,0,0,0]
[null,"کاردکس 82",{"$f":"'تعریف کالا'!$C$86","v":0},{"$f":"'تعریف کالا'!$D$86","v":0},{"$f":"'تعریف کالا'!$E$86","v":0},{"$f":"'تعریف کالا'!$G$86","v":0},null,{"$f":"'تعریف کالا'!$F$86","v":0},null,0,null,null,null,null,null,null,null,null,null,null,null,null,null,null,0,0,0,0,0,0,0]
[null,"کاردکس 90",{"$f":"'تعریف کالا'!$C$94","v":0},{"$f":"'تعریف کالا'!$D$94","v":0},{"$f":"'تعریف کالا'!$E$94","v":0},{"$f":"'تعریف کالا'!$G$94","v":0},null,{"$f":"'تعریف کالا'!$F$94","v":0},null,0,null,null,null,null,null,null,null,null,null,null,null,null,null,null,0,0,0,0,0,0,0]
[null,"کاردکس 93",{"$f":"'تعریف کالا'!$C$97","v":0},{"$f":"'تعریف کالا'!$D$97","v":0},{"$f":"'تعریف کالا'!$E$97","v":0},{"$f":"'تعریف کالا'!$G$97","v":0},null,{"$f":"'تعریف کالا'!$F$97","v":0},null,0,null,null,null,null,null,null,null,null,null,null,null,null,null,null,0,0,0,0,0,0,0]
[null,"کاردکس 97",{"$f":"'تعریف کالا'!$C$101","v":0},{"$f":"'تعریف کالا'!$D$101","v":0},{"$f":"'تعریف کالا'!$E$101","v":0},{"$f":"'تعریف کالا'!$G$101","v":0},null,{"$f":"'تعریف کالا'!$F$101","v":0},null,0,null,null,null,null,null,null,null,null,null,null,null,null,null,null,0,0,0,0,0,0,0]
[null,"کاردکس 102",{"$f":"'تعریف کالا'!$C$106","v":0},{"$f":"'تعریف کالا'!$D$106","v":0},{"$f":"'تعریف کالا'!$E$106","v":0},{"$f":"'تعریف کالا'!$G$106","v":0},null,{"$f":"'تعریف کالا'!$F$106","v":0},null,0,null,null,null,null,null,null,null,null,null,null,null,null,null,null,0,0,0,0,0,0,0]
[null,"کاردکس 109",{"$f":"'تعریف کالا'!$C$113","v":0},{"$f":"'تعریف کالا'!$D$113","v":0},{"$f":"'تعریف کالا'!$E$113","v":0},{"$f":"'تعریف کالا'!$G$113","v":0},null,{"$f":"'تعریف کالا'!$F$113","v":0},null,0,null,null,null,null,null,null,null,null,null,null,null,null,null,null,0,0,0,0,0,0,0]
[null,"کاردکس 117",{"$f":"'تعریف کالا'!$C$121","v":0},{"$f":"'تعریف کالا'!$D$121","v":0},{"$f":"'تعریف کالا'!$E$121","v":0},{"$f":"'تعریف کالا'!$G$121","v":0},null,{"$f":"'تعریف کالا'!$F$121","v":0},null,0,null,null,null,null,null,null,null,null,null,null,null,null,null,null,0,0,0,0,0,0,0]
[null,"کاردکس 120",{"$f":"'تعریف کالا'!$C$124","v":0},{"$f":"'تعریف کالا'!$D$124","v":0},{"$f":"'تعریف کالا'!$E$124","v":0},{"$f":"'تعریف کالا'!$G$124","v":0},null,{"$f":"'تعریف کالا'!$F$124","v":0},null,0,null,null,null,null,null,null,null,null,null,null,null,null,null,null,0,0,0,0,0,0,0]
[null,"کاردکس 126",{"$f":"'تعریف کالا'!$C$130","v":0},{"$f":"'تعریف کالا'!$D$130","v":0},{"$f":"'تعریف کالا'!$E$130","v":0},{"$f":"'تعریف کالا'!$G$130","v":0},null,{"$f":"'تعریف کالا'!$F$130","v":0},null,0,null,null,null,null,null,null,null,null,null,null,null,null,null,null,0,0,0,0,0,0,0]
[null,"کاردکس 132",{"$f":"'تعریف کالا'!$C$136","v":0},{"$f":"'تعریف کالا'!$D$136","v":0},{"$f":"'تعریف کالا'!$E$136","v":0},{"$f":"'تعریف کالا'!$G$136","v":0},null,{"$f":"'تعریف کالا'!$F$136","v":0},null,0,null,null,null,null,null,null,null,null,null,null,null,null,null,null,0,0,0,0,0,0,0]
[null,"کاردکس 137",{"$f":"'تعریف کالا'!$C$141","v":0},{"$f":"'تعریف کالا'!$D$141","v":0},{"$f":"'تعریف کالا'!$E$141","v":0},{"$f":"'تعریف کالا'!$G$141","v":0},null,{"$f":"'تعریف کالا'!$F$141","v":0},null,0,null,null,null,null,null,null,null,null,null,null,null,null,null,null,0,0,0,0,0,0,0]
[null,"کاردکس 144",{"$f":"'تعریف کالا'!$C$148","v":0},{"$f":"'تعریف کالا'!$D$148","v":0},{"$f":"'تعریف کالا'!$E$148","v":0},{"$f":"'تعریف کالا'!$G$148","v":0},null,{"$f":"'تعریف کالا'!$F$148","v":0},null,0,null,null,null,null,null,null,null,null,null,null,null,null,null,null,0,0,0,0,0,0,0]
[null,"کاردکس 146",{"$f":"'تعریف کالا'!$C$150","v":0},{"$f":"'تعریف کالا'!$D$150","v":0},{"$f":"'تعریف کالا'!$E$150","v":0},{"$f":"'تعریف کالا'!$G$150","v":0},null,{"$f":"'تعریف کالا'!$F$150","v":0},null,0,null,null,null,null,null,null,null,null,null,null,null,null,null,null,0,0,0,0,0,0,0]
[null,"کاردکس 156",{"$f":"'تعریف کالا'!$C$160","v":0},{"$f":"'تعریف کالا'!$D$160","v":0},{"$f":"'تعریف کالا'!$E$160","v":0},{"$f":"'تعریف کالا'!$G$160","v":0},null,{"$f":"'تعریف کالا'!$F$160","v":0},null,0,null,null,null,null,null,null,null,null,null,null,null,null,null,null,0,0,0,0,0,0,0]
[null,"کاردکس 161",{"$f":"'تعریف کالا'!$C$165","v":0},{"$f":"'تعریف کالا'!$D$165","v":0},{"$f":"'تعریف کالا'!$E$165","v":0},{"$f":"'تعریف کالا'!$G$165","v":0},null,{"$f":"'تعریف کالا'!$F$165","v":0},null,0,null,null,null,null,null,null,null,null,null,null,null,null,null,null,0,0,0,0,0,0,0]
[null,"کاردکس 167",{"$f":"'تعریف کالا'!$C$171","v":0},{"$f":"'تعریف کالا'!$D$171","v":0},{"$f":"'تعریف کالا'!$E$171","v":0},{"$f":"'تعریف کالا'!$G$171","v":0},null,{"$f":"'تعریف کالا'!$F$171","v":0},null,0,null,null,null,null,null,null,null,null,null,null,null,null,null,null,0,0,0,0,0,0,0]
[null,"کاردکس 170",{"$f":"'تعریف کالا'!$C$174","v":0},{"$f":"'تعریف کالا'!$D$174","v":0},{"$f":"'تعریف کالا'!$E$174","v":0},{"$f":"'تعریف کالا'!$G$174","v":0},null,{"$f":"'تعریف کالا'!$F$174","v":0},null,0,null,null,null,null,null,null,null,null,null,null,null,null,null,null,0,0,0,0,0,0,0]
[null,"کاردکس 174",{"$f":"'تعریف کالا'!$C$178","v":0},{"$f":"'تعریف کالا'!$D$178","v":0},{"$f":"'تعریف کالا'!$E$178","v":0},{"$f":"'تعریف کالا'!$G$178","v":0},null,{"$f":"'تعریف کالا'!$F$178","v":0},null,0,null,null,null,null,null,null,null,null,null,null,null,null,null,null,0,0,0,0,0,0,0]
[null,"کاردکس 181",{"$f":"'تعریف کالا'!$C$185","v":0},{"$f":"'تعریف کالا'!$D$185","v":0},{"$f":"'تعریف کالا'!$E$185","v":0},{"$f":"'تعریف کالا'!$G$185","v":0},null,{"$f":"'تعریف کالا'!$F$185","v":0},null,0,null,null,null,null,null,null,null,null,null,null,null,null,null,null,0,0,0,0,0,0,0]
[null,"کاردکس 186",{"$f":"'تعریف کالا'!$C$190","v":0},{"$f":"'تعریف کالا'!$D$190","v":0},{"$f":"'تعریف کالا'!$E$190","v":0},{"$f":"'تعریف کالا'!$G$190","v":0},null,{"$f":"'تعریف کالا'!$F$190","v":0},null,0,null,null,null,null,null,null,null,null,null,null,null,null,null,null,0,0,0,0,0,0,0]
[null,"کاردکس 190",{"$f":"'تعریف کالا'!$C$194","v":0},{"$f":"'تعریف کالا'!$D$194","v":0},{"$f":"'تعریف کالا'!$E$194","v":0},{"$f":"'تعریف کالا'!$G$194","v":0},null,{"$f":"'تعریف کالا'!$F$194","v":0},null,0,null,null,null,null,null,null,null,null,null,null,null,null,null,null,0,0,0,0,0,0,0]
[null,"کاردکس 198",{"$f":"'تعریف کالا'!$C$202","v":0},{"$f":"'تعریف کالا'!$D$202","v":0},{"$f":"'تعریف کالا'!$E$202","v":0},{"$f":"'تعریف کالا'!$G$202","v":0},null,{"$f":"'تعریف کالا'!$F$202","v":0},null,0,null,null,null,null,null,null,null,null,null,null,null,null,null,null,0,0,0,0,0,0,0]
[null,null,null,null,null,null,null,null,null,null,null,null,null,null,null,null,null,null,null,null,null,null,null,null,"امضا صادر کننده",null,"امضا فروشنده",null,"امضا مسئول انبار",null,"امضا خریدار"]
[]
[null,"شماره سند ",27,null,null,null,null,null,"تاریخ",null,null,null,null,null,null,null,null,null,null,null,null,null,null,null,null,null,{"$f":"F5855","v":0},null,null,"تاریخ",{"$f":"J5856","v":0}]
[null,null,"پرداخت با چک",null,null,null,null,null,"مانده حساب",{"$f":"J5862-D5862-D5863","v":0}]
[null,null,"ثبت چک","شرح رویداد"]
[null,"کاردکس 8",{"$f":"'تعریف کالا'!$C$12","v":0},{"$f":"'تعریف کالا'!$D$12","v":0},{"$f":"'تعریف کالا'!$E$12","v":0},{"$f":"'تعریف کالا'!$G$12","v":0},null,{"$f":"'تعریف کالا'!$F$12","v":0},null,0,null,null,null,null,null,null,null,null,null,null,null,null,null,null,0,0,0,0,0,0,0]
[null,"کاردکس 9",{"$f":"'تعریف کالا'!$C$13","v":0},{"$f":"'تعریف کالا'!$D$13","v":0},{"$f":"'تعریف کالا'!$E$13","v":0},{"$f":"'تعریف کالا'!$G$13","v":0},null,{"$f":"'تعریف کالا'!$F$13","v":0},null,0,null,null,null,null,null,null,null,null,null,null,null,null,null,null,0,0,0,0,0,0,0]
[null,"کاردکس 15",{"$f":"'تعریف کالا'!$C$19","v":0},{"$f":"'تعریف کالا'!$D$19","v":0},{"$f":"'تعریف کالا'!$E$19","v":0},{"$f":"'تعریف کالا'!$G$19","v":0},null,{"$f":"'تعریف کالا'!$F$19","v":0},null,0,null,null,null,null,null,null,null,null,null,null,null,null,null,null,0,0,0,0,0,0,0]
[null,"کاردکس 24",{"$f":"'تعریف کالا'!$C$28","v":0},{"$f":"'تعریف کالا'!$D$28","v":0},{"$f":"'تعریف کالا'!$E$28","v":0},{"$f":"'تعریف کالا'!$G$28","v":0},null,{"$f":"'تعریف کالا'!$F$28","v":0},null,0,null,null,null,null,null,null,null,null,null,null,null,null,null,null,0,0,0,0,0,0,0]
[null,"کاردکس 26",{"$f":"'تعریف کالا'!$C$30","v":0},{"$f":"'تعریف کالا'!$D$30","v":0},{"$f":"'تعریف کالا'!$E$30","v":0},{"$f":"'تعریف کالا'!$G$30","v":0},null,{"$f":"'تعریف کالا'!$F$30","v":0},null,0,null,null,null,null,null,null,null,null,null,null,null,null,null,null,0,0,0,0,0,0,0]
[null,"کاردکس 33",{"$f":"'تعریف کالا'!$C$37","v":0},{"$f":"'تعریف کالا'!$D$37","v":0},{"$f":"'تعریف کالا'!$E$37","v":0},{"$f":"'تعریف کالا'!$G$37","v":0},null,{"$f":"'تعریف کالا'!$F$37","v":0},null,0,null,null,null,null,null,null,null,null,null,null,null,null,null,null,0,0,0,0,0,0,0]
[null,"کاردکس 38",{"$f":"'تعریف کالا'!$C$42","v":0},{"$f":"'تعریف کالا'!$D$42","v":0},{"$f":"'تعریف کالا'!$E$42","v":0},{"$f":"'تعریف کالا'!$G$42","v":0},null,{"$f":"'تعریف کالا'!$F$42","v":0},null,0,null,null,null,null,null,null,null,null,null,null,null,null,null,null,0,0,0,0,0,0,0]
[null,"کاردکس 42",{"$f":"'تعریف کالا'!$C$46","v":0},{"$f":"'تعریف کالا'!$D$46","v":0},{"$f":"'تعریف کالا'!$E$46","v":0},{"$f":"'تعریف کالا'!$G$46","v":0},null,{"$f":"'تعریف کالا'!$F$46","v":0},null,0,null,null,null,null,null,null,null,null,null,null,null,null,null,null,0,0,0,0,0,0,0]
[null,"کاردکس 50",{"$f":"'تعریف کالا'!$C$54","v":0},{"$f":"'تعریف کالا'!$D$54","v":0},{"$f":"'تعریف کالا'!$E$54","v":0},{"$f":"'تعریف کالا'!$G$54","v":0},null,{"$f":"'تعریف کالا'!$F$54","v":0},null,0,null,null,null,null,null,null,null,null,null,null,null,null,null,null,0,0,0,0,0,0,0]
[null,"کاردکس 53",{"$f":"'تعریف کالا'!$C$57","v":0},{"$f":"'تعریف کالا'!$D$57","v":0},{"$f":"'تعریف کالا'!$E$57","v":0},{"$f":"'تعریف کالا'!$G$57","v":0},null,{"$f":"'تعریف کالا'!$F$57","v":0},null,0,null,null,null,null,null,null,null,null,null,null,null,null,null,null,0,0,0,0,0,0,0]
[null,"کاردکس 62",{"$f":"'تعریف کالا'!$C$66","v":0},{"$f":"'تعریف کالا'!$D$66","v":0},{"$f":"'تعریف کالا'!$E$66","v":0},{"$f":"'تعریف کالا'!$G$66","v":0},null,{"$f":"'تعریف کالا'!$F$66","v":0},null,0,null,null,null,null,null,null,null,null,null,null,null,null,null,null,0,0,0,0,0,0,0]
[null,"کاردکس 68",{"$f":"'تعریف کالا'!$C$72","v":0},{"$f":"'تعریف کالا'!$D$72","v":0},{"$f":"'تعریف کالا'!$E$72","v":0},{"$f":"'تعریف کالا'!$G$72","v":0},null,{"$f":"'تعریف کالا'!$F$72","v":0},null,0,null,null,null,null,null,null,null,null,null,null,null,null,null,null,0,0,0,0,0,0,0]
[null,"کاردکس 74",{"$f":"'تعریف کالا'!$C$78","v":0},{"$f":"'تعریف کالا'!$D$78","v":0},{"$f":"'تعریف کالا'!$E$78","v":0},{"$f":"'تعریف کالا'!$G$78","v":0},null,{"$f":"'تعریف کالا'!$F$78","v":0},null,0,null,null,null,null,null,null,null,null,null,null,null,null,null,null,0,0,0,0,0,0,0]
[null,"کاردکس 77",{"$f":"'تعریف کالا'!$C$81","v":0},{"$f":"'تعریف کالا'!$D$81","v":0},{"$f":"'تعریف کالا'!$E$81","v":0},{"$f":"'تعریف کالا'!$G$81","v":0},null,{"$f":"'تعریف کالا'!$F$81","v":0},null,0,null,null,null,null,null,null,null,null,null,null,null,null,null,null,0,0,0,0,0,0,0]
[null,"کاردکس 85",{"$f":"'تعریف کالا'!$C$89","v":0},{"$f":"'تعریف کالا'!$D$89","v":0},{"$f":"'تعریف کالا'!$E$89","v":0},{"$f":"'تعریف کالا'!$G$89","v":0},null,{"$f":"'تعریف کالا'!$F$89","v":0},null,0,null,null,null,null,null,null,null,null,null,null,null,null,null,null,0,0,0,0,0,0,0]
[null,"کاردکس 86",{"$f":"'تعریف کالا'!$C$90","v":0},{"$f":"'تعریف کالا'!$D$90","v":0},{"$f":"'تعریف کالا'!$E$90","v":0},{"$f":"'تعریف کالا'!$G$90","v":0},null,{"$f":"'تعریف کالا'!$F$90","v":0},null,0,null,null,null,null,null,null,null,null,null,null,null,null,null,null,0,0,0,0,0,0,0]
[null,"کاردکس 92",{"$f":"'تعریف کالا'!$C$96","v":0},{"$f":"'تعریف کالا'!$D$96","v":0},{"$f":"'تعریف کالا'!$E$96","v":0},{"$f":"'تعریف کالا'!$G$96","v":0},null,{"$f":"'تعریف کالا'!$F$96","v":0},null,0,null,null,null,null,null,null,null,null,null,null,null,null,null,null,0,0,0,0,0,0,0]
[null,"کاردکس 97",{"$f":"'تعریف کالا'!$C$101","v":0},{"$f":"'تعریف کالا'!$D$101","v":0},{"$f":"'تعریف کالا'!$E$101","v":0},{"$f":"'تعریف کالا'!$G$101","v":0},null,{"$f":"'تعریف کالا'!$F$101","v":0},null,0,null,null,null,null,null,null,null,null,null,null,null,null,null,null,0,0,0,0,0,0,0]
[null,"کاردکس 104",{"$f":"'تعریف کالا'!$C$108","v":0},{"$f":"'تعریف کالا'!$D$108","v":0},{"$f":"'تعریف کالا'!$E$108","v":0},{"$f":"'تعریف کالا'!$G$108","v":0},null,{"$f":"'تعریف کالا'!$F$108","v":0},null,0,null,null,null,null,null,null,null,null,null,null,null,null,null,null,0,0,0,0,0,0,0]
[null,"کاردکس 112",{"$f":"'تعریف کالا'!$C$116","v":0},{"$f":"'تعریف کالا'!$D$116","v":0},{"$f":"'تعریف کالا'!$E$116","v":0},{"$f":"'تعریف کالا'!$G$116","v":0},null,{"$f":"'تعریف کالا'!$F$116","v":0},null,0,null,null,null,null,null,null,null,null,null,null,null,null,null,null,0,0,0,0,0,0,0]
[null,"کاردکس 116",{"$f":"'تعریف کالا'!$C$120","v":0},{"$f":"'تعریف کالا'!$D$120","v":0},{"$f":"'تعریف کالا'!$E$120","v":0},{"$f":"'تعریف کالا'!$G$120","v":0},null,{"$f":"'تعریف کالا'!$F$120","v":0},null,0,null,null,null,null,null,null,null,null,null,null,null,null,null,null,0,0,0,0,0,0,0]
[null,"کاردکس 121",{"$f":"'تعریف کالا'!$C$125","v":0},{"$f":"'تعریف کالا'!$D$125","v":0},{"$f":"'تعریف کالا'!$E$125","v":0},{"$f":"'تعریف کالا'!$G$125","v":0},null,{"$f":"'تعریف کالا'!$F$125","v":0},null,0,null,null,null,null,null,null,null,null,null,null,null,null,null,null,0,0,0,0,0,0,0]
[null,"کاردکس 127",{"$f":"'تعریف کالا'!$C$131","v":0},{"$f":"'تعریف کالا'!$D$131","v":0},{"$f":"'تعریف کالا'!$E$131","v":0},{"$f":"'تعریف کالا'!$G$131","v":0},null,{"$f":"'تعریف کالا'!$F$131","v":0},null,0,null,null,null,null,null,null,null,null,null,null,null,null,null,null,0,0,0,0,0,0,0]
[null,"کاردکس 130",{"$f":"'تعریف کالا'!$C$134","v":0},{"$f":"'تعریف کالا'!$D$134","v":0},{"$f":"'تعریف کالا'!$E$134","v":0},{"$f":"'تعریف کالا'!$G$134","v":0},null,{"$f":"'تعریف کالا'!$F$134","v":0},null,0,null,null,null,null,null,null,null,null,null,null,null,null,null,null,0,0,0,{"$f":"F5997","v":0},{"$f":"H5997","v":0},{"$f":"I5997","v":0},{"$f":"J5997","v":0}]
[null,"کاردکس 139",{"$f":"'تعریف کالا'!$C$143","v":0},{"$f":"'تعریف کالا'!$D$143","v":0},{"$f":"'تعریف کالا'!$E$143","v":0},{"$f":"'تعریف کالا'!$G$143","v":0},null,{"$f":"'تعریف کالا'!$F$143","v":0},null,0,null,null,null,null,null,null,null,null,null,null,null,null,null,null,0,0,0,0,0,0,0]
[null,"کاردکس 141",{"$f":"'تعریف کالا'!$C$145","v":0},{"$f":"'تعریف کالا'!$D$145","v":0},{"$f":"'تعریف کالا'!$E$145","v":0},{"$f":"'تعریف کالا'!$G$145","v":0},null,{"$f":"'تعریف کالا'!$F$145","v":0},null,0,null,null,null,null,null,null,null,null,null,null,null,null,null,null,0,0,0,0,0,0,0]
[null,"کاردکس 151",{"$f":"'تعریف کالا'!$C$155","v":0},{"$f":"'تعریف کالا'!$D$155","v":0},{"$f":"'تعریف کالا'!$E$155","v":0},{"$f":"'تعریف کالا'!$G$155","v":0},null,{"$f":"'تعریف کالا'!$F$155","v":0},null,0,null,null,null,null,null,null,null,null,null,null,null,null,null,null,0,0,0,0,0,0,0]
[null,"کاردکس 156",{"$f":"'تعریف کالا'!$C$160","v":0},{"$f":"'تعریف کالا'!$D$160","v":0},{"$f":"'تعریف کالا'!$E$160","v":0},{"$f":"'تعریف کالا'!$G$160","v":0},null,{"$f":"'تعریف کالا'!$F$160","v":0},null,0,null,null,null,null,null,null,null,null,null,null,null,null,null,null,0,0,0,0,0,0,0]
[null,"کاردکس 158",{"$f":"'تعریف کالا'!$C$162","v":0},{"$f":"'تعریف کالا'!$D$162","v":0},{"$f":"'تعریف کالا'!$E$162","v":0},{"$f":"'تعریف کالا'!$G$162","v":0},null,{"$f":"'تعریف کالا'!$F$162","v":0},null,0,null,null,null,null,null,null,null,null,null,null,null,null,null,null,0,0,0,0,0,0,0]
[null,"کاردکس 165",{"$f":"'تعریف کالا'!$C$169","v":0},{"$f":"'تعریف کالا'!$D$169","v":0},{"$f":"'تعریف کالا'!$E$169","v":0},{"$f":"'تعریف کالا'!$G$169","v":0},null,{"$f":"'تعریف کالا'!$F$169","v":0},null,0,null,null,null,null,null,null,null,null,null,null,null,null,null,null,0,0,0,0,0,0,0]
[null,"کاردکس 169",{"$f":"'تعریف کالا'!$C$173","v":0},{"$f":"'تعریف کالا'!$D$173","v":0},{"$f":"'تعریف کالا'!$E$173","v":0},{"$f":"'تعریف کالا'!$G$173","v":0},null,{"$f":"'تعریف کالا'!$F$173","v":0},null,0,null,null,null,null,null,null,null,null,null,null,null,null,null,null,0,0,0,0,0,0,0]
[null,"کاردکس 174",{"$f":"'تعریف کالا'!$C$178","v":0},{"$f":"'تعریف کالا'!$D$178","v":0},{"$f":"'تعریف کالا'!$E$178","v":0},{"$f":"'تعریف کالا'!$G$178","v":0},null,{"$f":"'تعریف کالا'!$F$178","v":0},null,0,null,null,null,null,null,null,null,null,null,null,null,null,null,null,0,0,0,0,0,0,0]
[null,"کاردکس 181",{"$f":"'تعریف کالا'!$C$185","v":0},{"$f":"'تعریف کالا'!$D$185","v":0},{"$f":"'تعریف کالا'!$E$185","v":0},{"$f":"'تعریف کالا'!$G$185","v":0},null,{"$f":"'تعریف کالا'!$F$185","v":0},null,0,null,null,null,null,null,null,null,null,null,null,null,null,null,null,0,0,0,0,0,0,0]
[null,"کاردکس 189",{"$f":"'تعریف کالا'!$C$193","v":0},{"$f":"'تعریف کالا'!$D$193","v":0},{"$f":"'تعریف کالا'!$E$193","v":0},{"$f":"'تعریف کالا'!$G$193","v":0},null,{"$f":"'تعریف کالا'!$F$193","v":0},null,0,null,null,null,null,null,null,null,null,null,null,null,null,null,null,0,0,0,0,0,0,0]
[null,"کاردکس 193",{"$f":"'تعریف کالا'!$C$197","v":0},{"$f":"'تعریف کالا'!$D$197","v":0},{"$f":"'تعریف کالا'!$E$197","v":0},{"$f":"'تعریف کالا'!$G$197","v":0},null,{"$f":"'تعریف کالا'!$F$197","v":0},null,0,null,null,null,null,null,null,null,null,null,null,null,null,null,null,0,0,0,0,0,0,0]
[null,"کاردکس 200",{"$f":"'تعریف کالا'!$C$204","v":0},{"$f":"'تعریف کالا'!$D$204","v":0},{"$f":"'تعریف کالا'!$E$204","v":0},{"$f":"'تعریف کالا'!$G$204","v":0},null,{"$f":"'تعریف کالا'!$F$204","v":0},null,0,null,null,null,null,null,null,null,null,null,null,null,null,null,null,0,0,0,0,0,0,0]
[null,null,null,null,null,null,null,null,null,null,null,null,null,null,null,null,null,null,null,null,null,null,null,null,"امضا صادر کننده",null,"امضا فروشنده",null,"امضا مسئول انبار",null,"امضا خریدار"]
[]
[null,null,null,null,null,null,null,null,null,null,null,null,null,null,null,null,null,null,null,null,null,null,null,"شماره سند",{"$f":"C6081","v":28}]
[null,null,"نام فروشنده","علی منصوری",null,"          کرایه حمل",null,null,"کرایه حمل",{"$f":"G6085","v":0}]
[null,"کاردکس 3",{"$f":"'تعریف کالا'!$C$7","v":9011122},{"$f":"'تعریف کالا'!$D$7","v":"نوت بوک"},{"$f":"'تعریف کالا'!$E$7","v":"سخت افزار"},{"$f":"'تعریف کالا'!$G$7","v":10000000},null,{"$f":"'تعریف کالا'!$F$7","v":"دستگاه"},null,{"$f":"(F6095*I6095)-(F6095*I6095*G6095%)","v":0},null,null,null,null,null,null,null,null,null,null,null,null,null,null,{"$f":"C6095","v":9011122},"نوت بوک","سخت افزار",10000000,"دستگاه",0,0]
[null,"کاردکس 8",{"$f":"'تعریف کالا'!$C$12","v":0},{"$f":"'تعریف کالا'!$D$12","v":0},{"$f":"'تعریف کالا'!$E$12","v":0},{"$f":"'تعریف کالا'!$G$12","v":0},null,{"$f":"'تعریف کالا'!$F$12","v":0},null,0,null,null,null,null,null,null,null,null,null,null,null,null,null,null,0,0,0,0,0,0,0]
[null,"کاردکس 10",{"$f":"'تعریف کالا'!$C$14","v":0},{"$f":"'تعریف کالا'!$D$14","v":0},{"$f":"'تعریف کالا'!$E$14","v":0},{"$f":"'تعریف کالا'!$G$14","v":0},null,{"$f":"'تعریف کالا'!$F$14","v":0},null,0,null,null,null,null,null,null,null,null,null,null,null,null,null,null,0,0,0,0,0,0,0]
[null,"کاردکس 19",{"$f":"'تعریف کالا'!$C$23","v":0},{"$f":"'تعریف کالا'!$D$23","v":0},{"$f":"'تعریف کالا'!$E$23","v":0},{"$f":"'تعریف کالا'!$G$23","v":0},null,{"$f":"'تعریف کالا'!$F$23","v":0},null,0,null,null,null,null,null,null,null,null,null,null,null,null,null,null,0,0,0,0,0,0,0]
[null,"کاردکس 22",{"$f":"'تعریف کالا'!$C$26","v":0},{"$f":"'تعریف کالا'!$D$26","v":0},{"$f":"'تعریف کالا'!$E$26","v":0},{"$f":"'تعریف کالا'!$G$26","v":0},null,{"$f":"'تعریف کالا'!$F$26","v":0},null,0,null,null,null,null,null,null,null,null,null,null,null,null,null,null,0,0,0,0,0,0,0]
[null,"کاردکس 28",{"$f":"'تعریف کالا'!$C$32","v":0},{"$f":"'تعریف کالا'!$D$32","v":0},{"$f":"'تعریف کالا'!$E$32","v":0},{"$f":"'تعریف کالا'!$G$32","v":0},null,{"$f":"'تعریف کالا'!$F$32","v":0},null,0,null,null,null,null,null,null,null,null,null,null,null,null,null,null,0,0,0,0,0,0,0]
[null,"کاردکس 33",{"$f":"'تعریف کالا'!$C$37","v":0},{"$f":"'تعریف کالا'!$D$37","v":0},{"$f":"'تعریف کالا'!$E$37","v":0},{"$f":"'تعریف کالا'!$G$37","v":0},null,{"$f":"'تعریف کالا'!$F$37","v":0},null,0,null,null,null,null,null,null,null,null,null,null,null,null,null,null,0,0,0,0,0,0,0]
[null,"کاردکس 37",{"$f":"'تعریف کالا'!$C$41","v":0},{"$f":"'تعریف کالا'!$D$41","v":0},{"$f":"'تعریف کالا'!$E$41","v":0},{"$f":"'تعریف کالا'!$G$41","v":0},null,{"$f":"'تعریف کالا'!$F$41","v":0},null,0,null,null,null,null,null,null,null,null,null,null,null,null,null,null,0,0,0,0,0,0,0]
[null,"کاردکس 45",{"$f":"'تعریف کالا'!$C$49","v":0},{"$f":"'تعریف کالا'!$D$49","v":0},{"$f":"'تعریف کالا'!$E$49","v":0},{"$f":"'تعریف کالا'!$G$49","v":0},null,{"$f":"'تعریف کالا'!$F$49","v":0},null,0,null,null,null,null,null,null,null,null,null,null,null,null,null,null,0,0,0,0,0,0,0]
[null,"کاردکس 52",{"$f":"'تعریف کالا'!$C$56","v":0},{"$f":"'تعریف کالا'!$D$56","v":0},{"$f":"'تعریف کالا'!$E$56","v":0},{"$f":"'تعریف کالا'!$G$56","v":0},null,{"$f":"'تعریف کالا'!$F$56","v":0},null,0,null,null,null,null,null,null,null,null,null,null,null,null,null,null,0,0,0,0,0,0,0]
[null,"کاردکس 57",{"$f":"'تعریف کالا'!$C$61","v":0},{"$f":"'تعریف کالا'!$D$61","v":0},{"$f":"'تعریف کالا'!$E$61","v":0},{"$f":"'تعریف کالا'!$G$61","v":0},null,{"$f":"'تعریف کالا'!$F$61","v":0},null,0,null,null,null,null,null,null,null,null,null,null,null,null,null,null,0,0,0,0,0,0,0]
[null,"کاردکس 63",{"$f":"'تعریف کالا'!$C$67","v":0},{"$f":"'تعریف کالا'!$D$67","v":0},{"$f":"'تعریف کالا'!$E$67","v":0},{"$f":"'تعریف کالا'!$G$67","v":0},null,{"$f":"'تعریف کالا'!$F$67","v":0},null,0,null,null,null,null,null,null,null,null,null,null,null,null,null,null,0,0,0,0,0,0,0]
[null,"کاردکس 69",{"$f":"'تعریف کالا'!$C$73","v":0},{"$f":"'تعریف کالا'!$D$73","v":0},{"$f":"'تعریف کالا'!$E$73","v":0},{"$f":"'تعریف کالا'!$G$73","v":0},null,{"$f":"'تعریف کالا'!$F$73","v":0},null,0,null,null,null,null,null,null,null,null,null,null,null,null,null,null,0,0,0,0,0,0,0]
[null,"کاردکس 72",{"$f":"'تعریف کالا'!$C$76","v":0},{"$f":"'تعریف کالا'!$D$76","v":0},{"$f":"'تعریف کالا'!$E$76","v":0},{"$f":"'تعریف کالا'!$G$76","v":0},null,{"$f":"'تعریف کالا'!$F$76","v":0},null,0,null,null,null,null,null,null,null,null,null,null,null,null,null,null,0,0,0,0,0,0,0]
[null,"کاردکس 76",{"$f":"'تعریف کالا'!$C$80","v":0},{"$f":"'تعریف کالا'!$D$80","v":0},{"$f":"'تعریف کالا'!$E$80","v":0},{"$f":"'تعریف کالا'!$G$80","v":0},null,{"$f":"'تعریف کالا'!$F$80","v":0},null,0,null,null,null,null,null,null,null,null,null,null,null,null,null,null,0,0,0,0,0,0,0]
[null,"کاردکس 81",{"$f":"'تعریف کالا'!$C$85","v":0},{"$f":"'تعریف کالا'!$D$85","v":0},{"$f":"'تعریف کالا'!$E$85","v":0},{"$f":"'تعریف کالا'!$G$85","v":0},null,{"$f":"'تعریف کالا'!$F$85","v":0},null,0,null,null,null,null,null,null,null,null,null,null,null,null,null,null,0,0,0,0,0,0,0]
[null,"کاردکس 87",{"$f":"'تعریف کالا'!$C$91","v":0},{"$f":"'تعریف کالا'!$D$91","v":0},{"$f":"'تعریف کالا'!$E$91","v":0},{"$f":"'تعریف کالا'!$G$91","v":0},null,{"$f":"'تعریف کالا'!$F$91","v":0},null,0,null,null,null,null,null,null,null,null,null,null,null,null,null,null,0,0,0,0,0,0,0]
[null,"کاردکس 96",{"$f":"'تعریف کالا'!$C$100","v":0},{"$f":"'تعریف کالا'!$D$100","v":0},{"$f":"'تعریف کالا'!$E$100","v":0},{"$f":"'تعریف کالا'!$G$100","v":0},null,{"$f":"'تعریف کالا'!$F$100","v":0},null,0,null,null,null,null,null,null,null,null,null,null,null,null,null,null,0,0,0,0,0,0,0]
[null,"کاردکس 99",{"$f":"'تعریف کالا'!$C$103","v":0},{"$f":"'تعریف کالا'!$D$103","v":0},{"$f":"'تعریف کالا'!$E$103","v":0},{"$f":"'تعریف کالا'!$G$103","v":0},null,{"$f":"'تعریف کالا'!$F$103","v":0},null,0,null,null,null,null,null,null,null,null,null,null,null,null,null,null,0,0,0,0,0,0,0]
[null,"کاردکس 107",{"$f":"'تعریف کالا'!$C$111","v":0},{"$f":"'تعریف کالا'!$D$111","v":0},{"$f":"'تعریف کالا'!$E$111","v":0},{"$f":"'تعریف کالا'!$G$111","v":0},null,{"$f":"'تعریف کالا'!$F$111","v":0},null,0,null,null,null,null,null,null,null,null,null,null,null,null,null,null,0,0,0,0,0,0,0]
[null,"کاردکس 111",{"$f":"'تعریف کالا'!$C$115","v":0},{"$f":"'تعریف کالا'!$D$115","v":0},{"$f":"'تعریف کالا'!$E$115","v":0},{"$f":"'تعریف کالا'!$G$115","v":0},null,{"$f":"'تعریف کالا'!$F$115","v":0},null,0,null,null,null,null,null,null,null,null,null,null,null,null,null,null,0,0,0,0,0,0,0]
[null,"کاردکس 116",{"$f":"'تعریف کالا'!$C$120","v":0},{"$f":"'تعریف کالا'!$D$120","v":0},{"$f":"'تعریف کالا'!$E$120","v":0},{"$f":"'تعریف کالا'!$G$120","v":0},null,{"$f":"'تعریف کالا'!$F$120","v":0},null,0,null,null,null,null,null,null,null,null,null,null,null,null,null,null,0,0,0,0,0,0,0]
[null,"کاردکس 123",{"$f":"'تعریف کالا'!$C$127","v":0},{"$f":"'تعریف کالا'!$D$127","v":0},{"$f":"'تعریف کالا'!$E$127","v":0},{"$f":"'تعریف کالا'!$G$127","v":0},null,{"$f":"'تعریف کالا'!$F$127","v":0},null,0,null,null,null,null,null,null,null,null,null,null,null,null,null,null,0,0,0,0,0,0,0]
[null,"کاردکس 125",{"$f":"'تعریف کالا'!$C$129","v":0},{"$f":"'تعریف کالا'!$D$129","v":0},{"$f":"'تعریف کالا'!$E$129","v":0},{"$f":"'تعریف کالا'!$G$129","v":0},null,{"$f":"'تعریف کالا'!$F$129","v":0},null,0,null,null,null,null,null,null,null,null,null,null,null,null,null,null,0,0,0,0,0,0,0]
[null,"کاردکس 134",{"$f":"'تعریف کالا'!$C$138","v":0},{"$f":"'تعریف کالا'!$D$138","v":0},{"$f":"'تعریف کالا'!$E$138","v":0},{"$f":"'تعریف کالا'!$G$138","v":0},null,{"$f":"'تعریف کالا'!$F$138","v":0},null,0,null,null,null,null,null,null,null,null,null,null,null,null,null,null,0,0,0,0,0,0,0]
[null,"کاردکس 140",{"$f":"'تعریف کالا'!$C$144","v":0},{"$f":"'تعریف کالا'!$D$144","v":0},{"$f":"'تعریف کالا'!$E$144","v":0},{"$f":"'تعریف کالا'!$G$144","v":0},null,{"$f":"'تعریف کالا'!$F$144","v":0},null,0,null,null,null,null,null,null,null,null,null,null,null,null,null,null,0,0,0,0,0,0,0]
[null,"کاردکس 146",{"$f":"'تعریف کالا'!$C$150","v":0},{"$f":"'تعریف کالا'!$D$150","v":0},{"$f":"'تعریف کالا'!$E$150","v":0},{"$f":"'تعریف کالا'!$G$150","v":0},null,{"$f":"'تعریف کالا'!$F$150","v":0},null,0,null,null,null,null,null,null,null,null,null,null,null,null,null,null,0,0,0,0,0,0,0]
[null,"کاردکس 149",{"$f":"'تعریف کالا'!$C$153","v":0},{"$f":"'تعریف کالا'!$D$153","v":0},{"$f":"'تعریف کالا'!$E$153","v":0},{"$f":"'تعریف کالا'!$G$153","v":0},null,{"$f":"'تعریف کالا'!$F$153","v":0},null,0,null,null,null,null,null,null,null,null,null,null,null,null,null,null,0,0,0,0,0,0,0]
[null,"کاردکس 153",{"$f":"'تعریف کالا'!$C$157","v":0},{"$f":"'تعریف کالا'!$D$157","v":0},{"$f":"'تعریف کالا'!$E$157","v":0},{"$f":"'تعریف کالا'!$G$157","v":0},null,{"$f":"'تعریف کالا'!$F$157","v":0},null,0,null,null,null,null,null,null,null,null,null,null,null,null,null,null,0,0,0,0,0,0,0]
[null,"کاردکس 160",{"$f":"'تعریف کالا'!$C$164","v":0},{"$f":"'تعریف کالا'!$D$164","v":0},{"$f":"'تعریف کالا'!$E$164","v":0},{"$f":"'تعریف کالا'!$G$164","v":0},null,{"$f":"'تعریف کالا'!$F$164","v":0},null,0,null,null,null,null,null,null,null,null,null,null,null,null,null,null,0,0,0,0,0,0,0]
[null,"کاردکس 165",{"$f":"'تعریف کالا'!$C$169","v":0},{"$f":"'تعریف کالا'!$D$169","v":0},{"$f":"'تعریف کالا'!$E$169","v":0},{"$f":"'تعریف کالا'!$G$169","v":0},null,{"$f":"'تعریف کالا'!$F$169","v":0},null,0,null,null,null,null,null,null,null,null,null,null,null,null,null,null,0,0,0,0,0,0,0]
[null,"کاردکس 169",{"$f":"'تعریف کالا'!$C$173","v":0},{"$f":"'تعریف کالا'!$D$173","v":0},{"$f":"'تعریف کالا'!$E$173","v":0},{"$f":"'تعریف کالا'!$G$173","v":0},null,{"$f":"'تعریف کالا'!$F$173","v":0},null,0,null,null,null,null,null,null,null,null,null,null,null,null,null,null,0,0,0,0,0,0,0]
[null,"کاردکس 176",{"$f":"'تعریف کالا'!$C$180","v":0},{"$f":"'تعریف کالا'!$D$180","v":0},{"$f":"'تعریف کالا'!$E$180","v":0},{"$f":"'تعریف کالا'!$G$180","v":0},null,{"$f":"'تعریف کالا'!$F$180","v":0},null,0,null,null,null,null,null,null,null,null,null,null,null,null,null,null,0,0,0,0,0,0,0]
[null,"کاردکس 184",{"$f":"'تعریف کالا'!$C$18","v":0},{"$f":"'تعریف کالا'!$D$188","v":0},{"$f":"'تعریف کالا'!$E$188","v":0},{"$f":"'تعریف کالا'!$G$188","v":0},null,{"$f":"'تعریف کالا'!$F$188","v":0},null,0,null,null,null,null,null,null,null,null,null,null,null,null,null,null,0,0,0,0,0,0,0]
[null,"کاردکس 188",{"$f":"'تعریف کالا'!$C$192","v":0},{"$f":"'تعریف کالا'!$D$192","v":0},{"$f":"'تعریف کالا'!$E$192","v":0},{"$f":"'تعریف کالا'!$G$192","v":0},null,{"$f":"'تعریف کالا'!$F$192","v":0},null,0,null,null,null,null,null,null,null,null,null,null,null,null,null,null,0,0,0,0,0,0,0]
[null,"کاردکس 193",{"$f":"'تعریف کالا'!$C$197","v":0},{"$f":"'تعریف کالا'!$D$197","v":0},{"$f":"'تعریف کالا'!$E$197","v":0},{"$f":"'تعریف کالا'!$G$197","v":0},null,{"$f":"'تعریف کالا'!$F$197","v":0},null,0,null,null,null,null,null,null,null,null,null,null,null,null,null,null,0,0,0,0,0,0,0]
[null,"کاردکس 200",{"$f":"'تعریف کالا'!$C$204","v":0},{"$f":"'تعریف کالا'!$D$204","v":0},{"$f":"'تعریف کالا'!$E$204","v":0},{"$f":"'تعریف کالا'!$G$204","v":0},null,{"$f":"'تعریف کالا'!$F$204","v":0},null,0,null,null,null,null,null,null,null,null,null,null,null,null,null,null,0,0,0,0,0,0,0]
[]
[null,null,"فاکتور خرید"]
[null,null,null,null,null,{"$f":"'صفحه اصلی'!$J$4","v":0},null,null,null,null,null,"فاکتور بعدی",null,null,null,null,null,null,null,null,null,null,null,"رسید کالا"]
[null,null,"ثبت چک","شرح رویداد"]
[null,"کاردکس 3",{"$f":"'تعریف کالا'!$C$7","v":9011122},{"$f":"'تعریف کالا'!$D$7","v":"نوت بوک"},{"$f":"'تعریف کالا'!$E$7","v":"سخت افزار"},{"$f":"'تعریف کالا'!$G$7","v":10000000},null,{"$f":"'تعریف کالا'!$F$7","v":"دستگاه"},null,{"$f":"(F6320*I6320)-(F6320*I6320*G6320%)","v":0},null,null,null,null,null,null,null,null,null,null,null,null,null,null,{"$f":"C6320","v":9011122},"نوت بوک","سخت افزار",10000000,"دستگاه",0,0]
[null,"کاردکس 5",{"$f":"'تعریف کالا'!$C$9","v":0},{"$f":"'تعریف کالا'!$D$9","v":0},{"$f":"'تعریف کالا'!$E$9","v":0},{"$f":"'تعریف کالا'!$G$9","v":0},null,{"$f":"'تعریف کالا'!$F$9","v":0},null,0,null,null,null,null,null,null,null,null,null,null,null,null,null,null,0,0,0,0,0,0,0]
[null,"کاردکس 12",{"$f":"'تعریف کالا'!$C$16","v":0},{"$f":"'تعریف کالا'!$D$16","v":0},{"$f":"'تعریف کالا'!$E$16","v":0},{"$f":"'تعریف کالا'!$G$16","v":0},null,{"$f":"'تعریف کالا'!$F$16","v":0},null,0,null,null,null,null,null,null,null,null,null,null,null,null,null,null,0,0,0,0,0,0,0]
[null,"کاردکس 17",{"$f":"'تعریف کالا'!$C$21","v":0},{"$f":"'تعریف کالا'!$D$21","v":0},{"$f":"'تعریف کالا'!$E$21","v":0},{"$f":"'تعریف کالا'!$G$21","v":0},null,{"$f":"'تعریف کالا'!$F$21","v":0},null,0,null,null,null,null,null,null,null,null,null,null,null,null,null,null,0,0,0,0,0,0,0]
[null,"کاردکس 23",{"$f":"'تعریف کالا'!$C$27","v":0},{"$f":"'تعریف کالا'!$D$27","v":0},{"$f":"'تعریف کالا'!$E$27","v":0},{"$f":"'تعریف کالا'!$G$27","v":0},null,{"$f":"'تعریف کالا'!$F$27","v":0},null,0,null,null,null,null,null,null,null,null,null,null,null,null,null,null,0,0,0,0,0,0,0]
[null,"کاردکس 29",{"$f":"'تعریف کالا'!$C$33","v":0},{"$f":"'تعریف کالا'!$D$33","v":0},{"$f":"'تعریف کالا'!$E$33","v":0},{"$f":"'تعریف کالا'!$G$33","v":0},null,{"$f":"'تعریف کالا'!$F$33","v":0},null,0,null,null,null,null,null,null,null,null,null,null,null,null,null,null,0,0,0,0,0,0,0]
[null,"کاردکس 32",{"$f":"'تعریف کالا'!$C$36","v":0},{"$f":"'تعریف کالا'!$D$36","v":0},{"$f":"'تعریف کالا'!$E$36","v":0},{"$f":"'تعریف کالا'!$G$36","v":0},null,{"$f":"'تعریف کالا'!$F$36","v":0},null,0,null,null,null,null,null,null,null,null,null,null,null,null,null,null,0,0,0,0,0,0,0]
[null,"کاردکس 41",{"$f":"'تعریف کالا'!$C$45","v":0},{"$f":"'تعریف کالا'!$D$45","v":0},{"$f":"'تعریف کالا'!$E$45","v":0},{"$f":"'تعریف کالا'!$G$45","v":0},null,{"$f":"'تعریف کالا'!$F$45","v":0},null,0,null,null,null,null,null,null,null,null,null,null,null,null,null,null,0,0,0,0,0,0,0]
[null,"کاردکس 47",{"$f":"'تعریف کالا'!$C$51","v":0},{"$f":"'تعریف کالا'!$D$51","v":0},{"$f":"'تعریف کالا'!$E$51","v":0},{"$f":"'تعریف کالا'!$G$51","v":0},null,{"$f":"'تعریف کالا'!$F$51","v":0},null,0,null,null,null,null,null,null,null,null,null,null,null,null,null,null,0,0,0,0,0,0,0]
[null,"کاردکس 52",{"$f":"'تعریف کالا'!$C$56","v":0},{"$f":"'تعریف کالا'!$D$56","v":0},{"$f":"'تعریف کالا'!$E$56","v":0},{"$f":"'تعریف کالا'!$G$56","v":0},null,{"$f":"'تعریف کالا'!$F$56","v":0},null,0,null,null,null,null,null,null,null,null,null,null,null,null,null,null,0,0,0,0,0,0,0]
[null,"کاردکس 56",{"$f":"'تعریف کالا'!$C$60","v":0},{"$f":"'تعریف کالا'!$D$60","v":0},{"$f":"'تعریف کالا'!$E$60","v":0},{"$f":"'تعریف کالا'!$G$60","v":0},null,{"$f":"'تعریف کالا'!$F$60","v":0},null,0,null,null,null,null,null,null,null,null,null,null,null,null,null,null,0,0,0,0,0,0,0]
[null,"کاردکس 64",{"$f":"'تعریف کالا'!$C$68","v":0},{"$f":"'تعریف کالا'!$D$68","v":0},{"$f":"'تعریف کالا'!$E$68","v":0},{"$f":"'تعریف کالا'!$G$68","v":0},null,{"$f":"'تعریف کالا'!$F$68","v":0},null,0,null,null,null,null,null,null,null,null,null,null,null,null,null,null,0,0,0,0,0,0,0]
[null,"کاردکس 67",{"$f":"'تعریف کالا'!$C$71","v":0},{"$f":"'تعریف کالا'!$D$71","v":0},{"$f":"'تعریف کالا'!$E$71","v":0},{"$f":"'تعریف کالا'!$G$71","v":0},null,{"$f":"'تعریف کالا'!$F$71","v":0},null,{"$f":"(F6384*I6384)-(F6384*I6384*G6384%)","v":0},null,null,null,null,null,null,null,null,null,null,null,null,null,null,{"$f":"C6384","v":0},0,0,0,0,0,0]
[null,"کاردکس 71",{"$f":"'تعریف کالا'!$C$75","v":0},{"$f":"'تعریف کالا'!$D$75","v":0},{"$f":"'تعریف کالا'!$E$75","v":0},{"$f":"'تعریف کالا'!$G$75","v":0},null,{"$f":"'تعریف کالا'!$F$75","v":0},null,0,null,null,null,null,null,null,null,null,null,null,null,null,null,null,0,0,0,0,0,0,0]
[null,"کاردکس 76",{"$f":"'تعریف کالا'!$C$80","v":0},{"$f":"'تعریف کالا'!$D$80","v":0},{"$f":"'تعریف کالا'!$E$80","v":0},{"$f":"'تعریف کالا'!$G$80","v":0},null,{"$f":"'تعریف کالا'!$F$80","v":0},null,0,null,null,null,null,null,null,null,null,null,null,null,null,null,null,0,0,0,0,0,0,0]
[null,"کاردکس 83",{"$f":"'تعریف کالا'!$C$87","v":0},{"$f":"'تعریف کالا'!$D$87","v":0},{"$f":"'تعریف کالا'!$E$87","v":0},{"$f":"'تعریف کالا'!$G$87","v":0},null,{"$f":"'تعریف کالا'!$F$87","v":0},null,0,null,null,null,null,null,null,null,null,null,null,null,null,null,null,0,0,0,0,0,0,0]
[null,"کاردکس 91",{"$f":"'تعریف کالا'!$C$95","v":0},{"$f":"'تعریف کالا'!$D$95","v":0},{"$f":"'تعریف کالا'!$E$95","v":0},{"$f":"'تعریف کالا'!$G$95","v":0},null,{"$f":"'تعریف کالا'!$F$95","v":0},null,0,null,null,null,null,null,null,null,null,null,null,null,null,null,null,0,0,0,0,0,0,0]
[null,"کاردکس 94",{"$f":"'تعریف کالا'!$C$98","v":0},{"$f":"'تعریف کالا'!$D$98","v":0},{"$f":"'تعریف کالا'!$E$98","v":0},{"$f":"'تعریف کالا'!$G$98","v":0},null,{"$f":"'تعریف کالا'!$F$98","v":0},null,0,null,null,null,null,null,null,null,null,null,null,null,null,null,null,0,0,0,0,0,0,0]
[null,"کاردکس 100",{"$f":"'تعریف کالا'!$C$104","v":0},{"$f":"'تعریف کالا'!$D$104","v":0},{"$f":"'تعریف کالا'!$E$104","v":0},{"$f":"'تعریف کالا'!$G$104","v":0},null,{"$f":"'تعریف کالا'!$F$104","v":0},null,0,null,null,null,null,null,null,null,null,null,null,null,null,null,null,0,0,0,0,0,0,0]
[null,"کاردکس 106",{"$f":"'تعریف کالا'!$C$110","v":0},{"$f":"'تعریف کالا'!$D$110","v":0},{"$f":"'تعریف کالا'!$E$110","v":0},{"$f":"'تعریف کالا'!$G$110","v":0},null,{"$f":"'تعریف کالا'!$F$110","v":0},null,0,null,null,null,null,null,null,null,null,null,null,null,null,null,null,0,0,0,0,0,0,0]
[null,"کاردکس 109",{"$f":"'تعریف کالا'!$C$113","v":0},{"$f":"'تعریف کالا'!$D$113","v":0},{"$f":"'تعریف کالا'!$E$113","v":0},{"$f":"'تعریف کالا'!$G$113","v":0},null,{"$f":"'تعریف کالا'!$F$113","v":0},null,0,null,null,null,null,null,null,null,null,null,null,null,null,null,null,0,0,0,0,0,0,0]
[null,"کاردکس 118",{"$f":"'تعریف کالا'!$C$122","v":0},{"$f":"'تعریف کالا'!$D$122","v":0},{"$f":"'تعریف کالا'!$E$122","v":0},{"$f":"'تعریف کالا'!$G$122","v":0},null,{"$f":"'تعریف کالا'!$F$122","v":0},null,0,null,null,null,null,null,null,null,null,null,null,null,null,null,null,0,0,0,0,0,0,0]
[null,"کاردکس 120",{"$f":"'تعریف کالا'!$C$124","v":0},{"$f":"'تعریف کالا'!$D$124","v":0},{"$f":"'تعریف کالا'!$E$124","v":0},{"$f":"'تعریف کالا'!$G$124","v":0},null,{"$f":"'تعریف کالا'!$F$124","v":0},null,0,null,null,null,null,null,null,null,null,null,null,null,null,null,null,0,0,0,0,0,0,0]
[null,"کاردکس 130",{"$f":"'تعریف کالا'!$C$134","v":0},{"$f":"'تعریف کالا'!$D$134","v":0},{"$f":"'تعریف کالا'!$E$134","v":0},{"$f":"'تعریف کالا'!$G$134","v":0},null,{"$f":"'تعریف کالا'!$F$134","v":0},null,0,null,null,null,null,null,null,null,null,null,null,null,null,null,null,0,0,0,{"$f":"F6447","v":0},{"$f":"H6447","v":0},{"$f":"I6447","v":0},{"$f":"J6447","v":0}]
[null,"کاردکس 135",{"$f":"'تعریف کالا'!$C$139","v":0},{"$f":"'تعریف کالا'!$D$139","v":0},{"$f":"'تعریف کالا'!$E$139","v":0},{"$f":"'تعریف کالا'!$G$139","v":0},null,{"$f":"'تعریف کالا'!$F$139","v":0},null,0,null,null,null,null,null,null,null,null,null,null,null,null,null,null,0,0,0,0,0,0,0]
[null,"کاردکس 141",{"$f":"'تعریف کالا'!$C$145","v":0},{"$f":"'تعریف کالا'!$D$145","v":0},{"$f":"'تعریف کالا'!$E$145","v":0},{"$f":"'تعریف کالا'!$G$145","v":0},null,{"$f":"'تعریف کالا'!$F$145","v":0},null,0,null,null,null,null,null,null,null,null,null,null,null,null,null,null,0,0,0,0,0,0,0]
[null,"کاردکس 144",{"$f":"'تعریف کالا'!$C$148","v":0},{"$f":"'تعریف کالا'!$D$148","v":0},{"$f":"'تعریف کالا'!$E$148","v":0},{"$f":"'تعریف کالا'!$G$148","v":0},null,{"$f":"'تعریف کالا'!$F$148","v":0},null,0,null,null,null,null,null,null,null,null,null,null,null,null,null,null,0,0,0,0,0,0,0]
[null,"کاردکس 148",{"$f":"'تعریف کالا'!$C$152","v":0},{"$f":"'تعریف کالا'!$D$152","v":0},{"$f":"'تعریف کالا'!$E$152","v":0},{"$f":"'تعریف کالا'!$G$152","v":0},null,{"$f":"'تعریف کالا'!$F$152","v":0},null,0,null,null,null,null,null,null,null,null,null,null,null,null,null,null,0,0,0,0,0,0,0]
[null,"کاردکس 153",{"$f":"'تعریف کالا'!$C$157","v":0},{"$f":"'تعریف کالا'!$D$157","v":0},{"$f":"'تعریف کالا'!$E$157","v":0},{"$f":"'تعریف کالا'!$G$157","v":0},null,{"$f":"'تعریف کالا'!$F$157","v":0},null,0,null,null,null,null,null,null,null,null,null,null,null,null,null,null,0,0,0,0,0,0,0]
[null,"کاردکس 160",{"$f":"'تعریف کالا'!$C$164","v":0},{"$f":"'تعریف کالا'!$D$164","v":0},{"$f":"'تعریف کالا'!$E$164","v":0},{"$f":"'تعریف کالا'!$G$164","v":0},null,{"$f":"'تعریف کالا'!$F$164","v":0},null,0,null,null,null,null,null,null,null,null,null,null,null,null,null,null,0,0,0,0,0,0,0]
[null,"کاردکس 164",{"$f":"'تعریف کالا'!$C$168","v":0},{"$f":"'تعریف کالا'!$D$168","v":0},{"$f":"'تعریف کالا'!$E$168","v":0},{"$f":"'تعریف کالا'!$G$168","v":0},null,{"$f":"'تعریف کالا'!$F$168","v":0},null,0,null,null,null,null,null,null,null,null,null,null,null,null,null,null,0,0,0,0,0,0,0]
[null,"کاردکس 172",{"$f":"'تعریف کالا'!$C$176","v":0},{"$f":"'تعریف کالا'!$D$176","v":0},{"$f":"'تعریف کالا'!$E$176","v":0},{"$f":"'تعریف کالا'!$G$176","v":0},null,{"$f":"'تعریف کالا'!$F$176","v":0},null,0,null,null,null,null,null,null,null,null,null,null,null,null,null,null,0,0,0,0,0,0,0]
[null,"کاردکس 179",{"$f":"'تعریف کالا'!$C$183","v":0},{"$f":"'تعریف کالا'!$D$183","v":0},{"$f":"'تعریف کالا'!$E$183","v":0},{"$f":"'تعریف کالا'!$G$183","v":0},null,{"$f":"'تعریف کالا'!$F$183","v":0},null,0,null,null,null,null,null,null,null,null,null,null,null,null,null,null,0,0,0,0,0,0,0]
[null,"کاردکس 181",{"$f":"'تعریف کالا'!$C$185","v":0},{"$f":"'تعریف کالا'!$D$185","v":0},{"$f":"'تعریف کالا'!$E$185","v":0},{"$f":"'تعریف کالا'!$G$185","v":0},null,{"$f":"'تعریف کالا'!$F$185","v":0},null,0,null,null,null,null,null,null,null,null,null,null,null,null,null,null,0,0,0,0,0,0,0]
[null,"کاردکس 182",{"$f":"'تعریف کالا'!$C$186","v":0},{"$f":"'تعریف کالا'!$D$186","v":0},{"$f":"'تعریف کالا'!$E$186","v":0},{"$f":"'تعریف کالا'!$G$186","v":0},null,{"$f":"'تعریف کالا'!$F$186","v":0},null,0,null,null,null,null,null,null,null,null,null,null,null,null,null,null,0,0,0,0,0,0,0]
[null,"کاردکس 183",{"$f":"'تعریف کالا'!$C$187","v":0},{"$f":"'تعریف کالا'!$D$187","v":0},{"$f":"'تعریف کالا'!$E$187","v":0},{"$f":"'تعریف کالا'!$G$187","v":0},null,{"$f":"'تعریف کالا'!$F$187","v":0},null,0,null,null,null,null,null,null,null,null,null,null,null,null,null,null,0,0,0,0,0,0,0]
[null,"کاردکس 184",{"$f":"'تعریف کالا'!$C$18","v":0},{"$f":"'تعریف کالا'!$D$188","v":0},{"$f":"'تعریف کالا'!$E$188","v":0},{"$f":"'تعریف کالا'!$G$188","v":0},null,{"$f":"'تعریف کالا'!$F$188","v":0},null,0,null,null,null,null,null,null,null,null,null,null,null,null,null,null,0,0,0,0,0,0,0]
[null,"کاردکس 185",{"$f":"'تعریف کالا'!$C$189","v":0},{"$f":"'تعریف کالا'!$D$189","v":0},{"$f":"'تعریف کالا'!$E$189","v":0},{"$f":"'تعریف کالا'!$G$189","v":0},null,{"$f":"'تعریف کالا'!$F$189","v":0},null,0,null,null,null,null,null,null,null,null,null,null,null,null,null,null,0,0,0,0,0,0,0]
[null,"کاردکس 186",{"$f":"'تعریف کالا'!$C$190","v":0},{"$f":"'تعریف کالا'!$D$190","v":0},{"$f":"'تعریف کالا'!$E$190","v":0},{"$f":"'تعریف کالا'!$G$190","v":0},null,{"$f":"'تعریف کالا'!$F$190","v":0},null,0,null,null,null,null,null,null,null,null,null,null,null,null,null,null,0,0,0,0,0,0,0]
[null,"کاردکس 187",{"$f":"'تعریف کالا'!$C$191","v":0},{"$f":"'تعریف کالا'!$D$191","v":0},{"$f":"'تعریف کالا'!$E$191","v":0},{"$f":"'تعریف کالا'!$G$191","v":0},null,{"$f":"'تعریف کالا'!$F$191","v":0},null,0,null,null,null,null,null,null,null,null,null,null,null,null,null,null,0,0,0,0,0,0,0]
[null,"کاردکس 188",{"$f":"'تعریف کالا'!$C$192","v":0},{"$f":"'تعریف کالا'!$D$192","v":0},{"$f":"'تعریف کالا'!$E$192","v":0},{"$f":"'تعریف کالا'!$G$192","v":0},null,{"$f":"'تعریف کالا'!$F$192","v":0},null,0,null,null,null,null,null,null,null,null,null,null,null,null,null,null,0,0,0,0,0,0,0]
[null,"کاردکس 189",{"$f":"'تعریف کالا'!$C$193","v":0},{"$f":"'تعریف کالا'!$D$193","v":0},{"$f":"'تعریف کالا'!$E$193","v":0},{"$f":"'تعریف کالا'!$G$193","v":0},null,{"$f":"'تعریف کالا'!$F$193","v":0},null,0,null,null,null,null,null,null,null,null,null,null,null,null,null,null,0,0,0,0,0,0,0]
[null,"کاردکس 190",{"$f":"'تعریف کالا'!$C$194","v":0},{"$f":"'تعریف کالا'!$D$194","v":0},{"$f":"'تعریف کالا'!$E$194","v":0},{"$f":"'تعریف کالا'!$G$194","v":0},null,{"$f":"'تعریف کالا'!$F$194","v":0},null,0,null,null,null,null,null,null,null,null,null,null,null,null,null,null,0,0,0,0,0,0,0]
[null,"کاردکس 191",{"$f":"'تعریف کالا'!$C$195","v":0},{"$f":"'تعریف کالا'!$D$195","v":0},{"$f":"'تعریف کالا'!$E$195","v":0},{"$f":"'تعریف کالا'!$G$195","v":0},null,{"$f":"'تعریف کالا'!$F$195","v":0},null,0,null,null,null,null,null,null,null,null,null,null,null,null,null,null,0,0,0,0,0,0,0]
[null,"کاردکس 192",{"$f":"'تعریف کالا'!$C$196","v":0},{"$f":"'تعریف کالا'!$D$196","v":0},{"$f":"'تعریف کالا'!$E$196","v":0},{"$f":"'تعریف کالا'!$G$196","v":0},null,{"$f":"'تعریف کالا'!$F$196","v":0},null,0,null,null,null,null,null,null,null,null,null,null,null,null,null,null,0,0,0,0,0,0,0]
[null,"کاردکس 193",{"$f":"'تعریف کالا'!$C$197","v":0},{"$f":"'تعریف کالا'!$D$197","v":0},{"$f":"'تعریف کالا'!$E$197","v":0},{"$f":"'تعریف کالا'!$G$197","v":0},null,{"$f":"'تعریف کالا'!$F$197","v":0},null,0,null,null,null,null,null,null,null,null,null,null,null,null,null,null,0,0,0,0,0,0,0]
[null,"کاردکس 194",{"$f":"'تعریف کالا'!$C$198","v":0},{"$f":"'تعریف کالا'!$D$198","v":0},{"$f":"'تعریف کالا'!$E$198","v":0},{"$f":"'تعریف کالا'!$G$198","v":0},null,{"$f":"'تعریف کالا'!$F$198","v":0},null,0,null,null,null,null,null,null,null,null,null,null,null,null,null,null,0,0,0,{"$f":"F6511","v":0},{"$f":"H6511","v":0},{"$f":"I6511","v":0},{"$f":"J6511","v":0}]
[null,"کاردکس 195",{"$f":"'تعریف کالا'!$C$199","v":0},{"$f":"'تعریف کالا'!$D$199","v":0},{"$f":"'تعریف کالا'!$E$199","v":0},{"$f":"'تعریف کالا'!$G$199","v":0},null,{"$f":"'تعریف کالا'!$F$199","v":0},null,{"$f":"(F6512*I6512)-(F6512*I6512*G6512%)","v":0},null,null,null,null,null,null,null,null,null,null,null,null,null,null,{"$f":"C6512","v":0},{"$f":"D6512","v":0},{"$f":"E6512","v":0},0,0,0,0]
[null,"کاردکس 196",{"$f":"'تعریف کالا'!$C$200","v":0},{"$f":"'تعریف کالا'!$D$200","v":0},{"$f":"'تعریف کالا'!$E$200","v":0},{"$f":"'تعریف کالا'!$G$200","v":0},null,{"$f":"'تعریف کالا'!$F$200","v":0},null,0,null,null,null,null,null,null,null,null,null,null,null,null,null,null,0,0,0,0,0,0,0]
[null,"کاردکس 197",{"$f":"'تعریف کالا'!$C$201","v":0},{"$f":"'تعریف کالا'!$D$201","v":0},{"$f":"'تعریف کالا'!$E$201","v":0},{"$f":"'تعریف کالا'!$G$201","v":0},null,{"$f":"'تعریف کالا'!$F$201","v":0},null,0,null,null,null,null,null,null,null,null,null,null,null,null,null,null,0,0,0,0,0,0,0]
[null,"کاردکس 198",{"$f":"'تعریف کالا'!$C$202","v":0},{"$f":"'تعریف کالا'!$D$202","v":0},{"$f":"'تعریف کالا'!$E$202","v":0},{"$f":"'تعریف کالا'!$G$202","v":0},null,{"$f":"'تعریف کالا'!$F$202","v":0},null,0,null,null,null,null,null,null,null,null,null,null,null,null,null,null,0,0,0,0,0,0,0]
[null,"کاردکس 199",{"$f":"'تعریف کالا'!$C$203","v":0},{"$f":"'تعریف کالا'!$D$203","v":0},{"$f":"'تعریف کالا'!$E$203","v":0},{"$f":"'تعریف کالا'!$G$203","v":0},null,{"$f":"'تعریف کالا'!$F$203","v":0},null,0,null,null,null,null,null,null,null,null,null,null,null,null,null,null,0,0,0,0,0,0,0]
[null,"کاردکس 200",{"$f":"'تعریف کالا'!$C$204","v":0},{"$f":"'تعریف کالا'!$D$204","v":0},{"$f":"'تعریف کالا'!$E$204","v":0},{"$f":"'تعریف کالا'!$G$204","v":0},null,{"$f":"'تعریف کالا'!$F$204","v":0},null,0,null,null,null,null,null,null,null,null,null,null,null,null,null,null,0,0,0,0,0,0,0]
[null,"     جمع کل",null,{"$f":"abh(I6518)&L6514","v":"منفي "},null,null,null,null,{"$f":"SUM(J6318:J6517)","v":0},null,null,null,null,null,null,null,null,null,null,null,null,null,null,"مانده حساب",null,{"$f":"abh(AD6518)& \"ریال\"","v":"منفي ریال"},null,null,null,{"$f":"I6520","v":0}]
[null,"                  مبلغ قابل  پرداخت        ",null,{"$f":"abh(I6519)&\"ریال\"","v":"منفي ریال"},null,null,null,null,{"$f":"J6312","v":0},null,null,null,null,null,null,null,null,null,null,null,null,null,null,"شرح رویداد :",null,{"$f":"E6315","v":0}]
[null,"مانده حساب",null,{"$f":"abh(I6520)&\"ریال\"","v":"منفي ریال"},null,null,null,null,{"$f":"J6313","v":0},null,null,null,null,null,null,null,null,null,null,null,null,null,null,"اقلام این فاکتور سالم تحویل اینجانب  ....................  شد.               "]
[]
[null,null,null,null,null,null,null,null,null,null,null,null,null,null,null,null,null,null,null,null,null,null,null,null,"امضا صادر کننده",null,"امضا فروشنده",null,"امضا مسئول انبار",null,"امضا خریدار"]
[]
[]
[]
[]
[]
[]
[null,null,"فاکتور خرید"]
[null,null,null,null,null,{"$f":"'صفحه اصلی'!$J$4","v":0},null,null,null,null,null,null,null,null,null,null,null,null,null,null,null,null,null,"رسید کالا"]
[null,"شماره سند ",30,null,null,null,null,null,"تاریخ",null,null,null,null,null,null,null,null,null,null,null,null,null,null,null,null,null,{"$f":"F6530","v":0},null,null,"تاریخ",{"$f":"J6531","v":0}]
[null,"شماره فاکتور",30,null,null,null,null,null,"انبار",null,null,"مشاهده رسید",null,null,null,null,null,null,null,null,null,null,null,"شماره رسید",{"$f":"C6532","v":30}]
[null,null,null,null,null,null,null,null,null,null,null,null,null,null,null,null,null,null,null,null,null,null,null,"شماره سند",{"$f":"C6531","v":30}]
[null,null,null,null,null,"           درصد تخفیف  ",null,null,"تخفیف ",{"$f":"(I6743*G6534%)","v":0}]
[null,null,"نام فروشنده","علی منصوری",null,"          کرایه حمل",null,null,"کرایه حمل",{"$f":"G6535","v":0}]
[null,null,null,null,null,"          مالیات",null,null,"مالیات",{"$f":"(I6743-J6534+J6535)*G6536%","v":0}]
[null,null,"پرداخت نقدی",null,null,null,null,null,"مبلغ قابل پرداخت",{"$f":"I6743-J6534+J6535+J6536","v":0},null,null,null,null,null,null,null,null,null,null,null,null,null,null,"فروشنده :",{"$f":"D6535","v":"علی منصوری"}]
[null,null,"پرداخت با چک",null,null,null,null,null,"مانده حساب",{"$f":"J6537-D6537-D6538","v":0}]
[null,null,null,null,null,null,null,null,null,null,null,null,null,null,null,null,null,null,null,null,null,null,null,null,"آدرس :",{"$f":"VLOOKUP(Z6537,'مشخصات فروشندگان'!$B$2:$C$502,2,FALSE)","v":0}]
[null,null,"ثبت چک","شرح رویداد"]
[]
[null,"شماره کاردکس","کد کالا","نام کالا","گروه بندی","قیمت واحد","درصد تخفیف","واحد شمارش","تعداد","قیمت کل",null,null,null,null,null,null,null,null,null,null,null,null,null,"ردیف","کد کالا","نام کالا","گروه بندی","قیمت واحد","واحد شمارش","تعداد","قیمت کل"]
[null,"کاردکس 1",{"$f":"'تعریف کالا'!$C$5","v":9011120},{"$f":"'تعریف کالا'!$D$5","v":"سی دی"},{"$f":"'تعریف کالا'!$E$5","v":"سخت افزار"},{"$f":"'تعریف کالا'!$G$5","v":3000},null,{"$f":"'تعریف کالا'!$F$5","v":"حلقه"},null,{"$f":"(F6543*I6543)-(F6543*I6543*G6543%)","v":0},null,null,null,null,null,null,null,null,null,null,null,null,null,null,{"$f":"C6543","v":9011120},{"$f":"D6543","v":"سی دی"},{"$f":"E6543","v":"سخت افزار"},{"$f":"F6543","v":3000},{"$f":"H6543","v":"حلقه"},{"$f":"I6543","v":0},{"$f":"J6543","v":0}]
[null,"کاردکس 2",{"$f":"'تعریف کالا'!$C$6","v":9011121},{"$f":"'تعریف کالا'!$D$6","v":"دی وی دی"},{"$f":"'تعریف کالا'!$E$6","v":"سخت افزار"},{"$f":"'تعریف کالا'!$G$6","v":7000},null,{"$f":"'تعریف کالا'!$F$6","v":"حلقه"},null,{"$f":"(F6544*I6544)-(F6544*I6544*G6544%)","v":0},null,null,null,null,null,null,null,null,null,null,null,null,null,null,{"$f":"C6544","v":9011121},{"$f":"D6544","v":"دی وی دی"},{"$f":"E6544","v":"سخت افزار"},{"$f":"F6544","v":7000},{"$f":"H6544","v":"حلقه"},{"$f":"I6544","v":0},{"$f":"J6544","v":0}]
[null,"کاردکس 3",{"$f":"'تعریف کالا'!$C$7","v":9011122},{"$f":"'تعریف کالا'!$D$7","v":"نوت بوک"},{"$f":"'تعریف کالا'!$E$7","v":"سخت افزار"},{"$f":"'تعریف کالا'!$G$7","v":10000000},null,{"$f":"'تعریف کالا'!$F$7","v":"دستگاه"},null,{"$f":"(F6545*I6545)-(F6545*I6545*G6545%)","v":0},null,null,null,null,null,null,null,null,null,null,null,null,null,null,{"$f":"C6545","v":9011122},"نوت بوک","سخت افزار",10000000,"دستگاه",0,0]
[null,"کاردکس 4",{"$f":"'تعریف کالا'!$C$8","v":0},{"$f":"'تعریف کالا'!$D$8","v":0},{"$f":"'تعریف کالا'!$E$8","v":0},{"$f":"'تعریف کالا'!$G$8","v":0},null,{"$f":"'تعریف کالا'!$F$8","v":0},null,0,null,null,null,null,null,null,null,null,null,null,null,null,null,null,0,0,0,0,0,0,0]
[null,"کاردکس 5",{"$f":"'تعریف کالا'!$C$9","v":0},{"$f":"'تعریف کالا'!$D$9","v":0},{"$f":"'تعریف کالا'!$E$9","v":0},{"$f":"'تعریف کالا'!$G$9","v":0},null,{"$f":"'تعریف کالا'!$F$9","v":0},null,0,null,null,null,null,null,null,null,null,null,null,null,null,null,null,0,0,0,0,0,0,0]
[null,"کاردکس 6",{"$f":"'تعریف کالا'!$C$10","v":0},{"$f":"'تعریف کالا'!$D$10","v":0},{"$f":"'تعریف کالا'!$E$10","v":0},{"$f":"'تعریف کالا'!$G$10","v":0},null,{"$f":"'تعریف کالا'!$F$10","v":0},null,0,null,null,null,null,null,null,null,null,null,null,null,null,null,null,0,0,0,0,0,0,0]
[null,"کاردکس 7",{"$f":"'تعریف کالا'!$C$11","v":0},{"$f":"'تعریف کالا'!$D$11","v":0},{"$f":"'تعریف کالا'!$E$11","v":0},{"$f":"'تعریف کالا'!$G$11","v":0},null,{"$f":"'تعریف کالا'!$F$11","v":0},null,0,null,null,null,null,null,null,null,null,null,null,null,null,null,null,0,0,0,0,0,0,0]
[null,"کاردکس 8",{"$f":"'تعریف کالا'!$C$12","v":0},{"$f":"'تعریف کالا'!$D$12","v":0},{"$f":"'تعریف کالا'!$E$12","v":0},{"$f":"'تعریف کالا'!$G$12","v":0},null,{"$f":"'تعریف کالا'!$F$12","v":0},null,0,null,null,null,null,null,null,null,null,null,null,null,null,null,null,0,0,0,0,0,0,0]
[null,"کاردکس 9",{"$f":"'تعریف کالا'!$C$13","v":0},{"$f":"'تعریف کالا'!$D$13","v":0},{"$f":"'تعریف کالا'!$E$13","v":0},{"$f":"'تعریف کالا'!$G$13","v":0},null,{"$f":"'تعریف کالا'!$F$13","v":0},null,0,null,null,null,null,null,null,null,null,null,null,null,null,null,null,0,0,0,0,0,0,0]
[null,"کاردکس 10",{"$f":"'تعریف کالا'!$C$14","v":0},{"$f":"'تعریف کالا'!$D$14","v":0},{"$f":"'تعریف کالا'!$E$14","v":0},{"$f":"'تعریف کالا'!$G$14","v":0},null,{"$f":"'تعریف کالا'!$F$14","v":0},null,0,null,null,null,null,null,null,null,null,null,null,null,null,null,null,0,0,0,0,0,0,0]
[null,"کاردکس 11",{"$f":"'تعریف کالا'!$C$15","v":0},{"$f":"'تعریف کالا'!$D$15","v":0},{"$f":"'تعریف کالا'!$E$15","v":0},{"$f":"'تعریف کالا'!$G$15","v":0},null,{"$f":"'تعریف کالا'!$F$15","v":0},null,0,null,null,null,null,null,null,null,null,null,null,null,null,null,null,0,0,0,0,0,0,0]
[null,"کاردکس 12",{"$f":"'تعریف کالا'!$C$16","v":0},{"$f":"'تعریف کالا'!$D$16","v":0},{"$f":"'تعریف کالا'!$E$16","v":0},{"$f":"'تعریف کالا'!$G$16","v":0},null,{"$f":"'تعریف کالا'!$F$16","v":0},null,0,null,null,null,null,null,null,null,null,null,null,null,null,null,null,0,0,0,0,0,0,0]
[null,"کاردکس 13",{"$f":"'تعریف کالا'!$C$17","v":0},{"$f":"'تعریف کالا'!$D$17","v":0},{"$f":"'تعریف کالا'!$E$17","v":0},{"$f":"'تعریف کالا'!$G$17","v":0},null,{"$f":"'تعریف کالا'!$F$17","v":0},null,0,null,null,null,null,null,null,null,null,null,null,null,null,null,null,0,0,0,0,0,0,0]
[null,"کاردکس 14",{"$f":"'تعریف کالا'!$C$18","v":0},{"$f":"'تعریف کالا'!$D$18","v":0},{"$f":"'تعریف کالا'!$E$18","v":0},{"$f":"'تعریف کالا'!$G$18","v":0},null,{"$f":"'تعریف کالا'!$F$18","v":0},null,0,null,null,null,null,null,null,null,null,null,null,null,null,null,null,0,0,0,0,0,0,0]
[null,"کاردکس 15",{"$f":"'تعریف کالا'!$C$19","v":0},{"$f":"'تعریف کالا'!$D$19","v":0},{"$f":"'تعریف کالا'!$E$19","v":0},{"$f":"'تعریف کالا'!$G$19","v":0},null,{"$f":"'تعریف کالا'!$F$19","v":0},null,0,null,null,null,null,null,null,null,null,null,null,null,null,null,null,0,0,0,0,0,0,0]
[null,"کاردکس 16",{"$f":"'تعریف کالا'!$C$20","v":0},{"$f":"'تعریف کالا'!$D$20","v":0},{"$f":"'تعریف کالا'!$E$20","v":0},{"$f":"'تعریف کالا'!$G$20","v":0},null,{"$f":"'تعریف کالا'!$F$20","v":0},null,0,null,null,null,null,null,null,null,null,null,null,null,null,null,null,0,0,0,0,0,0,0]
[null,"کاردکس 17",{"$f":"'تعریف کالا'!$C$21","v":0},{"$f":"'تعریف کالا'!$D$21","v":0},{"$f":"'تعریف کالا'!$E$21","v":0},{"$f":"'تعریف کالا'!$G$21","v":0},null,{"$f":"'تعریف کالا'!$F$21","v":0},null,0,null,null,null,null,null,null,null,null,null,null,null,null,null,null,0,0,0,0,0,0,0]
[null,"کاردکس 18",{"$f":"'تعریف کالا'!$C$22","v":0},{"$f":"'تعریف کالا'!$D$22","v":0},{"$f":"'تعریف کالا'!$E$22","v":0},{"$f":"'تعریف کالا'!$G$22","v":0},null,{"$f":"'تعریف کالا'!$F$22","v":0},null,0,null,null,null,null,null,null,null,null,null,null,null,null,null,null,0,0,0,0,0,0,0]
[null,"کاردکس 19",{"$f":"'تعریف کالا'!$C$23","v":0},{"$f":"'تعریف کالا'!$D$23","v":0},{"$f":"'تعریف کالا'!$E$23","v":0},{"$f":"'تعریف کالا'!$G$23","v":0},null,{"$f":"'تعریف کالا'!$F$23","v":0},null,0,null,null,null,null,null,null,null,null,null,null,null,null,null,null,0,0,0,0,0,0,0]
[null,"کاردکس 20",{"$f":"'تعریف کالا'!$C$24","v":0},{"$f":"'تعریف کالا'!$D$24","v":0},{"$f":"'تعریف کالا'!$E$24","v":0},{"$f":"'تعریف کالا'!$G$24","v":0},null,{"$f":"'تعریف کالا'!$F$24","v":0},null,0,null,null,null,null,null,null,null,null,null,null,null,null,null,null,0,0,0,0,0,0,0]
[null,"کاردکس 21",{"$f":"'تعریف کالا'!$C$25","v":0},{"$f":"'تعریف کالا'!$D$25","v":0},{"$f":"'تعریف کالا'!$E$25","v":0},{"$f":"'تعریف کالا'!$G$25","v":0},null,{"$f":"'تعریف کالا'!$F$25","v":0},null,0,null,null,null,null,null,null,null,null,null,null,null,null,null,null,0,0,0,0,0,0,0]
[null,"کاردکس 22",{"$f":"'تعریف کالا'!$C$26","v":0},{"$f":"'تعریف کالا'!$D$26","v":0},{"$f":"'تعریف کالا'!$E$26","v":0},{"$f":"'تعریف کالا'!$G$26","v":0},null,{"$f":"'تعریف کالا'!$F$26","v":0},null,0,null,null,null,null,null,null,null,null,null,null,null,null,null,null,0,0,0,0,0,0,0]
[null,"کاردکس 23",{"$f":"'تعریف کالا'!$C$27","v":0},{"$f":"'تعریف کالا'!$D$27","v":0},{"$f":"'تعریف کالا'!$E$27","v":0},{"$f":"'تعریف کالا'!$G$27","v":0},null,{"$f":"'تعریف کالا'!$F$27","v":0},null,0,null,null,null,null,null,null,null,null,null,null,null,null,null,null,0,0,0,0,0,0,0]
[null,"کاردکس 24",{"$f":"'تعریف کالا'!$C$28","v":0},{"$f":"'تعریف کالا'!$D$28","v":0},{"$f":"'تعریف کالا'!$E$28","v":0},{"$f":"'تعریف کالا'!$G$28","v":0},null,{"$f":"'تعریف کالا'!$F$28","v":0},null,0,null,null,null,null,null,null,null,null,null,null,null,null,null,null,0,0,0,0,0,0,0]
[null,"کاردکس 25",{"$f":"'تعریف کالا'!$C$29","v":0},{"$f":"'تعریف کالا'!$D$29","v":0},{"$f":"'تعریف کالا'!$E$29","v":0},{"$f":"'تعریف کالا'!$G$29","v":0},null,{"$f":"'تعریف کالا'!$F$29","v":0},null,0,null,null,null,null,null,null,null,null,null,null,null,null,null,null,0,0,0,0,0,0,0]
[null,"کاردکس 26",{"$f":"'تعریف کالا'!$C$30","v":0},{"$f":"'تعریف کالا'!$D$30","v":0},{"$f":"'تعریف کالا'!$E$30","v":0},{"$f":"'تعریف کالا'!$G$30","v":0},null,{"$f":"'تعریف کالا'!$F$30","v":0},null,0,null,null,null,null,null,null,null,null,null,null,null,null,null,null,0,0,0,0,0,0,0]
[null,"کاردکس 27",{"$f":"'تعریف کالا'!$C$31","v":0},{"$f":"'تعریف کالا'!$D$31","v":0},{"$f":"'تعریف کالا'!$E$31","v":0},{"$f":"'تعریف کالا'!$G$31","v":0},null,{"$f":"'تعریف کالا'!$F$31","v":0},null,0,null,null,null,null,null,null,null,null,null,null,null,null,null,null,0,0,0,0,0,0,0]
[null,"کاردکس 28",{"$f":"'تعریف کالا'!$C$32","v":0},{"$f":"'تعریف کالا'!$D$32","v":0},{"$f":"'تعریف کالا'!$E$32","v":0},{"$f":"'تعریف کالا'!$G$32","v":0},null,{"$f":"'تعریف کالا'!$F$32","v":0},null,0,null,null,null,null,null,null,null,null,null,null,null,null,null,null,0,0,0,0,0,0,0]
[null,"کاردکس 29",{"$f":"'تعریف کالا'!$C$33","v":0},{"$f":"'تعریف کالا'!$D$33","v":0},{"$f":"'تعریف کالا'!$E$33","v":0},{"$f":"'تعریف کالا'!$G$33","v":0},null,{"$f":"'تعریف کالا'!$F$33","v":0},null,0,null,null,null,null,null,null,null,null,null,null,null,null,null,null,0,0,0,0,0,0,0]
[null,"کاردکس 30",{"$f":"'تعریف کالا'!$C$34","v":0},{"$f":"'تعریف کالا'!$D$34","v":0},{"$f":"'تعریف کالا'!$E$34","v":0},{"$f":"'تعریف کالا'!$G$34","v":0},null,{"$f":"'تعریف کالا'!$F$34","v":0},null,0,null,null,null,null,null,null,null,null,null,null,null,null,null,null,0,0,0,0,0,0,0]
[null,"کاردکس 31",{"$f":"'تعریف کالا'!$C$35","v":0},{"$f":"'تعریف کالا'!$D$35","v":0},{"$f":"'تعریف کالا'!$E$35","v":0},{"$f":"'تعریف کالا'!$G$35","v":0},null,{"$f":"'تعریف کالا'!$F$35","v":0},null,0,null,null,null,null,null,null,null,null,null,null,null,null,null,null,0,0,0,0,0,0,0]
[null,"کاردکس 32",{"$f":"'تعریف کالا'!$C$36","v":0},{"$f":"'تعریف کالا'!$D$36","v":0},{"$f":"'تعریف کالا'!$E$36","v":0},{"$f":"'تعریف کالا'!$G$36","v":0},null,{"$f":"'تعریف کالا'!$F$36","v":0},null,0,null,null,null,null,null,null,null,null,null,null,null,null,null,null,0,0,0,0,0,0,0]
[null,"کاردکس 33",{"$f":"'تعریف کالا'!$C$37","v":0},{"$f":"'تعریف کالا'!$D$37","v":0},{"$f":"'تعریف کالا'!$E$37","v":0},{"$f":"'تعریف کالا'!$G$37","v":0},null,{"$f":"'تعریف کالا'!$F$37","v":0},null,0,null,null,null,null,null,null,null,null,null,null,null,null,null,null,0,0,0,0,0,0,0]
[null,"کاردکس 34",{"$f":"'تعریف کالا'!$C$38","v":0},{"$f":"'تعریف کالا'!$D$38","v":0},{"$f":"'تعریف کالا'!$E$38","v":0},{"$f":"'تعریف کالا'!$G$38","v":0},null,{"$f":"'تعریف کالا'!$F$38","v":0},null,0,null,null,null,null,null,null,null,null,null,null,null,null,null,null,0,0,0,0,0,0,0]
[null,"کاردکس 35",{"$f":"'تعریف کالا'!$C$39","v":0},{"$f":"'تعریف کالا'!$D$39","v":0},{"$f":"'تعریف کالا'!$E$39","v":0},{"$f":"'تعریف کالا'!$G$39","v":0},null,{"$f":"'تعریف کالا'!$F$39","v":0},null,0,null,null,null,null,null,null,null,null,null,null,null,null,null,null,0,0,0,0,0,0,0]
[null,"کاردکس 36",{"$f":"'تعریف کالا'!$C$40","v":0},{"$f":"'تعریف کالا'!$D$40","v":0},{"$f":"'تعریف کالا'!$E$40","v":0},{"$f":"'تعریف کالا'!$G$40","v":0},null,{"$f":"'تعریف کالا'!$F$40","v":0},null,0,null,null,null,null,null,null,null,null,null,null,null,null,null,null,0,0,0,0,0,0,0]
[null,"کاردکس 37",{"$f":"'تعریف کالا'!$C$41","v":0},{"$f":"'تعریف کالا'!$D$41","v":0},{"$f":"'تعریف کالا'!$E$41","v":0},{"$f":"'تعریف کالا'!$G$41","v":0},null,{"$f":"'تعریف کالا'!$F$41","v":0},null,0,null,null,null,null,null,null,null,null,null,null,null,null,null,null,0,0,0,0,0,0,0]
[null,"کاردکس 38",{"$f":"'تعریف کالا'!$C$42","v":0},{"$f":"'تعریف کالا'!$D$42","v":0},{"$f":"'تعریف کالا'!$E$42","v":0},{"$f":"'تعریف کالا'!$G$42","v":0},null,{"$f":"'تعریف کالا'!$F$42","v":0},null,0,null,null,null,null,null,null,null,null,null,null,null,null,null,null,0,0,0,0,0,0,0]
[null,"کاردکس 39",{"$f":"'تعریف کالا'!$C$43","v":0},{"$f":"'تعریف کالا'!$D$43","v":0},{"$f":"'تعریف کالا'!$E$43","v":0},{"$f":"'تعریف کالا'!$G$43","v":0},null,{"$f":"'تعریف کالا'!$F$43","v":0},null,0,null,null,null,null,null,null,null,null,null,null,null,null,null,null,0,0,0,0,0,0,0]
[null,"کاردکس 40",{"$f":"'تعریف کالا'!$C$44","v":0},{"$f":"'تعریف کالا'!$D$44","v":0},{"$f":"'تعریف کالا'!$E$44","v":0},{"$f":"'تعریف کالا'!$G$44","v":0},null,{"$f":"'تعریف کالا'!$F$44","v":0},null,0,null,null,null,null,null,null,null,null,null,null,null,null,null,null,0,0,0,0,0,0,0]
[null,"کاردکس 41",{"$f":"'تعریف کالا'!$C$45","v":0},{"$f":"'تعریف کالا'!$D$45","v":0},{"$f":"'تعریف کالا'!$E$45","v":0},{"$f":"'تعریف کالا'!$G$45","v":0},null,{"$f":"'تعریف کالا'!$F$45","v":0},null,0,null,null,null,null,null,null,null,null,null,null,null,null,null,null,0,0,0,0,0,0,0]
[null,"کاردکس 42",{"$f":"'تعریف کالا'!$C$46","v":0},{"$f":"'تعریف کالا'!$D$46","v":0},{"$f":"'تعریف کالا'!$E$46","v":0},{"$f":"'تعریف کالا'!$G$46","v":0},null,{"$f":"'تعریف کالا'!$F$46","v":0},null,0,null,null,null,null,null,null,null,null,null,null,null,null,null,null,0,0,0,0,0,0,0]
[null,"کاردکس 43",{"$f":"'تعریف کالا'!$C$47","v":0},{"$f":"'تعریف کالا'!$D$47","v":0},{"$f":"'تعریف کالا'!$E$47","v":0},{"$f":"'تعریف کالا'!$G$47","v":0},null,{"$f":"'تعریف کالا'!$F$47","v":0},null,0,null,null,null,null,null,null,null,null,null,null,null,null,null,null,0,0,0,0,0,0,0]
[null,"کاردکس 44",{"$f":"'تعریف کالا'!$C$48","v":0},{"$f":"'تعریف کالا'!$D$48","v":0},{"$f":"'تعریف کالا'!$E$48","v":0},{"$f":"'تعریف کالا'!$G$48","v":0},null,{"$f":"'تعریف کالا'!$F$48","v":0},null,0,null,null,null,null,null,null,null,null,null,null,null,null,null,null,0,0,0,0,0,0,0]
[null,"کاردکس 45",{"$f":"'تعریف کالا'!$C$49","v":0},{"$f":"'تعریف کالا'!$D$49","v":0},{"$f":"'تعریف کالا'!$E$49","v":0},{"$f":"'تعریف کالا'!$G$49","v":0},null,{"$f":"'تعریف کالا'!$F$49","v":0},null,0,null,null,null,null,null,null,null,null,null,null,null,null,null,null,0,0,0,0,0,0,0]
[null,"کاردکس 46",{"$f":"'تعریف کالا'!$C$50","v":0},{"$f":"'تعریف کالا'!$D$50","v":0},{"$f":"'تعریف کالا'!$E$50","v":0},{"$f":"'تعریف کالا'!$G$50","v":0},null,{"$f":"'تعریف کالا'!$F$50","v":0},null,0,null,null,null,null,null,null,null,null,null,null,null,null,null,null,0,0,0,0,0,0,0]
[null,"کاردکس 47",{"$f":"'تعریف کالا'!$C$51","v":0},{"$f":"'تعریف کالا'!$D$51","v":0},{"$f":"'تعریف کالا'!$E$51","v":0},{"$f":"'تعریف کالا'!$G$51","v":0},null,{"$f":"'تعریف کالا'!$F$51","v":0},null,0,null,null,null,null,null,null,null,null,null,null,null,null,null,null,0,0,0,0,0,0,0]
[null,"کاردکس 48",{"$f":"'تعریف کالا'!$C$52","v":0},{"$f":"'تعریف کالا'!$D$52","v":0},{"$f":"'تعریف کالا'!$E$52","v":0},{"$f":"'تعریف کالا'!$G$52","v":0},null,{"$f":"'تعریف کالا'!$F$52","v":0},null,0,null,null,null,null,null,null,null,null,null,null,null,null,null,null,0,0,0,0,0,0,0]
[null,"کاردکس 49",{"$f":"'تعریف کالا'!$C$53","v":0},{"$f":"'تعریف کالا'!$D$53","v":0},{"$f":"'تعریف کالا'!$E$53","v":0},{"$f":"'تعریف کالا'!$G$53","v":0},null,{"$f":"'تعریف کالا'!$F$53","v":0},null,0,null,null,null,null,null,null,null,null,null,null,null,null,null,null,0,0,0,0,0,0,0]
[null,"کاردکس 50",{"$f":"'تعریف کالا'!$C$54","v":0},{"$f":"'تعریف کالا'!$D$54","v":0},{"$f":"'تعریف کالا'!$E$54","v":0},{"$f":"'تعریف کالا'!$G$54","v":0},null,{"$f":"'تعریف کالا'!$F$54","v":0},null,0,null,null,null,null,null,null,null,null,null,null,null,null,null,null,0,0,0,0,0,0,0]
[null,"کاردکس 51",{"$f":"'تعریف کالا'!$C$55","v":0},{"$f":"'تعریف کالا'!$D$55","v":0},{"$f":"'تعریف کالا'!$E$55","v":0},{"$f":"'تعریف کالا'!$G$55","v":0},null,{"$f":"'تعریف کالا'!$F$55","v":0},null,0,null,null,null,null,null,null,null,null,null,null,null,null,null,null,0,0,0,0,0,0,0]
[null,"کاردکس 52",{"$f":"'تعریف کالا'!$C$56","v":0},{"$f":"'تعریف کالا'!$D$56","v":0},{"$f":"'تعریف کالا'!$E$56","v":0},{"$f":"'تعریف کالا'!$G$56","v":0},null,{"$f":"'تعریف کالا'!$F$56","v":0},null,0,null,null,null,null,null,null,null,null,null,null,null,null,null,null,0,0,0,0,0,0,0]
[null,"کاردکس 53",{"$f":"'تعریف کالا'!$C$57","v":0},{"$f":"'تعریف کالا'!$D$57","v":0},{"$f":"'تعریف کالا'!$E$57","v":0},{"$f":"'تعریف کالا'!$G$57","v":0},null,{"$f":"'تعریف کالا'!$F$57","v":0},null,0,null,null,null,null,null,null,null,null,null,null,null,null,null,null,0,0,0,0,0,0,0]
[null,"کاردکس 54",{"$f":"'تعریف کالا'!$C$58","v":0},{"$f":"'تعریف کالا'!$D$58","v":0},{"$f":"'تعریف کالا'!$E$58","v":0},{"$f":"'تعریف کالا'!$G$58","v":0},null,{"$f":"'تعریف کالا'!$F$58","v":0},null,0,null,null,null,null,null,null,null,null,null,null,null,null,null,null,0,0,0,0,0,0,0]
[null,"کاردکس 55",{"$f":"'تعریف کالا'!$C$59","v":0},{"$f":"'تعریف کالا'!$D$59","v":0},{"$f":"'تعریف کالا'!$E$59","v":0},{"$f":"'تعریف کالا'!$G$59","v":0},null,{"$f":"'تعریف کالا'!$F$59","v":0},null,0,null,null,null,null,null,null,null,null,null,null,null,null,null,null,0,0,0,0,0,0,0]
[null,"کاردکس 56",{"$f":"'تعریف کالا'!$C$60","v":0},{"$f":"'تعریف کالا'!$D$60","v":0},{"$f":"'تعریف کالا'!$E$60","v":0},{"$f":"'تعریف کالا'!$G$60","v":0},null,{"$f":"'تعریف کالا'!$F$60","v":0},null,0,null,null,null,null,null,null,null,null,null,null,null,null,null,null,0,0,0,0,0,0,0]
[null,"کاردکس 57",{"$f":"'تعریف کالا'!$C$61","v":0},{"$f":"'تعریف کالا'!$D$61","v":0},{"$f":"'تعریف کالا'!$E$61","v":0},{"$f":"'تعریف کالا'!$G$61","v":0},null,{"$f":"'تعریف کالا'!$F$61","v":0},null,0,null,null,null,null,null,null,null,null,null,null,null,null,null,null,0,0,0,0,0,0,0]
[null,"کاردکس 58",{"$f":"'تعریف کالا'!$C$62","v":0},{"$f":"'تعریف کالا'!$D$62","v":0},{"$f":"'تعریف کالا'!$E$62","v":0},{"$f":"'تعریف کالا'!$G$62","v":0},null,{"$f":"'تعریف کالا'!$F$62","v":0},null,0,null,null,null,null,null,null,null,null,null,null,null,null,null,null,0,0,0,0,0,0,0]
[null,"کاردکس 59",{"$f":"'تعریف کالا'!$C$63","v":0},{"$f":"'تعریف کالا'!$D$63","v":0},{"$f":"'تعریف کالا'!$E$63","v":0},{"$f":"'تعریف کالا'!$G$63","v":0},null,{"$f":"'تعریف کالا'!$F$63","v":0},null,0,null,null,null,null,null,null,null,null,null,null,null,null,null,null,0,0,0,0,0,0,0]
[null,"کاردکس 60",{"$f":"'تعریف کالا'!$C$64","v":0},{"$f":"'تعریف کالا'!$D$64","v":0},{"$f":"'تعریف کالا'!$E$64","v":0},{"$f":"'تعریف کالا'!$G$64","v":0},null,{"$f":"'تعریف کالا'!$F$64","v":0},null,0,null,null,null,null,null,null,null,null,null,null,null,null,null,null,0,0,0,0,0,0,0]
[null,"کاردکس 61",{"$f":"'تعریف کالا'!$C$65","v":0},{"$f":"'تعریف کالا'!$D$65","v":0},{"$f":"'تعریف کالا'!$E$65","v":0},{"$f":"'تعریف کالا'!$G$65","v":0},null,{"$f":"'تعریف کالا'!$F$65","v":0},null,0,null,null,null,null,null,null,null,null,null,null,null,null,null,null,0,0,0,0,0,0,0]
[null,"کاردکس 62",{"$f":"'تعریف کالا'!$C$66","v":0},{"$f":"'تعریف کالا'!$D$66","v":0},{"$f":"'تعریف کالا'!$E$66","v":0},{"$f":"'تعریف کالا'!$G$66","v":0},null,{"$f":"'تعریف کالا'!$F$66","v":0},null,0,null,null,null,null,null,null,null,null,null,null,null,null,null,null,0,0,0,0,0,0,0]
[null,"کاردکس 63",{"$f":"'تعریف کالا'!$C$67","v":0},{"$f":"'تعریف کالا'!$D$67","v":0},{"$f":"'تعریف کالا'!$E$67","v":0},{"$f":"'تعریف کالا'!$G$67","v":0},null,{"$f":"'تعریف کالا'!$F$67","v":0},null,0,null,null,null,null,null,null,null,null,null,null,null,null,null,null,0,0,0,0,0,0,0]
[null,"کاردکس 64",{"$f":"'تعریف کالا'!$C$68","v":0},{"$f":"'تعریف کالا'!$D$68","v":0},{"$f":"'تعریف کالا'!$E$68","v":0},{"$f":"'تعریف کالا'!$G$68","v":0},null,{"$f":"'تعریف کالا'!$F$68","v":0},null,0,null,null,null,null,null,null,null,null,null,null,null,null,null,null,0,0,0,0,0,0,0]
[null,"کاردکس 65",{"$f":"'تعریف کالا'!$C$69","v":0},{"$f":"'تعریف کالا'!$D$69","v":0},{"$f":"'تعریف کالا'!$E$69","v":0},{"$f":"'تعریف کالا'!$G$69","v":0},null,{"$f":"'تعریف کالا'!$F$69","v":0},null,0,null,null,null,null,null,null,null,null,null,null,null,null,null,null,0,0,0,0,0,0,0]
[null,"کاردکس 66",{"$f":"'تعریف کالا'!$C$70","v":0},{"$f":"'تعریف کالا'!$D$70","v":0},{"$f":"'تعریف کالا'!$E$70","v":0},{"$f":"'تعریف کالا'!$G$70","v":0},null,{"$f":"'تعریف کالا'!$F$70","v":0},null,0,null,null,null,null,null,null,null,null,null,null,null,null,null,null,0,{"$f":"D6608","v":0},{"$f":"E6608","v":0},{"$f":"F6608","v":0},{"$f":"H6608","v":0},{"$f":"I6608","v":0},{"$f":"J6608","v":0}]
[null,"کاردکس 67",{"$f":"'تعریف کالا'!$C$71","v":0},{"$f":"'تعریف کالا'!$D$71","v":0},{"$f":"'تعریف کالا'!$E$71","v":0},{"$f":"'تعریف کالا'!$G$71","v":0},null,{"$f":"'تعریف کالا'!$F$71","v":0},null,{"$f":"(F6609*I6609)-(F6609*I6609*G6609%)","v":0},null,null,null,null,null,null,null,null,null,null,null,null,null,null,{"$f":"C6609","v":0},0,0,0,0,0,0]
[null,"کاردکس 68",{"$f":"'تعریف کالا'!$C$72","v":0},{"$f":"'تعریف کالا'!$D$72","v":0},{"$f":"'تعریف کالا'!$E$72","v":0},{"$f":"'تعریف کالا'!$G$72","v":0},null,{"$f":"'تعریف کالا'!$F$72","v":0},null,0,null,null,null,null,null,null,null,null,null,null,null,null,null,null,0,0,0,0,0,0,0]
[null,"کاردکس 69",{"$f":"'تعریف کالا'!$C$73","v":0},{"$f":"'تعریف کالا'!$D$73","v":0},{"$f":"'تعریف کالا'!$E$73","v":0},{"$f":"'تعریف کالا'!$G$73","v":0},null,{"$f":"'تعریف کالا'!$F$73","v":0},null,0,null,null,null,null,null,null,null,null,null,null,null,null,null,null,0,0,0,0,0,0,0]
[null,"کاردکس 70",{"$f":"'تعریف کالا'!$C$74","v":0},{"$f":"'تعریف کالا'!$D$74","v":0},{"$f":"'تعریف کالا'!$E$74","v":0},{"$f":"'تعریف کالا'!$G$74","v":0},null,{"$f":"'تعریف کالا'!$F$74","v":0},null,0,null,null,null,null,null,null,null,null,null,null,null,null,null,null,0,0,0,0,0,0,0]
[null,"کاردکس 71",{"$f":"'تعریف کالا'!$C$75","v":0},{"$f":"'تعریف کالا'!$D$75","v":0},{"$f":"'تعریف کالا'!$E$75","v":0},{"$f":"'تعریف کالا'!$G$75","v":0},null,{"$f":"'تعریف کالا'!$F$75","v":0},null,0,null,null,null,null,null,null,null,null,null,null,null,null,null,null,0,0,0,0,0,0,0]
[null,"کاردکس 72",{"$f":"'تعریف کالا'!$C$76","v":0},{"$f":"'تعریف کالا'!$D$76","v":0},{"$f":"'تعریف کالا'!$E$76","v":0},{"$f":"'تعریف کالا'!$G$76","v":0},null,{"$f":"'تعریف کالا'!$F$76","v":0},null,0,null,null,null,null,null,null,null,null,null,null,null,null,null,null,0,0,0,0,0,0,0]
[null,"کاردکس 73",{"$f":"'تعریف کالا'!$C$77","v":0},{"$f":"'تعریف کالا'!$D$77","v":0},{"$f":"'تعریف کالا'!$E$77","v":0},{"$f":"'تعریف کالا'!$G$77","v":0},null,{"$f":"'تعریف کالا'!$F$77","v":0},null,0,null,null,null,null,null,null,null,null,null,null,null,null,null,null,0,0,0,0,0,0,0]
[null,"کاردکس 74",{"$f":"'تعریف کالا'!$C$78","v":0},{"$f":"'تعریف کالا'!$D$78","v":0},{"$f":"'تعریف کالا'!$E$78","v":0},{"$f":"'تعریف کالا'!$G$78","v":0},null,{"$f":"'تعریف کالا'!$F$78","v":0},null,0,null,null,null,null,null,null,null,null,null,null,null,null,null,null,0,0,0,0,0,0,0]
[null,"کاردکس 75",{"$f":"'تعریف کالا'!$C$79","v":0},{"$f":"'تعریف کالا'!$D$79","v":0},{"$f":"'تعریف کالا'!$E$79","v":0},{"$f":"'تعریف کالا'!$G$79","v":0},null,{"$f":"'تعریف کالا'!$F$79","v":0},null,0,null,null,null,null,null,null,null,null,null,null,null,null,null,null,0,0,0,0,0,0,0]
[null,"کاردکس 76",{"$f":"'تعریف کالا'!$C$80","v":0},{"$f":"'تعریف کالا'!$D$80","v":0},{"$f":"'تعریف کالا'!$E$80","v":0},{"$f":"'تعریف کالا'!$G$80","v":0},null,{"$f":"'تعریف کالا'!$F$80","v":0},null,0,null,null,null,null,null,null,null,null,null,null,null,null,null,null,0,0,0,0,0,0,0]
[null,"کاردکس 77",{"$f":"'تعریف کالا'!$C$81","v":0},{"$f":"'تعریف کالا'!$D$81","v":0},{"$f":"'تعریف کالا'!$E$81","v":0},{"$f":"'تعریف کالا'!$G$81","v":0},null,{"$f":"'تعریف کالا'!$F$81","v":0},null,0,null,null,null,null,null,null,null,null,null,null,null,null,null,null,0,0,0,0,0,0,0]
[null,"کاردکس 78",{"$f":"'تعریف کالا'!$C$82","v":0},{"$f":"'تعریف کالا'!$D$82","v":0},{"$f":"'تعریف کالا'!$E$82","v":0},{"$f":"'تعریف کالا'!$G$82","v":0},null,{"$f":"'تعریف کالا'!$F$82","v":0},null,0,null,null,null,null,null,null,null,null,null,null,null,null,null,null,0,0,0,0,0,0,0]
[null,"کاردکس 79",{"$f":"'تعریف کالا'!$C$83","v":0},{"$f":"'تعریف کالا'!$D$83","v":0},{"$f":"'تعریف کالا'!$E$83","v":0},{"$f":"'تعریف کالا'!$G$83","v":0},null,{"$f":"'تعریف کالا'!$F$83","v":0},null,0,null,null,null,null,null,null,null,null,null,null,null,null,null,null,0,0,0,0,0,0,0]
[null,"کاردکس 80",{"$f":"'تعریف کالا'!$C$84","v":0},{"$f":"'تعریف کالا'!$D$84","v":0},{"$f":"'تعریف کالا'!$E$84","v":0},{"$f":"'تعریف کالا'!$G$84","v":0},null,{"$f":"'تعریف کالا'!$F$84","v":0},null,0,null,null,null,null,null,null,null,null,null,null,null,null,null,null,0,0,0,0,0,0,0]
[null,"کاردکس 81",{"$f":"'تعریف کالا'!$C$85","v":0},{"$f":"'تعریف کالا'!$D$85","v":0},{"$f":"'تعریف کالا'!$E$85","v":0},{"$f":"'تعریف کالا'!$G$85","v":0},null,{"$f":"'تعریف کالا'!$F$85","v":0},null,0,null,null,null,null,null,null,null,null,null,null,null,null,null,null,0,0,0,0,0,0,0]
[null,"کاردکس 82",{"$f":"'تعریف کالا'!$C$86","v":0},{"$f":"'تعریف کالا'!$D$86","v":0},{"$f":"'تعریف کالا'!$E$86","v":0},{"$f":"'تعریف کالا'!$G$86","v":0},null,{"$f":"'تعریف کالا'!$F$86","v":0},null,0,null,null,null,null,null,null,null,null,null,null,null,null,null,null,0,0,0,0,0,0,0]
[null,"کاردکس 83",{"$f":"'تعریف کالا'!$C$87","v":0},{"$f":"'تعریف کالا'!$D$87","v":0},{"$f":"'تعریف کالا'!$E$87","v":0},{"$f":"'تعریف کالا'!$G$87","v":0},null,{"$f":"'تعریف کالا'!$F$87","v":0},null,0,null,null,null,null,null,null,null,null,null,null,null,null,null,null,0,0,0,0,0,0,0]
[null,"کاردکس 84",{"$f":"'تعریف کالا'!$C$88","v":0},{"$f":"'تعریف کالا'!$D$88","v":0},{"$f":"'تعریف کالا'!$E$88","v":0},{"$f":"'تعریف کالا'!$G$88","v":0},null,{"$f":"'تعریف کالا'!$F$88","v":0},null,0,null,null,null,null,null,null,null,null,null,null,null,null,null,null,0,0,0,0,0,0,0]
[null,"کاردکس 85",{"$f":"'تعریف کالا'!$C$89","v":0},{"$f":"'تعریف کالا'!$D$89","v":0},{"$f":"'تعریف کالا'!$E$89","v":0},{"$f":"'تعریف کالا'!$G$89","v":0},null,{"$f":"'تعریف کالا'!$F$89","v":0},null,0,null,null,null,null,null,null,null,null,null,null,null,null,null,null,0,0,0,0,0,0,0]
[null,"کاردکس 86",{"$f":"'تعریف کالا'!$C$90","v":0},{"$f":"'تعریف کالا'!$D$90","v":0},{"$f":"'تعریف کالا'!$E$90","v":0},{"$f":"'تعریف کالا'!$G$90","v":0},null,{"$f":"'تعریف کالا'!$F$90","v":0},null,0,null,null,null,null,null,null,null,null,null,null,null,null,null,null,0,0,0,0,0,0,0]
[null,"کاردکس 87",{"$f":"'تعریف کالا'!$C$91","v":0},{"$f":"'تعریف کالا'!$D$91","v":0},{"$f":"'تعریف کالا'!$E$91","v":0},{"$f":"'تعریف کالا'!$G$91","v":0},null,{"$f":"'تعریف کالا'!$F$91","v":0},null,0,null,null,null,null,null,null,null,null,null,null,null,null,null,null,0,0,0,0,0,0,0]
[null,"کاردکس 88",{"$f":"'تعریف کالا'!$C$92","v":0},{"$f":"'تعریف کالا'!$D$92","v":0},{"$f":"'تعریف کالا'!$E$92","v":0},{"$f":"'تعریف کالا'!$G$92","v":0},null,{"$f":"'تعریف کالا'!$F$92","v":0},null,0,null,null,null,null,null,null,null,null,null,null,null,null,null,null,0,0,0,0,0,0,0]
[null,"کاردکس 89",{"$f":"'تعریف کالا'!$C$93","v":0},{"$f":"'تعریف کالا'!$D$93","v":0},{"$f":"'تعریف کالا'!$E$93","v":0},{"$f":"'تعریف کالا'!$G$93","v":0},null,{"$f":"'تعریف کالا'!$F$93","v":0},null,0,null,null,null,null,null,null,null,null,null,null,null,null,null,null,0,0,0,0,0,0,0]
[null,"کاردکس 90",{"$f":"'تعریف کالا'!$C$94","v":0},{"$f":"'تعریف کالا'!$D$94","v":0},{"$f":"'تعریف کالا'!$E$94","v":0},{"$f":"'تعریف کالا'!$G$94","v":0},null,{"$f":"'تعریف کالا'!$F$94","v":0},null,0,null,null,null,null,null,null,null,null,null,null,null,null,null,null,0,0,0,0,0,0,0]
[null,"کاردکس 91",{"$f":"'تعریف کالا'!$C$95","v":0},{"$f":"'تعریف کالا'!$D$95","v":0},{"$f":"'تعریف کالا'!$E$95","v":0},{"$f":"'تعریف کالا'!$G$95","v":0},null,{"$f":"'تعریف کالا'!$F$95","v":0},null,0,null,null,null,null,null,null,null,null,null,null,null,null,null,null,0,0,0,0,0,0,0]
[null,"کاردکس 92",{"$f":"'تعریف کالا'!$C$96","v":0},{"$f":"'تعریف کالا'!$D$96","v":0},{"$f":"'تعریف کالا'!$E$96","v":0},{"$f":"'تعریف کالا'!$G$96","v":0},null,{"$f":"'تعریف کالا'!$F$96","v":0},null,0,null,null,null,null,null,null,null,null,null,null,null,null,null,null,0,0,0,0,0,0,0]
[null,"کاردکس 93",{"$f":"'تعریف کالا'!$C$97","v":0},{"$f":"'تعریف کالا'!$D$97","v":0},{"$f":"'تعریف کالا'!$E$97","v":0},{"$f":"'تعریف کالا'!$G$97","v":0},null,{"$f":"'تعریف کالا'!$F$97","v":0},null,0,null,null,null,null,null,null,null,null,null,null,null,null,null,null,0,0,0,0,0,0,0]
[null,"کاردکس 94",{"$f":"'تعریف کالا'!$C$98","v":0},{"$f":"'تعریف کالا'!$D$98","v":0},{"$f":"'تعریف کالا'!$E$98","v":0},{"$f":"'تعریف کالا'!$G$98","v":0},null,{"$f":"'تعریف کالا'!$F$98","v":0},null,0,null,null,null,null,null,null,null,null,null,null,null,null,null,null,0,0,0,0,0,0,0]
[null,"کاردکس 95",{"$f":"'تعریف کالا'!$C$99","v":0},{"$f":"'تعریف کالا'!$D$99","v":0},{"$f":"'تعریف کالا'!$E$99","v":0},{"$f":"'تعریف کالا'!$G$99","v":0},null,{"$f":"'تعریف کالا'!$F$99","v":0},null,0,null,null,null,null,null,null,null,null,null,null,null,null,null,null,0,0,0,0,0,0,0]
[null,"کاردکس 96",{"$f":"'تعریف کالا'!$C$100","v":0},{"$f":"'تعریف کالا'!$D$100","v":0},{"$f":"'تعریف کالا'!$E$100","v":0},{"$f":"'تعریف کالا'!$G$100","v":0},null,{"$f":"'تعریف کالا'!$F$100","v":0},null,0,null,null,null,null,null,null,null,null,null,null,null,null,null,null,0,0,0,0,0,0,0]
[null,"کاردکس 97",{"$f":"'تعریف کالا'!$C$101","v":0},{"$f":"'تعریف کالا'!$D$101","v":0},{"$f":"'تعریف کالا'!$E$101","v":0},{"$f":"'تعریف کالا'!$G$101","v":0},null,{"$f":"'تعریف کالا'!$F$101","v":0},null,0,null,null,null,null,null,null,null,null,null,null,null,null,null,null,0,0,0,0,0,0,0]
[null,"کاردکس 98",{"$f":"'تعریف کالا'!$C$102","v":0},{"$f":"'تعریف کالا'!$D$102","v":0},{"$f":"'تعریف کالا'!$E$102","v":0},{"$f":"'تعریف کالا'!$G$102","v":0},null,{"$f":"'تعریف کالا'!$F$102","v":0},null,0,null,null,null,null,null,null,null,null,null,null,null,null,null,null,0,0,0,0,0,0,0]
[null,"کاردکس 99",{"$f":"'تعریف کالا'!$C$103","v":0},{"$f":"'تعریف کالا'!$D$103","v":0},{"$f":"'تعریف کالا'!$E$103","v":0},{"$f":"'تعریف کالا'!$G$103","v":0},null,{"$f":"'تعریف کالا'!$F$103","v":0},null,0,null,null,null,null,null,null,null,null,null,null,null,null,null,null,0,0,0,0,0,0,0]
[null,"کاردکس 100",{"$f":"'تعریف کالا'!$C$104","v":0},{"$f":"'تعریف کالا'!$D$104","v":0},{"$f":"'تعریف کالا'!$E$104","v":0},{"$f":"'تعریف کالا'!$G$104","v":0},null,{"$f":"'تعریف کالا'!$F$104","v":0},null,0,null,null,null,null,null,null,null,null,null,null,null,null,null,null,0,0,0,0,0,0,0]
[null,"کاردکس 101",{"$f":"'تعریف کالا'!$C$105","v":0},{"$f":"'تعریف کالا'!$D$105","v":0},{"$f":"'تعریف کالا'!$E$105","v":0},{"$f":"'تعریف کالا'!$G$105","v":0},null,{"$f":"'تعریف کالا'!$F$105","v":0},null,0,null,null,null,null,null,null,null,null,null,null,null,null,null,null,0,0,0,0,0,0,0]
[null,"کاردکس 102",{"$f":"'تعریف کالا'!$C$106","v":0},{"$f":"'تعریف کالا'!$D$106","v":0},{"$f":"'تعریف کالا'!$E$106","v":0},{"$f":"'تعریف کالا'!$G$106","v":0},null,{"$f":"'تعریف کالا'!$F$106","v":0},null,0,null,null,null,null,null,null,null,null,null,null,null,null,null,null,0,0,0,0,0,0,0]
[null,"کاردکس 103",{"$f":"'تعریف کالا'!$C$107","v":0},{"$f":"'تعریف کالا'!$D$107","v":0},{"$f":"'تعریف کالا'!$E$107","v":0},{"$f":"'تعریف کالا'!$G$107","v":0},null,{"$f":"'تعریف کالا'!$F$107","v":0},null,0,null,null,null,null,null,null,null,null,null,null,null,null,null,null,0,0,0,0,0,0,0]
[null,"کاردکس 104",{"$f":"'تعریف کالا'!$C$108","v":0},{"$f":"'تعریف کالا'!$D$108","v":0},{"$f":"'تعریف کالا'!$E$108","v":0},{"$f":"'تعریف کالا'!$G$108","v":0},null,{"$f":"'تعریف کالا'!$F$108","v":0},null,0,null,null,null,null,null,null,null,null,null,null,null,null,null,null,0,0,0,0,0,0,0]
[null,"کاردکس 105",{"$f":"'تعریف کالا'!$C$109","v":0},{"$f":"'تعریف کالا'!$D$109","v":0},{"$f":"'تعریف کالا'!$E$109","v":0},{"$f":"'تعریف کالا'!$G$109","v":0},null,{"$f":"'تعریف کالا'!$F$109","v":0},null,0,null,null,null,null,null,null,null,null,null,null,null,null,null,null,0,0,0,0,0,0,0]
[null,"کاردکس 106",{"$f":"'تعریف کالا'!$C$110","v":0},{"$f":"'تعریف کالا'!$D$110","v":0},{"$f":"'تعریف کالا'!$E$110","v":0},{"$f":"'تعریف کالا'!$G$110","v":0},null,{"$f":"'تعریف کالا'!$F$110","v":0},null,0,null,null,null,null,null,null,null,null,null,null,null,null,null,null,0,0,0,0,0,0,0]
[null,"کاردکس 107",{"$f":"'تعریف کالا'!$C$111","v":0},{"$f":"'تعریف کالا'!$D$111","v":0},{"$f":"'تعریف کالا'!$E$111","v":0},{"$f":"'تعریف کالا'!$G$111","v":0},null,{"$f":"'تعریف کالا'!$F$111","v":0},null,0,null,null,null,null,null,null,null,null,null,null,null,null,null,null,0,0,0,0,0,0,0]
[null,"کاردکس 108",{"$f":"'تعریف کالا'!$C$112","v":0},{"$f":"'تعریف کالا'!$D$112","v":0},{"$f":"'تعریف کالا'!$E$112","v":0},{"$f":"'تعریف کالا'!$G$112","v":0},null,{"$f":"'تعریف کالا'!$F$112","v":0},null,0,null,null,null,null,null,null,null,null,null,null,null,null,null,null,0,0,0,0,0,0,0]
[null,"کاردکس 109",{"$f":"'تعریف کالا'!$C$113","v":0},{"$f":"'تعریف کالا'!$D$113","v":0},{"$f":"'تعریف کالا'!$E$113","v":0},{"$f":"'تعریف کالا'!$G$113","v":0},null,{"$f":"'تعریف کالا'!$F$113","v":0},null,0,null,null,null,null,null,null,null,null,null,null,null,null,null,null,0,0,0,0,0,0,0]
[null,"کاردکس 110",{"$f":"'تعریف کالا'!$C$114","v":0},{"$f":"'تعریف کالا'!$D$114","v":0},{"$f":"'تعریف کالا'!$E$114","v":0},{"$f":"'تعریف کالا'!$G$114","v":0},null,{"$f":"'تعریف کالا'!$F$114","v":0},null,0,null,null,null,null,null,null,null,null,null,null,null,null,null,null,0,0,0,0,0,0,0]
[null,"کاردکس 111",{"$f":"'تعریف کالا'!$C$115","v":0},{"$f":"'تعریف کالا'!$D$115","v":0},{"$f":"'تعریف کالا'!$E$115","v":0},{"$f":"'تعریف کالا'!$G$115","v":0},null,{"$f":"'تعریف کالا'!$F$115","v":0},null,0,null,null,null,null,null,null,null,null,null,null,null,null,null,null,0,0,0,0,0,0,0]
[null,"کاردکس 112",{"$f":"'تعریف کالا'!$C$116","v":0},{"$f":"'تعریف کالا'!$D$116","v":0},{"$f":"'تعریف کالا'!$E$116","v":0},{"$f":"'تعریف کالا'!$G$116","v":0},null,{"$f":"'تعریف کالا'!$F$116","v":0},null,0,null,null,null,null,null,null,null,null,null,null,null,null,null,null,0,0,0,0,0,0,0]
[null,"کاردکس 113",{"$f":"'تعریف کالا'!$C$117","v":0},{"$f":"'تعریف کالا'!$D$117","v":0},{"$f":"'تعریف کالا'!$E$117","v":0},{"$f":"'تعریف کالا'!$G$117","v":0},null,{"$f":"'تعریف کالا'!$F$117","v":0},null,0,null,null,null,null,null,null,null,null,null,null,null,null,null,null,0,0,0,0,0,0,0]
[null,"کاردکس 114",{"$f":"'تعریف کالا'!$C$118","v":0},{"$f":"'تعریف کالا'!$D$118","v":0},{"$f":"'تعریف کالا'!$E$118","v":0},{"$f":"'تعریف کالا'!$G$118","v":0},null,{"$f":"'تعریف کالا'!$F$118","v":0},null,0,null,null,null,null,null,null,null,null,null,null,null,null,null,null,0,0,0,0,0,0,0]
[null,"کاردکس 115",{"$f":"'تعریف کالا'!$C$119","v":0},{"$f":"'تعریف کالا'!$D$119","v":0},{"$f":"'تعریف کالا'!$E$119","v":0},{"$f":"'تعریف کالا'!$G$119","v":0},null,{"$f":"'تعریف کالا'!$F$119","v":0},null,0,null,null,null,null,null,null,null,null,null,null,null,null,null,null,0,0,0,0,0,0,0]
[null,"کاردکس 116",{"$f":"'تعریف کالا'!$C$120","v":0},{"$f":"'تعریف کالا'!$D$120","v":0},{"$f":"'تعریف کالا'!$E$120","v":0},{"$f":"'تعریف کالا'!$G$120","v":0},null,{"$f":"'تعریف کالا'!$F$120","v":0},null,0,null,null,null,null,null,null,null,null,null,null,null,null,null,null,0,0,0,0,0,0,0]
[null,"کاردکس 117",{"$f":"'تعریف کالا'!$C$121","v":0},{"$f":"'تعریف کالا'!$D$121","v":0},{"$f":"'تعریف کالا'!$E$121","v":0},{"$f":"'تعریف کالا'!$G$121","v":0},null,{"$f":"'تعریف کالا'!$F$121","v":0},null,0,null,null,null,null,null,null,null,null,null,null,null,null,null,null,0,0,0,0,0,0,0]
[null,"کاردکس 118",{"$f":"'تعریف کالا'!$C$122","v":0},{"$f":"'تعریف کالا'!$D$122","v":0},{"$f":"'تعریف کالا'!$E$122","v":0},{"$f":"'تعریف کالا'!$G$122","v":0},null,{"$f":"'تعریف کالا'!$F$122","v":0},null,0,null,null,null,null,null,null,null,null,null,null,null,null,null,null,0,0,0,0,0,0,0]
[null,"کاردکس 119",{"$f":"'تعریف کالا'!$C$123","v":0},{"$f":"'تعریف کالا'!$D$123","v":0},{"$f":"'تعریف کالا'!$E$123","v":0},{"$f":"'تعریف کالا'!$G$123","v":0},null,{"$f":"'تعریف کالا'!$F$123","v":0},null,0,null,null,null,null,null,null,null,null,null,null,null,null,null,null,0,0,0,0,0,0,0]
[null,"کاردکس 120",{"$f":"'تعریف کالا'!$C$124","v":0},{"$f":"'تعریف کالا'!$D$124","v":0},{"$f":"'تعریف کالا'!$E$124","v":0},{"$f":"'تعریف کالا'!$G$124","v":0},null,{"$f":"'تعریف کالا'!$F$124","v":0},null,0,null,null,null,null,null,null,null,null,null,null,null,null,null,null,0,0,0,0,0,0,0]
[null,"کاردکس 121",{"$f":"'تعریف کالا'!$C$125","v":0},{"$f":"'تعریف کالا'!$D$125","v":0},{"$f":"'تعریف کالا'!$E$125","v":0},{"$f":"'تعریف کالا'!$G$125","v":0},null,{"$f":"'تعریف کالا'!$F$125","v":0},null,0,null,null,null,null,null,null,null,null,null,null,null,null,null,null,0,0,0,0,0,0,0]
[null,"کاردکس 122",{"$f":"'تعریف کالا'!$C$126","v":0},{"$f":"'تعریف کالا'!$D$126","v":0},{"$f":"'تعریف کالا'!$E$126","v":0},{"$f":"'تعریف کالا'!$G$126","v":0},null,{"$f":"'تعریف کالا'!$F$126","v":0},null,0,null,null,null,null,null,null,null,null,null,null,null,null,null,null,0,0,0,0,0,0,0]
[null,"کاردکس 123",{"$f":"'تعریف کالا'!$C$127","v":0},{"$f":"'تعریف کالا'!$D$127","v":0},{"$f":"'تعریف کالا'!$E$127","v":0},{"$f":"'تعریف کالا'!$G$127","v":0},null,{"$f":"'تعریف کالا'!$F$127","v":0},null,0,null,null,null,null,null,null,null,null,null,null,null,null,null,null,0,0,0,0,0,0,0]
[null,"کاردکس 124",{"$f":"'تعریف کالا'!$C$128","v":0},{"$f":"'تعریف کالا'!$D$128","v":0},{"$f":"'تعریف کالا'!$E$128","v":0},{"$f":"'تعریف کالا'!$G$128","v":0},null,{"$f":"'تعریف کالا'!$F$128","v":0},null,0,null,null,null,null,null,null,null,null,null,null,null,null,null,null,0,0,0,0,0,0,0]
[null,"کاردکس 125",{"$f":"'تعریف کالا'!$C$129","v":0},{"$f":"'تعریف کالا'!$D$129","v":0},{"$f":"'تعریف کالا'!$E$129","v":0},{"$f":"'تعریف کالا'!$G$129","v":0},null,{"$f":"'تعریف کالا'!$F$129","v":0},null,0,null,null,null,null,null,null,null,null,null,null,null,null,null,null,0,0,0,0,0,0,0]
[null,"کاردکس 126",{"$f":"'تعریف کالا'!$C$130","v":0},{"$f":"'تعریف کالا'!$D$130","v":0},{"$f":"'تعریف کالا'!$E$130","v":0},{"$f":"'تعریف کالا'!$G$130","v":0},null,{"$f":"'تعریف کالا'!$F$130","v":0},null,0,null,null,null,null,null,null,null,null,null,null,null,null,null,null,0,0,0,0,0,0,0]
[null,"کاردکس 127",{"$f":"'تعریف کالا'!$C$131","v":0},{"$f":"'تعریف کالا'!$D$131","v":0},{"$f":"'تعریف کالا'!$E$131","v":0},{"$f":"'تعریف کالا'!$G$131","v":0},null,{"$f":"'تعریف کالا'!$F$131","v":0},null,0,null,null,null,null,null,null,null,null,null,null,null,null,null,null,0,0,0,0,0,0,0]
[null,"کاردکس 128",{"$f":"'تعریف کالا'!$C$132","v":0},{"$f":"'تعریف کالا'!$D$132","v":0},{"$f":"'تعریف کالا'!$E$132","v":0},{"$f":"'تعریف کالا'!$G$132","v":0},null,{"$f":"'تعریف کالا'!$F$132","v":0},null,0,null,null,null,null,null,null,null,null,null,null,null,null,null,null,0,0,0,0,0,0,0]
[null,"کاردکس 129",{"$f":"'تعریف کالا'!$C$133","v":0},{"$f":"'تعریف کالا'!$D$133","v":0},{"$f":"'تعریف کالا'!$E$133","v":0},{"$f":"'تعریف کالا'!$G$133","v":0},null,{"$f":"'تعریف کالا'!$F$133","v":0},null,0,null,null,null,null,null,null,null,null,null,null,null,null,null,null,0,0,0,0,0,0,0]
[null,"کاردکس 130",{"$f":"'تعریف کالا'!$C$134","v":0},{"$f":"'تعریف کالا'!$D$134","v":0},{"$f":"'تعریف کالا'!$E$134","v":0},{"$f":"'تعریف کالا'!$G$134","v":0},null,{"$f":"'تعریف کالا'!$F$134","v":0},null,0,null,null,null,null,null,null,null,null,null,null,null,null,null,null,0,0,0,{"$f":"F6672","v":0},{"$f":"H6672","v":0},{"$f":"I6672","v":0},{"$f":"J6672","v":0}]
[null,"کاردکس 131",{"$f":"'تعریف کالا'!$C$135","v":0},{"$f":"'تعریف کالا'!$D$135","v":0},{"$f":"'تعریف کالا'!$E$135","v":0},{"$f":"'تعریف کالا'!$G$135","v":0},null,{"$f":"'تعریف کالا'!$F$135","v":0},null,{"$f":"(F6673*I6673)-(F6673*I6673*G6673%)","v":0},null,null,null,null,null,null,null,null,null,null,null,null,null,null,{"$f":"C6673","v":0},{"$f":"D6673","v":0},{"$f":"E6673","v":0},0,0,0,0]
[null,"کاردکس 132",{"$f":"'تعریف کالا'!$C$136","v":0},{"$f":"'تعریف کالا'!$D$136","v":0},{"$f":"'تعریف کالا'!$E$136","v":0},{"$f":"'تعریف کالا'!$G$136","v":0},null,{"$f":"'تعریف کالا'!$F$136","v":0},null,0,null,null,null,null,null,null,null,null,null,null,null,null,null,null,0,0,0,0,0,0,0]
[null,"کاردکس 133",{"$f":"'تعریف کالا'!$C$137","v":0},{"$f":"'تعریف کالا'!$D$137","v":0},{"$f":"'تعریف کالا'!$E$137","v":0},{"$f":"'تعریف کالا'!$G$137","v":0},null,{"$f":"'تعریف کالا'!$F$137","v":0},null,0,null,null,null,null,null,null,null,null,null,null,null,null,null,null,0,0,0,0,0,0,0]
[null,"کاردکس 134",{"$f":"'تعریف کالا'!$C$138","v":0},{"$f":"'تعریف کالا'!$D$138","v":0},{"$f":"'تعریف کالا'!$E$138","v":0},{"$f":"'تعریف کالا'!$G$138","v":0},null,{"$f":"'تعریف کالا'!$F$138","v":0},null,0,null,null,null,null,null,null,null,null,null,null,null,null,null,null,0,0,0,0,0,0,0]
[null,"کاردکس 135",{"$f":"'تعریف کالا'!$C$139","v":0},{"$f":"'تعریف کالا'!$D$139","v":0},{"$f":"'تعریف کالا'!$E$139","v":0},{"$f":"'تعریف کالا'!$G$139","v":0},null,{"$f":"'تعریف کالا'!$F$139","v":0},null,0,null,null,null,null,null,null,null,null,null,null,null,null,null,null,0,0,0,0,0,0,0]
[null,"کاردکس 136",{"$f":"'تعریف کالا'!$C$140","v":0},{"$f":"'تعریف کالا'!$D$140","v":0},{"$f":"'تعریف کالا'!$E$140","v":0},{"$f":"'تعریف کالا'!$G$140","v":0},null,{"$f":"'تعریف کالا'!$F$140","v":0},null,0,null,null,null,null,null,null,null,null,null,null,null,null,null,null,0,0,0,0,0,0,0]
[null,"کاردکس 137",{"$f":"'تعریف کالا'!$C$141","v":0},{"$f":"'تعریف کالا'!$D$141","v":0},{"$f":"'تعریف کالا'!$E$141","v":0},{"$f":"'تعریف کالا'!$G$141","v":0},null,{"$f":"'تعریف کالا'!$F$141","v":0},null,0,null,null,null,null,null,null,null,null,null,null,null,null,null,null,0,0,0,0,0,0,0]
[null,"کاردکس 138",{"$f":"'تعریف کالا'!$C$142","v":0},{"$f":"'تعریف کالا'!$D$142","v":0},{"$f":"'تعریف کالا'!$E$142","v":0},{"$f":"'تعریف کالا'!$G$142","v":0},null,{"$f":"'تعریف کالا'!$F$142","v":0},null,0,null,null,null,null,null,null,null,null,null,null,null,null,null,null,0,0,0,0,0,0,0]
[null,"کاردکس 139",{"$f":"'تعریف کالا'!$C$143","v":0},{"$f":"'تعریف کالا'!$D$143","v":0},{"$f":"'تعریف کالا'!$E$143","v":0},{"$f":"'تعریف کالا'!$G$143","v":0},null,{"$f":"'تعریف کالا'!$F$143","v":0},null,0,null,null,null,null,null,null,null,null,null,null,null,null,null,null,0,0,0,0,0,0,0]
[null,"کاردکس 140",{"$f":"'تعریف کالا'!$C$144","v":0},{"$f":"'تعریف کالا'!$D$144","v":0},{"$f":"'تعریف کالا'!$E$144","v":0},{"$f":"'تعریف کالا'!$G$144","v":0},null,{"$f":"'تعریف کالا'!$F$144","v":0},null,0,null,null,null,null,null,null,null,null,null,null,null,null,null,null,0,0,0,0,0,0,0]
[null,"کاردکس 141",{"$f":"'تعریف کالا'!$C$145","v":0},{"$f":"'تعریف کالا'!$D$145","v":0},{"$f":"'تعریف کالا'!$E$145","v":0},{"$f":"'تعریف کالا'!$G$145","v":0},null,{"$f":"'تعریف کالا'!$F$145","v":0},null,0,null,null,null,null,null,null,null,null,null,null,null,null,null,null,0,0,0,0,0,0,0]
[null,"کاردکس 142",{"$f":"'تعریف کالا'!$C$146","v":0},{"$f":"'تعریف کالا'!$D$146","v":0},{"$f":"'تعریف کالا'!$E$146","v":0},{"$f":"'تعریف کالا'!$G$146","v":0},null,{"$f":"'تعریف کالا'!$F$146","v":0},null,0,null,null,null,null,null,null,null,null,null,null,null,null,null,null,0,0,0,0,0,0,0]
[null,"کاردکس 143",{"$f":"'تعریف کالا'!$C$147","v":0},{"$f":"'تعریف کالا'!$D$147","v":0},{"$f":"'تعریف کالا'!$E$147","v":0},{"$f":"'تعریف کالا'!$G$147","v":0},null,{"$f":"'تعریف کالا'!$F$147","v":0},null,0,null,null,null,null,null,null,null,null,null,null,null,null,null,null,0,0,0,0,0,0,0]
[null,"کاردکس 144",{"$f":"'تعریف کالا'!$C$148","v":0},{"$f":"'تعریف کالا'!$D$148","v":0},{"$f":"'تعریف کالا'!$E$148","v":0},{"$f":"'تعریف کالا'!$G$148","v":0},null,{"$f":"'تعریف کالا'!$F$148","v":0},null,0,null,null,null,null,null,null,null,null,null,null,null,null,null,null,0,0,0,0,0,0,0]
[null,"کاردکس 145",{"$f":"'تعریف کالا'!$C$149","v":0},{"$f":"'تعریف کالا'!$D$149","v":0},{"$f":"'تعریف کالا'!$E$149","v":0},{"$f":"'تعریف کالا'!$G$149","v":0},null,{"$f":"'تعریف کالا'!$F$149","v":0},null,0,null,null,null,null,null,null,null,null,null,null,null,null,null,null,0,0,0,0,0,0,0]
[null,"کاردکس 146",{"$f":"'تعریف کالا'!$C$150","v":0},{"$f":"'تعریف کالا'!$D$150","v":0},{"$f":"'تعریف کالا'!$E$150","v":0},{"$f":"'تعریف کالا'!$G$150","v":0},null,{"$f":"'تعریف کالا'!$F$150","v":0},null,0,null,null,null,null,null,null,null,null,null,null,null,null,null,null,0,0,0,0,0,0,0]
[null,"کاردکس 147",{"$f":"'تعریف کالا'!$C$151","v":0},{"$f":"'تعریف کالا'!$D$151","v":0},{"$f":"'تعریف کالا'!$E$151","v":0},{"$f":"'تعریف کالا'!$G$151","v":0},null,{"$f":"'تعریف کالا'!$F$151","v":0},null,0,null,null,null,null,null,null,null,null,null,null,null,null,null,null,0,0,0,0,0,0,0]
[null,"کاردکس 148",{"$f":"'تعریف کالا'!$C$152","v":0},{"$f":"'تعریف کالا'!$D$152","v":0},{"$f":"'تعریف کالا'!$E$152","v":0},{"$f":"'تعریف کالا'!$G$152","v":0},null,{"$f":"'تعریف کالا'!$F$152","v":0},null,0,null,null,null,null,null,null,null,null,null,null,null,null,null,null,0,0,0,0,0,0,0]
[null,"کاردکس 149",{"$f":"'تعریف کالا'!$C$153","v":0},{"$f":"'تعریف کالا'!$D$153","v":0},{"$f":"'تعریف کالا'!$E$153","v":0},{"$f":"'تعریف کالا'!$G$153","v":0},null,{"$f":"'تعریف کالا'!$F$153","v":0},null,0,null,null,null,null,null,null,null,null,null,null,null,null,null,null,0,0,0,0,0,0,0]
[null,"کاردکس 150",{"$f":"'تعریف کالا'!$C$154","v":0},{"$f":"'تعریف کالا'!$D$154","v":0},{"$f":"'تعریف کالا'!$E$154","v":0},{"$f":"'تعریف کالا'!$G$154","v":0},null,{"$f":"'تعریف کالا'!$F$154","v":0},null,0,null,null,null,null,null,null,null,null,null,null,null,null,null,null,0,0,0,0,0,0,0]
[null,"کاردکس 151",{"$f":"'تعریف کالا'!$C$155","v":0},{"$f":"'تعریف کالا'!$D$155","v":0},{"$f":"'تعریف کالا'!$E$155","v":0},{"$f":"'تعریف کالا'!$G$155","v":0},null,{"$f":"'تعریف کالا'!$F$155","v":0},null,0,null,null,null,null,null,null,null,null,null,null,null,null,null,null,0,0,0,0,0,0,0]
[null,"کاردکس 152",{"$f":"'تعریف کالا'!$C$156","v":0},{"$f":"'تعریف کالا'!$D$156","v":0},{"$f":"'تعریف کالا'!$E$156","v":0},{"$f":"'تعریف کالا'!$G$156","v":0},null,{"$f":"'تعریف کالا'!$F$156","v":0},null,0,null,null,null,null,null,null,null,null,null,null,null,null,null,null,0,0,0,0,0,0,0]
[null,"کاردکس 153",{"$f":"'تعریف کالا'!$C$157","v":0},{"$f":"'تعریف کالا'!$D$157","v":0},{"$f":"'تعریف کالا'!$E$157","v":0},{"$f":"'تعریف کالا'!$G$157","v":0},null,{"$f":"'تعریف کالا'!$F$157","v":0},null,0,null,null,null,null,null,null,null,null,null,null,null,null,null,null,0,0,0,0,0,0,0]
[null,"کاردکس 154",{"$f":"'تعریف کالا'!$C$158","v":0},{"$f":"'تعریف کالا'!$D$158","v":0},{"$f":"'تعریف کالا'!$E$158","v":0},{"$f":"'تعریف کالا'!$G$158","v":0},null,{"$f":"'تعریف کالا'!$F$158","v":0},null,0,null,null,null,null,null,null,null,null,null,null,null,null,null,null,0,0,0,0,0,0,0]
[null,"کاردکس 155",{"$f":"'تعریف کالا'!$C$159","v":0},{"$f":"'تعریف کالا'!$D$159","v":0},{"$f":"'تعریف کالا'!$E$159","v":0},{"$f":"'تعریف کالا'!$G$159","v":0},null,{"$f":"'تعریف کالا'!$F$159","v":0},null,0,null,null,null,null,null,null,null,null,null,null,null,null,null,null,0,0,0,0,0,0,0]
[null,"کاردکس 156",{"$f":"'تعریف کالا'!$C$160","v":0},{"$f":"'تعریف کالا'!$D$160","v":0},{"$f":"'تعریف کالا'!$E$160","v":0},{"$f":"'تعریف کالا'!$G$160","v":0},null,{"$f":"'تعریف کالا'!$F$160","v":0},null,0,null,null,null,null,null,null,null,null,null,null,null,null,null,null,0,0,0,0,0,0,0]
[null,"کاردکس 157",{"$f":"'تعریف کالا'!$C$161","v":0},{"$f":"'تعریف کالا'!$D$161","v":0},{"$f":"'تعریف کالا'!$E$161","v":0},{"$f":"'تعریف کالا'!$G$161","v":0},null,{"$f":"'تعریف کالا'!$F$161","v":0},null,0,null,null,null,null,null,null,null,null,null,null,null,null,null,null,0,0,0,0,0,0,0]
[null,"کاردکس 158",{"$f":"'تعریف کالا'!$C$162","v":0},{"$f":"'تعریف کالا'!$D$162","v":0},{"$f":"'تعریف کالا'!$E$162","v":0},{"$f":"'تعریف کالا'!$G$162","v":0},null,{"$f":"'تعریف کالا'!$F$162","v":0},null,0,null,null,null,null,null,null,null,null,null,null,null,null,null,null,0,0,0,0,0,0,0]
[null,"کاردکس 159",{"$f":"'تعریف کالا'!$C$163","v":0},{"$f":"'تعریف کالا'!$D$163","v":0},{"$f":"'تعریف کالا'!$E$163","v":0},{"$f":"'تعریف کالا'!$G$163","v":0},null,{"$f":"'تعریف کالا'!$F$163","v":0},null,0,null,null,null,null,null,null,null,null,null,null,null,null,null,null,0,0,0,0,0,0,0]
[null,"کاردکس 160",{"$f":"'تعریف کالا'!$C$164","v":0},{"$f":"'تعریف کالا'!$D$164","v":0},{"$f":"'تعریف کالا'!$E$164","v":0},{"$f":"'تعریف کالا'!$G$164","v":0},null,{"$f":"'تعریف کالا'!$F$164","v":0},null,0,null,null,null,null,null,null,null,null,null,null,null,null,null,null,0,0,0,0,0,0,0]
[null,"کاردکس 161",{"$f":"'تعریف کالا'!$C$165","v":0},{"$f":"'تعریف کالا'!$D$165","v":0},{"$f":"'تعریف کالا'!$E$165","v":0},{"$f":"'تعریف کالا'!$G$165","v":0},null,{"$f":"'تعریف کالا'!$F$165","v":0},null,0,null,null,null,null,null,null,null,null,null,null,null,null,null,null,0,0,0,0,0,0,0]
[null,"کاردکس 162",{"$f":"'تعریف کالا'!$C$166","v":0},{"$f":"'تعریف کالا'!$D$166","v":0},{"$f":"'تعریف کالا'!$E$166","v":0},{"$f":"'تعریف کالا'!$G$166","v":0},null,{"$f":"'تعریف کالا'!$F$166","v":0},null,0,null,null,null,null,null,null,null,null,null,null,null,null,null,null,0,0,0,0,0,0,0]
[null,"کاردکس 163",{"$f":"'تعریف کالا'!$C$167","v":0},{"$f":"'تعریف کالا'!$D$167","v":0},{"$f":"'تعریف کالا'!$E$167","v":0},{"$f":"'تعریف کالا'!$G$167","v":0},null,{"$f":"'تعریف کالا'!$F$167","v":0},null,0,null,null,null,null,null,null,null,null,null,null,null,null,null,null,0,0,0,0,0,0,0]
[null,"کاردکس 164",{"$f":"'تعریف کالا'!$C$168","v":0},{"$f":"'تعریف کالا'!$D$168","v":0},{"$f":"'تعریف کالا'!$E$168","v":0},{"$f":"'تعریف کالا'!$G$168","v":0},null,{"$f":"'تعریف کالا'!$F$168","v":0},null,0,null,null,null,null,null,null,null,null,null,null,null,null,null,null,0,0,0,0,0,0,0]
[null,"کاردکس 165",{"$f":"'تعریف کالا'!$C$169","v":0},{"$f":"'تعریف کالا'!$D$169","v":0},{"$f":"'تعریف کالا'!$E$169","v":0},{"$f":"'تعریف کالا'!$G$169","v":0},null,{"$f":"'تعریف کالا'!$F$169","v":0},null,0,null,null,null,null,null,null,null,null,null,null,null,null,null,null,0,0,0,0,0,0,0]
[null,"کاردکس 166",{"$f":"'تعریف کالا'!$C$170","v":0},{"$f":"'تعریف کالا'!$D$170","v":0},{"$f":"'تعریف کالا'!$E$170","v":0},{"$f":"'تعریف کالا'!$G$170","v":0},null,{"$f":"'تعریف کالا'!$F$170","v":0},null,0,null,null,null,null,null,null,null,null,null,null,null,null,null,null,0,0,0,0,0,0,0]
[null,"کاردکس 167",{"$f":"'تعریف کالا'!$C$171","v":0},{"$f":"'تعریف کالا'!$D$171","v":0},{"$f":"'تعریف کالا'!$E$171","v":0},{"$f":"'تعریف کالا'!$G$171","v":0},null,{"$f":"'تعریف کالا'!$F$171","v":0},null,0,null,null,null,null,null,null,null,null,null,null,null,null,null,null,0,0,0,0,0,0,0]
[null,"کاردکس 168",{"$f":"'تعریف کالا'!$C$172","v":0},{"$f":"'تعریف کالا'!$D$172","v":0},{"$f":"'تعریف کالا'!$E$172","v":0},{"$f":"'تعریف کالا'!$G$172","v":0},null,{"$f":"'تعریف کالا'!$F$172","v":0},null,0,null,null,null,null,null,null,null,null,null,null,null,null,null,null,0,0,0,0,0,0,0]
[null,"کاردکس 169",{"$f":"'تعریف کالا'!$C$173","v":0},{"$f":"'تعریف کالا'!$D$173","v":0},{"$f":"'تعریف کالا'!$E$173","v":0},{"$f":"'تعریف کالا'!$G$173","v":0},null,{"$f":"'تعریف کالا'!$F$173","v":0},null,0,null,null,null,null,null,null,null,null,null,null,null,null,null,null,0,0,0,0,0,0,0]
[null,"کاردکس 170",{"$f":"'تعریف کالا'!$C$174","v":0},{"$f":"'تعریف کالا'!$D$174","v":0},{"$f":"'تعریف کالا'!$E$174","v":0},{"$f":"'تعریف کالا'!$G$174","v":0},null,{"$f":"'تعریف کالا'!$F$174","v":0},null,0,null,null,null,null,null,null,null,null,null,null,null,null,null,null,0,0,0,0,0,0,0]
[null,"کاردکس 171",{"$f":"'تعریف کالا'!$C$175","v":0},{"$f":"'تعریف کالا'!$D$175","v":0},{"$f":"'تعریف کالا'!$E$175","v":0},{"$f":"'تعریف کالا'!$G$175","v":0},null,{"$f":"'تعریف کالا'!$F$175","v":0},null,0,null,null,null,null,null,null,null,null,null,null,null,null,null,null,0,0,0,0,0,0,0]
[null,"کاردکس 172",{"$f":"'تعریف کالا'!$C$176","v":0},{"$f":"'تعریف کالا'!$D$176","v":0},{"$f":"'تعریف کالا'!$E$176","v":0},{"$f":"'تعریف کالا'!$G$176","v":0},null,{"$f":"'تعریف کالا'!$F$176","v":0},null,0,null,null,null,null,null,null,null,null,null,null,null,null,null,null,0,0,0,0,0,0,0]
[null,"کاردکس 173",{"$f":"'تعریف کالا'!$C$177","v":0},{"$f":"'تعریف کالا'!$D$177","v":0},{"$f":"'تعریف کالا'!$E$177","v":0},{"$f":"'تعریف کالا'!$G$177","v":0},null,{"$f":"'تعریف کالا'!$F$177","v":0},null,0,null,null,null,null,null,null,null,null,null,null,null,null,null,null,0,0,0,0,0,0,0]
[null,"کاردکس 174",{"$f":"'تعریف کالا'!$C$178","v":0},{"$f":"'تعریف کالا'!$D$178","v":0},{"$f":"'تعریف کالا'!$E$178","v":0},{"$f":"'تعریف کالا'!$G$178","v":0},null,{"$f":"'تعریف کالا'!$F$178","v":0},null,0,null,null,null,null,null,null,null,null,null,null,null,null,null,null,0,0,0,0,0,0,0]
[null,"کاردکس 175",{"$f":"'تعریف کالا'!$C$179","v":0},{"$f":"'تعریف کالا'!$D$179","v":0},{"$f":"'تعریف کالا'!$E$179","v":0},{"$f":"'تعریف کالا'!$G$179","v":0},null,{"$f":"'تعریف کالا'!$F$179","v":0},null,0,null,null,null,null,null,null,null,null,null,null,null,null,null,null,0,0,0,0,0,0,0]
[null,"کاردکس 176",{"$f":"'تعریف کالا'!$C$180","v":0},{"$f":"'تعریف کالا'!$D$180","v":0},{"$f":"'تعریف کالا'!$E$180","v":0},{"$f":"'تعریف کالا'!$G$180","v":0},null,{"$f":"'تعریف کالا'!$F$180","v":0},null,0,null,null,null,null,null,null,null,null,null,null,null,null,null,null,0,0,0,0,0,0,0]
[null,"کاردکس 177",{"$f":"'تعریف کالا'!$C$181","v":0},{"$f":"'تعریف کالا'!$D$181","v":0},{"$f":"'تعریف کالا'!$E$181","v":0},{"$f":"'تعریف کالا'!$G$181","v":0},null,{"$f":"'تعریف کالا'!$F$181","v":0},null,0,null,null,null,null,null,null,null,null,null,null,null,null,null,null,0,0,0,0,0,0,0]
[null,"کاردکس 178",{"$f":"'تعریف کالا'!$C$182","v":0},{"$f":"'تعریف کالا'!$D$182","v":0},{"$f":"'تعریف کالا'!$E$182","v":0},{"$f":"'تعریف کالا'!$G$182","v":0},null,{"$f":"'تعریف کالا'!$F$182","v":0},null,0,null,null,null,null,null,null,null,null,null,null,null,null,null,null,0,0,0,0,0,0,0]
[null,"کاردکس 179",{"$f":"'تعریف کالا'!$C$183","v":0},{"$f":"'تعریف کالا'!$D$183","v":0},{"$f":"'تعریف کالا'!$E$183","v":0},{"$f":"'تعریف کالا'!$G$183","v":0},null,{"$f":"'تعریف کالا'!$F$183","v":0},null,0,null,null,null,null,null,null,null,null,null,null,null,null,null,null,0,0,0,0,0,0,0]
[null,"کاردکس 180",{"$f":"'تعریف کالا'!$C$184","v":0},{"$f":"'تعریف کالا'!$D$184","v":0},{"$f":"'تعریف کالا'!$E$184","v":0},{"$f":"'تعریف کالا'!$G$184","v":0},null,{"$f":"'تعریف کالا'!$F$184","v":0},null,0,null,null,null,null,null,null,null,null,null,null,null,null,null,null,0,0,0,0,0,0,0]
[null,"کاردکس 181",{"$f":"'تعریف کالا'!$C$185","v":0},{"$f":"'تعریف کالا'!$D$185","v":0},{"$f":"'تعریف کالا'!$E$185","v":0},{"$f":"'تعریف کالا'!$G$185","v":0},null,{"$f":"'تعریف کالا'!$F$185","v":0},null,0,null,null,null,null,null,null,null,null,null,null,null,null,null,null,0,0,0,0,0,0,0]
[null,"کاردکس 182",{"$f":"'تعریف کالا'!$C$186","v":0},{"$f":"'تعریف کالا'!$D$186","v":0},{"$f":"'تعریف کالا'!$E$186","v":0},{"$f":"'تعریف کالا'!$G$186","v":0},null,{"$f":"'تعریف کالا'!$F$186","v":0},null,0,null,null,null,null,null,null,null,null,null,null,null,null,null,null,0,0,0,0,0,0,0]
[null,"کاردکس 183",{"$f":"'تعریف کالا'!$C$187","v":0},{"$f":"'تعریف کالا'!$D$187","v":0},{"$f":"'تعریف کالا'!$E$187","v":0},{"$f":"'تعریف کالا'!$G$187","v":0},null,{"$f":"'تعریف کالا'!$F$187","v":0},null,0,null,null,null,null,null,null,null,null,null,null,null,null,null,null,0,0,0,0,0,0,0]
[null,"کاردکس 184",{"$f":"'تعریف کالا'!$C$18","v":0},{"$f":"'تعریف کالا'!$D$188","v":0},{"$f":"'تعریف کالا'!$E$188","v":0},{"$f":"'تعریف کالا'!$G$188","v":0},null,{"$f":"'تعریف کالا'!$F$188","v":0},null,0,null,null,null,null,null,null,null,null,null,null,null,null,null,null,0,0,0,0,0,0,0]
[null,"کاردکس 185",{"$f":"'تعریف کالا'!$C$189","v":0},{"$f":"'تعریف کالا'!$D$189","v":0},{"$f":"'تعریف کالا'!$E$189","v":0},{"$f":"'تعریف کالا'!$G$189","v":0},null,{"$f":"'تعریف کالا'!$F$189","v":0},null,0,null,null,null,null,null,null,null,null,null,null,null,null,null,null,0,0,0,0,0,0,0]
[null,"کاردکس 186",{"$f":"'تعریف کالا'!$C$190","v":0},{"$f":"'تعریف کالا'!$D$190","v":0},{"$f":"'تعریف کالا'!$E$190","v":0},{"$f":"'تعریف کالا'!$G$190","v":0},null,{"$f":"'تعریف کالا'!$F$190","v":0},null,0,null,null,null,null,null,null,null,null,null,null,null,null,null,null,0,0,0,0,0,0,0]
[null,"کاردکس 187",{"$f":"'تعریف کالا'!$C$191","v":0},{"$f":"'تعریف کالا'!$D$191","v":0},{"$f":"'تعریف کالا'!$E$191","v":0},{"$f":"'تعریف کالا'!$G$191","v":0},null,{"$f":"'تعریف کالا'!$F$191","v":0},null,0,null,null,null,null,null,null,null,null,null,null,null,null,null,null,0,0,0,0,0,0,0]
[null,"کاردکس 188",{"$f":"'تعریف کالا'!$C$192","v":0},{"$f":"'تعریف کالا'!$D$192","v":0},{"$f":"'تعریف کالا'!$E$192","v":0},{"$f":"'تعریف کالا'!$G$192","v":0},null,{"$f":"'تعریف کالا'!$F$192","v":0},null,0,null,null,null,null,null,null,null,null,null,null,null,null,null,null,0,0,0,0,0,0,0]
[null,"کاردکس 189",{"$f":"'تعریف کالا'!$C$193","v":0},{"$f":"'تعریف کالا'!$D$193","v":0},{"$f":"'تعریف کالا'!$E$193","v":0},{"$f":"'تعریف کالا'!$G$193","v":0},null,{"$f":"'تعریف کالا'!$F$193","v":0},null,0,null,null,null,null,null,null,null,null,null,null,null,null,null,null,0,0,0,0,0,0,0]
[null,"کاردکس 190",{"$f":"'تعریف کالا'!$C$194","v":0},{"$f":"'تعریف کالا'!$D$194","v":0},{"$f":"'تعریف کالا'!$E$194","v":0},{"$f":"'تعریف کالا'!$G$194","v":0},null,{"$f":"'تعریف کالا'!$F$194","v":0},null,0,null,null,null,null,null,null,null,null,null,null,null,null,null,null,0,0,0,0,0,0,0]
[null,"کاردکس 191",{"$f":"'تعریف کالا'!$C$195","v":0},{"$f":"'تعریف کالا'!$D$195","v":0},{"$f":"'تعریف کالا'!$E$195","v":0},{"$f":"'تعریف کالا'!$G$195","v":0},null,{"$f":"'تعریف کالا'!$F$195","v":0},null,0,null,null,null,null,null,null,null,null,null,null,null,null,null,null,0,0,0,0,0,0,0]
[null,"کاردکس 192",{"$f":"'تعریف کالا'!$C$196","v":0},{"$f":"'تعریف کالا'!$D$196","v":0},{"$f":"'تعریف کالا'!$E$196","v":0},{"$f":"'تعریف کالا'!$G$196","v":0},null,{"$f":"'تعریف کالا'!$F$196","v":0},null,0,null,null,null,null,null,null,null,null,null,null,null,null,null,null,0,0,0,0,0,0,0]
[null,"کاردکس 193",{"$f":"'تعریف کالا'!$C$197","v":0},{"$f":"'تعریف کالا'!$D$197","v":0},{"$f":"'تعریف کالا'!$E$197","v":0},{"$f":"'تعریف کالا'!$G$197","v":0},null,{"$f":"'تعریف کالا'!$F$197","v":0},null,0,null,null,null,null,null,null,null,null,null,null,null,null,null,null,0,0,0,0,0,0,0]
[null,"کاردکس 194",{"$f":"'تعریف کالا'!$C$198","v":0},{"$f":"'تعریف کالا'!$D$198","v":0},{"$f":"'تعریف کالا'!$E$198","v":0},{"$f":"'تعریف کالا'!$G$198","v":0},null,{"$f":"'تعریف کالا'!$F$198","v":0},null,0,null,null,null,null,null,null,null,null,null,null,null,null,null,null,0,0,0,{"$f":"F6736","v":0},{"$f":"H6736","v":0},{"$f":"I6736","v":0},{"$f":"J6736","v":0}]
[null,"کاردکس 195",{"$f":"'تعریف کالا'!$C$199","v":0},{"$f":"'تعریف کالا'!$D$199","v":0},{"$f":"'تعریف کالا'!$E$199","v":0},{"$f":"'تعریف کالا'!$G$199","v":0},null,{"$f":"'تعریف کالا'!$F$199","v":0},null,{"$f":"(F6737*I6737)-(F6737*I6737*G6737%)","v":0},null,null,null,null,null,null,null,null,null,null,null,null,null,null,{"$f":"C6737","v":0},{"$f":"D6737","v":0},{"$f":"E6737","v":0},0,0,0,0]
[null,"کاردکس 196",{"$f":"'تعریف کالا'!$C$200","v":0},{"$f":"'تعریف کالا'!$D$200","v":0},{"$f":"'تعریف کالا'!$E$200","v":0},{"$f":"'تعریف کالا'!$G$200","v":0},null,{"$f":"'تعریف کالا'!$F$200","v":0},null,0,null,null,null,null,null,null,null,null,null,null,null,null,null,null,0,0,0,0,0,0,0]
[null,"کاردکس 197",{"$f":"'تعریف کالا'!$C$201","v":0},{"$f":"'تعریف کالا'!$D$201","v":0},{"$f":"'تعریف کالا'!$E$201","v":0},{"$f":"'تعریف کالا'!$G$201","v":0},null,{"$f":"'تعریف کالا'!$F$201","v":0},null,0,null,null,null,null,null,null,null,null,null,null,null,null,null,null,0,0,0,0,0,0,0]
[null,"کاردکس 198",{"$f":"'تعریف کالا'!$C$202","v":0},{"$f":"'تعریف کالا'!$D$202","v":0},{"$f":"'تعریف کالا'!$E$202","v":0},{"$f":"'تعریف کالا'!$G$202","v":0},null,{"$f":"'تعریف کالا'!$F$202","v":0},null,0,null,null,null,null,null,null,null,null,null,null,null,null,null,null,0,0,0,0,0,0,0]
[null,"کاردکس 199",{"$f":"'تعریف کالا'!$C$203","v":0},{"$f":"'تعریف کالا'!$D$203","v":0},{"$f":"'تعریف کالا'!$E$203","v":0},{"$f":"'تعریف کالا'!$G$203","v":0},null,{"$f":"'تعریف کالا'!$F$203","v":0},null,0,null,null,null,null,null,null,null,null,null,null,null,null,null,null,0,0,0,0,0,0,0]
[null,"کاردکس 200",{"$f":"'تعریف کالا'!$C$204","v":0},{"$f":"'تعریف کالا'!$D$204","v":0},{"$f":"'تعریف کالا'!$E$204","v":0},{"$f":"'تعریف کالا'!$G$204","v":0},null,{"$f":"'تعریف کالا'!$F$204","v":0},null,0,null,null,null,null,null,null,null,null,null,null,null,null,null,null,0,0,0,0,0,0,0]
[null,"     جمع کل",null,{"$f":"abh(I6743)&L6739","v":"منفي "},null,null,null,null,{"$f":"SUM(J6543:J6742)","v":0},null,null,null,null,null,null,null,null,null,null,null,null,null,null,"مانده حساب",null,{"$f":"abh(AD6743)& \"ریال\"","v":"منفي ریال"},null,null,null,{"$f":"I6745","v":0}]
[null,"                  مبلغ قابل  پرداخت        ",null,{"$f":"abh(I6744)&\"ریال\"","v":"منفي ریال"},null,null,null,null,{"$f":"J6537","v":0},null,null,null,null,null,null,null,null,null,null,null,null,null,null,"شرح رویداد :",null,{"$f":"E6540","v":0}]
[null,"مانده حساب",null,{"$f":"abh(I6745)&\"ریال\"","v":"منفي ریال"},null,null,null,null,{"$f":"J6538","v":0},null,null,null,null,null,null,null,null,null,null,null,null,null,null,"اقلام این فاکتور سالم تحویل اینجانب  ....................  شد.               "]
[]
[null,null,null,null,null,null,null,null,null,null,null,null,null,null,null,null,null,null,null,null,null,null,null,null,"امضا صادر کننده",null,"امضا فروشنده",null,"امضا مسئول انبار",null,"امضا خریدار"]

{"sheet":"کاردکس","index":7,"n_rows":747,"n_cols":1000,"rows_kept":69,"cut":true,"hidden":false,"merged":[[746,951,746,955],[746,961,746,965],[746,971,746,975],[746,981,746,985],[746,991,746,995],[746,901,746,905],[746,911,746,915],[746,921,746,925],[746,931,746,935],[746,941,746,945],[746,851,746,855],[746,861,746,865],[746,871,746,875],[746,881,746,885],[746,891,746,895],[746,801,746,805],[746,811,746,815],[746,821,746,825],[746,831,746,835],[746,841,746,845],[746,751,746,755],[746,761,746,765],[746,771,746,775],[746,781,746,785],[746,791,746,795],[746,701,746,705],[746,711,746,715],[746,721,746,725],[746,731,746,735],[746,741,746,745],[746,651,746,655],[746,661,746,665],[746,671,746,675],[746,681,746,685],[746,691,746,695],[746,601,746,605],[746,611,746,615],[746,621,746,625],[746,631,746,635],[746,641,746,645],[746,551,746,555],[746,561,746,565],[746,571,746,575],[746,581,746,585],[746,591,746,595],[746,501,746,505],[746,511,746,515],[746,521,746,525],[746,531,746,535],[746,541,746,545],[746,451,746,455],[746,461,746,465],[746,471,746,475],[746,481,746,485],[746,491,746,495],[746,401,746,405],[746,411,746,415],[746,421,746,425],[746,431,746,435],[746,441,746,445],[746,351,746,355],[746,361,746,365],[746,371,746,375],[746,381,746,385],[746,391,746,395],[746,301,746,305],[746,311,746,315],[746,321,746,325],[746,331,746,335],[746,341,746,345],[746,251,746,255],[746,261,746,265],[746,271,746,275],[746,281,746,285],[746,291,746,295],[746,201,746,205],[746,211,746,215],[746,221,746,225],[746,231,746,235],[746,241,746,245],[746,151,746,155],[746,161,746,165],[746,171,746,175],[746,181,746,185],[746,191,746,195],[746,101,746,105],[746,111,746,115],[746,121,746,125],[746,131,746,135],[746,141,746,145],[746,51,746,55],[746,61,746,65],[746,71,746,75],[746,81,746,85],[746,91,746,95],[746,1,746,5],[746,11,746,15],[746,21,746,25],[746,31,746,35],[746,41,746,45],[372,1,372,5],[372,11,372,15],[372,21,372,25],[372,31,372,35],[372,41,372,45],[372,181,372,185],[372,191,372,195],[372,201,372,205],[372,211,372,215],[372,151,372,155],[372,161,372,165],[372,171,372,175],[372,101,372,105],[372,111,372,115],[372,121,372,125],[372,131,372,135],[372,141,372,145],[372,51,372,55],[372,61,372,65],[372,71,372,75],[372,81,372,85],[372,91,372,95],[372,221,372,225],[372,231,372,235],[372,241,372,245],[372,251,372,255],[372,261,372,265],[372,271,372,275],[372,281,372,285],[372,291,372,295],[372,301,372,305],[372,311,372,315],[372,321,372,325],[372,331,372,335],[372,341,372,345],[372,351,372,355],[372,361,372,365],[372,371,372,375],[372,381,372,385],[372,391,372,395],[372,401,372,405],[372,411,372,415],[372,421,372,425],[372,431,372,435],[372,441,372,445],[372,451,372,455],[372,461,372,465],[372,471,372,475],[372,481,372,485],[372,491,372,495],[372,501,372,505],[372,511,372,515],[372,521,372,525],[372,531,372,535],[372,541,372,545],[372,551,372,555],[372,561,372,565],[372,571,372,575],[372,581,372,585],[372,591,372,595],[372,601,372,605],[372,611,372,615],[372,621,372,625],[372,631,372,635],[372,641,372,645],[372,651,372,655],[372,661,372,665],[372,671,372,675],[372,731,372,735],[372,741,372,745],[372,681,372,685],[372,691,372,695],[372,701,372,705],[372,711,372,715],[372,721,372,725],[372,751,372,755],[372,761,372,765],[372,771,372,775],[372,781,372,785],[372,791,372,795],[372,801,372,805],[372,811,372,815],[372,821,372,825],[372,831,372,835],[372,841,372,845],[372,941,372,945],[372,951,372,955],[372,961,372,965],[372,971,372,975],[372,981,372,985],[372,991,372,995],[372,851,372,855],[372,861,372,865],[372,871,372,875],[372,881,372,885],[372,891,372,895],[372,901,372,905],[372,911,372,915],[372,921,372,925],[372,931,372,935]],"bounds":{"rows_first":31,"rows_last":7,"rows_between":31,"halvings":6}}
[]
[null,null,null,null,"کارت موجودی",null,{"$f":"'صفحه اصلی'!$J$4","v":0},null,null,null,null,null,null,null,"کارت موجودی",null,{"$f":"'صفحه اصلی'!$J$4","v":0},null,null,null,null,null,null,null,"کارت موجودی",null,{"$f":"'صفحه اصلی'!$J$4","v":0},null,null,null,null,null,null,null,"کارت موجودی",null,{"$f":"'صفحه اصلی'!$J$4","v":0},null,null,null,null,null,null,null,"کارت موجودی",null,{"$f":"'صفحه اصلی'!$J$4","v":0},null,null,null,null,null,null,null,"کارت موجودی",null,{"$f":"'صفحه اصلی'!$J$4","v":0},null,null,null,null,null,null,null,"کارت موجودی",null,{"$f":"'صفحه اصلی'!$J$4","v":0},null,null,null,null,null,null,null,"کارت موجودی",null,{"$f":"'صفحه اصلی'!$J$4","v":0},null,null,null,null,null,null,null,"کارت موجودی",null,{"$f":"'صفحه اصلی'!$J$4","v":0},null,null,null,null,null,null,null,"کارت موجودی",null,{"$f":"'صفحه اصلی'!$J$4","v":0},null,null,null,null,null,null,null,"کارت موجودی",null,{"$f":"'صفحه اصلی'!$J$4","v":0},null,null,null,null,null,null,null,"کارت موجودی",null,{"$f":"'صفحه اصلی'!$J$4","v":0},null,null,null,null,null,null,null,"کارت موجودی",null,{"$f":"'صفحه اصلی'!$J$4","v":0},null,null,null,null,null,null,null,"کارت موجودی",null,{"$f":"'صفحه اصلی'!$J$4","v":0},null,null,null,null,null,null,null,"کارت موجودی",null,{"$f":"'صفحه اصلی'!$J$4","v":0},null,null,null,null,null,null,null,"کارت موجودی",null,{"$f":"'صفحه اصلی'!$J$4","v":0},null,null,null,null,null,null,null,"کارت موجودی",null,{"$f":"'صفحه اصلی'!$J$4","v":0},null,null,null,null,null,null,null,"کارت موجودی",null,{"$f":"'صفحه اصلی'!$J$4","v":0},null,null,null,null,null,null,null,"کارت موجودی",null,{"$f":"'صفحه اصلی'!$J$4","v":0},null,null,null,null,null,null,null,"کارت موجودی",null,{"$f":"'صفحه اصلی'!$J$4","v":0},null,null,null,null,null,null,null,"کارت موجودی",null,{"$f":"'صفحه اصلی'!$J$4","v":0},null,null,null,null,null,null,null,"کارت موجودی",null,{"$f":"'صفحه اصلی'!$J$4","v":0},null,null,null,null,null,null,null,"کارت موجودی",null,{"$f":"'صفحه اصلی'!$J$4","v":0},null,null,null,null,null,null,null,"کارت موجودی",null,{"$f":"'صفحه اصلی'!$J$4","v":0},null,null,null,null,null,null,null,"کارت موجودی",null,{"$f":"'صفحه اصلی'!$J$4","v":0},null,null,null,null,null,null,null,"کارت موجودی",null,{"$f":"'صفحه اصلی'!$J$4","v":0},null,null,null,null,null,null,null,"کارت موجودی",null,{"$f":"'صفحه اصلی'!$J$4","v":0},null,null,null,null,null,null,null,"کارت موجودی",null,{"$f":"'صفحه اصلی'!$J$4","v":0},null,null,null,null,null,null,null,"کارت موجودی",null,{"$f":"'صفحه اصلی'!$J$4","v":0},null,null,null,null,null,null,null,"کارت موجودی",null,{"$f":"'صفحه اصلی'!$J$4","v":0},null,null,null,null,null,null,null,"کارت موجودی",null,{"$f":"'صفحه اصلی'!$J$4","v":0},null,null,null,null,null,null,null,"کارت موجودی",null,{"$f":"'صفحه اصلی'!$J$4","v":0},null,null,null,null,null,null,null,"کارت موجودی",null,{"$f":"'صفحه اصلی'!$J$4","v":0},null,null,null,null,null,null,null,"کارت موجودی",null,{"$f":"'صفحه اصلی'!$J$4","v":0},null,null,null,null,null,null,null,"کارت موجودی",null,{"$f":"'صفحه اصلی'!$J$4","v":0},null,null,null,null,null,null,null,"کارت موجودی",null,{"$f":"'صفحه اصلی'!$J$4","v":0},null,null,null,null,null,null,null,"کارت موجودی",null,{"$f":"'صفحه اصلی'!$J$4","v":0},null,null,null,null,null,null,null,"کارت موجودی",null,{"$f":"'صفحه اصلی'!$J$4","v":0},null,null,null,null,null,null,null,"کارت موجودی",null,{"$f":"'صفحه اصلی'!$J$4","v":0},null,null,null,null,null,null,null,"کارت موجودی",null,{"$f":"'صفحه اصلی'!$J$4","v":0},null,null,null,null,null,null,null,"کارت موجودی",null,{"$f":"'صفحه اصلی'!$J$4","v":0},null,null,null,null,null,null,null,"کارت موجودی",null,{"$f":"'صفحه اصلی'!$J$4","v":0},null,null,null,null,null,null,null,"کارت موجودی",null,{"$f":"'صفحه اصلی'!$J$4","v":0},null,null,null,null,null,null,null,"کارت موجودی",null,{"$f":"'صفحه اصلی'!$J$4","v":0},null,null,null,null,null,null,null,"کارت موجودی",null,{"$f":"'صفحه اصلی'!$J$4","v":0},null,null,null,null,null,null,null,"کارت موجودی",null,{"$f":"'صفحه اصلی'!$J$4","v":0},null,null,null,null,null,null,null,"کارت موجودی",null,{"$f":"'صفحه اصلی'!$J$4","v":0},null,null,null,null,null,null,null,"کارت موجودی",null,{"$f":"'صفحه اصلی'!$J$4","v":0},null,null,null,null,null,null,null,"کارت موجودی",null,{"$f":"'صفحه اصلی'!$J$4","v":0},null,null,null,null,null,null,null,"کارت موجودی",null,{"$f":"'صفحه اصلی'!$J$4","v":0},null,null,null,null,null,null,null,"کارت موجودی",null,{"$f":"'صفحه اصلی'!$J$4","v":0},null,null,null,null,null,null,null,"کارت موجودی",null,{"$f":"'صفحه اصلی'!$J$4","v":0},null,null,null,null,null,null,null,"کارت موجودی",null,{"$f":"'صفحه اصلی'!$J$4","v":0},null,null,null,null,null,null,null,"کارت موجودی",null,{"$f":"'صفحه اصلی'!$J$4","v":0},null,null,null,null,null,null,null,"کارت موجودی",null,{"$f":"'صفحه اصلی'!$J$4","v":0},null,null,null,null,null,null,null,"کارت موجودی",null,{"$f":"'صفحه اصلی'!$J$4","v":0},null,null,null,null,null,null,null,"کارت موجودی",null,{"$f":"'صفحه اصلی'!$J$4","v":0},null,null,null,null,null,null,null,"کارت موجودی",null,{"$f":"'صفحه اصلی'!$J$4","v":0},null,null,null,null,null,null,null,"کارت موجودی",null,{"$f":"'صفحه اصلی'!$J$4","v":0},null,null,null,null,null,null,null,"کارت موجودی",null,{"$f":"'صفحه اصلی'!$J$4","v":0},null,null,null,null,null,null,null,"کارت موجودی",null,{"$f":"'صفحه اصلی'!$J$4","v":0},null,null,null,null,null,null,null,"کارت موجودی",null,{"$f":"'صفحه اصلی'!$J$4","v":0},null,null,null,null,null,null,null,"کارت موجودی",null,{"$f":"'صفحه اصلی'!$J$4","v":0},null,null,null,null,null,null,null,"کارت موجودی",null,{"$f":"'صفحه اصلی'!$J$4","v":0},null,null,null,null,null,null,null,"کارت موجودی",null,{"$f":"'صفحه اصلی'!$J$4","v":0},null,null,null,null,null,null,null,"کارت موجودی",null,{"$f":"'صفحه اصلی'!$J$4","v":0},null,null,null,null,null,null,null,"کارت موجودی",null,{"$f":"'صفحه اصلی'!$J$4","v":0},null,null,null,null,null,null,null,"کارت موجودی",null,{"$f":"'صفحه اصلی'!$J$4","v":0},null,null,null,null,null,null,null,"کارت موجودی",null,{"$f":"'صفحه اصلی'!$J$4","v":0},null,null,null,null,null,null,null,"کارت موجودی",null,{"$f":"'صفحه اصلی'!$J$4","v":0},null,null,null,null,null,null,null,"کارت موجودی",null,{"$f":"'صفحه اصلی'!$J$4","v":0},null,null,null,null,null,null,null,"کارت موجودی",null,{"$f":"'صفحه اصلی'!$J$4","v":0},null,null,null,null,null,null,null,"کارت موجودی",null,{"$f":"'صفحه اصلی'!$J$4","v":0},null,null,null,null,null,null,null,"کارت موجودی",null,{"$f":"'صفحه اصلی'!$J$4","v":0},null,null,null,null,null,null,null,"کارت موجودی",null,{"$f":"'صفحه اصلی'!$J$4","v":0},null,null,null,null,null,null,null,"کارت موجودی",null,{"$f":"'صفحه اصلی'!$J$4","v":0},null,null,null,null,null,null,null,"کارت موجودی",null,{"$f":"'صفحه اصلی'!$J$4","v":0},null,null,null,null,null,null,null,"کارت موجودی",null,{"$f":"'صفحه اصلی'!$J$4","v":0},null,null,null,null,null,null,null,"کارت موجودی",null,{"$f":"'صفحه اصلی'!$J$4","v":0},null,null,null,null,null,null,null,"کارت موجودی",null,{"$f":"'صفحه اصلی'!$J$4","v":0},null,null,null,null,null,null,null,"کارت موجودی",null,{"$f":"'صفحه اصلی'!$J$4","v":0},null,null,null,null,null,null,null,"کارت موجودی",null,{"$f":"'صفحه اصلی'!$J$4","v":0},null,null,null,null,null,null,null,"کارت موجودی",null,{"$f":"'صفحه اصلی'!$J$4","v":0},null,null,null,null,null,null,null,"کارت موجودی",null,{"$f":"'صفحه اصلی'!$J$4","v":0},null,null,null,null,null,null,null,"کارت موجودی",null,{"$f":"'صفحه اصلی'!$J$4","v":0},null,null,null,null,null,null,null,"کارت موجودی",null,{"$f":"'صفحه اصلی'!$J$4","v":0},null,null,null,null,null,null,null,"کارت موجودی",null,{"$f":"'صفحه اصلی'!$J$4","v":0},null,null,null,null,null,null,null,"کارت موجودی",null,{"$f":"'صفحه اصلی'!$J$4","v":0},null,null,null,null,null,null,null,"کارت موجودی",null,{"$f":"'صفحه اصلی'!$J$4","v":0},null,null,null,null,null,null,null,"کارت موجودی",null,{"$f":"'صفحه اصلی'!$J$4","v":0},null,null,null,null,null,null,null,"کارت موجودی",null,{"$f":"'صفحه اصلی'!$J$4","v":0},null,null,null,null,null,null,null,"کارت موجودی",null,{"$f":"'صفحه اصلی'!$J$4","v":0},null,null,null,null,null,null,null,"کارت موجودی",null,{"$f":"'صفحه اصلی'!$J$4","v":0},null,null,null,null,null,null,null,"کارت موجودی",null,{"$f":"'صفحه اصلی'!$J$4","v":0},null,null,null,null,null,null,null,"کارت موجودی",null,{"$f":"'صفحه اصلی'!$J$4","v":0},null,null,null,null,null,null,null,"کارت موجودی",null,{"$f":"'صفحه اصلی'!$J$4","v":0},null,null,null,null,null,null,null,"کارت موجودی",null,{"$f":"'صفحه اصلی'!$J$4","v":0},null,null,null,null,null,null,null,"کارت موجودی",null,{"$f":"'صفحه اصلی'!$J$4","v":0},null,null,null,null,null,null,null,"کارت موجودی",null,{"$f":"'صفحه اصلی'!$J$4","v":0},null,null,null,null,null,null,null,"کارت موجودی",null,{"$f":"'صفحه اصلی'!$J$4","v":0}]
[null,"نام کالا",{"$f":"'موجودی کالا'!D5","v":"سی دی"},null,null,null,null,null,"کد کالا",{"$f":"'موجودی کالا'!C5","v":9011120},null,"نام کالا",{"$f":"'موجودی کالا'!D6","v":"دی وی دی"},null,null,null,null,null,"کد کالا",{"$f":"'موجودی کالا'!C6","v":9011121},null,"نام کالا",{"$f":"'موجودی کالا'!D7","v":"نوت بوک"},null,null,null,null,null,"کد کالا",{"$f":"'موجودی کالا'!C7","v":9011122},null,"نام کالا",{"$f":"'موجودی کالا'!D8","v":0},null,null,null,null,null,"کد کالا",{"$f":"'موجودی کالا'!C8","v":0},null,"نام کالا",{"$f":"'موجودی کالا'!D9","v":0},null,null,null,null,null,"کد کالا",{"$f":"'موجودی کالا'!C9","v":0},null,"نام کالا",{"$f":"'موجودی کالا'!D10","v":0},null,null,null,null,null,"کد کالا",{"$f":"'موجودی کالا'!C10","v":0},null,"نام کالا",{"$f":"'موجودی کالا'!D11","v":0},null,null,null,null,null,"کد کالا",{"$f":"'موجودی کالا'!C11","v":0},null,"نام کالا",{"$f":"'موجودی کالا'!D12","v":0},null,null,null,null,null,"کد کالا",{"$f":"'موجودی کالا'!C12","v":0},null,"نام کالا",{"$f":"'موجودی کالا'!D13","v":0},null,null,null,null,null,"کد کالا",{"$f":"'موجودی کالا'!C13","v":0},null,"نام کالا",{"$f":"'موجودی کالا'!D14","v":0},null,null,null,null,null,"کد کالا",{"$f":"'موجودی کالا'!C14","v":0},null,"نام کالا",{"$f":"'موجودی کالا'!D15","v":0},null,null,null,null,null,"کد کالا",{"$f":"'موجودی کالا'!C15","v":0},null,"نام کالا",{"$f":"'موجودی کالا'!D16","v":0},null,null,null,null,null,"کد کالا",{"$f":"'موجودی کالا'!C16","v":0},null,"نام کالا",{"$f":"'موجودی کالا'!D17","v":0},null,null,null,null,null,"کد کالا",{"$f":"'موجودی کالا'!C17","v":0},null,"نام کالا",{"$f":"'موجودی کالا'!D18","v":0},null,null,null,null,null,"کد کالا",{"$f":"'موجودی کالا'!C18","v":0},null,"نام کالا",{"$f":"'موجودی کالا'!D19","v":0},null,null,null,null,null,"کد کالا",{"$f":"'موجودی کالا'!C19","v":0},null,"نام کالا",{"$f":"'موجودی کالا'!D20","v":0},null,null,null,null,null,"کد کالا",{"$f":"'موجودی کالا'!C20","v":0},null,"نام کالا",{"$f":"'موجودی کالا'!D21","v":0},null,null,null,null,null,"کد کالا",{"$f":"'موجودی کالا'!C21","v":0},null,"نام کالا",{"$f":"'موجودی کالا'!D22","v":0},null,null,null,null,null,"کد کالا",{"$f":"'موجودی کالا'!C22","v":0},null,"نام کالا",{"$f":"'موجودی کالا'!D23","v":0},null,null,null,null,null,"کد کالا",{"$f":"'موجودی کالا'!C23","v":0},null,"نام کالا",{"$f":"'موجودی کالا'!D24","v":0},null,null,null,null,null,"کد کالا",{"$f":"'موجودی کالا'!C24","v":0},null,"نام کالا",{"$f":"'موجودی کالا'!D25","v":0},null,null,null,null,null,"کد کالا",{"$f":"'موجودی کالا'!C25","v":0},null,"نام کالا",{"$f":"'موجودی کالا'!D26","v":0},null,null,null,null,null,"کد کالا",{"$f":"'موجودی کالا'!C26","v":0},null,"نام کالا",{"$f":"'موجودی کالا'!D27","v":0},null,null,null,null,null,"کد کالا",{"$f":"'موجودی کالا'!C27","v":0},null,"نام کالا",{"$f":"'موجودی کالا'!D28","v":0},null,null,null,null,null,"کد کالا",{"$f":"'موجودی کالا'!C28","v":0},null,"نام کالا",{"$f":"'موجودی کالا'!D29","v":0},null,null,null,null,null,"کد کالا",{"$f":"'موجودی کالا'!C29","v":0},null,"نام کالا",{"$f":"'موجودی کالا'!D30","v":0},null,null,null,null,null,"کد کالا",{"$f":"'موجودی کالا'!C30","v":0},null,"نام کالا",{"$f":"'موجودی کالا'!D31","v":0},null,null,null,null,null,"کد کالا",{"$f":"'موجودی کالا'!C31","v":0},null,"نام کالا",{"$f":"'موجودی کالا'!D32","v":0},null,null,null,null,null,"کد کالا",{"$f":"'موجودی کالا'!C32","v":0},null,"نام کالا",{"$f":"'موجودی کالا'!D33","v":0},null,null,null,null,null,"کد کالا",{"$f":"'موجودی کالا'!C33","v":0},null,"نام کالا",{"$f":"'موجودی کالا'!D34","v":0},null,null,null,null,null,"کد کالا",{"$f":"'موجودی کالا'!C34","v":0},null,"نام کالا",{"$f":"'موجودی کالا'!D35","v":0},null,null,null,null,null,"کد کالا",{"$f":"'موجودی کالا'!C35","v":0},null,"نام کالا",{"$f":"'موجودی کالا'!D36","v":0},null,null,null,null,null,"کد کالا",{"$f":"'موجودی کالا'!C36","v":0},null,"نام کالا",{"$f":"'موجودی کالا'!D37","v":0},null,null,null,null,null,"کد کالا",{"$f":"'موجودی کالا'!C37","v":0},null,"نام کالا",{"$f":"'موجودی کالا'!D38","v":0},null,null,null,null,null,"کد کالا",{"$f":"'موجودی کالا'!C38","v":0},null,"نام کالا",{"$f":"'موجودی کالا'!D39","v":0},null,null,null,null,null,"کد کالا",{"$f":"'موجودی کالا'!C39","v":0},null,"نام کالا",{"$f":"'موجودی کالا'!D40","v":0},null,null,null,null,null,"کد کالا",{"$f":"'موجودی کالا'!C40","v":0},null,"نام کالا",{"$f":"'موجودی کالا'!D41","v":0},null,null,null,null,null,"کد کالا",{"$f":"'موجودی کالا'!C41","v":0},null,"نام کالا",{"$f":"'موجودی کالا'!D42","v":0},null,null,null,null,null,"کد کالا",{"$f":"'موجودی کالا'!C42","v":0},null,"نام کالا",{"$f":"'موجودی کالا'!D43","v":0},null,null,null,null,null,"کد کالا",{"$f":"'موجودی کالا'!C43","v":0},null,"نام کالا",{"$f":"'موجودی کالا'!D44","v":0},null,null,null,null,null,"کد کالا",{"$f":"'موجودی کالا'!C44","v":0},null,"نام کالا",{"$f":"'موجودی کالا'!D45","v":0},null,null,null,null,null,"کد کالا",{"$f":"'موجودی کالا'!C45","v":0},null,"نام کالا",{"$f":"'موجودی کالا'!D46","v":0},null,null,null,null,null,"کد کالا",{"$f":"'موجودی کالا'!C46","v":0},null,"نام کالا",{"$f":"'موجودی کالا'!D47","v":0},null,null,null,null,null,"کد کالا",{"$f":"'موجودی کالا'!C47","v":0},null,"نام کالا",{"$f":"'موجودی کالا'!D48","v":0},null,null,null,null,null,"کد کالا",{"$f":"'موجودی کالا'!C48","v":0},null,"نام کالا",{"$f":"'موجودی کالا'!D49","v":0},null,null,null,null,null,"کد کالا",{"$f":"'موجودی کالا'!C49","v":0},null,"نام کالا",{"$f":"'موجودی کالا'!D50","v":0},null,null,null,null,null,"کد کالا",{"$f":"'موجودی کالا'!C50","v":0},null,"نام کالا",{"$f":"'موجودی کالا'!D51","v":0},null,null,null,null,null,"کد کالا",{"$f":"'موجودی کالا'!C51","v":0},null,"نام کالا",{"$f":"'موجودی کالا'!D52","v":0},null,null,null,null,null,"کد کالا",{"$f":"'موجودی کالا'!C52","v":0},null,"نام کالا",{"$f":"'موجودی کالا'!D53","v":0},null,null,null,null,null,"کد کالا",{"$f":"'موجودی کالا'!C53","v":0},null,"نام کالا",{"$f":"'موجودی کالا'!D54","v":0},null,null,null,null,null,"کد کالا",{"$f":"'موجودی کالا'!C54","v":0},null,"نام کالا",{"$f":"'موجودی کالا'!D55","v":0},null,null,null,null,null,"کد کالا",{"$f":"'موجودی کالا'!C55","v":0},null,"نام کالا",{"$f":"'موجودی کالا'!D56","v":0},null,null,null,null,null,"کد کالا",{"$f":"'موجودی کالا'!C56","v":0},null,"نام کالا",{"$f":"'موجودی کالا'!D57","v":0},null,null,null,null,null,"کد کالا",{"$f":"'موجودی کالا'!C57","v":0},null,"نام کالا",{"$f":"'موجودی کالا'!D58","v":0},null,null,null,null,null,"کد کالا",{"$f":"'موجودی کالا'!C58","v":0},null,"نام کالا",{"$f":"'موجودی کالا'!D59","v":0},null,null,null,null,null,"کد کالا",{"$f":"'موجودی کالا'!C59","v":0},null,"نام کالا",{"$f":"'موجودی کالا'!D60","v":0},null,null,null,null,null,"کد کالا",{"$f":"'موجودی کالا'!C60","v":0},null,"نام کالا",{"$f":"'موجودی کالا'!D61","v":0},null,null,null,null,null,"کد کالا",{"$f":"'موجودی کالا'!C61","v":0},null,"نام کالا",{"$f":"'موجودی کالا'!D62","v":0},null,null,null,null,null,"کد کالا",{"$f":"'موجودی کالا'!C62","v":0},null,"نام کالا",{"$f":"'موجودی کالا'!D63","v":0},null,null,null,null,null,"کد کالا",{"$f":"'موجودی کالا'!C63","v":0},null,"نام کالا",{"$f":"'موجودی کالا'!D64","v":0},null,null,null,null,null,"کد کالا",{"$f":"'موجودی کالا'!C64","v":0},null,"نام کالا",{"$f":"'موجودی کالا'!D65","v":0},null,null,null,null,null,"کد کالا",{"$f":"'موجودی کالا'!C65","v":0},null,"نام کالا",{"$f":"'موجودی کالا'!D66","v":0},null,null,null,null,null,"کد کالا",{"$f":"'موجودی کالا'!C66","v":0},null,"نام کالا",{"$f":"'موجودی کالا'!D67","v":0},null,null,null,null,null,"کد کالا",{"$f":"'موجودی کالا'!C67","v":0},null,"نام کالا",{"$f":"'موجودی کالا'!D68","v":0},null,null,null,null,null,"کد کالا",{"$f":"'موجودی کالا'!C68","v":0},null,"نام کالا",{"$f":"'موجودی کالا'!D69","v":0},null,null,null,null,null,"کد کالا",{"$f":"'موجودی کالا'!C69","v":0},null,"نام کالا",{"$f":"'موجودی کالا'!D70","v":0},null,null,null,null,null,"کد کالا",{"$f":"'موجودی کالا'!C70","v":0},null,"نام کالا",{"$f":"'موجودی کالا'!D71","v":0},null,null,null,null,null,"کد کالا",{"$f":"'موجودی کالا'!C71","v":0},null,"نام کالا",{"$f":"'موجودی کالا'!D72","v":0},null,null,null,null,null,"کد کالا",{"$f":"'موجودی کالا'!C72","v":0},null,"نام کالا",{"$f":"'موجودی کالا'!D73","v":0},null,null,null,null,null,"کد کالا",{"$f":"'موجودی کالا'!C73","v":0},null,"نام کالا",{"$f":"'موجودی کالا'!D74","v":0},null,null,null,null,null,"کد کالا",{"$f":"'موجودی کالا'!C74","v":0},null,"نام کالا",{"$f":"'موجودی کالا'!D75","v":0},null,null,null,null,null,"کد کالا",{"$f":"'موجودی کالا'!C75","v":0},null,"نام کالا",{"$f":"'موجودی کالا'!D76","v":0},null,null,null,null,null,"کد کالا",{"$f":"'موجودی کالا'!C76","v":0},null,"نام کالا",{"$f":"'موجودی کالا'!D77","v":0},null,null,null,null,null,"کد کالا",{"$f":"'موجودی کالا'!C77","v":0},null,"نام کالا",{"$f":"'موجودی کالا'!D78","v":0},null,null,null,null,null,"کد کالا",{"$f":"'موجودی کالا'!C78","v":0},null,"نام کالا",{"$f":"'موجودی کالا'!D79","v":0},null,null,null,null,null,"کد کالا",{"$f":"'موجودی کالا'!C79","v":0},null,"نام کالا",{"$f":"'موجودی کالا'!D80","v":0},null,null,null,null,null,"کد کالا",{"$f":"'موجودی کالا'!C80","v":0},null,"نام کالا",{"$f":"'موجودی کالا'!D81","v":0},null,null,null,null,null,"کد کالا",{"$f":"'موجودی کالا'!C81","v":0},null,"نام کالا",{"$f":"'موجودی کالا'!D82","v":0},null,null,null,null,null,"کد کالا",{"$f":"'موجودی کالا'!C82","v":0},null,"نام کالا",{"$f":"'موجودی کالا'!D83","v":0},null,null,null,null,null,"کد کالا",{"$f":"'موجودی کالا'!C83","v":0},null,"نام کالا",{"$f":"'موجودی کالا'!D84","v":0},null,null,null,null,null,"کد کالا",{"$f":"'موجودی کالا'!C84","v":0},null,"نام کالا",{"$f":"'موجودی کالا'!D85","v":0},null,null,null,null,null,"کد کالا",{"$f":"'موجودی کالا'!C85","v":0},null,"نام کالا",{"$f":"'موجودی کالا'!D86","v":0},null,null,null,null,null,"کد کالا",{"$f":"'موجودی کالا'!C86","v":0},null,"نام کالا",{"$f":"'موجودی کالا'!D87","v":0},null,null,null,null,null,"کد کالا",{"$f":"'موجودی کالا'!C87","v":0},null,"نام کالا",{"$f":"'موجودی کالا'!D88","v":0},null,null,null,null,null,"کد کالا",{"$f":"'موجودی کالا'!C88","v":0},null,"نام کالا",{"$f":"'موجودی کالا'!D89","v":0},null,null,null,null,null,"کد کالا",{"$f":"'موجودی کالا'!C89","v":0},null,"نام کالا",{"$f":"'موجودی کالا'!D90","v":0},null,null,null,null,null,"کد کالا",{"$f":"'موجودی کالا'!C90","v":0},null,"نام کالا",{"$f":"'موجودی کالا'!D91","v":0},null,null,null,null,null,"کد کالا",{"$f":"'موجودی کالا'!C91","v":0},null,"نام کالا",{"$f":"'موجودی کالا'!D92","v":0},null,null,null,null,null,"کد کالا",{"$f":"'موجودی کالا'!C92","v":0},null,"نام کالا",{"$f":"'موجودی کالا'!D93","v":0},null,null,null,null,null,"کد کالا",{"$f":"'موجودی کالا'!C93","v":0},null,"نام کالا",{"$f":"'موجودی کالا'!D94","v":0},null,null,null,null,null,"کد کالا",{"$f":"'موجودی کالا'!C94","v":0},null,"نام کالا",{"$f":"'موجودی کالا'!D95","v":0},null,null,null,null,null,"کد کالا",{"$f":"'موجودی کالا'!C95","v":0},null,"نام کالا",{"$f":"'موجودی کالا'!D96","v":0},null,null,null,null,null,"کد کالا",{"$f":"'موجودی کالا'!C96","v":0},null,"نام کالا",{"$f":"'موجودی کالا'!D97","v":0},null,null,null,null,null,"کد کالا",{"$f":"'موجودی کالا'!C97","v":0},null,"نام کالا",{"$f":"'موجودی کالا'!D98","v":0},null,null,null,null,null,"کد کالا",{"$f":"'موجودی کالا'!C98","v":0},null,"نام کالا",{"$f":"'موجودی کالا'!D99","v":0},null,null,null,null,null,"کد کالا",{"$f":"'موجودی کالا'!C99","v":0},null,"نام کالا",{"$f":"'موجودی کالا'!D100","v":0},null,null,null,null,null,"کد کالا",{"$f":"'موجودی کالا'!C100","v":0},null,"نام کالا",{"$f":"'موجودی کالا'!D101","v":0},null,null,null,null,null,"کد کالا",{"$f":"'موجودی کالا'!C101","v":0},null,"نام کالا",{"$f":"'موجودی کالا'!D102","v":0},null,null,null,null,null,"کد کالا",{"$f":"'موجودی کالا'!C102","v":0},null,"نام کالا",{"$f":"'موجودی کالا'!D103","v":0},null,null,null,null,null,"کد کالا",{"$f":"'موجودی کالا'!C103","v":0},null,"نام کالا",{"$f":"'موجودی کالا'!D104","v":0},null,null,null,null,null,"کد کالا",{"$f":"'موجودی کالا'!C104","v":0}]
[]
[null,"واحد",{"$f":"'موجودی کالا'!F5","v":"حلقه"},null,null,null,null,null,"کاردکس",1,null,"واحد",{"$f":"'موجودی کالا'!F6","v":"حلقه"},null,null,null,null,null,"کاردکس",2,null,"واحد",{"$f":"'موجودی کالا'!F7","v":"دستگاه"},null,null,null,null,null,"کاردکس",3,null,"واحد",{"$f":"'موجودی کالا'!F8","v":0},null,null,null,null,null,"کاردکس",4,null,"واحد",{"$f":"'موجودی کالا'!F9","v":0},null,null,null,null,null,"کاردکس",5,null,"واحد",{"$f":"'موجودی کالا'!F10","v":0},null,null,null,null,null,"کاردکس",6,null,"واحد",{"$f":"'موجودی کالا'!F11","v":0},null,null,null,null,null,"کاردکس",7,null,"واحد",{"$f":"'موجودی کالا'!F12","v":0},null,null,null,null,null,"کاردکس",8,null,"واحد",{"$f":"'موجودی کالا'!F13","v":0},null,null,null,null,null,"کاردکس",9,null,"واحد",{"$f":"'موجودی کالا'!F14","v":0},null,null,null,null,null,"کاردکس",10,null,"واحد",{"$f":"'موجودی کالا'!F15","v":0},null,null,null,null,null,"کاردکس",11,null,"واحد",{"$f":"'موجودی کالا'!F16","v":0},null,null,null,null,null,"کاردکس",12,null,"واحد",{"$f":"'موجودی کالا'!F17","v":0},null,null,null,null,null,"کاردکس",13,null,"واحد",{"$f":"'موجودی کالا'!F18","v":0},null,null,null,null,null,"کاردکس",14,null,"واحد",{"$f":"'موجودی کالا'!F19","v":0},null,null,null,null,null,"کاردکس",15,null,"واحد",{"$f":"'موجودی کالا'!F20","v":0},null,null,null,null,null,"کاردکس",16,null,"واحد",{"$f":"'موجودی کالا'!F21","v":0},null,null,null,null,null,"کاردکس",17,null,"واحد",{"$f":"'موجودی کالا'!F22","v":0},null,null,null,null,null,"کاردکس",18,null,"واحد",{"$f":"'موجودی کالا'!F23","v":0},null,null,null,null,null,"کاردکس",19,null,"واحد",{"$f":"'موجودی کالا'!F24","v":0},null,null,null,null,null,"کاردکس",20,null,"واحد",{"$f":"'موجودی کالا'!F25","v":0},null,null,null,null,null,"کاردکس",21,null,"واحد",{"$f":"'موجودی کالا'!F26","v":0},null,null,null,null,null,"کاردکس",22,null,"واحد",{"$f":"'موجودی کالا'!F27","v":0},null,null,null,null,null,"کاردکس",23,null,"واحد",{"$f":"'موجودی کالا'!F28","v":0},null,null,null,null,null,"کاردکس",24,null,"واحد",{"$f":"'موجودی کالا'!F29","v":0},null,null,null,null,null,"کاردکس",25,null,"واحد",{"$f":"'موجودی کالا'!F30","v":0},null,null,null,null,null,"کاردکس",26,null,"واحد",{"$f":"'موجودی کالا'!F31","v":0},null,null,null,null,null,"کاردکس",27,null,"واحد",{"$f":"'موجودی کالا'!F32","v":0},null,null,null,null,null,"کاردکس",28,null,"واحد",{"$f":"'موجودی کالا'!F33","v":0},null,null,null,null,null,"کاردکس",29,null,"واحد",{"$f":"'موجودی کالا'!F34","v":0},null,null,null,null,null,"کاردکس",30,null,"واحد",{"$f":"'موجودی کالا'!F35","v":0},null,null,null,null,null,"کاردکس",31,null,"واحد",{"$f":"'موجودی کالا'!F36","v":0},null,null,null,null,null,"کاردکس",32,null,"واحد",{"$f":"'موجودی کالا'!F37","v":0},null,null,null,null,null,"کاردکس",33,null,"واحد",{"$f":"'موجودی کالا'!F38","v":0},null,null,null,null,null,"کاردکس",34,null,"واحد",{"$f":"'موجودی کالا'!F39","v":0},null,null,null,null,null,"کاردکس",35,null,"واحد",{"$f":"'موجودی کالا'!F40","v":0},null,null,null,null,null,"کاردکس",36,null,"واحد",{"$f":"'موجودی کالا'!F41","v":0},null,null,null,null,null,"کاردکس",37,null,"واحد",{"$f":"'موجودی کالا'!F42","v":0},null,null,null,null,null,"کاردکس",38,null,"واحد",{"$f":"'موجودی کالا'!F43","v":0},null,null,null,null,null,"کاردکس",39,null,"واحد",{"$f":"'موجودی کالا'!F44","v":0},null,null,null,null,null,"کاردکس",40,null,"واحد",{"$f":"'موجودی کالا'!F45","v":0},null,null,null,null,null,"کاردکس",41,null,"واحد",{"$f":"'موجودی کالا'!F46","v":0},null,null,null,null,null,"کاردکس",42,null,"واحد",{"$f":"'موجودی کالا'!F47","v":0},null,null,null,null,null,"کاردکس",43,null,"واحد",{"$f":"'موجودی کالا'!F48","v":0},null,null,null,null,null,"کاردکس",44,null,"واحد",{"$f":"'موجودی کالا'!F49","v":0},null,null,null,null,null,"کاردکس",45,null,"واحد",{"$f":"'موجودی کالا'!F50","v":0},null,null,null,null,null,"کاردکس",46,null,"واحد",{"$f":"'موجودی کالا'!F51","v":0},null,null,null,null,null,"کاردکس",47,null,"واحد",{"$f":"'موجودی کالا'!F52","v":0},null,null,null,null,null,"کاردکس",48,null,"واحد",{"$f":"'موجودی کالا'!F53","v":0},null,null,null,null,null,"کاردکس",49,null,"واحد",{"$f":"'موجودی کالا'!F54","v":0},null,null,null,null,null,"کاردکس",50,null,"واحد",{"$f":"'موجودی کالا'!F55","v":0},null,null,null,null,null,"کاردکس",51,null,"واحد",{"$f":"'موجودی کالا'!F56","v":0},null,null,null,null,null,"کاردکس",52,null,"واحد",{"$f":"'موجودی کالا'!F57","v":0},null,null,null,null,null,"کاردکس",53,null,"واحد",{"$f":"'موجودی کالا'!F58","v":0},null,null,null,null,null,"کاردکس",54,null,"واحد",{"$f":"'موجودی کالا'!F59","v":0},null,null,null,null,null,"کاردکس",55,null,"واحد",{"$f":"'موجودی کالا'!F60","v":0},null,null,null,null,null,"کاردکس",56,null,"واحد",{"$f":"'موجودی کالا'!F61","v":0},null,null,null,null,null,"کاردکس",57,null,"واحد",{"$f":"'موجودی کالا'!F62","v":0},null,null,null,null,null,"کاردکس",58,null,"واحد",{"$f":"'موجودی کالا'!F63","v":0},null,null,null,null,null,"کاردکس",59,null,"واحد",{"$f":"'موجودی کالا'!F64","v":0},null,null,null,null,null,"کاردکس",60,null,"واحد",{"$f":"'موجودی کالا'!F65","v":0},null,null,null,null,null,"کاردکس",61,null,"واحد",{"$f":"'موجودی کالا'!F66","v":0},null,null,null,null,null,"کاردکس",62,null,"واحد",{"$f":"'موجودی کالا'!F67","v":0},null,null,null,null,null,"کاردکس",63,null,"واحد",{"$f":"'موجودی کالا'!F68","v":0},null,null,null,null,null,"کاردکس",64,null,"واحد",{"$f":"'موجودی کالا'!F69","v":0},null,null,null,null,null,"کاردکس",65,null,"واحد",{"$f":"'موجودی کالا'!F70","v":0},null,null,null,null,null,"کاردکس",66,null,"واحد",{"$f":"'موجودی کالا'!F71","v":0},null,null,null,null,null,"کاردکس",67,null,"واحد",{"$f":"'موجودی کالا'!F72","v":0},null,null,null,null,null,"کاردکس",68,null,"واحد",{"$f":"'موجودی کالا'!F73","v":0},null,null,null,null,null,"کاردکس",69,null,"واحد",{"$f":"'موجودی کالا'!F74","v":0},null,null,null,null,null,"کاردکس",70,null,"واحد",{"$f":"'موجودی کالا'!F75","v":0},null,null,null,null,null,"کاردکس",71,null,"واحد",{"$f":"'موجودی کالا'!F76","v":0},null,null,null,null,null,"کاردکس",72,null,"واحد",{"$f":"'موجودی کالا'!F77","v":0},null,null,null,null,null,"کاردکس",73,null,"واحد",{"$f":"'موجودی کالا'!F78","v":0},null,null,null,null,null,"کاردکس",74,null,"واحد",{"$f":"'موجودی کالا'!F79","v":0},null,null,null,null,null,"کاردکس",75,null,"واحد",{"$f":"'موجودی کالا'!F80","v":0},null,null,null,null,null,"کاردکس",76,null,"واحد",{"$f":"'موجودی کالا'!F81","v":0},null,null,null,null,null,"کاردکس",77,null,"واحد",{"$f":"'موجودی کالا'!F82","v":0},null,null,null,null,null,"کاردکس",78,null,"واحد",{"$f":"'موجودی کالا'!F83","v":0},null,null,null,null,null,"کاردکس",79,null,"واحد",{"$f":"'موجودی کالا'!F84","v":0},null,null,null,null,null,"کاردکس",80,null,"واحد",{"$f":"'موجودی کالا'!F85","v":0},null,null,null,null,null,"کاردکس",81,null,"واحد",{"$f":"'موجودی کالا'!F86","v":0},null,null,null,null,null,"کاردکس",82,null,"واحد",{"$f":"'موجودی کالا'!F87","v":0},null,null,null,null,null,"کاردکس",83,null,"واحد",{"$f":"'موجودی کالا'!F88","v":0},null,null,null,null,null,"کاردکس",84,null,"واحد",{"$f":"'موجودی کالا'!F89","v":0},null,null,null,null,null,"کاردکس",85,null,"واحد",{"$f":"'موجودی کالا'!F90","v":0},null,null,null,null,null,"کاردکس",86,null,"واحد",{"$f":"'موجودی کالا'!F91","v":0},null,null,null,null,null,"کاردکس",87,null,"واحد",{"$f":"'موجودی کالا'!F92","v":0},null,null,null,null,null,"کاردکس",88,null,"واحد",{"$f":"'موجودی کالا'!F93","v":0},null,null,null,null,null,"کاردکس",89,null,"واحد",{"$f":"'موجودی کالا'!F94","v":0},null,null,null,null,null,"کاردکس",90,null,"واحد",{"$f":"'موجودی کالا'!F95","v":0},null,null,null,null,null,"کاردکس",91,null,"واحد",{"$f":"'موجودی کالا'!F96","v":0},null,null,null,null,null,"کاردکس",92,null,"واحد",{"$f":"'موجودی کالا'!F97","v":0},null,null,null,null,null,"کاردکس",93,null,"واحد",{"$f":"'موجودی کالا'!F98","v":0},null,null,null,null,null,"کاردکس",94,null,"واحد",{"$f":"'موجودی کالا'!F99","v":0},null,null,null,null,null,"کاردکس",95,null,"واحد",{"$f":"'موجودی کالا'!F100","v":0},null,null,null,null,null,"کاردکس",96,null,"واحد",{"$f":"'موجودی کالا'!F101","v":0},null,null,null,null,null,"کاردکس",97,null,"واحد",{"$f":"'موجودی کالا'!F102","v":0},null,null,null,null,null,"کاردکس",98,null,"واحد",{"$f":"'موجودی کالا'!F103","v":0},null,null,null,null,null,"کاردکس",99,null,"واحد",{"$f":"'موجودی کالا'!F104","v":0},null,null,null,null,null,"کاردکس",100]
[]
[null,"ردیف","تاریخ","شرح","رسید کالا","حواله کالا","وارده","صادره","موجودی","نام انبار",null,"ردیف","تاریخ","شرح","رسید کالا","حواله کالا","وارده","صادره","موجودی","نام انبار",null,"ردیف","تاریخ","شرح","رسید کالا","حواله کالا","وارده","صادره","موجودی","نام انبار",null,"ردیف","تاریخ","شرح","رسید کالا","حواله کالا","وارده","صادره","موجودی","نام انبار",null,"ردیف","تاریخ","شرح","رسید کالا","حواله کالا","وارده","صادره","موجودی","نام انبار",null,"ردیف","تاریخ","شرح","رسید کالا","حواله کالا","وارده","صادره","موجودی","نام انبار",null,"ردیف","تاریخ","شرح","رسید کالا","حواله کالا","وارده","صادره","موجودی","نام انبار",null,"ردیف","تاریخ","شرح","رسید کالا","حواله کالا","وارده","صادره","موجودی","نام انبار",null,"ردیف","تاریخ","شرح","رسید کالا","حواله کالا","وارده","صادره","موجودی","نام انبار",null,"ردیف","تاریخ","شرح","رسید کالا","حواله کالا","وارده","صادره","موجودی","نام انبار",null,"ردیف","تاریخ","شرح","رسید کالا","حواله کالا","وارده","صادره","موجودی","نام انبار",null,"ردیف","تاریخ","شرح","رسید کالا","حواله کالا","وارده","صادره","موجودی","نام انبار",null,"ردیف","تاریخ","شرح","رسید کالا","حواله کالا","وارده","صادره","موجودی","نام انبار",null,"ردیف","تاریخ","شرح","رسید کالا","حواله کالا","وارده","صادره","موجودی","نام انبار",null,"ردیف","تاریخ","شرح","رسید کالا","حواله کالا","وارده","صادره","موجودی","نام انبار",null,"ردیف","تاریخ","شرح","رسید کالا","حواله کالا","وارده","صادره","موجودی","نام انبار",null,"ردیف","تاریخ","شرح","رسید کالا","حواله کالا","وارده","صادره","موجودی","نام انبار",null,"ردیف","تاریخ","شرح","رسید کالا","حواله کالا","وارده","صادره","موجودی","نام انبار",null,"ردیف","تاریخ","شرح","رسید کالا","حواله کالا","وارده","صادره","موجودی","نام انبار",null,"ردیف","تاریخ","شرح","رسید کالا","حواله کالا","وارده","صادره","موجودی","نام انبار",null,"ردیف","تاریخ","شرح","رسید کالا","حواله کالا","وارده","صادره","موجودی","نام انبار",null,"ردیف","تاریخ","شرح","رسید کالا","حواله کالا","وارده","صادره","موجودی","نام انبار",null,"ردیف","تاریخ","شرح","رسید کالا","حواله کالا","وارده","صادره","موجودی","نام انبار",null,"ردیف","تاریخ","شرح","رسید کالا","حواله کالا","وارده","صادره","موجودی","نام انبار",null,"ردیف","تاریخ","شرح","رسید کالا","حواله کالا","وارده","صادره","موجودی","نام انبار",null,"ردیف","تاریخ","شرح","رسید کالا","حواله کالا","وارده","صادره","موجودی","نام انبار",null,"ردیف","تاریخ","شرح","رسید کالا","حواله کالا","وارده","صادره","موجودی","نام انبار",null,"ردیف","تاریخ","شرح","رسید کالا","حواله کالا","وارده","صادره","موجودی","نام انبار",null,"ردیف","تاریخ","شرح","رسید کالا","حواله کالا","وارده","صادره","موجودی","نام انبار",null,"ردیف","تاریخ","شرح","رسید کالا","حواله کالا","وارده","صادره","موجودی","نام انبار",null,"ردیف","تاریخ","شرح","رسید کالا","حواله کالا","وارده","صادره","موجودی","نام انبار",null,"ردیف","تاریخ","شرح","رسید کالا","حواله کالا","وارده","صادره","موجودی","نام انبار",null,"ردیف","تاریخ","شرح","رسید کالا","حواله کالا","وارده","صادره","موجودی","نام انبار",null,"ردیف","تاریخ","شرح","رسید کالا","حواله کالا","وارده","صادره","موجودی","نام انبار",null,"ردیف","تاریخ","شرح","رسید کالا","حواله کالا","وارده","صادره","موجودی","نام انبار",null,"ردیف","تاریخ","شرح","رسید کالا","حواله کالا","وارده","صادره","موجودی","نام انبار",null,"ردیف","تاریخ","شرح","رسید کالا","حواله کالا","وارده","صادره","موجودی","نام انبار",null,"ردیف","تاریخ","شرح","رسید کالا","حواله کالا","وارده","صادره","موجودی","نام انبار",null,"ردیف","تاریخ","شرح","رسید کالا","حواله کالا","وارده","صادره","موجودی","نام انبار",null,"ردیف","تاریخ","شرح","رسید کالا","حواله کالا","وارده","صادره","موجودی","نام انبار",null,"ردیف","تاریخ","شرح","رسید کالا","حواله کالا","وارده","صادره","موجودی","نام انبار",null,"ردیف","تاریخ","شرح","رسید کالا","حواله کالا","وارده","صادره","موجودی","نام انبار",null,"ردیف","تاریخ","شرح","رسید کالا","حواله کالا","وارده","صادره","موجودی","نام انبار",null,"ردیف","تاریخ","شرح","رسید کالا","حواله کالا","وارده","صادره","موجودی","نام انبار",null,"ردیف","تاریخ","شرح","رسید کالا","حواله کالا","وارده","صادره","موجودی","نام انبار",null,"ردیف","تاریخ","شرح","رسید کالا","حواله کالا","وارده","صادره","موجودی","نام انبار",null,"ردیف","تاریخ","شرح","رسید کالا","حواله کالا","وارده","صادره","موجودی","نام انبار",null,"ردیف","تاریخ","شرح","رسید کالا","حواله کالا","وارده","صادره","موجودی","نام انبار",null,"ردیف","تاریخ","شرح","رسید کالا","حواله کالا","وارده","صادره","موجودی","نام انبار",null,"ردیف","تاریخ","شرح","رسید کالا","حواله کالا","وارده","صادره","موجودی","نام انبار",null,"ردیف","تاریخ","شرح","رسید کالا","حواله کالا","وارده","صادره","موجودی","نام انبار",null,"ردیف","تاریخ","شرح","رسید کالا","حواله کالا","وارده","صادره","موجودی","نام انبار",null,"ردیف","تاریخ","شرح","رسید کالا","حواله کالا","وارده","صادره","موجودی","نام انبار",null,"ردیف","تاریخ","شرح","رسید کالا","حواله کالا","وارده","صادره","موجودی","نام انبار",null,"ردیف","تاریخ","شرح","رسید کالا","حواله کالا","وارده","صادره","موجودی","نام انبار",null,"ردیف","تاریخ","شرح","رسید کالا","حواله کالا","وارده","صادره","موجودی","نام انبار",null,"ردیف","تاریخ","شرح","رسید کالا","حواله کالا","وارده","صادره","موجودی","نام انبار",null,"ردیف","تاریخ","شرح","رسید کالا","حواله کالا","وارده","صادره","موجودی","نام انبار",null,"ردیف","تاریخ","شرح","رسید کالا","حواله کالا","وارده","صادره","موجودی","نام انبار",null,"ردیف","تاریخ","شرح","رسید کالا","حواله کالا","وارده","صادره","موجودی","نام انبار",null,"ردیف","تاریخ","شرح","رسید کالا","حواله کالا","وارده","صادره","موجودی","نام انبار",null,"ردیف","تاریخ","شرح","رسید کالا","حواله کالا","وارده","صادره","موجودی","نام انبار",null,"ردیف","تاریخ","شرح","رسید کالا","حواله کالا","وارده","صادره","موجودی","نام انبار",null,"ردیف","تاریخ","شرح","رسید کالا","حواله کالا","وارده","صادره","موجودی","نام انبار",null,"ردیف","تاریخ","شرح","رسید کالا","حواله کالا","وارده","صادره","موجودی","نام انبار",null,"ردیف","تاریخ","شرح","رسید کالا","حواله کالا","وارده","صادره","موجودی","نام انبار",null,"ردیف","تاریخ","شرح","رسید کالا","حواله کالا","وارده","صادره","موجودی","نام انبار",null,"ردیف","تاریخ","شرح","رسید کالا","حواله کالا","وارده","صادره","موجودی","نام انبار",null,"ردیف","تاریخ","شرح","رسید کالا","حواله کالا","وارده","صادره","موجودی","نام انبار",null,"ردیف","تاریخ","شرح","رسید کالا","حواله کالا","وارده","صادره","موجودی","نام انبار",null,"ردیف","تاریخ","شرح","رسید کالا","حواله کالا","وارده","صادره","موجودی","نام انبار",null,"ردیف","تاریخ","شرح","رسید کالا","حواله کالا","وارده","صادره","موجودی","نام انبار",null,"ردیف","تاریخ","شرح","رسید کالا","حواله کالا","وارده","صادره","موجودی","نام انبار",null,"ردیف","تاریخ","شرح","رسید کالا","حواله کالا","وارده","صادره","موجودی","نام انبار",null,"ردیف","تاریخ","شرح","رسید کالا","حواله کالا","وارده","صادره","موجودی","نام انبار",null,"ردیف","تاریخ","شرح","رسید کالا","حواله کالا","وارده","صادره","موجودی","نام انبار",null,"ردیف","تاریخ","شرح","رسید کالا","حواله کالا","وارده","صادره","موجودی","نام انبار",null,"ردیف","تاریخ","شرح","رسید کالا","حواله کالا","وارده","صادره","موجودی","نام انبار",null,"ردیف","تاریخ","شرح","رسید کالا","حواله کالا","وارده","صادره","موجودی","نام انبار",null,"ردیف","تاریخ","شرح","رسید کالا","حواله کالا","وارده","صادره","موجودی","نام انبار",null,"ردیف","تاریخ","شرح","رسید کالا","حواله کالا","وارده","صادره","موجودی","نام انبار",null,"ردیف","تاریخ","شرح","رسید کالا","حواله کالا","وارده","صادره","موجودی","نام انبار",null,"ردیف","تاریخ","شرح","رسید کالا","حواله کالا","وارده","صادره","موجودی","نام انبار",null,"ردیف","تاریخ","شرح","رسید کالا","حواله کالا","وارده","صادره","موجودی","نام انبار",null,"ردیف","تاریخ","شرح","رسید کالا","حواله کالا","وارده","صادره","موجودی","نام انبار",null,"ردیف","تاریخ","شرح","رسید کالا","حواله کالا","وارده","صادره","موجودی","نام انبار",null,"ردیف","تاریخ","شرح","رسید کالا","حواله کالا","وارده","صادره","موجودی","نام انبار",null,"ردیف","تاریخ","شرح","رسید کالا","حواله کالا","وارده","صادره","موجودی","نام انبار",null,"ردیف","تاریخ","شرح","رسید کالا","حواله کالا","وارده","صادره","موجودی","نام انبار",null,"ردیف","تاریخ","شرح","رسید کالا","حواله کالا","وارده","صادره","موجودی","نام انبار",null,"ردیف","تاریخ","شرح","رسید کالا","حواله کالا","وارده","صادره","موجودی","نام انبار",null,"ردیف","تاریخ","شرح","رسید کالا","حواله کالا","وارده","صادره","موجودی","نام انبار",null,"ردیف","تاریخ","شرح","رسید کالا","حواله کالا","وارده","صادره","موجودی","نام انبار",null,"ردیف","تاریخ","شرح","رسید کالا","حواله کالا","وارده","صادره","موجودی","نام انبار",null,"ردیف","تاریخ","شرح","رسید کالا","حواله کالا","وارده","صادره","موجودی","نام انبار",null,"ردیف","تاریخ","شرح","رسید کالا","حواله کالا","وارده","صادره","موجودی","نام انبار",null,"ردیف","تاریخ","شرح","رسید کالا","حواله کالا","وارده","صادره","موجودی","نام انبار",null,"ردیف","تاریخ","شرح","رسید کالا","حواله کالا","وارده","صادره","موجودی","نام انبار",null,"ردیف","تاریخ","شرح","رسید کالا","حواله کالا","وارده","صادره","موجودی","نام انبار",null,"ردیف","تاریخ","شرح","رسید کالا","حواله کالا","وارده","صادره","موجودی","نام انبار"]
[null,1,null,null,null,null,null,null,{"$f":"G8-H8","v":0},null,null,1,null,null,null,null,null,null,{"$f":"Q8-R8","v":0},null,null,1,null,null,null,null,null,null,{"$f":"AA8-AB8","v":0},null,null,1,null,null,null,null,null,null,{"$f":"AK8-AL8","v":0},null,null,1,null,null,null,null,null,null,{"$f":"AU8-AV8","v":0},null,null,1,null,null,null,null,null,null,{"$f":"BE8-BF8","v":0},null,null,1,null,null,null,null,null,null,{"$f":"BO8-BP8","v":0},null,null,1,null,null,null,null,null,null,{"$f":"BY8-BZ8","v":0},null,null,1,null,null,null,null,null,null,{"$f":"CI8-CJ8","v":0},null,null,1,null,null,null,null,null,null,{"$f":"CS8-CT8","v":0},null,null,1,null,null,null,null,null,null,{"$f":"DC8-DD8","v":0},null,null,1,null,null,null,null,null,null,{"$f":"DM8-DN8","v":0},null,null,1,null,null,null,null,null,null,{"$f":"DW8-DX8","v":0},null,null,1,null,null,null,null,null,null,{"$f":"EG8-EH8","v":0},null,null,1,null,null,null,null,null,null,{"$f":"EQ8-ER8","v":0},null,null,1,null,null,null,null,null,null,{"$f":"FA8-FB8","v":0},null,null,1,null,null,null,null,null,null,{"$f":"FK8-FL8","v":0},null,null,1,null,null,null,null,null,null,{"$f":"FU8-FV8","v":0},null,null,1,null,null,null,null,null,null,{"$f":"GE8-GF8","v":0},null,null,1,null,null,null,null,null,null,{"$f":"GO8-GP8","v":0},null,null,1,null,null,null,null,null,null,{"$f":"GY8-GZ8","v":0},null,null,1,null,null,null,null,null,null,{"$f":"HI8-HJ8","v":0},null,null,1,null,null,null,null,null,null,{"$f":"HS8-HT8","v":0},null,null,1,null,null,null,null,null,null,{"$f":"IC8-ID8","v":0},null,null,1,null,null,null,null,null,null,{"$f":"IM8-IN8","v":0},null,null,1,null,null,null,null,null,null,{"$f":"IW8-IX8","v":0},null,null,1,null,null,null,null,null,null,{"$f":"JG8-JH8","v":0},null,null,1,null,null,null,null,null,null,null,null,null,1,null,null,null,null,null,null,{"$f":"KA8-KB8","v":0},null,null,1,null,null,null,null,null,null,{"$f":"KK8-KL8","v":0},null,null,1,null,null,null,null,null,null,{"$f":"KU8-KV8","v":0},null,null,1,null,null,null,null,null,null,{"$f":"LE8-LF8","v":0},null,null,1,null,null,null,null,null,null,{"$f":"LO8-LP8","v":0},null,null,1,null,null,null,null,null,null,{"$f":"LY8-LZ8","v":0},null,null,1,null,null,null,null,null,null,{"$f":"MI8-MJ8","v":0},null,null,1,null,null,null,null,null,null,{"$f":"MS8-MT8","v":0},null,null,1,null,null,null,null,null,null,{"$f":"NC8-ND8","v":0},null,null,1,null,null,null,null,null,null,{"$f":"NM8-NN8","v":0},null,null,1,null,null,null,null,null,null,{"$f":"NW8-NX8","v":0},null,null,1,null,null,null,null,null,null,{"$f":"OG8-OH8","v":0},null,null,1,null,null,null,null,null,null,{"$f":"OQ8-OR8","v":0},null,null,1,null,null,null,null,null,null,{"$f":"PA8-PB8","v":0},null,null,1,null,null,null,null,null,null,{"$f":"PK8-PL8","v":0},null,null,1,null,null,null,null,null,null,{"$f":"PU8-PV8","v":0},null,null,1,null,null,null,null,null,null,{"$f":"QE8-QF8","v":0},null,null,1,null,null,null,null,null,null,{"$f":"QO8-QP8","v":0},null,null,1,null,null,null,null,null,null,{"$f":"QY8-QZ8","v":0},null,null,1,null,null,null,null,null,null,{"$f":"RI8-RJ8","v":0},null,null,1,null,null,null,null,null,null,{"$f":"RS8-RT8","v":0},null,null,1,null,null,null,null,null,null,{"$f":"SC8-SD8","v":0},null,null,1,null,null,null,null,null,null,{"$f":"SM8-SN8","v":0},null,null,1,null,null,null,null,null,null,{"$f":"SW8-SX8","v":0},null,null,1,null,null,null,null,null,null,{"$f":"TG8-TH8","v":0},null,null,1,null,null,null,null,null,null,{"$f":"TQ8-TR8","v":0},null,null,1,null,null,null,null,null,null,{"$f":"UA8-UB8","v":0},null,null,1,null,null,null,null,null,null,{"$f":"UK8-UL8","v":0},null,null,1,null,null,null,null,null,null,{"$f":"UU8-UV8","v":0},null,null,1,null,null,null,null,null,null,{"$f":"VE8-VF8","v":0},null,null,1,null,null,null,null,null,null,{"$f":"VO8-VP8","v":0},null,null,1,null,null,null,null,null,null,{"$f":"VY8-VZ8","v":0},null,null,1,null,null,null,null,null,null,{"$f":"WI8-WJ8","v":0},null,null,1,null,null,null,null,null,null,{"$f":"WS8-WT8","v":0},null,null,1,null,null,null,null,null,null,{"$f":"XC8-XD8","v":0},null,null,1,null,null,null,null,null,null,{"$f":"XM8-XN8","v":0},null,null,1,null,null,null,null,null,null,{"$f":"XW8-XX8","v":0},null,null,1,null,null,null,null,null,null,{"$f":"YG8-YH8","v":0},null,null,1,null,null,null,null,null,null,{"$f":"YQ8-YR8","v":0},null,null,1,null,null,null,null,null,null,{"$f":"ZA8-ZB8","v":0},null,null,1,null,null,null,null,null,null,{"$f":"ZK8-ZL8","v":0},null,null,1,null,null,null,null,null,null,{"$f":"ZU8-ZV8","v":0},null,null,1,null,null,null,null,null,null,{"$f":"AAE8-AAF8","v":0},null,null,1,null,null,null,null,null,null,{"$f":"AAO8-AAP8","v":0},null,null,1,null,null,null,null,null,null,{"$f":"AAY8-AAZ8","v":0},null,null,1,null,null,null,null,null,null,{"$f":"ABI8-ABJ8","v":0},null,null,1,null,null,null,null,null,null,{"$f":"ABS8-ABT8","v":0},null,null,1,null,null,null,null,null,null,{"$f":"ACC8-ACD8","v":0},null,null,1,null,null,null,null,null,null,{"$f":"ACM8-ACN8","v":0},null,null,1,null,null,null,null,null,null,{"$f":"ACW8-ACX8","v":0},null,null,1,null,null,null,null,null,null,{"$f":"ADG8-ADH8","v":0},null,null,1,null,null,null,null,null,null,{"$f":"ADQ8-ADR8","v":0},null,null,1,null,null,null,null,null,null,{"$f":"AEA8-AEB8","v":0},null,null,1,null,null,null,null,null,null,{"$f":"AEK8-AEL8","v":0},null,null,1,null,null,null,null,null,null,{"$f":"AEU8-AEV8","v":0},null,null,1,null,null,null,null,null,null,{"$f":"AFE8-AFF8","v":0},null,null,1,null,null,null,null,null,null,{"$f":"AFO8-AFP8","v":0},null,null,1,null,null,null,null,null,null,{"$f":"AFY8-AFZ8","v":0},null,null,1,null,null,null,null,null,null,{"$f":"AGI8-AGJ8","v":0},null,null,1,null,null,null,null,null,null,{"$f":"AGS8-AGT8","v":0},null,null,1,null,null,null,null,null,null,{"$f":"AHC8-AHD8","v":0},null,null,1,null,null,null,null,null,null,{"$f":"AHM8-AHN8","v":0},null,null,1,null,null,null,null,null,null,{"$f":"AHW8-AHX8","v":0},null,null,1,null,null,null,null,null,null,{"$f":"AIG8-AIH8","v":0},null,null,1,null,null,null,null,null,null,{"$f":"AIQ8-AIR8","v":0},null,null,1,null,null,null,null,null,null,{"$f":"AJA8-AJB8","v":0},null,null,1,null,null,null,null,null,null,{"$f":"AJK8-AJL8","v":0},null,null,1,null,null,null,null,null,null,{"$f":"AJU8-AJV8","v":0},null,null,1,null,null,null,null,null,null,{"$f":"AKE8-AKF8","v":0},null,null,1,null,null,null,null,null,null,{"$f":"AKO8-AKP8","v":0},null,null,1,null,null,null,null,null,null,{"$f":"AKY8-AKZ8","v":0},null,null,1,null,null,null,null,null,null,{"$f":"ALI8-ALJ8","v":0}]
[null,2,null,null,null,null,null,null,{"$f":"I8+(G9-H9)","v":0},null,null,2,null,null,null,null,null,null,{"$f":"S8+(Q9-R9)","v":0},null,null,2,null,null,null,null,null,null,{"$f":"AC8+(AA9-AB9)","v":0},null,null,2,null,null,null,null,null,null,{"$f":"AM8+(AK9-AL9)","v":0},null,null,2,null,null,null,null,null,null,{"$f":"AW8+(AU9-AV9)","v":0},null,null,2,null,null,null,null,null,null,{"$f":"BG8+(BE9-BF9)","v":0},null,null,2,null,null,null,null,null,null,{"$f":"BQ8+(BO9-BP9)","v":0},null,null,2,null,null,null,null,null,null,{"$f":"CA8+(BY9-BZ9)","v":0},null,null,2,null,null,null,null,null,null,{"$f":"CK8+(CI9-CJ9)","v":0},null,null,2,null,null,null,null,null,null,{"$f":"CU8+(CS9-CT9)","v":0},null,null,2,null,null,null,null,null,null,{"$f":"DE8+(DC9-DD9)","v":0},null,null,2,null,null,null,null,null,null,{"$f":"DO8+(DM9-DN9)","v":0},null,null,2,null,null,null,null,null,null,{"$f":"DY8+(DW9-DX9)","v":0},null,null,2,null,null,null,null,null,null,{"$f":"EI8+(EG9-EH9)","v":0},null,null,2,null,null,null,null,null,null,{"$f":"ES8+(EQ9-ER9)","v":0},null,null,2,null,null,null,null,null,null,{"$f":"FC8+(FA9-FB9)","v":0},null,null,2,null,null,null,null,null,null,{"$f":"FM8+(FK9-FL9)","v":0},null,null,2,null,null,null,null,null,null,{"$f":"FW8+(FU9-FV9)","v":0},null,null,2,null,null,null,null,null,null,{"$f":"GG8+(GE9-GF9)","v":0},null,null,2,null,null,null,null,null,null,{"$f":"GQ8+(GO9-GP9)","v":0},null,null,2,null,null,null,null,null,null,{"$f":"HA8+(GY9-GZ9)","v":0},null,null,2,null,null,null,null,null,null,{"$f":"HK8+(HI9-HJ9)","v":0},null,null,2,null,null,null,null,null,null,{"$f":"HU8+(HS9-HT9)","v":0},null,null,2,null,null,null,null,null,null,{"$f":"IE8+(IC9-ID9)","v":0},null,null,2,null,null,null,null,null,null,{"$f":"IO8+(IM9-IN9)","v":0},null,null,2,null,null,null,null,null,null,{"$f":"IY8+(IW9-IX9)","v":0},null,null,2,null,null,null,null,null,null,{"$f":"JI8+(JG9-JH9)","v":0},null,null,2,null,null,null,null,null,null,null,null,null,2,null,null,null,null,null,null,{"$f":"KC8+(KA9-KB9)","v":0},null,null,2,null,null,null,null,null,null,{"$f":"KM8+(KK9-KL9)","v":0},null,null,2,null,null,null,null,null,null,{"$f":"KW8+(KU9-KV9)","v":0},null,null,2,null,null,null,null,null,null,{"$f":"LG8+(LE9-LF9)","v":0},null,null,2,null,null,null,null,null,null,{"$f":"LQ8+(LO9-LP9)","v":0},null,null,2,null,null,null,null,null,null,{"$f":"MA8+(LY9-LZ9)","v":0},null,null,2,null,null,null,null,null,null,{"$f":"MK8+(MI9-MJ9)","v":0},null,null,2,null,null,null,null,null,null,{"$f":"MU8+(MS9-MT9)","v":0},null,null,2,null,null,null,null,null,null,{"$f":"NE8+(NC9-ND9)","v":0},null,null,2,null,null,null,null,null,null,{"$f":"NO8+(NM9-NN9)","v":0},null,null,2,null,null,null,null,null,null,{"$f":"NY8+(NW9-NX9)","v":0},null,null,2,null,null,null,null,null,null,{"$f":"OI8+(OG9-OH9)","v":0},null,null,2,null,null,null,null,null,null,{"$f":"OS8+(OQ9-OR9)","v":0},null,null,2,null,null,null,null,null,null,{"$f":"PC8+(PA9-PB9)","v":0},null,null,2,null,null,null,null,null,null,{"$f":"PM8+(PK9-PL9)","v":0},null,null,2,null,null,null,null,null,null,{"$f":"PW8+(PU9-PV9)","v":0},null,null,2,null,null,null,null,null,null,{"$f":"QG8+(QE9-QF9)","v":0},null,null,2,null,null,null,null,null,null,{"$f":"QQ8+(QO9-QP9)","v":0},null,null,2,null,null,null,null,null,null,{"$f":"RA8+(QY9-QZ9)","v":0},null,null,2,null,null,null,null,null,null,{"$f":"RK8+(RI9-RJ9)","v":0},null,null,2,null,null,null,null,null,null,{"$f":"RU8+(RS9-RT9)","v":0},null,null,2,null,null,null,null,null,null,{"$f":"SE8+(SC9-SD9)","v":0},null,null,2,null,null,null,null,null,null,{"$f":"SO8+(SM9-SN9)","v":0},null,null,2,null,null,null,null,null,null,{"$f":"SY8+(SW9-SX9)","v":0},null,null,2,null,null,null,null,null,null,{"$f":"TI8+(TG9-TH9)","v":0},null,null,2,null,null,null,null,null,null,{"$f":"TS8+(TQ9-TR9)","v":0},null,null,2,null,null,null,null,null,null,{"$f":"UC8+(UA9-UB9)","v":0},null,null,2,null,null,null,null,null,null,{"$f":"UM8+(UK9-UL9)","v":0},null,null,2,null,null,null,null,null,null,{"$f":"UW8+(UU9-UV9)","v":0},null,null,2,null,null,null,null,null,null,{"$f":"VG8+(VE9-VF9)","v":0},null,null,2,null,null,null,null,null,null,{"$f":"VQ8+(VO9-VP9)","v":0},null,null,2,null,null,null,null,null,null,{"$f":"WA8+(VY9-VZ9)","v":0},null,null,2,null,null,null,null,null,null,{"$f":"WK8+(WI9-WJ9)","v":0},null,null,2,null,null,null,null,null,null,{"$f":"WU8+(WS9-WT9)","v":0},null,null,2,null,null,null,null,null,null,{"$f":"XE8+(XC9-XD9)","v":0},null,null,2,null,null,null,null,null,null,{"$f":"XO8+(XM9-XN9)","v":0},null,null,2,null,null,null,null,null,null,{"$f":"XY8+(XW9-XX9)","v":0},null,null,2,null,null,null,null,null,null,{"$f":"YI8+(YG9-YH9)","v":0},null,null,2,null,null,null,null,null,null,{"$f":"YS8+(YQ9-YR9)","v":0},null,null,2,null,null,null,null,null,null,{"$f":"ZC8+(ZA9-ZB9)","v":0},null,null,2,null,null,null,null,null,null,{"$f":"ZM8+(ZK9-ZL9)","v":0},null,null,2,null,null,null,null,null,null,{"$f":"ZW8+(ZU9-ZV9)","v":0},null,null,2,null,null,null,null,null,null,{"$f":"AAG8+(AAE9-AAF9)","v":0},null,null,2,null,null,null,null,null,null,{"$f":"AAQ8+(AAO9-AAP9)","v":0},null,null,2,null,null,null,null,null,null,{"$f":"ABA8+(AAY9-AAZ9)","v":0},null,null,2,null,null,null,null,null,null,{"$f":"ABK8+(ABI9-ABJ9)","v":0},null,null,2,null,null,null,null,null,null,{"$f":"ABU8+(ABS9-ABT9)","v":0},null,null,2,null,null,null,null,null,null,{"$f":"ACE8+(ACC9-ACD9)","v":0},null,null,2,null,null,null,null,null,null,{"$f":"ACO8+(ACM9-ACN9)","v":0},null,null,2,null,null,null,null,null,null,{"$f":"ACY8+(ACW9-ACX9)","v":0},null,null,2,null,null,null,null,null,null,{"$f":"ADI8+(ADG9-ADH9)","v":0},null,null,2,null,null,null,null,null,null,{"$f":"ADS8+(ADQ9-ADR9)","v":0},null,null,2,null,null,null,null,null,null,{"$f":"AEC8+(AEA9-AEB9)","v":0},null,null,2,null,null,null,null,null,null,{"$f":"AEM8+(AEK9-AEL9)","v":0},null,null,2,null,null,null,null,null,null,{"$f":"AEW8+(AEU9-AEV9)","v":0},null,null,2,null,null,null,null,null,null,{"$f":"AFG8+(AFE9-AFF9)","v":0},null,null,2,null,null,null,null,null,null,{"$f":"AFQ8+(AFO9-AFP9)","v":0},null,null,2,null,null,null,null,null,null,{"$f":"AGA8+(AFY9-AFZ9)","v":0},null,null,2,null,null,null,null,null,null,{"$f":"AGK8+(AGI9-AGJ9)","v":0},null,null,2,null,null,null,null,null,null,{"$f":"AGU8+(AGS9-AGT9)","v":0},null,null,2,null,null,null,null,null,null,{"$f":"AHE8+(AHC9-AHD9)","v":0},null,null,2,null,null,null,null,null,null,{"$f":"AHO8+(AHM9-AHN9)","v":0},null,null,2,null,null,null,null,null,null,{"$f":"AHY8+(AHW9-AHX9)","v":0},null,null,2,null,null,null,null,null,null,{"$f":"AII8+(AIG9-AIH9)","v":0},null,null,2,null,null,null,null,null,null,{"$f":"AIS8+(AIQ9-AIR9)","v":0},null,null,2,null,null,null,null,null,null,{"$f":"AJC8+(AJA9-AJB9)","v":0},null,null,2,null,null,null,null,null,null,{"$f":"AJM8+(AJK9-AJL9)","v":0},null,null,2,null,null,null,null,null,null,{"$f":"AJW8+(AJU9-AJV9)","v":0},null,null,2,null,null,null,null,null,null,{"$f":"AKG8+(AKE9-AKF9)","v":0},null,null,2,null,null,null,null,null,null,{"$f":"AKQ8+(AKO9-AKP9)","v":0},null,null,2,null,null,null,null,null,null,{"$f":"ALA8+(AKY9-AKZ9)","v":0},null,null,2,null,null,null,null,null,null,{"$f":"ALK8+(ALI9-ALJ9)","v":0}]
[null,3,null,null,null,null,null,null,{"$f":"I9+(G10-H10)","v":0},null,null,3,null,null,null,null,null,null,{"$f":"S9+(Q10-R10)","v":0},null,null,3,null,null,null,null,null,null,{"$f":"AC9+(AA10-AB10)","v":0},null,null,3,null,null,null,null,null,null,{"$f":"AM9+(AK10-AL10)","v":0},null,null,3,null,null,null,null,null,null,{"$f":"AW9+(AU10-AV10)","v":0},null,null,3,null,null,null,null,null,null,{"$f":"BG9+(BE10-BF10)","v":0},null,null,3,null,null,null,null,null,null,{"$f":"BQ9+(BO10-BP10)","v":0},null,null,3,null,null,null,null,null,null,{"$f":"CA9+(BY10-BZ10)","v":0},null,null,3,null,null,null,null,null,null,{"$f":"CK9+(CI10-CJ10)","v":0},null,null,3,null,null,null,null,null,null,{"$f":"CU9+(CS10-CT10)","v":0},null,null,3,null,null,null,null,null,null,{"$f":"DE9+(DC10-DD10)","v":0},null,null,3,null,null,null,null,null,null,{"$f":"DO9+(DM10-DN10)","v":0},null,null,3,null,null,null,null,null,null,{"$f":"DY9+(DW10-DX10)","v":0},null,null,3,null,null,null,null,null,null,{"$f":"EI9+(EG10-EH10)","v":0},null,null,3,null,null,null,null,null,null,{"$f":"ES9+(EQ10-ER10)","v":0},null,null,3,null,null,null,null,null,null,{"$f":"FC9+(FA10-FB10)","v":0},null,null,3,null,null,null,null,null,null,{"$f":"FM9+(FK10-FL10)","v":0},null,null,3,null,null,null,null,null,null,{"$f":"FW9+(FU10-FV10)","v":0},null,null,3,null,null,null,null,null,null,{"$f":"GG9+(GE10-GF10)","v":0},null,null,3,null,null,null,null,null,null,{"$f":"GQ9+(GO10-GP10)","v":0},null,null,3,null,null,null,null,null,null,{"$f":"HA9+(GY10-GZ10)","v":0},null,null,3,null,null,null,null,null,null,{"$f":"HK9+(HI10-HJ10)","v":0},null,null,3,null,null,null,null,null,null,{"$f":"HU9+(HS10-HT10)","v":0},null,null,3,null,null,null,null,null,null,{"$f":"IE9+(IC10-ID10)","v":0},null,null,3,null,null,null,null,null,null,{"$f":"IO9+(IM10-IN10)","v":0},null,null,3,null,null,null,null,null,null,{"$f":"IY9+(IW10-IX10)","v":0},null,null,3,null,null,null,null,null,null,{"$f":"JI9+(JG10-JH10)","v":0},null,null,3,null,null,null,null,null,null,null,null,null,3,null,null,null,null,null,null,{"$f":"KC9+(KA10-KB10)","v":0},null,null,3,null,null,null,null,null,null,{"$f":"KM9+(KK10-KL10)","v":0},null,null,3,null,null,null,null,null,null,{"$f":"KW9+(KU10-KV10)","v":0},null,null,3,null,null,null,null,null,null,{"$f":"LG9+(LE10-LF10)","v":0},null,null,3,null,null,null,null,null,null,{"$f":"LQ9+(LO10-LP10)","v":0},null,null,3,null,null,null,null,null,null,{"$f":"MA9+(LY10-LZ10)","v":0},null,null,3,null,null,null,null,null,null,{"$f":"MK9+(MI10-MJ10)","v":0},null,null,3,null,null,null,null,null,null,{"$f":"MU9+(MS10-MT10)","v":0},null,null,3,null,null,null,null,null,null,{"$f":"NE9+(NC10-ND10)","v":0},null,null,3,null,null,null,null,null,null,{"$f":"NO9+(NM10-NN10)","v":0},null,null,3,null,null,null,null,null,null,{"$f":"NY9+(NW10-NX10)","v":0},null,null,3,null,null,null,null,null,null,{"$f":"OI9+(OG10-OH10)","v":0},null,null,3,null,null,null,null,null,null,{"$f":"OS9+(OQ10-OR10)","v":0},null,null,3,null,null,null,null,null,null,{"$f":"PC9+(PA10-PB10)","v":0},null,null,3,null,null,null,null,null,null,{"$f":"PM9+(PK10-PL10)","v":0},null,null,3,null,null,null,null,null,null,{"$f":"PW9+(PU10-PV10)","v":0},null,null,3,null,null,null,null,null,null,{"$f":"QG9+(QE10-QF10)","v":0},null,null,3,null,null,null,null,null,null,{"$f":"QQ9+(QO10-QP10)","v":0},null,null,3,null,null,null,null,null,null,{"$f":"RA9+(QY10-QZ10)","v":0},null,null,3,null,null,null,null,null,null,{"$f":"RK9+(RI10-RJ10)","v":0},null,null,3,null,null,null,null,null,null,{"$f":"RU9+(RS10-RT10)","v":0},null,null,3,null,null,null,null,null,null,{"$f":"SE9+(SC10-SD10)","v":0},null,null,3,null,null,null,null,null,null,{"$f":"SO9+(SM10-SN10)","v":0},null,null,3,null,null,null,null,null,null,{"$f":"SY9+(SW10-SX10)","v":0},null,null,3,null,null,null,null,null,null,{"$f":"TI9+(TG10-TH10)","v":0},null,null,3,null,null,null,null,null,null,{"$f":"TS9+(TQ10-TR10)","v":0},null,null,3,null,null,null,null,null,null,{"$f":"UC9+(UA10-UB10)","v":0},null,null,3,null,null,null,null,null,null,{"$f":"UM9+(UK10-UL10)","v":0},null,null,3,null,null,null,null,null,null,{"$f":"UW9+(UU10-UV10)","v":0},null,null,3,null,null,null,null,null,null,{"$f":"VG9+(VE10-VF10)","v":0},null,null,3,null,null,null,null,null,null,{"$f":"VQ9+(VO10-VP10)","v":0},null,null,3,null,null,null,null,null,null,{"$f":"WA9+(VY10-VZ10)","v":0},null,null,3,null,null,null,null,null,null,{"$f":"WK9+(WI10-WJ10)","v":0},null,null,3,null,null,null,null,null,null,{"$f":"WU9+(WS10-WT10)","v":0},null,null,3,null,null,null,null,null,null,{"$f":"XE9+(XC10-XD10)","v":0},null,null,3,null,null,null,null,null,null,{"$f":"XO9+(XM10-XN10)","v":0},null,null,3,null,null,null,null,null,null,{"$f":"XY9+(XW10-XX10)","v":0},null,null,3,null,null,null,null,null,null,{"$f":"YI9+(YG10-YH10)","v":0},null,null,3,null,null,null,null,null,null,{"$f":"YS9+(YQ10-YR10)","v":0},null,null,3,null,null,null,null,null,null,{"$f":"ZC9+(ZA10-ZB10)","v":0},null,null,3,null,null,null,null,null,null,{"$f":"ZM9+(ZK10-ZL10)","v":0},null,null,3,null,null,null,null,null,null,{"$f":"ZW9+(ZU10-ZV10)","v":0},null,null,3,null,null,null,null,null,null,{"$f":"AAG9+(AAE10-AAF10)","v":0},null,null,3,null,null,null,null,null,null,{"$f":"AAQ9+(AAO10-AAP10)","v":0},null,null,3,null,null,null,null,null,null,{"$f":"ABA9+(AAY10-AAZ10)","v":0},null,null,3,null,null,null,null,null,null,{"$f":"ABK9+(ABI10-ABJ10)","v":0},null,null,3,null,null,null,null,null,null,{"$f":"ABU9+(ABS10-ABT10)","v":0},null,null,3,null,null,null,null,null,null,{"$f":"ACE9+(ACC10-ACD10)","v":0},null,null,3,null,null,null,null,null,null,{"$f":"ACO9+(ACM10-ACN10)","v":0},null,null,3,null,null,null,null,null,null,{"$f":"ACY9+(ACW10-ACX10)","v":0},null,null,3,null,null,null,null,null,null,{"$f":"ADI9+(ADG10-ADH10)","v":0},null,null,3,null,null,null,null,null,null,{"$f":"ADS9+(ADQ10-ADR10)","v":0},null,null,3,null,null,null,null,null,null,{"$f":"AEC9+(AEA10-AEB10)","v":0},null,null,3,null,null,null,null,null,null,{"$f":"AEM9+(AEK10-AEL10)","v":0},null,null,3,null,null,null,null,null,null,{"$f":"AEW9+(AEU10-AEV10)","v":0},null,null,3,null,null,null,null,null,null,{"$f":"AFG9+(AFE10-AFF10)","v":0},null,null,3,null,null,null,null,null,null,{"$f":"AFQ9+(AFO10-AFP10)","v":0},null,null,3,null,null,null,null,null,null,{"$f":"AGA9+(AFY10-AFZ10)","v":0},null,null,3,null,null,null,null,null,null,{"$f":"AGK9+(AGI10-AGJ10)","v":0},null,null,3,null,null,null,null,null,null,{"$f":"AGU9+(AGS10-AGT10)","v":0},null,null,3,null,null,null,null,null,null,{"$f":"AHE9+(AHC10-AHD10)","v":0},null,null,3,null,null,null,null,null,null,{"$f":"AHO9+(AHM10-AHN10)","v":0},null,null,3,null,null,null,null,null,null,{"$f":"AHY9+(AHW10-AHX10)","v":0},null,null,3,null,null,null,null,null,null,{"$f":"AII9+(AIG10-AIH10)","v":0},null,null,3,null,null,null,null,null,null,{"$f":"AIS9+(AIQ10-AIR10)","v":0},null,null,3,null,null,null,null,null,null,{"$f":"AJC9+(AJA10-AJB10)","v":0},null,null,3,null,null,null,null,null,null,{"$f":"AJM9+(AJK10-AJL10)","v":0},null,null,3,null,null,null,null,null,null,{"$f":"AJW9+(AJU10-AJV10)","v":0},null,null,3,null,null,null,null,null,null,{"$f":"AKG9+(AKE10-AKF10)","v":0},null,null,3,null,null,null,null,null,null,{"$f":"AKQ9+(AKO10-AKP10)","v":0},null,null,3,null,null,null,null,null,null,{"$f":"ALA9+(AKY10-AKZ10)","v":0},null,null,3,null,null,null,null,null,null,{"$f":"ALK9+(ALI10-ALJ10)","v":0}]
[null,4,null,null,null,null,null,null,0,null,null,4,null,null,null,null,null,null,0,null,null,4,null,null,null,null,null,null,0,null,null,4,null,null,null,null,null,null,0,null,null,4,null,null,null,null,null,null,0,null,null,4,null,null,null,null,null,null,0,null,null,4,null,null,null,null,null,null,0,null,null,4,null,null,null,null,null,null,0,null,null,4,null,null,null,null,null,null,0,null,null,4,null,null,null,null,null,null,0,null,null,4,null,null,null,null,null,null,0,null,null,4,null,null,null,null,null,null,0,null,null,4,null,null,null,null,null,null,0,null,null,4,null,null,null,null,null,null,0,null,null,4,null,null,null,null,null,null,0,null,null,4,null,null,null,null,null,null,0,null,null,4,null,null,null,null,null,null,0,null,null,4,null,null,null,null,null,null,0,null,null,4,null,null,null,null,null,null,0,null,null,4,null,null,null,null,null,null,0,null,null,4,null,null,null,null,null,null,0,null,null,4,null,null,null,null,null,null,0,null,null,4,null,null,null,null,null,null,0,null,null,4,null,null,null,null,null,null,0,null,null,4,null,null,null,null,null,null,0,null,null,4,null,null,null,null,null,null,0,null,null,4,null,null,null,null,null,null,0,null,null,4,null,null,null,null,null,null,null,null,null,4,null,null,null,null,null,null,0,null,null,4,null,null,null,null,null,null,0,null,null,4,null,null,null,null,null,null,0,null,null,4,null,null,null,null,null,null,0,null,null,4,null,null,null,null,null,null,0,null,null,4,null,null,null,null,null,null,0,null,null,4,null,null,null,null,null,null,0,null,null,4,null,null,null,null,null,null,0,null,null,4,null,null,null,null,null,null,0,null,null,4,null,null,null,null,null,null,0,null,null,4,null,null,null,null,null,null,0,null,null,4,null,null,null,null,null,null,0,null,null,4,null,null,null,null,null,null,0,null,null,4,null,null,null,null,null,null,0,null,null,4,null,null,null,null,null,null,0,null,null,4,null,null,null,null,null,null,0,null,null,4,null,null,null,null,null,null,0,null,null,4,null,null,null,null,null,null,0,null,null,4,null,null,null,null,null,null,0,null,null,4,null,null,null,null,null,null,0,null,null,4,null,null,null,null,null,null,0,null,null,4,null,null,null,null,null,null,0,null,null,4,null,null,null,null,null,null,0,null,null,4,null,null,null,null,null,null,0,null,null,4,null,null,null,null,null,null,0,null,null,4,null,null,null,null,null,null,0,null,null,4,null,null,null,null,null,null,0,null,null,4,null,null,null,null,null,null,0,null,null,4,null,null,null,null,null,null,0,null,null,4,null,null,null,null,null,null,0,null,null,4,null,null,null,null,null,null,0,null,null,4,null,null,null,null,null,null,0,null,null,4,null,null,null,null,null,null,0,null,null,4,null,null,null,null,null,null,0,null,null,4,null,null,null,null,null,null,0,null,null,4,null,null,null,null,null,null,0,null,null,4,null,null,null,null,null,null,0,null,null,4,null,null,null,null,null,null,0,null,null,4,null,null,null,null,null,null,0,null,null,4,null,null,null,null,null,null,0,null,null,4,null,null,null,null,null,null,0,null,null,4,null,null,null,null,null,null,0,null,null,4,null,null,null,null,null,null,0,null,null,4,null,null,null,null,null,null,0,null,null,4,null,null,null,null,null,null,0,null,null,4,null,null,null,null,null,null,0,null,null,4,null,null,null,null,null,null,0,null,null,4,null,null,null,null,null,null,0,null,null,4,null,null,null,null,null,null,0,null,null,4,null,null,null,null,null,null,0,null,null,4,null,null,null,null,null,null,0,null,null,4,null,null,null,null,null,null,0,null,null,4,null,null,null,null,null,null,0,null,null,4,null,null,null,null,null,null,0,null,null,4,null,null,null,null,null,null,0,null,null,4,null,null,null,null,null,null,0,null,null,4,null,null,null,null,null,null,0,null,null,4,null,null,null,null,null,null,0,null,null,4,null,null,null,null,null,null,0,null,null,4,null,null,null,null,null,null,0,null,null,4,null,null,null,null,null,null,0,null,null,4,null,null,null,null,null,null,0,null,null,4,null,null,null,null,null,null,0,null,null,4,null,null,null,null,null,null,0,null,null,4,null,null,null,null,null,null,0,null,null,4,null,null,null,null,null,null,0,null,null,4,null,null,null,null,null,null,0,null,null,4,null,null,null,null,null,null,0,null,null,4,null,null,null,null,null,null,0,null,null,4,null,null,null,null,null,null,0,null,null,4,null,null,null,null,null,null,0,null,null,4,null,null,null,null,null,null,0]
[null,5,null,null,null,null,null,null,0,null,null,5,null,null,null,null,null,null,0,null,null,5,null,null,null,null,null,null,0,null,null,5,null,null,null,null,null,null,0,null,null,5,null,null,null,null,null,null,0,null,null,5,null,null,null,null,null,null,0,null,null,5,null,null,null,null,null,null,0,null,null,5,null,null,null,null,null,null,0,null,null,5,null,null,null,null,null,null,0,null,null,5,null,null,null,null,null,null,0,null,null,5,null,null,null,null,null,null,0,null,null,5,null,null,null,null,null,null,0,null,null,5,null,null,null,null,null,null,0,null,null,5,null,null,null,null,null,null,0,null,null,5,null,null,null,null,null,null,0,null,null,5,null,null,null,null,null,null,0,null,null,5,null,null,null,null,null,null,0,null,null,5,null,null,null,null,null,null,0,null,null,5,null,null,null,null,null,null,0,null,null,5,null,null,null,null,null,null,0,null,null,5,null,null,null,null,null,null,0,null,null,5,null,null,null,null,null,null,0,null,null,5,null,null,null,null,null,null,0,null,null,5,null,null,null,null,null,null,0,null,null,5,null,null,null,null,null,null,0,null,null,5,null,null,null,null,null,null,0,null,null,5,null,null,null,null,null,null,0,null,null,5,null,null,null,null,null,null,null,null,null,5,null,null,null,null,null,null,0,null,null,5,null,null,null,null,null,null,0,null,null,5,null,null,null,null,null,null,0,null,null,5,null,null,null,null,null,null,0,null,null,5,null,null,null,null,null,null,0,null,null,5,null,null,null,null,null,null,0,null,null,5,null,null,null,null,null,null,0,null,null,5,null,null,null,null,null,null,0,null,null,5,null,null,null,null,null,null,0,null,null,5,null,null,null,null,null,null,0,null,null,5,null,null,null,null,null,null,0,null,null,5,null,null,null,null,null,null,0,null,null,5,null,null,null,null,null,null,0,null,null,5,null,null,null,null,null,null,0,null,null,5,null,null,null,null,null,null,0,null,null,5,null,null,null,null,null,null,0,null,null,5,null,null,null,null,null,null,0,null,null,5,null,null,null,null,null,null,0,null,null,5,null,null,null,null,null,null,0,null,null,5,null,null,null,null,null,null,0,null,null,5,null,null,null,null,null,null,0,null,null,5,null,null,null,null,null,null,0,null,null,5,null,null,null,null,null,null,0,null,null,5,null,null,null,null,null,null,0,null,null,5,null,null,null,null,null,null,0,null,null,5,null,null,null,null,null,null,0,null,null,5,null,null,null,null,null,null,0,null,null,5,null,null,null,null,null,null,0,null,null,5,null,null,null,null,null,null,0,null,null,5,null,null,null,null,null,null,0,null,null,5,null,null,null,null,null,null,0,null,null,5,null,null,null,null,null,null,0,null,null,5,null,null,null,null,null,null,0,null,null,5,null,null,null,null,null,null,0,null,null,5,null,null,null,null,null,null,0,null,null,5,null,null,null,null,null,null,0,null,null,5,null,null,null,null,null,null,0,null,null,5,null,null,null,null,null,null,0,null,null,5,null,null,null,null,null,null,0,null,null,5,null,null,null,null,null,null,0,null,null,5,null,null,null,null,null,null,0,null,null,5,null,null,null,null,null,null,0,null,null,5,null,null,null,null,null,null,0,null,null,5,null,null,null,null,null,null,0,null,null,5,null,null,null,null,null,null,0,null,null,5,null,null,null,null,null,null,0,null,null,5,null,null,null,null,null,null,0,null,null,5,null,null,null,null,null,null,0,null,null,5,null,null,null,null,null,null,0,null,null,5,null,null,null,null,null,null,0,null,null,5,null,null,null,null,null,null,0,null,null,5,null,null,null,null,null,null,0,null,null,5,null,null,null,null,null,null,0,null,null,5,null,null,null,null,null,null,0,null,null,5,null,null,null,null,null,null,0,null,null,5,null,null,null,null,null,null,0,null,null,5,null,null,null,null,null,null,0,null,null,5,null,null,null,null,null,null,0,null,null,5,null,null,null,null,null,null,0,null,null,5,null,null,null,null,null,null,0,null,null,5,null,null,null,null,null,null,0,null,null,5,null,null,null,null,null,null,0,null,null,5,null,null,null,null,null,null,0,null,null,5,null,null,null,null,null,null,0,null,null,5,null,null,null,null,null,null,0,null,null,5,null,null,null,null,null,null,0,null,null,5,null,null,null,null,null,null,0,null,null,5,null,null,null,null,null,null,0,null,null,5,null,null,null,null,null,null,0,null,null,5,null,null,null,null,null,null,0,null,null,5,null,null,null,null,null,null,0,null,null,5,null,null,null,null,null,null,0]
[null,6,null,null,null,null,null,null,0,null,null,6,null,null,null,null,null,null,0,null,null,6,null,null,null,null,null,null,0,null,null,6,null,null,null,null,null,null,0,null,null,6,null,null,null,null,null,null,0,null,null,6,null,null,null,null,null,null,0,null,null,6,null,null,null,null,null,null,0,null,null,6,null,null,null,null,null,null,0,null,null,6,null,null,null,null,null,null,0,null,null,6,null,null,null,null,null,null,0,null,null,6,null,null,null,null,null,null,0,null,null,6,null,null,null,null,null,null,0,null,null,6,null,null,null,null,null,null,0,null,null,6,null,null,null,null,null,null,0,null,null,6,null,null,null,null,null,null,0,null,null,6,null,null,null,null,null,null,0,null,null,6,null,null,null,null,null,null,0,null,null,6,null,null,null,null,null,null,0,null,null,6,null,null,null,null,null,null,0,null,null,6,null,null,null,null,null,null,0,null,null,6,null,null,null,null,null,null,0,null,null,6,null,null,null,null,null,null,0,null,null,6,null,null,null,null,null,null,0,null,null,6,null,null,null,null,null,null,0,null,null,6,null,null,null,null,null,null,0,null,null,6,null,null,null,null,null,null,0,null,null,6,null,null,null,null,null,null,0,null,null,6,null,null,null,null,null,null,null,null,null,6,null,null,null,null,null,null,0,null,null,6,null,null,null,null,null,null,0,null,null,6,null,null,null,null,null,null,0,null,null,6,null,null,null,null,null,null,0,null,null,6,null,null,null,null,null,null,0,null,null,6,null,null,null,null,null,null,0,null,null,6,null,null,null,null,null,null,0,null,null,6,null,null,null,null,null,null,0,null,null,6,null,null,null,null,null,null,0,null,null,6,null,null,null,null,null,null,0,null,null,6,null,null,null,null,null,null,0,null,null,6,null,null,null,null,null,null,0,null,null,6,null,null,null,null,null,null,0,null,null,6,null,null,null,null,null,null,0,null,null,6,null,null,null,null,null,null,0,null,null,6,null,null,null,null,null,null,0,null,null,6,null,null,null,null,null,null,0,null,null,6,null,null,null,null,null,null,0,null,null,6,null,null,null,null,null,null,0,null,null,6,null,null,null,null,null,null,0,null,null,6,null,null,null,null,null,null,0,null,null,6,null,null,null,null,null,null,0,null,null,6,null,null,null,null,null,null,0,null,null,6,null,null,null,null,null,null,0,null,null,6,null,null,null,null,null,null,0,null,null,6,null,null,null,null,null,null,0,null,null,6,null,null,null,null,null,null,0,null,null,6,null,null,null,null,null,null,0,null,null,6,null,null,null,null,null,null,0,null,null,6,null,null,null,null,null,null,0,null,null,6,null,null,null,null,null,null,0,null,null,6,null,null,null,null,null,null,0,null,null,6,null,null,null,null,null,null,0,null,null,6,null,null,null,null,null,null,0,null,null,6,null,null,null,null,null,null,0,null,null,6,null,null,null,null,null,null,0,null,null,6,null,null,null,null,null,null,0,null,null,6,null,null,null,null,null,null,0,null,null,6,null,null,null,null,null,null,0,null,null,6,null,null,null,null,null,null,0,null,null,6,null,null,null,null,null,null,0,null,null,6,null,null,null,null,null,null,0,null,null,6,null,null,null,null,null,null,0,null,null,6,null,null,null,null,null,null,0,null,null,6,null,null,null,null,null,null,0,null,null,6,null,null,null,null,null,null,0,null,null,6,null,null,null,null,null,null,0,null,null,6,null,null,null,null,null,null,0,null,null,6,null,null,null,null,null,null,0,null,null,6,null,null,null,null,null,null,0,null,null,6,null,null,null,null,null,null,0,null,null,6,null,null,null,null,null,null,0,null,null,6,null,null,null,null,null,null,0,null,null,6,null,null,null,null,null,null,0,null,null,6,null,null,null,null,null,null,0,null,null,6,null,null,null,null,null,null,0,null,null,6,null,null,null,null,null,null,0,null,null,6,null,null,null,null,null,null,0,null,null,6,null,null,null,null,null,null,0,null,null,6,null,null,null,null,null,null,0,null,null,6,null,null,null,null,null,null,0,null,null,6,null,null,null,null,null,null,0,null,null,6,null,null,null,null,null,null,0,null,null,6,null,null,null,null,null,null,0,null,null,6,null,null,null,null,null,null,0,null,null,6,null,null,null,null,null,null,0,null,null,6,null,null,null,null,null,null,0,null,null,6,null,null,null,null,null,null,0,null,null,6,null,null,null,null,null,null,0,null,null,6,null,null,null,null,null,null,0,null,null,6,null,null,null,null,null,null,0,null,null,6,null,null,null,null,null,null,0]
[null,7,null,null,null,null,null,null,0,null,null,7,null,null,null,null,null,null,0,null,null,7,null,null,null,null,null,null,0,null,null,7,null,null,null,null,null,null,0,null,null,7,null,null,null,null,null,null,0,null,null,7,null,null,null,null,null,null,0,null,null,7,null,null,null,null,null,null,0,null,null,7,null,null,null,null,null,null,0,null,null,7,null,null,null,null,null,null,0,null,null,7,null,null,null,null,null,null,0,null,null,7,null,null,null,null,null,null,0,null,null,7,null,null,null,null,null,null,0,null,null,7,null,null,null,null,null,null,0,null,null,7,null,null,null,null,null,null,0,null,null,7,null,null,null,null,null,null,0,null,null,7,null,null,null,null,null,null,0,null,null,7,null,null,null,null,null,null,0,null,null,7,null,null,null,null,null,null,0,null,null,7,null,null,null,null,null,null,0,null,null,7,null,null,null,null,null,null,0,null,null,7,null,null,null,null,null,null,0,null,null,7,null,null,null,null,null,null,0,null,null,7,null,null,null,null,null,null,0,null,null,7,null,null,null,null,null,null,0,null,null,7,null,null,null,null,null,null,0,null,null,7,null,null,null,null,null,null,0,null,null,7,null,null,null,null,null,null,0,null,null,7,null,null,null,null,null,null,null,null,null,7,null,null,null,null,null,null,0,null,null,7,null,null,null,null,null,null,0,null,null,7,null,null,null,null,null,null,0,null,null,7,null,null,null,null,null,null,0,null,null,7,null,null,null,null,null,null,0,null,null,7,null,null,null,null,null,null,0,null,null,7,null,null,null,null,null,null,0,null,null,7,null,null,null,null,null,null,0,null,null,7,null,null,null,null,null,null,0,null,null,7,null,null,null,null,null,null,0,null,null,7,null,null,null,null,null,null,0,null,null,7,null,null,null,null,null,null,0,null,null,7,null,null,null,null,null,null,0,null,null,7,null,null,null,null,null,null,0,null,null,7,null,null,null,null,null,null,0,null,null,7,null,null,null,null,null,null,0,null,null,7,null,null,null,null,null,null,0,null,null,7,null,null,null,null,null,null,0,null,null,7,null,null,null,null,null,null,0,null,null,7,null,null,null,null,null,null,0,null,null,7,null,null,null,null,null,null,0,null,null,7,null,null,null,null,null,null,0,null,null,7,null,null,null,null,null,null,0,null,null,7,null,null,null,null,null,null,0,null,null,7,null,null,null,null,null,null,0,null,null,7,null,null,null,null,null,null,0,null,null,7,null,null,null,null,null,null,0,null,null,7,null,null,null,null,null,null,0,null,null,7,null,null,null,null,null,null,0,null,null,7,null,null,null,null,null,null,0,null,null,7,null,null,null,null,null,null,0,null,null,7,null,null,null,null,null,null,0,null,null,7,null,null,null,null,null,null,0,null,null,7,null,null,null,null,null,null,0,null,null,7,null,null,null,null,null,null,0,null,null,7,null,null,null,null,null,null,0,null,null,7,null,null,null,null,null,null,0,null,null,7,null,null,null,null,null,null,0,null,null,7,null,null,null,null,null,null,0,null,null,7,null,null,null,null,null,null,0,null,null,7,null,null,null,null,null,null,0,null,null,7,null,null,null,null,null,null,0,null,null,7,null,null,null,null,null,null,0,null,null,7,null,null,null,null,null,null,0,null,null,7,null,null,null,null,null,null,0,null,null,7,null,null,null,null,null,null,0,null,null,7,null,null,null,null,null,null,0,null,null,7,null,null,null,null,null,null,0,null,null,7,null,null,null,null,null,null,0,null,null,7,null,null,null,null,null,null,0,null,null,7,null,null,null,null,null,null,0,null,null,7,null,null,null,null,null,null,0,null,null,7,null,null,null,null,null,null,0,null,null,7,null,null,null,null,null,null,0,null,null,7,null,null,null,null,null,null,0,null,null,7,null,null,null,null,null,null,0,null,null,7,null,null,null,null,null,null,0,null,null,7,null,null,null,null,null,null,0,null,null,7,null,null,null,null,null,null,0,null,null,7,null,null,null,null,null,null,0,null,null,7,null,null,null,null,null,null,0,null,null,7,null,null,null,null,null,null,0,null,null,7,null,null,null,null,null,null,0,null,null,7,null,null,null,null,null,null,0,null,null,7,null,null,null,null,null,null,0,null,null,7,null,null,null,null,null,null,0,null,null,7,null,null,null,null,null,null,0,null,null,7,null,null,null,null,null,null,0,null,null,7,null,null,null,null,null,null,0,null,null,7,null,null,null,null,null,null,0,null,null,7,null,null,null,null,null,null,0,null,null,7,null,null,null,null,null,null,0]
[null,8,null,null,null,null,null,null,0,null,null,8,null,null,null,null,null,null,0,null,null,8,null,null,null,null,null,null,0,null,null,8,null,null,null,null,null,null,0,null,null,8,null,null,null,null,null,null,0,null,null,8,null,null,null,null,null,null,0,null,null,8,null,null,null,null,null,null,0,null,null,8,null,null,null,null,null,null,0,null,null,8,null,null,null,null,null,null,0,null,null,8,null,null,null,null,null,null,0,null,null,8,null,null,null,null,null,null,0,null,null,8,null,null,null,null,null,null,0,null,null,8,null,null,null,null,null,null,0,null,null,8,null,null,null,null,null,null,0,null,null,8,null,null,null,null,null,null,0,null,null,8,null,null,null,null,null,null,0,null,null,8,null,null,null,null,null,null,0,null,null,8,null,null,null,null,null,null,0,null,null,8,null,null,null,null,null,null,0,null,null,8,null,null,null,null,null,null,0,null,null,8,null,null,null,null,null,null,0,null,null,8,null,null,null,null,null,null,0,null,null,8,null,null,null,null,null,null,0,null,null,8,null,null,null,null,null,null,0,null,null,8,null,null,null,null,null,null,0,null,null,8,null,null,null,null,null,null,0,null,null,8,null,null,null,null,null,null,0,null,null,8,null,null,null,null,null,null,null,null,null,8,null,null,null,null,null,null,0,null,null,8,null,null,null,null,null,null,0,null,null,8,null,null,null,null,null,null,0,null,null,8,null,null,null,null,null,null,0,null,null,8,null,null,null,null,null,null,0,null,null,8,null,null,null,null,null,null,0,null,null,8,null,null,null,null,null,null,0,null,null,8,null,null,null,null,null,null,0,null,null,8,null,null,null,null,null,null,0,null,null,8,null,null,null,null,null,null,0,null,null,8,null,null,null,null,null,null,0,null,null,8,null,null,null,null,null,null,0,null,null,8,null,null,null,null,null,null,0,null,null,8,null,null,null,null,null,null,0,null,null,8,null,null,null,null,null,null,0,null,null,8,null,null,null,null,null,null,0,null,null,8,null,null,null,null,null,null,0,null,null,8,null,null,null,null,null,null,0,null,null,8,null,null,null,null,null,null,0,null,null,8,null,null,null,null,null,null,0,null,null,8,null,null,null,null,null,null,0,null,null,8,null,null,null,null,null,null,0,null,null,8,null,null,null,null,null,null,0,null,null,8,null,null,null,null,null,null,0,null,null,8,null,null,null,null,null,null,0,null,null,8,null,null,null,null,null,null,0,null,null,8,null,null,null,null,null,null,0,null,null,8,null,null,null,null,null,null,0,null,null,8,null,null,null,null,null,null,0,null,null,8,null,null,null,null,null,null,0,null,null,8,null,null,null,null,null,null,0,null,null,8,null,null,null,null,null,null,0,null,null,8,null,null,null,null,null,null,0,null,null,8,null,null,null,null,null,null,0,null,null,8,null,null,null,null,null,null,0,null,null,8,null,null,null,null,null,null,0,null,null,8,null,null,null,null,null,null,0,null,null,8,null,null,null,null,null,null,0,null,null,8,null,null,null,null,null,null,0,null,null,8,null,null,null,null,null,null,0,null,null,8,null,null,null,null,null,null,0,null,null,8,null,null,null,null,null,null,0,null,null,8,null,null,null,null,null,null,0,null,null,8,null,null,null,null,null,null,0,null,null,8,null,null,null,null,null,null,0,null,null,8,null,null,null,null,null,null,0,null,null,8,null,null,null,null,null,null,0,null,null,8,null,null,null,null,null,null,0,null,null,8,null,null,null,null,null,null,0,null,null,8,null,null,null,null,null,null,0,null,null,8,null,null,null,null,null,null,0,null,null,8,null,null,null,null,null,null,0,null,null,8,null,null,null,null,null,null,0,null,null,8,null,null,null,null,null,null,0,null,null,8,null,null,null,null,null,null,0,null,null,8,null,null,null,null,null,null,0,null,null,8,null,null,null,null,null,null,0,null,null,8,null,null,null,null,null,null,0,null,null,8,null,null,null,null,null,null,0,null,null,8,null,null,null,null,null,null,0,null,null,8,null,null,null,null,null,null,0,null,null,8,null,null,null,null,null,null,0,null,null,8,null,null,null,null,null,null,0,null,null,8,null,null,null,null,null,null,0,null,null,8,null,null,null,null,null,null,0,null,null,8,null,null,null,null,null,null,0,null,null,8,null,null,null,null,null,null,0,null,null,8,null,null,null,null,null,null,0,null,null,8,null,null,null,null,null,null,0,null,null,8,null,null,null,null,null,null,0,null,null,8,null,null,null,null,null,null,0,null,null,8,null,null,null,null,null,null,0]
[null,9,null,null,null,null,null,null,0,null,null,9,null,null,null,null,null,null,0,null,null,9,null,null,null,null,null,null,0,null,null,9,null,null,null,null,null,null,0,null,null,9,null,null,null,null,null,null,0,null,null,9,null,null,null,null,null,null,0,null,null,9,null,null,null,null,null,null,0,null,null,9,null,null,null,null,null,null,0,null,null,9,null,null,null,null,null,null,0,null,null,9,null,null,null,null,null,null,0,null,null,9,null,null,null,null,null,null,0,null,null,9,null,null,null,null,null,null,0,null,null,9,null,null,null,null,null,null,0,null,null,9,null,null,null,null,null,null,0,null,null,9,null,null,null,null,null,null,0,null,null,9,null,null,null,null,null,null,0,null,null,9,null,null,null,null,null,null,0,null,null,9,null,null,null,null,null,null,0,null,null,9,null,null,null,null,null,null,0,null,null,9,null,null,null,null,null,null,0,null,null,9,null,null,null,null,null,null,0,null,null,9,null,null,null,null,null,null,0,null,null,9,null,null,null,null,null,null,0,null,null,9,null,null,null,null,null,null,0,null,null,9,null,null,null,null,null,null,0,null,null,9,null,null,null,null,null,null,0,null,null,9,null,null,null,null,null,null,0,null,null,9,null,null,null,null,null,null,null,null,null,9,null,null,null,null,null,null,0,null,null,9,null,null,null,null,null,null,0,null,null,9,null,null,null,null,null,null,0,null,null,9,null,null,null,null,null,null,0,null,null,9,null,null,null,null,null,null,0,null,null,9,null,null,null,null,null,null,0,null,null,9,null,null,null,null,null,null,0,null,null,9,null,null,null,null,null,null,0,null,null,9,null,null,null,null,null,null,0,null,null,9,null,null,null,null,null,null,0,null,null,9,null,null,null,null,null,null,0,null,null,9,null,null,null,null,null,null,0,null,null,9,null,null,null,null,null,null,0,null,null,9,null,null,null,null,null,null,0,null,null,9,null,null,null,null,null,null,0,null,null,9,null,null,null,null,null,null,0,null,null,9,null,null,null,null,null,null,0,null,null,9,null,null,null,null,null,null,0,null,null,9,null,null,null,null,null,null,0,null,null,9,null,null,null,null,null,null,0,null,null,9,null,null,null,null,null,null,0,null,null,9,null,null,null,null,null,null,0,null,null,9,null,null,null,null,null,null,0,null,null,9,null,null,null,null,null,null,0,null,null,9,null,null,null,null,null,null,0,null,null,9,null,null,null,null,null,null,0,null,null,9,null,null,null,null,null,null,0,null,null,9,null,null,null,null,null,null,0,null,null,9,null,null,null,null,null,null,0,null,null,9,null,null,null,null,null,null,0,null,null,9,null,null,null,null,null,null,0,null,null,9,null,null,null,null,null,null,0,null,null,9,null,null,null,null,null,null,0,null,null,9,null,null,null,null,null,null,0,null,null,9,null,null,null,null,null,null,0,null,null,9,null,null,null,null,null,null,0,null,null,9,null,null,null,null,null,null,0,null,null,9,null,null,null,null,null,null,0,null,null,9,null,null,null,null,null,null,0,null,null,9,null,null,null,null,null,null,0,null,null,9,null,null,null,null,null,null,0,null,null,9,null,null,null,null,null,null,0,null,null,9,null,null,null,null,null,null,0,null,null,9,null,null,null,null,null,null,0,null,null,9,null,null,null,null,null,null,0,null,null,9,null,null,null,null,null,null,0,null,null,9,null,null,null,null,null,null,0,null,null,9,null,null,null,null,null,null,0,null,null,9,null,null,null,null,null,null,0,null,null,9,null,null,null,null,null,null,0,null,null,9,null,null,null,null,null,null,0,null,null,9,null,null,null,null,null,null,0,null,null,9,null,null,null,null,null,null,0,null,null,9,null,null,null,null,null,null,0,null,null,9,null,null,null,null,null,null,0,null,null,9,null,null,null,null,null,null,0,null,null,9,null,null,null,null,null,null,0,null,null,9,null,null,null,null,null,null,0,null,null,9,null,null,null,null,null,null,0,null,null,9,null,null,null,null,null,null,0,null,null,9,null,null,null,null,null,null,0,null,null,9,null,null,null,null,null,null,0,null,null,9,null,null,null,null,null,null,0,null,null,9,null,null,null,null,null,null,0,null,null,9,null,null,null,null,null,null,0,null,null,9,null,null,null,null,null,null,0,null,null,9,null,null,null,null,null,null,0,null,null,9,null,null,null,null,null,null,0,null,null,9,null,null,null,null,null,null,0,null,null,9,null,null,null,null,null,null,0,null,null,9,null,null,null,null,null,null,0,null,null,9,null,null,null,null,null,null,0]
[null,10,null,null,null,null,null,null,0,null,null,10,null,null,null,null,null,null,0,null,null,10,null,null,null,null,null,null,0,null,null,10,null,null,null,null,null,null,0,null,null,10,null,null,null,null,null,null,0,null,null,10,null,null,null,null,null,null,0,null,null,10,null,null,null,null,null,null,0,null,null,10,null,null,null,null,null,null,0,null,null,10,null,null,null,null,null,null,0,null,null,10,null,null,null,null,null,null,0,null,null,10,null,null,null,null,null,null,0,null,null,10,null,null,null,null,null,null,0,null,null,10,null,null,null,null,null,null,0,null,null,10,null,null,null,null,null,null,0,null,null,10,null,null,null,null,null,null,0,null,null,10,null,null,null,null,null,null,0,null,null,10,null,null,null,null,null,null,0,null,null,10,null,null,null,null,null,null,0,null,null,10,null,null,null,null,null,null,0,null,null,10,null,null,null,null,null,null,0,null,null,10,null,null,null,null,null,null,0,null,null,10,null,null,null,null,null,null,0,null,null,10,null,null,null,null,null,null,0,null,null,10,null,null,null,null,null,null,0,null,null,10,null,null,null,null,null,null,0,null,null,10,null,null,null,null,null,null,0,null,null,10,null,null,null,null,null,null,0,null,null,10,null,null,null,null,null,null,null,null,null,10,null,null,null,null,null,null,0,null,null,10,null,null,null,null,null,null,0,null,null,10,null,null,null,null,null,null,0,null,null,10,null,null,null,null,null,null,0,null,null,10,null,null,null,null,null,null,0,null,null,10,null,null,null,null,null,null,0,null,null,10,null,null,null,null,null,null,0,null,null,10,null,null,null,null,null,null,0,null,null,10,null,null,null,null,null,null,0,null,null,10,null,null,null,null,null,null,0,null,null,10,null,null,null,null,null,null,0,null,null,10,null,null,null,null,null,null,0,null,null,10,null,null,null,null,null,null,0,null,null,10,null,null,null,null,null,null,0,null,null,10,null,null,null,null,null,null,0,null,null,10,null,null,null,null,null,null,0,null,null,10,null,null,null,null,null,null,0,null,null,10,null,null,null,null,null,null,0,null,null,10,null,null,null,null,null,null,0,null,null,10,null,null,null,null,null,null,0,null,null,10,null,null,null,null,null,null,0,null,null,10,null,null,null,null,null,null,0,null,null,10,null,null,null,null,null,null,0,null,null,10,null,null,null,null,null,null,0,null,null,10,null,null,null,null,null,null,0,null,null,10,null,null,null,null,null,null,0,null,null,10,null,null,null,null,null,null,0,null,null,10,null,null,null,null,null,null,0,null,null,10,null,null,null,null,null,null,0,null,null,10,null,null,null,null,null,null,0,null,null,10,null,null,null,null,null,null,0,null,null,10,null,null,null,null,null,null,0,null,null,10,null,null,null,null,null,null,0,null,null,10,null,null,null,null,null,null,0,null,null,10,null,null,null,null,null,null,0,null,null,10,null,null,null,null,null,null,0,null,null,10,null,null,null,null,null,null,0,null,null,10,null,null,null,null,null,null,0,null,null,10,null,null,null,null,null,null,0,null,null,10,null,null,null,null,null,null,0,null,null,10,null,null,null,null,null,null,0,null,null,10,null,null,null,null,null,null,0,null,null,10,null,null,null,null,null,null,0,null,null,10,null,null,null,null,null,null,0,null,null,10,null,null,null,null,null,null,0,null,null,10,null,null,null,null,null,null,0,null,null,10,null,null,null,null,null,null,0,null,null,10,null,null,null,null,null,null,0,null,null,10,null,null,null,null,null,null,0,null,null,10,null,null,null,null,null,null,0,null,null,10,null,null,null,null,null,null,0,null,null,10,null,null,null,null,null,null,0,null,null,10,null,null,null,null,null,null,0,null,null,10,null,null,null,null,null,null,0,null,null,10,null,null,null,null,null,null,0,null,null,10,null,null,null,null,null,null,0,null,null,10,null,null,null,null,null,null,0,null,null,10,null,null,null,null,null,null,0,null,null,10,null,null,null,null,null,null,0,null,null,10,null,null,null,null,null,null,0,null,null,10,null,null,null,null,null,null,0,null,null,10,null,null,null,null,null,null,0,null,null,10,null,null,null,null,null,null,0,null,null,10,null,null,null,null,null,null,0,null,null,10,null,null,null,null,null,null,0,null,null,10,null,null,null,null,null,null,0,null,null,10,null,null,null,null,null,null,0,null,null,10,null,null,null,null,null,null,0,null,null,10,null,null,null,null,null,null,0,null,null,10,null,null,null,null,null,null,0,null,null,10,null,null,null,null,null,null,0,null,null,10,null,null,null,null,null,null,0]
[null,11,null,null,null,null,null,null,0,null,null,11,null,null,null,null,null,null,0,null,null,11,null,null,null,null,null,null,0,null,null,11,null,null,null,null,null,null,0,null,null,11,null,null,null,null,null,null,0,null,null,11,null,null,null,null,null,null,0,null,null,11,null,null,null,null,null,null,0,null,null,11,null,null,null,null,null,null,0,null,null,11,null,null,null,null,null,null,0,null,null,11,null,null,null,null,null,null,0,null,null,11,null,null,null,null,null,null,0,null,null,11,null,null,null,null,null,null,0,null,null,11,null,null,null,null,null,null,0,null,null,11,null,null,null,null,null,null,0,null,null,11,null,null,null,null,null,null,0,null,null,11,null,null,null,null,null,null,0,null,null,11,null,null,null,null,null,null,0,null,null,11,null,null,null,null,null,null,0,null,null,11,null,null,null,null,null,null,0,null,null,11,null,null,null,null,null,null,0,null,null,11,null,null,null,null,null,null,0,null,null,11,null,null,null,null,null,null,0,null,null,11,null,null,null,null,null,null,0,null,null,11,null,null,null,null,null,null,0,null,null,11,null,null,null,null,null,null,0,null,null,11,null,null,null,null,null,null,0,null,null,11,null,null,null,null,null,null,0,null,null,11,null,null,null,null,null,null,null,null,null,11,null,null,null,null,null,null,0,null,null,11,null,null,null,null,null,null,0,null,null,11,null,null,null,null,null,null,0,null,null,11,null,null,null,null,null,null,0,null,null,11,null,null,null,null,null,null,0,null,null,11,null,null,null,null,null,null,0,null,null,11,null,null,null,null,null,null,0,null,null,11,null,null,null,null,null,null,0,null,null,11,null,null,null,null,null,null,0,null,null,11,null,null,null,null,null,null,0,null,null,11,null,null,null,null,null,null,0,null,null,11,null,null,null,null,null,null,0,null,null,11,null,null,null,null,null,null,0,null,null,11,null,null,null,null,null,null,0,null,null,11,null,null,null,null,null,null,0,null,null,11,null,null,null,null,null,null,0,null,null,11,null,null,null,null,null,null,0,null,null,11,null,null,null,null,null,null,0,null,null,11,null,null,null,null,null,null,0,null,null,11,null,null,null,null,null,null,0,null,null,11,null,null,null,null,null,null,0,null,null,11,null,null,null,null,null,null,0,null,null,11,null,null,null,null,null,null,0,null,null,11,null,null,null,null,null,null,0,null,null,11,null,null,null,null,null,null,0,null,null,11,null,null,null,null,null,null,0,null,null,11,null,null,null,null,null,null,0,null,null,11,null,null,null,null,null,null,0,null,null,11,null,null,null,null,null,null,0,null,null,11,null,null,null,null,null,null,0,null,null,11,null,null,null,null,null,null,0,null,null,11,null,null,null,null,null,null,0,null,null,11,null,null,null,null,null,null,0,null,null,11,null,null,null,null,null,null,0,null,null,11,null,null,null,null,null,null,0,null,null,11,null,null,null,null,null,null,0,null,null,11,null,null,null,null,null,null,0,null,null,11,null,null,null,null,null,null,0,null,null,11,null,null,null,null,null,null,0,null,null,11,null,null,null,null,null,null,0,null,null,11,null,null,null,null,null,null,0,null,null,11,null,null,null,null,null,null,0,null,null,11,null,null,null,null,null,null,0,null,null,11,null,null,null,null,null,null,0,null,null,11,null,null,null,null,null,null,0,null,null,11,null,null,null,null,null,null,0,null,null,11,null,null,null,null,null,null,0,null,null,11,null,null,null,null,null,null,0,null,null,11,null,null,null,null,null,null,0,null,null,11,null,null,null,null,null,null,0,null,null,11,null,null,null,null,null,null,0,null,null,11,null,null,null,null,null,null,0,null,null,11,null,null,null,null,null,null,0,null,null,11,null,null,null,null,null,null,0,null,null,11,null,null,null,null,null,null,0,null,null,11,null,null,null,null,null,null,0,null,null,11,null,null,null,null,null,null,0,null,null,11,null,null,null,null,null,null,0,null,null,11,null,null,null,null,null,null,0,null,null,11,null,null,null,null,null,null,0,null,null,11,null,null,null,null,null,null,0,null,null,11,null,null,null,null,null,null,0,null,null,11,null,null,null,null,null,null,0,null,null,11,null,null,null,null,null,null,0,null,null,11,null,null,null,null,null,null,0,null,null,11,null,null,null,null,null,null,0,null,null,11,null,null,null,null,null,null,0,null,null,11,null,null,null,null,null,null,0,null,null,11,null,null,null,null,null,null,0,null,null,11,null,null,null,null,null,null,0,null,null,11,null,null,null,null,null,null,0,null,null,11,null,null,null,null,null,null,0]
[null,12,null,null,null,null,null,null,0,null,null,12,null,null,null,null,null,null,0,null,null,12,null,null,null,null,null,null,0,null,null,12,null,null,null,null,null,null,0,null,null,12,null,null,null,null,null,null,0,null,null,12,null,null,null,null,null,null,0,null,null,12,null,null,null,null,null,null,0,null,null,12,null,null,null,null,null,null,0,null,null,12,null,null,null,null,null,null,0,null,null,12,null,null,null,null,null,null,0,null,null,12,null,null,null,null,null,null,0,null,null,12,null,null,null,null,null,null,0,null,null,12,null,null,null,null,null,null,0,null,null,12,null,null,null,null,null,null,0,null,null,12,null,null,null,null,null,null,0,null,null,12,null,null,null,null,null,null,0,null,null,12,null,null,null,null,null,null,0,null,null,12,null,null,null,null,null,null,0,null,null,12,null,null,null,null,null,null,0,null,null,12,null,null,null,null,null,null,0,null,null,12,null,null,null,null,null,null,0,null,null,12,null,null,null,null,null,null,0,null,null,12,null,null,null,null,null,null,0,null,null,12,null,null,null,null,null,null,0,null,null,12,null,null,null,null,null,null,0,null,null,12,null,null,null,null,null,null,0,null,null,12,null,null,null,null,null,null,0,null,null,12,null,null,null,null,null,null,null,null,null,12,null,null,null,null,null,null,0,null,null,12,null,null,null,null,null,null,0,null,null,12,null,null,null,null,null,null,0,null,null,12,null,null,null,null,null,null,0,null,null,12,null,null,null,null,null,null,0,null,null,12,null,null,null,null,null,null,0,null,null,12,null,null,null,null,null,null,0,null,null,12,null,null,null,null,null,null,0,null,null,12,null,null,null,null,null,null,0,null,null,12,null,null,null,null,null,null,0,null,null,12,null,null,null,null,null,null,0,null,null,12,null,null,null,null,null,null,0,null,null,12,null,null,null,null,null,null,0,null,null,12,null,null,null,null,null,null,0,null,null,12,null,null,null,null,null,null,0,null,null,12,null,null,null,null,null,null,0,null,null,12,null,null,null,null,null,null,0,null,null,12,null,null,null,null,null,null,0,null,null,12,null,null,null,null,null,null,0,null,null,12,null,null,null,null,null,null,0,null,null,12,null,null,null,null,null,null,0,null,null,12,null,null,null,null,null,null,0,null,null,12,null,null,null,null,null,null,0,null,null,12,null,null,null,null,null,null,0,null,null,12,null,null,null,null,null,null,0,null,null,12,null,null,null,null,null,null,0,null,null,12,null,null,null,null,null,null,0,null,null,12,null,null,null,null,null,null,0,null,null,12,null,null,null,null,null,null,0,null,null,12,null,null,null,null,null,null,0,null,null,12,null,null,null,null,null,null,0,null,null,12,null,null,null,null,null,null,0,null,null,12,null,null,null,null,null,null,0,null,null,12,null,null,null,null,null,null,0,null,null,12,null,null,null,null,null,null,0,null,null,12,null,null,null,null,null,null,0,null,null,12,null,null,null,null,null,null,0,null,null,12,null,null,null,null,null,null,0,null,null,12,null,null,null,null,null,null,0,null,null,12,null,null,null,null,null,null,0,null,null,12,null,null,null,null,null,null,0,null,null,12,null,null,null,null,null,null,0,null,null,12,null,null,null,null,null,null,0,null,null,12,null,null,null,null,null,null,0,null,null,12,null,null,null,null,null,null,0,null,null,12,null,null,null,null,null,null,0,null,null,12,null,null,null,null,null,null,0,null,null,12,null,null,null,null,null,null,0,null,null,12,null,null,null,null,null,null,0,null,null,12,null,null,null,null,null,null,0,null,null,12,null,null,null,null,null,null,0,null,null,12,null,null,null,null,null,null,0,null,null,12,null,null,null,null,null,null,0,null,null,12,null,null,null,null,null,null,0,null,null,12,null,null,null,null,null,null,0,null,null,12,null,null,null,null,null,null,0,null,null,12,null,null,null,null,null,null,0,null,null,12,null,null,null,null,null,null,0,null,null,12,null,null,null,null,null,null,0,null,null,12,null,null,null,null,null,null,0,null,null,12,null,null,null,null,null,null,0,null,null,12,null,null,null,null,null,null,0,null,null,12,null,null,null,null,null,null,0,null,null,12,null,null,null,null,null,null,0,null,null,12,null,null,null,null,null,null,0,null,null,12,null,null,null,null,null,null,0,null,null,12,null,null,null,null,null,null,0,null,null,12,null,null,null,null,null,null,0,null,null,12,null,null,null,null,null,null,0,null,null,12,null,null,null,null,null,null,0,null,null,12,null,null,null,null,null,null,0,null,null,12,null,null,null,null,null,null,0]
[null,13,null,null,null,null,null,null,0,null,null,13,null,null,null,null,null,null,0,null,null,13,null,null,null,null,null,null,0,null,null,13,null,null,null,null,null,null,0,null,null,13,null,null,null,null,null,null,0,null,null,13,null,null,null,null,null,null,0,null,null,13,null,null,null,null,null,null,0,null,null,13,null,null,null,null,null,null,0,null,null,13,null,null,null,null,null,null,0,null,null,13,null,null,null,null,null,null,0,null,null,13,null,null,null,null,null,null,0,null,null,13,null,null,null,null,null,null,0,null,null,13,null,null,null,null,null,null,0,null,null,13,null,null,null,null,null,null,0,null,null,13,null,null,null,null,null,null,0,null,null,13,null,null,null,null,null,null,0,null,null,13,null,null,null,null,null,null,0,null,null,13,null,null,null,null,null,null,0,null,null,13,null,null,null,null,null,null,0,null,null,13,null,null,null,null,null,null,0,null,null,13,null,null,null,null,null,null,0,null,null,13,null,null,null,null,null,null,0,null,null,13,null,null,null,null,null,null,0,null,null,13,null,null,null,null,null,null,0,null,null,13,null,null,null,null,null,null,0,null,null,13,null,null,null,null,null,null,0,null,null,13,null,null,null,null,null,null,0,null,null,13,null,null,null,null,null,null,null,null,null,13,null,null,null,null,null,null,0,null,null,13,null,null,null,null,null,null,0,null,null,13,null,null,null,null,null,null,0,null,null,13,null,null,null,null,null,null,0,null,null,13,null,null,null,null,null,null,0,null,null,13,null,null,null,null,null,null,0,null,null,13,null,null,null,null,null,null,0,null,null,13,null,null,null,null,null,null,0,null,null,13,null,null,null,null,null,null,0,null,null,13,null,null,null,null,null,null,0,null,null,13,null,null,null,null,null,null,0,null,null,13,null,null,null,null,null,null,0,null,null,13,null,null,null,null,null,null,0,null,null,13,null,null,null,null,null,null,0,null,null,13,null,null,null,null,null,null,0,null,null,13,null,null,null,null,null,null,0,null,null,13,null,null,null,null,null,null,0,null,null,13,null,null,null,null,null,null,0,null,null,13,null,null,null,null,null,null,0,null,null,13,null,null,null,null,null,null,0,null,null,13,null,null,null,null,null,null,0,null,null,13,null,null,null,null,null,null,0,null,null,13,null,null,null,null,null,null,0,null,null,13,null,null,null,null,null,null,0,null,null,13,null,null,null,null,null,null,0,null,null,13,null,null,null,null,null,null,0,null,null,13,null,null,null,null,null,null,0,null,null,13,null,null,null,null,null,null,0,null,null,13,null,null,null,null,null,null,0,null,null,13,null,null,null,null,null,null,0,null,null,13,null,null,null,null,null,null,0,null,null,13,null,null,null,null,null,null,0,null,null,13,null,null,null,null,null,null,0,null,null,13,null,null,null,null,null,null,0,null,null,13,null,null,null,null,null,null,0,null,null,13,null,null,null,null,null,null,0,null,null,13,null,null,null,null,null,null,0,null,null,13,null,null,null,null,null,null,0,null,null,13,null,null,null,null,null,null,0,null,null,13,null,null,null,null,null,null,0,null,null,13,null,null,null,null,null,null,0,null,null,13,null,null,null,null,null,null,0,null,null,13,null,null,null,null,null,null,0,null,null,13,null,null,null,null,null,null,0,null,null,13,null,null,null,null,null,null,0,null,null,13,null,null,null,null,null,null,0,null,null,13,null,null,null,null,null,null,0,null,null,13,null,null,null,null,null,null,0,null,null,13,null,null,null,null,null,null,0,null,null,13,null,null,null,null,null,null,0,null,null,13,null,null,null,null,null,null,0,null,null,13,null,null,null,null,null,null,0,null,null,13,null,null,null,null,null,null,0,null,null,13,null,null,null,null,null,null,0,null,null,13,null,null,null,null,null,null,0,null,null,13,null,null,null,null,null,null,0,null,null,13,null,null,null,null,null,null,0,null,null,13,null,null,null,null,null,null,0,null,null,13,null,null,null,null,null,null,0,null,null,13,null,null,null,null,null,null,0,null,null,13,null,null,null,null,null,null,0,null,null,13,null,null,null,null,null,null,0,null,null,13,null,null,null,null,null,null,0,null,null,13,null,null,null,null,null,null,0,null,null,13,null,null,null,null,null,null,0,null,null,13,null,null,null,null,null,null,0,null,null,13,null,null,null,null,null,null,0,null,null,13,null,null,null,null,null,null,0,null,null,13,null,null,null,null,null,null,0,null,null,13,null,null,null,null,null,null,0,null,null,13,null,null,null,null,null,null,0,null,null,13,null,null,null,null,null,null,0]
[null,14,null,null,null,null,null,null,0,null,null,14,null,null,null,null,null,null,0,null,null,14,null,null,null,null,null,null,0,null,null,14,null,null,null,null,null,null,0,null,null,14,null,null,null,null,null,null,0,null,null,14,null,null,null,null,null,null,0,null,null,14,null,null,null,null,null,null,0,null,null,14,null,null,null,null,null,null,0,null,null,14,null,null,null,null,null,null,0,null,null,14,null,null,null,null,null,null,0,null,null,14,null,null,null,null,null,null,0,null,null,14,null,null,null,null,null,null,0,null,null,14,null,null,null,null,null,null,0,null,null,14,null,null,null,null,null,null,0,null,null,14,null,null,null,null,null,null,0,null,null,14,null,null,null,null,null,null,0,null,null,14,null,null,null,null,null,null,0,null,null,14,null,null,null,null,null,null,0,null,null,14,null,null,null,null,null,null,0,null,null,14,null,null,null,null,null,null,0,null,null,14,null,null,null,null,null,null,0,null,null,14,null,null,null,null,null,null,0,null,null,14,null,null,null,null,null,null,0,null,null,14,null,null,null,null,null,null,0,null,null,14,null,null,null,null,null,null,0,null,null,14,null,null,null,null,null,null,0,null,null,14,null,null,null,null,null,null,0,null,null,14,null,null,null,null,null,null,null,null,null,14,null,null,null,null,null,null,0,null,null,14,null,null,null,null,null,null,0,null,null,14,null,null,null,null,null,null,0,null,null,14,null,null,null,null,null,null,0,null,null,14,null,null,null,null,null,null,0,null,null,14,null,null,null,null,null,null,0,null,null,14,null,null,null,null,null,null,0,null,null,14,null,null,null,null,null,null,0,null,null,14,null,null,null,null,null,null,0,null,null,14,null,null,null,null,null,null,0,null,null,14,null,null,null,null,null,null,0,null,null,14,null,null,null,null,null,null,0,null,null,14,null,null,null,null,null,null,0,null,null,14,null,null,null,null,null,null,0,null,null,14,null,null,null,null,null,null,0,null,null,14,null,null,null,null,null,null,0,null,null,14,null,null,null,null,null,null,0,null,null,14,null,null,null,null,null,null,0,null,null,14,null,null,null,null,null,null,0,null,null,14,null,null,null,null,null,null,0,null,null,14,null,null,null,null,null,null,0,null,null,14,null,null,null,null,null,null,0,null,null,14,null,null,null,null,null,null,0,null,null,14,null,null,null,null,null,null,0,null,null,14,null,null,null,null,null,null,0,null,null,14,null,null,null,null,null,null,0,null,null,14,null,null,null,null,null,null,0,null,null,14,null,null,null,null,null,null,0,null,null,14,null,null,null,null,null,null,0,null,null,14,null,null,null,null,null,null,0,null,null,14,null,null,null,null,null,null,0,null,null,14,null,null,null,null,null,null,0,null,null,14,null,null,null,null,null,null,0,null,null,14,null,null,null,null,null,null,0,null,null,14,null,null,null,null,null,null,0,null,null,14,null,null,null,null,null,null,0,null,null,14,null,null,null,null,null,null,0,null,null,14,null,null,null,null,null,null,0,null,null,14,null,null,null,null,null,null,0,null,null,14,null,null,null,null,null,null,0,null,null,14,null,null,null,null,null,null,0,null,null,14,null,null,null,null,null,null,0,null,null,14,null,null,null,null,null,null,0,null,null,14,null,null,null,null,null,null,0,null,null,14,null,null,null,null,null,null,0,null,null,14,null,null,null,null,null,null,0,null,null,14,null,null,null,null,null,null,0,null,null,14,null,null,null,null,null,null,0,null,null,14,null,null,null,null,null,null,0,null,null,14,null,null,null,null,null,null,0,null,null,14,null,null,null,null,null,null,0,null,null,14,null,null,null,null,null,null,0,null,null,14,null,null,null,null,null,null,0,null,null,14,null,null,null,null,null,null,0,null,null,14,null,null,null,null,null,null,0,null,null,14,null,null,null,null,null,null,0,null,null,14,null,null,null,null,null,null,0,null,null,14,null,null,null,null,null,null,0,null,null,14,null,null,null,null,null,null,0,null,null,14,null,null,null,null,null,null,0,null,null,14,null,null,null,null,null,null,0,null,null,14,null,null,null,null,null,null,0,null,null,14,null,null,null,null,null,null,0,null,null,14,null,null,null,null,null,null,0,null,null,14,null,null,null,null,null,null,0,null,null,14,null,null,null,null,null,null,0,null,null,14,null,null,null,null,null,null,0,null,null,14,null,null,null,null,null,null,0,null,null,14,null,null,null,null,null,null,0,null,null,14,null,null,null,null,null,null,0,null,null,14,null,null,null,null,null,null,0,null,null,14,null,null,null,null,null,null,0]
[null,15,null,null,null,null,null,null,0,null,null,15,null,null,null,null,null,null,0,null,null,15,null,null,null,null,null,null,0,null,null,15,null,null,null,null,null,null,0,null,null,15,null,null,null,null,null,null,0,null,null,15,null,null,null,null,null,null,0,null,null,15,null,null,null,null,null,null,0,null,null,15,null,null,null,null,null,null,0,null,null,15,null,null,null,null,null,null,0,null,null,15,null,null,null,null,null,null,0,null,null,15,null,null,null,null,null,null,0,null,null,15,null,null,null,null,null,null,0,null,null,15,null,null,null,null,null,null,0,null,null,15,null,null,null,null,null,null,0,null,null,15,null,null,null,null,null,null,0,null,null,15,null,null,null,null,null,null,0,null,null,15,null,null,null,null,null,null,0,null,null,15,null,null,null,null,null,null,0,null,null,15,null,null,null,null,null,null,0,null,null,15,null,null,null,null,null,null,0,null,null,15,null,null,null,null,null,null,0,null,null,15,null,null,null,null,null,null,0,null,null,15,null,null,null,null,null,null,0,null,null,15,null,null,null,null,null,null,0,null,null,15,null,null,null,null,null,null,0,null,null,15,null,null,null,null,null,null,0,null,null,15,null,null,null,null,null,null,0,null,null,15,null,null,null,null,null,null,null,null,null,15,null,null,null,null,null,null,0,null,null,15,null,null,null,null,null,null,0,null,null,15,null,null,null,null,null,null,0,null,null,15,null,null,null,null,null,null,0,null,null,15,null,null,null,null,null,null,0,null,null,15,null,null,null,null,null,null,0,null,null,15,null,null,null,null,null,null,0,null,null,15,null,null,null,null,null,null,0,null,null,15,null,null,null,null,null,null,0,null,null,15,null,null,null,null,null,null,0,null,null,15,null,null,null,null,null,null,0,null,null,15,null,null,null,null,null,null,0,null,null,15,null,null,null,null,null,null,0,null,null,15,null,null,null,null,null,null,0,null,null,15,null,null,null,null,null,null,0,null,null,15,null,null,null,null,null,null,0,null,null,15,null,null,null,null,null,null,0,null,null,15,null,null,null,null,null,null,0,null,null,15,null,null,null,null,null,null,0,null,null,15,null,null,null,null,null,null,0,null,null,15,null,null,null,null,null,null,0,null,null,15,null,null,null,null,null,null,0,null,null,15,null,null,null,null,null,null,0,null,null,15,null,null,null,null,null,null,0,null,null,15,null,null,null,null,null,null,0,null,null,15,null,null,null,null,null,null,0,null,null,15,null,null,null,null,null,null,0,null,null,15,null,null,null,null,null,null,0,null,null,15,null,null,null,null,null,null,0,null,null,15,null,null,null,null,null,null,0,null,null,15,null,null,null,null,null,null,0,null,null,15,null,null,null,null,null,null,0,null,null,15,null,null,null,null,null,null,0,null,null,15,null,null,null,null,null,null,0,null,null,15,null,null,null,null,null,null,0,null,null,15,null,null,null,null,null,null,0,null,null,15,null,null,null,null,null,null,0,null,null,15,null,null,null,null,null,null,0,null,null,15,null,null,null,null,null,null,0,null,null,15,null,null,null,null,null,null,0,null,null,15,null,null,null,null,null,null,0,null,null,15,null,null,null,null,null,null,0,null,null,15,null,null,null,null,null,null,0,null,null,15,null,null,null,null,null,null,0,null,null,15,null,null,null,null,null,null,0,null,null,15,null,null,null,null,null,null,0,null,null,15,null,null,null,null,null,null,0,null,null,15,null,null,null,null,null,null,0,null,null,15,null,null,null,null,null,null,0,null,null,15,null,null,null,null,null,null,0,null,null,15,null,null,null,null,null,null,0,null,null,15,null,null,null,null,null,null,0,null,null,15,null,null,null,null,null,null,0,null,null,15,null,null,null,null,null,null,0,null,null,15,null,null,null,null,null,null,0,null,null,15,null,null,null,null,null,null,0,null,null,15,null,null,null,null,null,null,0,null,null,15,null,null,null,null,null,null,0,null,null,15,null,null,null,null,null,null,0,null,null,15,null,null,null,null,null,null,0,null,null,15,null,null,null,null,null,null,0,null,null,15,null,null,null,null,null,null,0,null,null,15,null,null,null,null,null,null,0,null,null,15,null,null,null,null,null,null,0,null,null,15,null,null,null,null,null,null,0,null,null,15,null,null,null,null,null,null,0,null,null,15,null,null,null,null,null,null,0,null,null,15,null,null,null,null,null,null,0,null,null,15,null,null,null,null,null,null,0,null,null,15,null,null,null,null,null,null,0,null,null,15,null,null,null,null,null,null,0,null,null,15,null,null,null,null,null,null,0]
[null,16,null,null,null,null,null,null,0,null,null,16,null,null,null,null,null,null,0,null,null,16,null,null,null,null,null,null,0,null,null,16,null,null,null,null,null,null,0,null,null,16,null,null,null,null,null,null,0,null,null,16,null,null,null,null,null,null,0,null,null,16,null,null,null,null,null,null,0,null,null,16,null,null,null,null,null,null,0,null,null,16,null,null,null,null,null,null,0,null,null,16,null,null,null,null,null,null,0,null,null,16,null,null,null,null,null,null,0,null,null,16,null,null,null,null,null,null,0,null,null,16,null,null,null,null,null,null,0,null,null,16,null,null,null,null,null,null,0,null,null,16,null,null,null,null,null,null,0,null,null,16,null,null,null,null,null,null,0,null,null,16,null,null,null,null,null,null,0,null,null,16,null,null,null,null,null,null,0,null,null,16,null,null,null,null,null,null,0,null,null,16,null,null,null,null,null,null,0,null,null,16,null,null,null,null,null,null,0,null,null,16,null,null,null,null,null,null,0,null,null,16,null,null,null,null,null,null,0,null,null,16,null,null,null,null,null,null,0,null,null,16,null,null,null,null,null,null,0,null,null,16,null,null,null,null,null,null,0,null,null,16,null,null,null,null,null,null,0,null,null,16,null,null,null,null,null,null,null,null,null,16,null,null,null,null,null,null,0,null,null,16,null,null,null,null,null,null,0,null,null,16,null,null,null,null,null,null,0,null,null,16,null,null,null,null,null,null,0,null,null,16,null,null,null,null,null,null,0,null,null,16,null,null,null,null,null,null,0,null,null,16,null,null,null,null,null,null,0,null,null,16,null,null,null,null,null,null,0,null,null,16,null,null,null,null,null,null,0,null,null,16,null,null,null,null,null,null,0,null,null,16,null,null,null,null,null,null,0,null,null,16,null,null,null,null,null,null,0,null,null,16,null,null,null,null,null,null,0,null,null,16,null,null,null,null,null,null,0,null,null,16,null,null,null,null,null,null,0,null,null,16,null,null,null,null,null,null,0,null,null,16,null,null,null,null,null,null,0,null,null,16,null,null,null,null,null,null,0,null,null,16,null,null,null,null,null,null,0,null,null,16,null,null,null,null,null,null,0,null,null,16,null,null,null,null,null,null,0,null,null,16,null,null,null,null,null,null,0,null,null,16,null,null,null,null,null,null,0,null,null,16,null,null,null,null,null,null,0,null,null,16,null,null,null,null,null,null,0,null,null,16,null,null,null,null,null,null,0,null,null,16,null,null,null,null,null,null,0,null,null,16,null,null,null,null,null,null,0,null,null,16,null,null,null,null,null,null,0,null,null,16,null,null,null,null,null,null,0,null,null,16,null,null,null,null,null,null,0,null,null,16,null,null,null,null,null,null,0,null,null,16,null,null,null,null,null,null,0,null,null,16,null,null,null,null,null,null,0,null,null,16,null,null,null,null,null,null,0,null,null,16,null,null,null,null,null,null,0,null,null,16,null,null,null,null,null,null,0,null,null,16,null,null,null,null,null,null,0,null,null,16,null,null,null,null,null,null,0,null,null,16,null,null,null,null,null,null,0,null,null,16,null,null,null,null,null,null,0,null,null,16,null,null,null,null,null,null,0,null,null,16,null,null,null,null,null,null,0,null,null,16,null,null,null,null,null,null,0,null,null,16,null,null,null,null,null,null,0,null,null,16,null,null,null,null,null,null,0,null,null,16,null,null,null,null,null,null,0,null,null,16,null,null,null,null,null,null,0,null,null,16,null,null,null,null,null,null,0,null,null,16,null,null,null,null,null,null,0,null,null,16,null,null,null,null,null,null,0,null,null,16,null,null,null,null,null,null,0,null,null,16,null,null,null,null,null,null,0,null,null,16,null,null,null,null,null,null,0,null,null,16,null,null,null,null,null,null,0,null,null,16,null,null,null,null,null,null,0,null,null,16,null,null,null,null,null,null,0,null,null,16,null,null,null,null,null,null,0,null,null,16,null,null,null,null,null,null,0,null,null,16,null,null,null,null,null,null,0,null,null,16,null,null,null,null,null,null,0,null,null,16,null,null,null,null,null,null,0,null,null,16,null,null,null,null,null,null,0,null,null,16,null,null,null,null,null,null,0,null,null,16,null,null,null,null,null,null,0,null,null,16,null,null,null,null,null,null,0,null,null,16,null,null,null,null,null,null,0,null,null,16,null,null,null,null,null,null,0,null,null,16,null,null,null,null,null,null,0,null,null,16,null,null,null,null,null,null,0,null,null,16,null,null,null,null,null,null,0,null,null,16,null,null,null,null,null,null,0]
[null,17,null,null,null,null,null,null,0,null,null,17,null,null,null,null,null,null,0,null,null,17,null,null,null,null,null,null,0,null,null,17,null,null,null,null,null,null,0,null,null,17,null,null,null,null,null,null,0,null,null,17,null,null,null,null,null,null,0,null,null,17,null,null,null,null,null,null,0,null,null,17,null,null,null,null,null,null,0,null,null,17,null,null,null,null,null,null,0,null,null,17,null,null,null,null,null,null,0,null,null,17,null,null,null,null,null,null,0,null,null,17,null,null,null,null,null,null,0,null,null,17,null,null,null,null,null,null,0,null,null,17,null,null,null,null,null,null,0,null,null,17,null,null,null,null,null,null,0,null,null,17,null,null,null,null,null,null,0,null,null,17,null,null,null,null,null,null,0,null,null,17,null,null,null,null,null,null,0,null,null,17,null,null,null,null,null,null,0,null,null,17,null,null,null,null,null,null,0,null,null,17,null,null,null,null,null,null,0,null,null,17,null,null,null,null,null,null,0,null,null,17,null,null,null,null,null,null,0,null,null,17,null,null,null,null,null,null,0,null,null,17,null,null,null,null,null,null,0,null,null,17,null,null,null,null,null,null,0,null,null,17,null,null,null,null,null,null,0,null,null,17,null,null,null,null,null,null,null,null,null,17,null,null,null,null,null,null,0,null,null,17,null,null,null,null,null,null,0,null,null,17,null,null,null,null,null,null,0,null,null,17,null,null,null,null,null,null,0,null,null,17,null,null,null,null,null,null,0,null,null,17,null,null,null,null,null,null,0,null,null,17,null,null,null,null,null,null,0,null,null,17,null,null,null,null,null,null,0,null,null,17,null,null,null,null,null,null,0,null,null,17,null,null,null,null,null,null,0,null,null,17,null,null,null,null,null,null,0,null,null,17,null,null,null,null,null,null,0,null,null,17,null,null,null,null,null,null,0,null,null,17,null,null,null,null,null,null,0,null,null,17,null,null,null,null,null,null,0,null,null,17,null,null,null,null,null,null,0,null,null,17,null,null,null,null,null,null,0,null,null,17,null,null,null,null,null,null,0,null,null,17,null,null,null,null,null,null,0,null,null,17,null,null,null,null,null,null,0,null,null,17,null,null,null,null,null,null,0,null,null,17,null,null,null,null,null,null,0,null,null,17,null,null,null,null,null,null,0,null,null,17,null,null,null,null,null,null,0,null,null,17,null,null,null,null,null,null,0,null,null,17,null,null,null,null,null,null,0,null,null,17,null,null,null,null,null,null,0,null,null,17,null,null,null,null,null,null,0,null,null,17,null,null,null,null,null,null,0,null,null,17,null,null,null,null,null,null,0,null,null,17,null,null,null,null,null,null,0,null,null,17,null,null,null,null,null,null,0,null,null,17,null,null,null,null,null,null,0,null,null,17,null,null,null,null,null,null,0,null,null,17,null,null,null,null,null,null,0,null,null,17,null,null,null,null,null,null,0,null,null,17,null,null,null,null,null,null,0,null,null,17,null,null,null,null,null,null,0,null,null,17,null,null,null,null,null,null,0,null,null,17,null,null,null,null,null,null,0,null,null,17,null,null,null,null,null,null,0,null,null,17,null,null,null,null,null,null,0,null,null,17,null,null,null,null,null,null,0,null,null,17,null,null,null,null,null,null,0,null,null,17,null,null,null,null,null,null,0,null,null,17,null,null,null,null,null,null,0,null,null,17,null,null,null,null,null,null,0,null,null,17,null,null,null,null,null,null,0,null,null,17,null,null,null,null,null,null,0,null,null,17,null,null,null,null,null,null,0,null,null,17,null,null,null,null,null,null,0,null,null,17,null,null,null,null,null,null,0,null,null,17,null,null,null,null,null,null,0,null,null,17,null,null,null,null,null,null,0,null,null,17,null,null,null,null,null,null,0,null,null,17,null,null,null,null,null,null,0,null,null,17,null,null,null,null,null,null,0,null,null,17,null,null,null,null,null,null,0,null,null,17,null,null,null,null,null,null,0,null,null,17,null,null,null,null,null,null,0,null,null,17,null,null,null,null,null,null,0,null,null,17,null,null,null,null,null,null,0,null,null,17,null,null,null,null,null,null,0,null,null,17,null,null,null,null,null,null,0,null,null,17,null,null,null,null,null,null,0,null,null,17,null,null,null,null,null,null,0,null,null,17,null,null,null,null,null,null,0,null,null,17,null,null,null,null,null,null,0,null,null,17,null,null,null,null,null,null,0,null,null,17,null,null,null,null,null,null,0,null,null,17,null,null,null,null,null,null,0,null,null,17,null,null,null,null,null,null,0]
[null,18,null,null,null,null,null,null,0,null,null,18,null,null,null,null,null,null,0,null,null,18,null,null,null,null,null,null,0,null,null,18,null,null,null,null,null,null,0,null,null,18,null,null,null,null,null,null,0,null,null,18,null,null,null,null,null,null,0,null,null,18,null,null,null,null,null,null,0,null,null,18,null,null,null,null,null,null,0,null,null,18,null,null,null,null,null,null,0,null,null,18,null,null,null,null,null,null,0,null,null,18,null,null,null,null,null,null,0,null,null,18,null,null,null,null,null,null,0,null,null,18,null,null,null,null,null,null,0,null,null,18,null,null,null,null,null,null,0,null,null,18,null,null,null,null,null,null,0,null,null,18,null,null,null,null,null,null,0,null,null,18,null,null,null,null,null,null,0,null,null,18,null,null,null,null,null,null,0,null,null,18,null,null,null,null,null,null,0,null,null,18,null,null,null,null,null,null,0,null,null,18,null,null,null,null,null,null,0,null,null,18,null,null,null,null,null,null,0,null,null,18,null,null,null,null,null,null,0,null,null,18,null,null,null,null,null,null,0,null,null,18,null,null,null,null,null,null,0,null,null,18,null,null,null,null,null,null,0,null,null,18,null,null,null,null,null,null,0,null,null,18,null,null,null,null,null,null,null,null,null,18,null,null,null,null,null,null,0,null,null,18,null,null,null,null,null,null,0,null,null,18,null,null,null,null,null,null,0,null,null,18,null,null,null,null,null,null,0,null,null,18,null,null,null,null,null,null,0,null,null,18,null,null,null,null,null,null,0,null,null,18,null,null,null,null,null,null,0,null,null,18,null,null,null,null,null,null,0,null,null,18,null,null,null,null,null,null,0,null,null,18,null,null,null,null,null,null,0,null,null,18,null,null,null,null,null,null,0,null,null,18,null,null,null,null,null,null,0,null,null,18,null,null,null,null,null,null,0,null,null,18,null,null,null,null,null,null,0,null,null,18,null,null,null,null,null,null,0,null,null,18,null,null,null,null,null,null,0,null,null,18,null,null,null,null,null,null,0,null,null,18,null,null,null,null,null,null,0,null,null,18,null,null,null,null,null,null,0,null,null,18,null,null,null,null,null,null,0,null,null,18,null,null,null,null,null,null,0,null,null,18,null,null,null,null,null,null,0,null,null,18,null,null,null,null,null,null,0,null,null,18,null,null,null,null,null,null,0,null,null,18,null,null,null,null,null,null,0,null,null,18,null,null,null,null,null,null,0,null,null,18,null,null,null,null,null,null,0,null,null,18,null,null,null,null,null,null,0,null,null,18,null,null,null,null,null,null,0,null,null,18,null,null,null,null,null,null,0,null,null,18,null,null,null,null,null,null,0,null,null,18,null,null,null,null,null,null,0,null,null,18,null,null,null,null,null,null,0,null,null,18,null,null,null,null,null,null,0,null,null,18,null,null,null,null,null,null,0,null,null,18,null,null,null,null,null,null,0,null,null,18,null,null,null,null,null,null,0,null,null,18,null,null,null,null,null,null,0,null,null,18,null,null,null,null,null,null,0,null,null,18,null,null,null,null,null,null,0,null,null,18,null,null,null,null,null,null,0,null,null,18,null,null,null,null,null,null,0,null,null,18,null,null,null,null,null,null,0,null,null,18,null,null,null,null,null,null,0,null,null,18,null,null,null,null,null,null,0,null,null,18,null,null,null,null,null,null,0,null,null,18,null,null,null,null,null,null,0,null,null,18,null,null,null,null,null,null,0,null,null,18,null,null,null,null,null,null,0,null,null,18,null,null,null,null,null,null,0,null,null,18,null,null,null,null,null,null,0,null,null,18,null,null,null,null,null,null,0,null,null,18,null,null,null,null,null,null,0,null,null,18,null,null,null,null,null,null,0,null,null,18,null,null,null,null,null,null,0,null,null,18,null,null,null,null,null,null,0,null,null,18,null,null,null,null,null,null,0,null,null,18,null,null,null,null,null,null,0,null,null,18,null,null,null,null,null,null,0,null,null,18,null,null,null,null,null,null,0,null,null,18,null,null,null,null,null,null,0,null,null,18,null,null,null,null,null,null,0,null,null,18,null,null,null,null,null,null,0,null,null,18,null,null,null,null,null,null,0,null,null,18,null,null,null,null,null,null,0,null,null,18,null,null,null,null,null,null,0,null,null,18,null,null,null,null,null,null,0,null,null,18,null,null,null,null,null,null,0,null,null,18,null,null,null,null,null,null,0,null,null,18,null,null,null,null,null,null,0,null,null,18,null,null,null,null,null,null,0,null,null,18,null,null,null,null,null,null,0]
[null,19,null,null,null,null,null,null,0,null,null,19,null,null,null,null,null,null,0,null,null,19,null,null,null,null,null,null,0,null,null,19,null,null,null,null,null,null,0,null,null,19,null,null,null,null,null,null,0,null,null,19,null,null,null,null,null,null,0,null,null,19,null,null,null,null,null,null,0,null,null,19,null,null,null,null,null,null,0,null,null,19,null,null,null,null,null,null,0,null,null,19,null,null,null,null,null,null,0,null,null,19,null,null,null,null,null,null,0,null,null,19,null,null,null,null,null,null,0,null,null,19,null,null,null,null,null,null,0,null,null,19,null,null,null,null,null,null,0,null,null,19,null,null,null,null,null,null,0,null,null,19,null,null,null,null,null,null,0,null,null,19,null,null,null,null,null,null,0,null,null,19,null,null,null,null,null,null,0,null,null,19,null,null,null,null,null,null,0,null,null,19,null,null,null,null,null,null,0,null,null,19,null,null,null,null,null,null,0,null,null,19,null,null,null,null,null,null,0,null,null,19,null,null,null,null,null,null,0,null,null,19,null,null,null,null,null,null,0,null,null,19,null,null,null,null,null,null,0,null,null,19,null,null,null,null,null,null,0,null,null,19,null,null,null,null,null,null,0,null,null,19,null,null,null,null,null,null,null,null,null,19,null,null,null,null,null,null,0,null,null,19,null,null,null,null,null,null,0,null,null,19,null,null,null,null,null,null,0,null,null,19,null,null,null,null,null,null,0,null,null,19,null,null,null,null,null,null,0,null,null,19,null,null,null,null,null,null,0,null,null,19,null,null,null,null,null,null,0,null,null,19,null,null,null,null,null,null,0,null,null,19,null,null,null,null,null,null,0,null,null,19,null,null,null,null,null,null,0,null,null,19,null,null,null,null,null,null,0,null,null,19,null,null,null,null,null,null,0,null,null,19,null,null,null,null,null,null,0,null,null,19,null,null,null,null,null,null,0,null,null,19,null,null,null,null,null,null,0,null,null,19,null,null,null,null,null,null,0,null,null,19,null,null,null,null,null,null,0,null,null,19,null,null,null,null,null,null,0,null,null,19,null,null,null,null,null,null,0,null,null,19,null,null,null,null,null,null,0,null,null,19,null,null,null,null,null,null,0,null,null,19,null,null,null,null,null,null,0,null,null,19,null,null,null,null,null,null,0,null,null,19,null,null,null,null,null,null,0,null,null,19,null,null,null,null,null,null,0,null,null,19,null,null,null,null,null,null,0,null,null,19,null,null,null,null,null,null,0,null,null,19,null,null,null,null,null,null,0,null,null,19,null,null,null,null,null,null,0,null,null,19,null,null,null,null,null,null,0,null,null,19,null,null,null,null,null,null,0,null,null,19,null,null,null,null,null,null,0,null,null,19,null,null,null,null,null,null,0,null,null,19,null,null,null,null,null,null,0,null,null,19,null,null,null,null,null,null,0,null,null,19,null,null,null,null,null,null,0,null,null,19,null,null,null,null,null,null,0,null,null,19,null,null,null,null,null,null,0,null,null,19,null,null,null,null,null,null,0,null,null,19,null,null,null,null,null,null,0,null,null,19,null,null,null,null,null,null,0,null,null,19,null,null,null,null,null,null,0,null,null,19,null,null,null,null,null,null,0,null,null,19,null,null,null,null,null,null,0,null,null,19,null,null,null,null,null,null,0,null,null,19,null,null,null,null,null,null,0,null,null,19,null,null,null,null,null,null,0,null,null,19,null,null,null,null,null,null,0,null,null,19,null,null,null,null,null,null,0,null,null,19,null,null,null,null,null,null,0,null,null,19,null,null,null,null,null,null,0,null,null,19,null,null,null,null,null,null,0,null,null,19,null,null,null,null,null,null,0,null,null,19,null,null,null,null,null,null,0,null,null,19,null,null,null,null,null,null,0,null,null,19,null,null,null,null,null,null,0,null,null,19,null,null,null,null,null,null,0,null,null,19,null,null,null,null,null,null,0,null,null,19,null,null,null,null,null,null,0,null,null,19,null,null,null,null,null,null,0,null,null,19,null,null,null,null,null,null,0,null,null,19,null,null,null,null,null,null,0,null,null,19,null,null,null,null,null,null,0,null,null,19,null,null,null,null,null,null,0,null,null,19,null,null,null,null,null,null,0,null,null,19,null,null,null,null,null,null,0,null,null,19,null,null,null,null,null,null,0,null,null,19,null,null,null,null,null,null,0,null,null,19,null,null,null,null,null,null,0,null,null,19,null,null,null,null,null,null,0,null,null,19,null,null,null,null,null,null,0,null,null,19,null,null,null,null,null,null,0]
[null,20,null,null,null,null,null,null,0,null,null,20,null,null,null,null,null,null,0,null,null,20,null,null,null,null,null,null,0,null,null,20,null,null,null,null,null,null,0,null,null,20,null,null,null,null,null,null,0,null,null,20,null,null,null,null,null,null,0,null,null,20,null,null,null,null,null,null,0,null,null,20,null,null,null,null,null,null,0,null,null,20,null,null,null,null,null,null,0,null,null,20,null,null,null,null,null,null,0,null,null,20,null,null,null,null,null,null,0,null,null,20,null,null,null,null,null,null,0,null,null,20,null,null,null,null,null,null,0,null,null,20,null,null,null,null,null,null,0,null,null,20,null,null,null,null,null,null,0,null,null,20,null,null,null,null,null,null,0,null,null,20,null,null,null,null,null,null,0,null,null,20,null,null,null,null,null,null,0,null,null,20,null,null,null,null,null,null,0,null,null,20,null,null,null,null,null,null,0,null,null,20,null,null,null,null,null,null,0,null,null,20,null,null,null,null,null,null,0,null,null,20,null,null,null,null,null,null,0,null,null,20,null,null,null,null,null,null,0,null,null,20,null,null,null,null,null,null,0,null,null,20,null,null,null,null,null,null,0,null,null,20,null,null,null,null,null,null,0,null,null,20,null,null,null,null,null,null,null,null,null,20,null,null,null,null,null,null,0,null,null,20,null,null,null,null,null,null,0,null,null,20,null,null,null,null,null,null,0,null,null,20,null,null,null,null,null,null,0,null,null,20,null,null,null,null,null,null,0,null,null,20,null,null,null,null,null,null,0,null,null,20,null,null,null,null,null,null,0,null,null,20,null,null,null,null,null,null,0,null,null,20,null,null,null,null,null,null,0,null,null,20,null,null,null,null,null,null,0,null,null,20,null,null,null,null,null,null,0,null,null,20,null,null,null,null,null,null,0,null,null,20,null,null,null,null,null,null,0,null,null,20,null,null,null,null,null,null,0,null,null,20,null,null,null,null,null,null,0,null,null,20,null,null,null,null,null,null,0,null,null,20,null,null,null,null,null,null,0,null,null,20,null,null,null,null,null,null,0,null,null,20,null,null,null,null,null,null,0,null,null,20,null,null,null,null,null,null,0,null,null,20,null,null,null,null,null,null,0,null,null,20,null,null,null,null,null,null,0,null,null,20,null,null,null,null,null,null,0,null,null,20,null,null,null,null,null,null,0,null,null,20,null,null,null,null,null,null,0,null,null,20,null,null,null,null,null,null,0,null,null,20,null,null,null,null,null,null,0,null,null,20,null,null,null,null,null,null,0,null,null,20,null,null,null,null,null,null,0,null,null,20,null,null,null,null,null,null,0,null,null,20,null,null,null,null,null,null,0,null,null,20,null,null,null,null,null,null,0,null,null,20,null,null,null,null,null,null,0,null,null,20,null,null,null,null,null,null,0,null,null,20,null,null,null,null,null,null,0,null,null,20,null,null,null,null,null,null,0,null,null,20,null,null,null,null,null,null,0,null,null,20,null,null,null,null,null,null,0,null,null,20,null,null,null,null,null,null,0,null,null,20,null,null,null,null,null,null,0,null,null,20,null,null,null,null,null,null,0,null,null,20,null,null,null,null,null,null,0,null,null,20,null,null,null,null,null,null,0,null,null,20,null,null,null,null,null,null,0,null,null,20,null,null,null,null,null,null,0,null,null,20,null,null,null,null,null,null,0,null,null,20,null,null,null,null,null,null,0,null,null,20,null,null,null,null,null,null,0,null,null,20,null,null,null,null,null,null,0,null,null,20,null,null,null,null,null,null,0,null,null,20,null,null,null,null,null,null,0,null,null,20,null,null,null,null,null,null,0,null,null,20,null,null,null,null,null,null,0,null,null,20,null,null,null,null,null,null,0,null,null,20,null,null,null,null,null,null,0,null,null,20,null,null,null,null,null,null,0,null,null,20,null,null,null,null,null,null,0,null,null,20,null,null,null,null,null,null,0,null,null,20,null,null,null,null,null,null,0,null,null,20,null,null,null,null,null,null,0,null,null,20,null,null,null,null,null,null,0,null,null,20,null,null,null,null,null,null,0,null,null,20,null,null,null,null,null,null,0,null,null,20,null,null,null,null,null,null,0,null,null,20,null,null,null,null,null,null,0,null,null,20,null,null,null,null,null,null,0,null,null,20,null,null,null,null,null,null,0,null,null,20,null,null,null,null,null,null,0,null,null,20,null,null,null,null,null,null,0,null,null,20,null,null,null,null,null,null,0,null,null,20,null,null,null,null,null,null,0,null,null,20,null,null,null,null,null,null,0]
[null,21,null,null,null,null,null,null,0,null,null,21,null,null,null,null,null,null,0,null,null,21,null,null,null,null,null,null,0,null,null,21,null,null,null,null,null,null,0,null,null,21,null,null,null,null,null,null,0,null,null,21,null,null,null,null,null,null,0,null,null,21,null,null,null,null,null,null,0,null,null,21,null,null,null,null,null,null,0,null,null,21,null,null,null,null,null,null,0,null,null,21,null,null,null,null,null,null,0,null,null,21,null,null,null,null,null,null,0,null,null,21,null,null,null,null,null,null,0,null,null,21,null,null,null,null,null,null,0,null,null,21,null,null,null,null,null,null,0,null,null,21,null,null,null,null,null,null,0,null,null,21,null,null,null,null,null,null,0,null,null,21,null,null,null,null,null,null,0,null,null,21,null,null,null,null,null,null,0,null,null,21,null,null,null,null,null,null,0,null,null,21,null,null,null,null,null,null,0,null,null,21,null,null,null,null,null,null,0,null,null,21,null,null,null,null,null,null,0,null,null,21,null,null,null,null,null,null,0,null,null,21,null,null,null,null,null,null,0,null,null,21,null,null,null,null,null,null,0,null,null,21,null,null,null,null,null,null,0,null,null,21,null,null,null,null,null,null,0,null,null,21,null,null,null,null,null,null,null,null,null,21,null,null,null,null,null,null,0,null,null,21,null,null,null,null,null,null,0,null,null,21,null,null,null,null,null,null,0,null,null,21,null,null,null,null,null,null,0,null,null,21,null,null,null,null,null,null,0,null,null,21,null,null,null,null,null,null,0,null,null,21,null,null,null,null,null,null,0,null,null,21,null,null,null,null,null,null,0,null,null,21,null,null,null,null,null,null,0,null,null,21,null,null,null,null,null,null,0,null,null,21,null,null,null,null,null,null,0,null,null,21,null,null,null,null,null,null,0,null,null,21,null,null,null,null,null,null,0,null,null,21,null,null,null,null,null,null,0,null,null,21,null,null,null,null,null,null,0,null,null,21,null,null,null,null,null,null,0,null,null,21,null,null,null,null,null,null,0,null,null,21,null,null,null,null,null,null,0,null,null,21,null,null,null,null,null,null,0,null,null,21,null,null,null,null,null,null,0,null,null,21,null,null,null,null,null,null,0,null,null,21,null,null,null,null,null,null,0,null,null,21,null,null,null,null,null,null,0,null,null,21,null,null,null,null,null,null,0,null,null,21,null,null,null,null,null,null,0,null,null,21,null,null,null,null,null,null,0,null,null,21,null,null,null,null,null,null,0,null,null,21,null,null,null,null,null,null,0,null,null,21,null,null,null,null,null,null,0,null,null,21,null,null,null,null,null,null,0,null,null,21,null,null,null,null,null,null,0,null,null,21,null,null,null,null,null,null,0,null,null,21,null,null,null,null,null,null,0,null,null,21,null,null,null,null,null,null,0,null,null,21,null,null,null,null,null,null,0,null,null,21,null,null,null,null,null,null,0,null,null,21,null,null,null,null,null,null,0,null,null,21,null,null,null,null,null,null,0,null,null,21,null,null,null,null,null,null,0,null,null,21,null,null,null,null,null,null,0,null,null,21,null,null,null,null,null,null,0,null,null,21,null,null,null,null,null,null,0,null,null,21,null,null,null,null,null,null,0,null,null,21,null,null,null,null,null,null,0,null,null,21,null,null,null,null,null,null,0,null,null,21,null,null,null,null,null,null,0,null,null,21,null,null,null,null,null,null,0,null,null,21,null,null,null,null,null,null,0,null,null,21,null,null,null,null,null,null,0,null,null,21,null,null,null,null,null,null,0,null,null,21,null,null,null,null,null,null,0,null,null,21,null,null,null,null,null,null,0,null,null,21,null,null,null,null,null,null,0,null,null,21,null,null,null,null,null,null,0,null,null,21,null,null,null,null,null,null,0,null,null,21,null,null,null,null,null,null,0,null,null,21,null,null,null,null,null,null,0,null,null,21,null,null,null,null,null,null,0,null,null,21,null,null,null,null,null,null,0,null,null,21,null,null,null,null,null,null,0,null,null,21,null,null,null,null,null,null,0,null,null,21,null,null,null,null,null,null,0,null,null,21,null,null,null,null,null,null,0,null,null,21,null,null,null,null,null,null,0,null,null,21,null,null,null,null,null,null,0,null,null,21,null,null,null,null,null,null,0,null,null,21,null,null,null,null,null,null,0,null,null,21,null,null,null,null,null,null,0,null,null,21,null,null,null,null,null,null,0,null,null,21,null,null,null,null,null,null,0,null,null,21,null,null,null,null,null,null,0,null,null,21,null,null,null,null,null,null,0]
[null,22,null,null,null,null,null,null,0,null,null,22,null,null,null,null,null,null,0,null,null,22,null,null,null,null,null,null,0,null,null,22,null,null,null,null,null,null,0,null,null,22,null,null,null,null,null,null,0,null,null,22,null,null,null,null,null,null,0,null,null,22,null,null,null,null,null,null,0,null,null,22,null,null,null,null,null,null,0,null,null,22,null,null,null,null,null,null,0,null,null,22,null,null,null,null,null,null,0,null,null,22,null,null,null,null,null,null,0,null,null,22,null,null,null,null,null,null,0,null,null,22,null,null,null,null,null,null,0,null,null,22,null,null,null,null,null,null,0,null,null,22,null,null,null,null,null,null,0,null,null,22,null,null,null,null,null,null,0,null,null,22,null,null,null,null,null,null,0,null,null,22,null,null,null,null,null,null,0,null,null,22,null,null,null,null,null,null,0,null,null,22,null,null,null,null,null,null,0,null,null,22,null,null,null,null,null,null,0,null,null,22,null,null,null,null,null,null,0,null,null,22,null,null,null,null,null,null,0,null,null,22,null,null,null,null,null,null,0,null,null,22,null,null,null,null,null,null,0,null,null,22,null,null,null,null,null,null,0,null,null,22,null,null,null,null,null,null,0,null,null,22,null,null,null,null,null,null,null,null,null,22,null,null,null,null,null,null,0,null,null,22,null,null,null,null,null,null,0,null,null,22,null,null,null,null,null,null,0,null,null,22,null,null,null,null,null,null,0,null,null,22,null,null,null,null,null,null,0,null,null,22,null,null,null,null,null,null,0,null,null,22,null,null,null,null,null,null,0,null,null,22,null,null,null,null,null,null,0,null,null,22,null,null,null,null,null,null,0,null,null,22,null,null,null,null,null,null,0,null,null,22,null,null,null,null,null,null,0,null,null,22,null,null,null,null,null,null,0,null,null,22,null,null,null,null,null,null,0,null,null,22,null,null,null,null,null,null,0,null,null,22,null,null,null,null,null,null,0,null,null,22,null,null,null,null,null,null,0,null,null,22,null,null,null,null,null,null,0,null,null,22,null,null,null,null,null,null,0,null,null,22,null,null,null,null,null,null,0,null,null,22,null,null,null,null,null,null,0,null,null,22,null,null,null,null,null,null,0,null,null,22,null,null,null,null,null,null,0,null,null,22,null,null,null,null,null,null,0,null,null,22,null,null,null,null,null,null,0,null,null,22,null,null,null,null,null,null,0,null,null,22,null,null,null,null,null,null,0,null,null,22,null,null,null,null,null,null,0,null,null,22,null,null,null,null,null,null,0,null,null,22,null,null,null,null,null,null,0,null,null,22,null,null,null,null,null,null,0,null,null,22,null,null,null,null,null,null,0,null,null,22,null,null,null,null,null,null,0,null,null,22,null,null,null,null,null,null,0,null,null,22,null,null,null,null,null,null,0,null,null,22,null,null,null,null,null,null,0,null,null,22,null,null,null,null,null,null,0,null,null,22,null,null,null,null,null,null,0,null,null,22,null,null,null,null,null,null,0,null,null,22,null,null,null,null,null,null,0,null,null,22,null,null,null,null,null,null,0,null,null,22,null,null,null,null,null,null,0,null,null,22,null,null,null,null,null,null,0,null,null,22,null,null,null,null,null,null,0,null,null,22,null,null,null,null,null,null,0,null,null,22,null,null,null,null,null,null,0,null,null,22,null,null,null,null,null,null,0,null,null,22,null,null,null,null,null,null,0,null,null,22,null,null,null,null,null,null,0,null,null,22,null,null,null,null,null,null,0,null,null,22,null,null,null,null,null,null,0,null,null,22,null,null,null,null,null,null,0,null,null,22,null,null,null,null,null,null,0,null,null,22,null,null,null,null,null,null,0,null,null,22,null,null,null,null,null,null,0,null,null,22,null,null,null,null,null,null,0,null,null,22,null,null,null,null,null,null,0,null,null,22,null,null,null,null,null,null,0,null,null,22,null,null,null,null,null,null,0,null,null,22,null,null,null,null,null,null,0,null,null,22,null,null,null,null,null,null,0,null,null,22,null,null,null,null,null,null,0,null,null,22,null,null,null,null,null,null,0,null,null,22,null,null,null,null,null,null,0,null,null,22,null,null,null,null,null,null,0,null,null,22,null,null,null,null,null,null,0,null,null,22,null,null,null,null,null,null,0,null,null,22,null,null,null,null,null,null,0,null,null,22,null,null,null,null,null,null,0,null,null,22,null,null,null,null,null,null,0,null,null,22,null,null,null,null,null,null,0,null,null,22,null,null,null,null,null,null,0,null,null,22,null,null,null,null,null,null,0]
[null,23,null,null,null,null,null,null,0,null,null,23,null,null,null,null,null,null,0,null,null,23,null,null,null,null,null,null,0,null,null,23,null,null,null,null,null,null,0,null,null,23,null,null,null,null,null,null,0,null,null,23,null,null,null,null,null,null,0,null,null,23,null,null,null,null,null,null,0,null,null,23,null,null,null,null,null,null,0,null,null,23,null,null,null,null,null,null,0,null,null,23,null,null,null,null,null,null,0,null,null,23,null,null,null,null,null,null,0,null,null,23,null,null,null,null,null,null,0,null,null,23,null,null,null,null,null,null,0,null,null,23,null,null,null,null,null,null,0,null,null,23,null,null,null,null,null,null,0,null,null,23,null,null,null,null,null,null,0,null,null,23,null,null,null,null,null,null,0,null,null,23,null,null,null,null,null,null,0,null,null,23,null,null,null,null,null,null,0,null,null,23,null,null,null,null,null,null,0,null,null,23,null,null,null,null,null,null,0,null,null,23,null,null,null,null,null,null,0,null,null,23,null,null,null,null,null,null,0,null,null,23,null,null,null,null,null,null,0,null,null,23,null,null,null,null,null,null,0,null,null,23,null,null,null,null,null,null,0,null,null,23,null,null,null,null,null,null,0,null,null,23,null,null,null,null,null,null,null,null,null,23,null,null,null,null,null,null,0,null,null,23,null,null,null,null,null,null,0,null,null,23,null,null,null,null,null,null,0,null,null,23,null,null,null,null,null,null,0,null,null,23,null,null,null,null,null,null,0,null,null,23,null,null,null,null,null,null,0,null,null,23,null,null,null,null,null,null,0,null,null,23,null,null,null,null,null,null,0,null,null,23,null,null,null,null,null,null,0,null,null,23,null,null,null,null,null,null,0,null,null,23,null,null,null,null,null,null,0,null,null,23,null,null,null,null,null,null,0,null,null,23,null,null,null,null,null,null,0,null,null,23,null,null,null,null,null,null,0,null,null,23,null,null,null,null,null,null,0,null,null,23,null,null,null,null,null,null,0,null,null,23,null,null,null,null,null,null,0,null,null,23,null,null,null,null,null,null,0,null,null,23,null,null,null,null,null,null,0,null,null,23,null,null,null,null,null,null,0,null,null,23,null,null,null,null,null,null,0,null,null,23,null,null,null,null,null,null,0,null,null,23,null,null,null,null,null,null,0,null,null,23,null,null,null,null,null,null,0,null,null,23,null,null,null,null,null,null,0,null,null,23,null,null,null,null,null,null,0,null,null,23,null,null,null,null,null,null,0,null,null,23,null,null,null,null,null,null,0,null,null,23,null,null,null,null,null,null,0,null,null,23,null,null,null,null,null,null,0,null,null,23,null,null,null,null,null,null,0,null,null,23,null,null,null,null,null,null,0,null,null,23,null,null,null,null,null,null,0,null,null,23,null,null,null,null,null,null,0,null,null,23,null,null,null,null,null,null,0,null,null,23,null,null,null,null,null,null,0,null,null,23,null,null,null,null,null,null,0,null,null,23,null,null,null,null,null,null,0,null,null,23,null,null,null,null,null,null,0,null,null,23,null,null,null,null,null,null,0,null,null,23,null,null,null,null,null,null,0,null,null,23,null,null,null,null,null,null,0,null,null,23,null,null,null,null,null,null,0,null,null,23,null,null,null,null,null,null,0,null,null,23,null,null,null,null,null,null,0,null,null,23,null,null,null,null,null,null,0,null,null,23,null,null,null,null,null,null,0,null,null,23,null,null,null,null,null,null,0,null,null,23,null,null,null,null,null,null,0,null,null,23,null,null,null,null,null,null,0,null,null,23,null,null,null,null,null,null,0,null,null,23,null,null,null,null,null,null,0,null,null,23,null,null,null,null,null,null,0,null,null,23,null,null,null,null,null,null,0,null,null,23,null,null,null,null,null,null,0,null,null,23,null,null,null,null,null,null,0,null,null,23,null,null,null,null,null,null,0,null,null,23,null,null,null,null,null,null,0,null,null,23,null,null,null,null,null,null,0,null,null,23,null,null,null,null,null,null,0,null,null,23,null,null,null,null,null,null,0,null,null,23,null,null,null,null,null,null,0,null,null,23,null,null,null,null,null,null,0,null,null,23,null,null,null,null,null,null,0,null,null,23,null,null,null,null,null,null,0,null,null,23,null,null,null,null,null,null,0,null,null,23,null,null,null,null,null,null,0,null,null,23,null,null,null,null,null,null,0,null,null,23,null,null,null,null,null,null,0,null,null,23,null,null,null,null,null,null,0,null,null,23,null,null,null,null,null,null,0,null,null,23,null,null,null,null,null,null,0]
[null,24,null,null,null,null,null,null,0,null,null,24,null,null,null,null,null,null,0,null,null,24,null,null,null,null,null,null,0,null,null,24,null,null,null,null,null,null,0,null,null,24,null,null,null,null,null,null,0,null,null,24,null,null,null,null,null,null,0,null,null,24,null,null,null,null,null,null,0,null,null,24,null,null,null,null,null,null,0,null,null,24,null,null,null,null,null,null,0,null,null,24,null,null,null,null,null,null,0,null,null,24,null,null,null,null,null,null,0,null,null,24,null,null,null,null,null,null,0,null,null,24,null,null,null,null,null,null,0,null,null,24,null,null,null,null,null,null,0,null,null,24,null,null,null,null,null,null,0,null,null,24,null,null,null,null,null,null,0,null,null,24,null,null,null,null,null,null,0,null,null,24,null,null,null,null,null,null,0,null,null,24,null,null,null,null,null,null,0,null,null,24,null,null,null,null,null,null,0,null,null,24,null,null,null,null,null,null,0,null,null,24,null,null,null,null,null,null,0,null,null,24,null,null,null,null,null,null,0,null,null,24,null,null,null,null,null,null,0,null,null,24,null,null,null,null,null,null,0,null,null,24,null,null,null,null,null,null,0,null,null,24,null,null,null,null,null,null,0,null,null,24,null,null,null,null,null,null,null,null,null,24,null,null,null,null,null,null,0,null,null,24,null,null,null,null,null,null,0,null,null,24,null,null,null,null,null,null,0,null,null,24,null,null,null,null,null,null,0,null,null,24,null,null,null,null,null,null,0,null,null,24,null,null,null,null,null,null,0,null,null,24,null,null,null,null,null,null,0,null,null,24,null,null,null,null,null,null,0,null,null,24,null,null,null,null,null,null,0,null,null,24,null,null,null,null,null,null,0,null,null,24,null,null,null,null,null,null,0,null,null,24,null,null,null,null,null,null,0,null,null,24,null,null,null,null,null,null,0,null,null,24,null,null,null,null,null,null,0,null,null,24,null,null,null,null,null,null,0,null,null,24,null,null,null,null,null,null,0,null,null,24,null,null,null,null,null,null,0,null,null,24,null,null,null,null,null,null,0,null,null,24,null,null,null,null,null,null,0,null,null,24,null,null,null,null,null,null,0,null,null,24,null,null,null,null,null,null,0,null,null,24,null,null,null,null,null,null,0,null,null,24,null,null,null,null,null,null,0,null,null,24,null,null,null,null,null,null,0,null,null,24,null,null,null,null,null,null,0,null,null,24,null,null,null,null,null,null,0,null,null,24,null,null,null,null,null,null,0,null,null,24,null,null,null,null,null,null,0,null,null,24,null,null,null,null,null,null,0,null,null,24,null,null,null,null,null,null,0,null,null,24,null,null,null,null,null,null,0,null,null,24,null,null,null,null,null,null,0,null,null,24,null,null,null,null,null,null,0,null,null,24,null,null,null,null,null,null,0,null,null,24,null,null,null,null,null,null,0,null,null,24,null,null,null,null,null,null,0,null,null,24,null,null,null,null,null,null,0,null,null,24,null,null,null,null,null,null,0,null,null,24,null,null,null,null,null,null,0,null,null,24,null,null,null,null,null,null,0,null,null,24,null,null,null,null,null,null,0,null,null,24,null,null,null,null,null,null,0,null,null,24,null,null,null,null,null,null,0,null,null,24,null,null,null,null,null,null,0,null,null,24,null,null,null,null,null,null,0,null,null,24,null,null,null,null,null,null,0,null,null,24,null,null,null,null,null,null,0,null,null,24,null,null,null,null,null,null,0,null,null,24,null,null,null,null,null,null,0,null,null,24,null,null,null,null,null,null,0,null,null,24,null,null,null,null,null,null,0,null,null,24,null,null,null,null,null,null,0,null,null,24,null,null,null,null,null,null,0,null,null,24,null,null,null,null,null,null,0,null,null,24,null,null,null,null,null,null,0,null,null,24,null,null,null,null,null,null,0,null,null,24,null,null,null,null,null,null,0,null,null,24,null,null,null,null,null,null,0,null,null,24,null,null,null,null,null,null,0,null,null,24,null,null,null,null,null,null,0,null,null,24,null,null,null,null,null,null,0,null,null,24,null,null,null,null,null,null,0,null,null,24,null,null,null,null,null,null,0,null,null,24,null,null,null,null,null,null,0,null,null,24,null,null,null,null,null,null,0,null,null,24,null,null,null,null,null,null,0,null,null,24,null,null,null,null,null,null,0,null,null,24,null,null,null,null,null,null,0,null,null,24,null,null,null,null,null,null,0,null,null,24,null,null,null,null,null,null,0,null,null,24,null,null,null,null,null,null,0,null,null,24,null,null,null,null,null,null,0]
[null,28,null,null,null,null,null,null,0,null,null,28,null,null,null,null,null,null,0,null,null,28,null,null,null,null,null,null,0,null,null,28,null,null,null,null,null,null,0,null,null,28,null,null,null,null,null,null,0,null,null,28,null,null,null,null,null,null,0,null,null,28,null,null,null,null,null,null,0,null,null,28,null,null,null,null,null,null,0,null,null,28,null,null,null,null,null,null,0,null,null,28,null,null,null,null,null,null,0,null,null,28,null,null,null,null,null,null,0,null,null,28,null,null,null,null,null,null,0,null,null,28,null,null,null,null,null,null,0,null,null,28,null,null,null,null,null,null,0,null,null,28,null,null,null,null,null,null,0,null,null,28,null,null,null,null,null,null,0,null,null,28,null,null,null,null,null,null,0,null,null,28,null,null,null,null,null,null,0,null,null,28,null,null,null,null,null,null,0,null,null,28,null,null,null,null,null,null,0,null,null,28,null,null,null,null,null,null,0,null,null,28,null,null,null,null,null,null,0,null,null,28,null,null,null,null,null,null,0,null,null,28,null,null,null,null,null,null,0,null,null,28,null,null,null,null,null,null,0,null,null,28,null,null,null,null,null,null,0,null,null,28,null,null,null,null,null,null,0,null,null,28,null,null,null,null,null,null,null,null,null,28,null,null,null,null,null,null,0,null,null,28,null,null,null,null,null,null,0,null,null,28,null,null,null,null,null,null,0,null,null,28,null,null,null,null,null,null,0,null,null,28,null,null,null,null,null,null,0,null,null,28,null,null,null,null,null,null,0,null,null,28,null,null,null,null,null,null,0,null,null,28,null,null,null,null,null,null,0,null,null,28,null,null,null,null,null,null,0,null,null,28,null,null,null,null,null,null,0,null,null,28,null,null,null,null,null,null,0,null,null,28,null,null,null,null,null,null,0,null,null,28,null,null,null,null,null,null,0,null,null,28,null,null,null,null,null,null,0,null,null,28,null,null,null,null,null,null,0,null,null,28,null,null,null,null,null,null,0,null,null,28,null,null,null,null,null,null,0,null,null,28,null,null,null,null,null,null,0,null,null,28,null,null,null,null,null,null,0,null,null,28,null,null,null,null,null,null,0,null,null,28,null,null,null,null,null,null,0,null,null,28,null,null,null,null,null,null,0,null,null,28,null,null,null,null,null,null,0,null,null,28,null,null,null,null,null,null,0,null,null,28,null,null,null,null,null,null,0,null,null,28,null,null,null,null,null,null,0,null,null,28,null,null,null,null,null,null,0,null,null,28,null,null,null,null,null,null,0,null,null,28,null,null,null,null,null,null,0,null,null,28,null,null,null,null,null,null,0,null,null,28,null,null,null,null,null,null,0,null,null,28,null,null,null,null,null,null,0,null,null,28,null,null,null,null,null,null,0,null,null,28,null,null,null,null,null,null,0,null,null,28,null,null,null,null,null,null,0,null,null,28,null,null,null,null,null,null,0,null,null,28,null,null,null,null,null,null,0,null,null,28,null,null,null,null,null,null,0,null,null,28,null,null,null,null,null,null,0,null,null,28,null,null,null,null,null,null,0,null,null,28,null,null,null,null,null,null,0,null,null,28,null,null,null,null,null,null,0,null,null,28,null,null,null,null,null,null,0,null,null,28,null,null,null,null,null,null,0,null,null,28,null,null,null,null,null,null,0,null,null,28,null,null,null,null,null,null,0,null,null,28,null,null,null,null,null,null,0,null,null,28,null,null,null,null,null,null,0,null,null,28,null,null,null,null,null,null,0,null,null,28,null,null,null,null,null,null,0,null,null,28,null,null,null,null,null,null,0,null,null,28,null,null,null,null,null,null,0,null,null,28,null,null,null,null,null,null,0,null,null,28,null,null,null,null,null,null,0,null,null,28,null,null,null,null,null,null,0,null,null,28,null,null,null,null,null,null,0,null,null,28,null,null,null,null,null,null,0,null,null,28,null,null,null,null,null,null,0,null,null,28,null,null,null,null,null,null,0,null,null,28,null,null,null,null,null,null,0,null,null,28,null,null,null,null,null,null,0,null,null,28,null,null,null,null,null,null,0,null,null,28,null,null,null,null,null,null,0,null,null,28,null,null,null,null,null,null,0,null,null,28,null,null,null,null,null,null,0,null,null,28,null,null,null,null,null,null,0,null,null,28,null,null,null,null,null,null,0,null,null,28,null,null,null,null,null,null,0,null,null,28,null,null,null,null,null,null,0,null,null,28,null,null,null,null,null,null,0,null,null,28,null,null,null,null,null,null,0,null,null,28,null,null,null,null,null,null,0]
[null,52,null,null,null,null,null,null,0,null,null,52,null,null,null,null,null,null,0,null,null,52,null,null,null,null,null,null,0,null,null,52,null,null,null,null,null,null,0,null,null,52,null,null,null,null,null,null,0,null,null,52,null,null,null,null,null,null,0,null,null,52,null,null,null,null,null,null,0,null,null,52,null,null,null,null,null,null,0,null,null,52,null,null,null,null,null,null,0,null,null,52,null,null,null,null,null,null,0,null,null,52,null,null,null,null,null,null,0,null,null,52,null,null,null,null,null,null,0,null,null,52,null,null,null,null,null,null,0,null,null,52,null,null,null,null,null,null,0,null,null,52,null,null,null,null,null,null,0,null,null,52,null,null,null,null,null,null,0,null,null,52,null,null,null,null,null,null,0,null,null,52,null,null,null,null,null,null,0,null,null,52,null,null,null,null,null,null,0,null,null,52,null,null,null,null,null,null,0,null,null,52,null,null,null,null,null,null,0,null,null,52,null,null,null,null,null,null,0,null,null,52,null,null,null,null,null,null,0,null,null,52,null,null,null,null,null,null,0,null,null,52,null,null,null,null,null,null,0,null,null,52,null,null,null,null,null,null,0,null,null,52,null,null,null,null,null,null,0,null,null,52,null,null,null,null,null,null,null,null,null,52,null,null,null,null,null,null,0,null,null,52,null,null,null,null,null,null,0,null,null,52,null,null,null,null,null,null,0,null,null,52,null,null,null,null,null,null,0,null,null,52,null,null,null,null,null,null,0,null,null,52,null,null,null,null,null,null,0,null,null,52,null,null,null,null,null,null,0,null,null,52,null,null,null,null,null,null,0,null,null,52,null,null,null,null,null,null,0,null,null,52,null,null,null,null,null,null,0,null,null,52,null,null,null,null,null,null,0,null,null,52,null,null,null,null,null,null,0,null,null,52,null,null,null,null,null,null,0,null,null,52,null,null,null,null,null,null,0,null,null,52,null,null,null,null,null,null,0,null,null,52,null,null,null,null,null,null,0,null,null,52,null,null,null,null,null,null,0,null,null,52,null,null,null,null,null,null,0,null,null,52,null,null,null,null,null,null,0,null,null,52,null,null,null,null,null,null,0,null,null,52,null,null,null,null,null,null,0,null,null,52,null,null,null,null,null,null,0,null,null,52,null,null,null,null,null,null,0,null,null,52,null,null,null,null,null,null,0,null,null,52,null,null,null,null,null,null,0,null,null,52,null,null,null,null,null,null,0,null,null,52,null,null,null,null,null,null,0,null,null,52,null,null,null,null,null,null,0,null,null,52,null,null,null,null,null,null,0,null,null,52,null,null,null,null,null,null,0,null,null,52,null,null,null,null,null,null,0,null,null,52,null,null,null,null,null,null,0,null,null,52,null,null,null,null,null,null,0,null,null,52,null,null,null,null,null,null,0,null,null,52,null,null,null,null,null,null,0,null,null,52,null,null,null,null,null,null,0,null,null,52,null,null,null,null,null,null,0,null,null,52,null,null,null,null,null,null,0,null,null,52,null,null,null,null,null,null,0,null,null,52,null,null,null,null,null,null,0,null,null,52,null,null,null,null,null,null,0,null,null,52,null,null,null,null,null,null,0,null,null,52,null,null,null,null,null,null,0,null,null,52,null,null,null,null,null,null,0,null,null,52,null,null,null,null,null,null,0,null,null,52,null,null,null,null,null,null,0,null,null,52,null,null,null,null,null,null,0,null,null,52,null,null,null,null,null,null,0,null,null,52,null,null,null,null,null,null,0,null,null,52,null,null,null,null,null,null,0,null,null,52,null,null,null,null,null,null,0,null,null,52,null,null,null,null,null,null,0,null,null,52,null,null,null,null,null,null,0,null,null,52,null,null,null,null,null,null,0,null,null,52,null,null,null,null,null,null,0,null,null,52,null,null,null,null,null,null,0,null,null,52,null,null,null,null,null,null,0,null,null,52,null,null,null,null,null,null,0,null,null,52,null,null,null,null,null,null,0,null,null,52,null,null,null,null,null,null,0,null,null,52,null,null,null,null,null,null,0,null,null,52,null,null,null,null,null,null,0,null,null,52,null,null,null,null,null,null,0,null,null,52,null,null,null,null,null,null,0,null,null,52,null,null,null,null,null,null,0,null,null,52,null,null,null,null,null,null,0,null,null,52,null,null,null,null,null,null,0,null,null,52,null,null,null,null,null,null,0,null,null,52,null,null,null,null,null,null,0,null,null,52,null,null,null,null,null,null,0,null,null,52,null,null,null,null,null,null,0,null,null,52,null,null,null,null,null,null,0]
[null,74,null,null,null,null,null,null,0,null,null,74,null,null,null,null,null,null,0,null,null,74,null,null,null,null,null,null,0,null,null,74,null,null,null,null,null,null,0,null,null,74,null,null,null,null,null,null,0,null,null,74,null,null,null,null,null,null,0,null,null,74,null,null,null,null,null,null,0,null,null,74,null,null,null,null,null,null,0,null,null,74,null,null,null,null,null,null,0,null,null,74,null,null,null,null,null,null,0,null,null,74,null,null,null,null,null,null,0,null,null,74,null,null,null,null,null,null,0,null,null,74,null,null,null,null,null,null,0,null,null,74,null,null,null,null,null,null,0,null,null,74,null,null,null,null,null,null,0,null,null,74,null,null,null,null,null,null,0,null,null,74,null,null,null,null,null,null,0,null,null,74,null,null,null,null,null,null,0,null,null,74,null,null,null,null,null,null,0,null,null,74,null,null,null,null,null,null,0,null,null,74,null,null,null,null,null,null,0,null,null,74,null,null,null,null,null,null,0,null,null,74,null,null,null,null,null,null,0,null,null,74,null,null,null,null,null,null,0,null,null,74,null,null,null,null,null,null,0,null,null,74,null,null,null,null,null,null,0,null,null,74,null,null,null,null,null,null,0,null,null,74,null,null,null,null,null,null,null,null,null,74,null,null,null,null,null,null,0,null,null,74,null,null,null,null,null,null,0,null,null,74,null,null,null,null,null,null,0,null,null,74,null,null,null,null,null,null,0,null,null,74,null,null,null,null,null,null,0,null,null,74,null,null,null,null,null,null,0,null,null,74,null,null,null,null,null,null,0,null,null,74,null,null,null,null,null,null,0,null,null,74,null,null,null,null,null,null,0,null,null,74,null,null,null,null,null,null,0,null,null,74,null,null,null,null,null,null,0,null,null,74,null,null,null,null,null,null,0,null,null,74,null,null,null,null,null,null,0,null,null,74,null,null,null,null,null,null,0,null,null,74,null,null,null,null,null,null,0,null,null,74,null,null,null,null,null,null,0,null,null,74,null,null,null,null,null,null,0,null,null,74,null,null,null,null,null,null,0,null,null,74,null,null,null,null,null,null,0,null,null,74,null,null,null,null,null,null,0,null,null,74,null,null,null,null,null,null,0,null,null,74,null,null,null,null,null,null,0,null,null,74,null,null,null,null,null,null,0,null,null,74,null,null,null,null,null,null,0,null,null,74,null,null,null,null,null,null,0,null,null,74,null,null,null,null,null,null,0,null,null,74,null,null,null,null,null,null,0,null,null,74,null,null,null,null,null,null,0,null,null,74,null,null,null,null,null,null,0,null,null,74,null,null,null,null,null,null,0,null,null,74,null,null,null,null,null,null,0,null,null,74,null,null,null,null,null,null,0,null,null,74,null,null,null,null,null,null,0,null,null,74,null,null,null,null,null,null,0,null,null,74,null,null,null,null,null,null,0,null,null,74,null,null,null,null,null,null,0,null,null,74,null,null,null,null,null,null,0,null,null,74,null,null,null,null,null,null,0,null,null,74,null,null,null,null,null,null,0,null,null,74,null,null,null,null,null,null,0,null,null,74,null,null,null,null,null,null,0,null,null,74,null,null,null,null,null,null,0,null,null,74,null,null,null,null,null,null,0,null,null,74,null,null,null,null,null,null,0,null,null,74,null,null,null,null,null,null,0,null,null,74,null,null,null,null,null,null,0,null,null,74,null,null,null,null,null,null,0,null,null,74,null,null,null,null,null,null,0,null,null,74,null,null,null,null,null,null,0,null,null,74,null,null,null,null,null,null,0,null,null,74,null,null,null,null,null,null,0,null,null,74,null,null,null,null,null,null,0,null,null,74,null,null,null,null,null,null,0,null,null,74,null,null,null,null,null,null,0,null,null,74,null,null,null,null,null,null,0,null,null,74,null,null,null,null,null,null,0,null,null,74,null,null,null,null,null,null,0,null,null,74,null,null,null,null,null,null,0,null,null,74,null,null,null,null,null,null,0,null,null,74,null,null,null,null,null,null,0,null,null,74,null,null,null,null,null,null,0,null,null,74,null,null,null,null,null,null,0,null,null,74,null,null,null,null,null,null,0,null,null,74,null,null,null,null,null,null,0,null,null,74,null,null,null,null,null,null,0,null,null,74,null,null,null,null,null,null,0,null,null,74,null,null,null,null,null,null,0,null,null,74,null,null,null,null,null,null,0,null,null,74,null,null,null,null,null,null,0,null,null,74,null,null,null,null,null,null,0,null,null,74,null,null,null,null,null,null,0,null,null,74,null,null,null,null,null,null,0]
[null,108,null,null,null,null,null,null,0,null,null,108,null,null,null,null,null,null,0,null,null,108,null,null,null,null,null,null,0,null,null,108,null,null,null,null,null,null,0,null,null,108,null,null,null,null,null,null,0,null,null,108,null,null,null,null,null,null,0,null,null,108,null,null,null,null,null,null,0,null,null,108,null,null,null,null,null,null,0,null,null,108,null,null,null,null,null,null,0,null,null,108,null,null,null,null,null,null,0,null,null,108,null,null,null,null,null,null,0,null,null,108,null,null,null,null,null,null,0,null,null,108,null,null,null,null,null,null,0,null,null,108,null,null,null,null,null,null,0,null,null,108,null,null,null,null,null,null,0,null,null,108,null,null,null,null,null,null,0,null,null,108,null,null,null,null,null,null,0,null,null,108,null,null,null,null,null,null,0,null,null,108,null,null,null,null,null,null,0,null,null,108,null,null,null,null,null,null,0,null,null,108,null,null,null,null,null,null,0,null,null,108,null,null,null,null,null,null,0,null,null,108,null,null,null,null,null,null,0,null,null,108,null,null,null,null,null,null,0,null,null,108,null,null,null,null,null,null,0,null,null,108,null,null,null,null,null,null,0,null,null,108,null,null,null,null,null,null,0,null,null,108,null,null,null,null,null,null,null,null,null,108,null,null,null,null,null,null,0,null,null,108,null,null,null,null,null,null,0,null,null,108,null,null,null,null,null,null,0,null,null,108,null,null,null,null,null,null,0,null,null,108,null,null,null,null,null,null,0,null,null,108,null,null,null,null,null,null,0,null,null,108,null,null,null,null,null,null,0,null,null,108,null,null,null,null,null,null,0,null,null,108,null,null,null,null,null,null,0,null,null,108,null,null,null,null,null,null,0,null,null,108,null,null,null,null,null,null,0,null,null,108,null,null,null,null,null,null,0,null,null,108,null,null,null,null,null,null,0,null,null,108,null,null,null,null,null,null,0,null,null,108,null,null,null,null,null,null,0,null,null,108,null,null,null,null,null,null,0,null,null,108,null,null,null,null,null,null,0,null,null,108,null,null,null,null,null,null,0,null,null,108,null,null,null,null,null,null,0,null,null,108,null,null,null,null,null,null,0,null,null,108,null,null,null,null,null,null,0,null,null,108,null,null,null,null,null,null,0,null,null,108,null,null,null,null,null,null,0,null,null,108,null,null,null,null,null,null,0,null,null,108,null,null,null,null,null,null,0,null,null,108,null,null,null,null,null,null,0,null,null,108,null,null,null,null,null,null,0,null,null,108,null,null,null,null,null,null,0,null,null,108,null,null,null,null,null,null,0,null,null,108,null,null,null,null,null,null,0,null,null,108,null,null,null,null,null,null,0,null,null,108,null,null,null,null,null,null,0,null,null,108,null,null,null,null,null,null,0,null,null,108,null,null,null,null,null,null,0,null,null,108,null,null,null,null,null,null,0,null,null,108,null,null,null,null,null,null,0,null,null,108,null,null,null,null,null,null,0,null,null,108,null,null,null,null,null,null,0,null,null,108,null,null,null,null,null,null,0,null,null,108,null,null,null,null,null,null,0,null,null,108,null,null,null,null,null,null,0,null,null,108,null,null,null,null,null,null,0,null,null,108,null,null,null,null,null,null,0,null,null,108,null,null,null,null,null,null,0,null,null,108,null,null,null,null,null,null,0,null,null,108,null,null,null,null,null,null,0,null,null,108,null,null,null,null,null,null,0,null,null,108,null,null,null,null,null,null,0,null,null,108,null,null,null,null,null,null,0,null,null,108,null,null,null,null,null,null,0,null,null,108,null,null,null,null,null,null,0,null,null,108,null,null,null,null,null,null,0,null,null,108,null,null,null,null,null,null,0,null,null,108,null,null,null,null,null,null,0,null,null,108,null,null,null,null,null,null,0,null,null,108,null,null,null,null,null,null,0,null,null,108,null,null,null,null,null,null,0,null,null,108,null,null,null,null,null,null,0,null,null,108,null,null,null,null,null,null,0,null,null,108,null,null,null,null,null,null,0,null,null,108,null,null,null,null,null,null,0,null,null,108,null,null,null,null,null,null,0,null,null,108,null,null,null,null,null,null,0,null,null,108,null,null,null,null,null,null,0,null,null,108,null,null,null,null,null,null,0,null,null,108,null,null,null,null,null,null,0,null,null,108,null,null,null,null,null,null,0,null,null,108,null,null,null,null,null,null,0,null,null,108,null,null,null,null,null,null,0,null,null,108,null,null,null,null,null,null,0,null,null,108,null,null,null,null,null,null,0,null,null,108,null,null,null,null,null,null,0]
[null,130,null,null,null,null,null,null,0,null,null,130,null,null,null,null,null,null,0,null,null,130,null,null,null,null,null,null,0,null,null,130,null,null,null,null,null,null,0,null,null,130,null,null,null,null,null,null,0,null,null,130,null,null,null,null,null,null,0,null,null,130,null,null,null,null,null,null,0,null,null,130,null,null,null,null,null,null,0,null,null,130,null,null,null,null,null,null,0,null,null,130,null,null,null,null,null,null,0,null,null,130,null,null,null,null,null,null,0,null,null,130,null,null,null,null,null,null,0,null,null,130,null,null,null,null,null,null,0,null,null,130,null,null,null,null,null,null,0,null,null,130,null,null,null,null,null,null,0,null,null,130,null,null,null,null,null,null,0,null,null,130,null,null,null,null,null,null,0,null,null,130,null,null,null,null,null,null,0,null,null,130,null,null,null,null,null,null,0,null,null,130,null,null,null,null,null,null,0,null,null,130,null,null,null,null,null,null,0,null,null,130,null,null,null,null,null,null,0,null,null,130,null,null,null,null,null,null,0,null,null,130,null,null,null,null,null,null,0,null,null,130,null,null,null,null,null,null,0,null,null,130,null,null,null,null,null,null,0,null,null,130,null,null,null,null,null,null,0,null,null,130,null,null,null,null,null,null,null,null,null,130,null,null,null,null,null,null,0,null,null,130,null,null,null,null,null,null,0,null,null,130,null,null,null,null,null,null,0,null,null,130,null,null,null,null,null,null,0,null,null,130,null,null,null,null,null,null,0,null,null,130,null,null,null,null,null,null,0,null,null,130,null,null,null,null,null,null,0,null,null,130,null,null,null,null,null,null,0,null,null,130,null,null,null,null,null,null,0,null,null,130,null,null,null,null,null,null,0,null,null,130,null,null,null,null,null,null,0,null,null,130,null,null,null,null,null,null,0,null,null,130,null,null,null,null,null,null,0,null,null,130,null,null,null,null,null,null,0,null,null,130,null,null,null,null,null,null,0,null,null,130,null,null,null,null,null,null,0,null,null,130,null,null,null,null,null,null,0,null,null,130,null,null,null,null,null,null,0,null,null,130,null,null,null,null,null,null,0,null,null,130,null,null,null,null,null,null,0,null,null,130,null,null,null,null,null,null,0,null,null,130,null,null,null,null,null,null,0,null,null,130,null,null,null,null,null,null,0,null,null,130,null,null,null,null,null,null,0,null,null,130,null,null,null,null,null,null,0,null,null,130,null,null,null,null,null,null,0,null,null,130,null,null,null,null,null,null,0,null,null,130,null,null,null,null,null,null,0,null,null,130,null,null,null,null,null,null,0,null,null,130,null,null,null,null,null,null,0,null,null,130,null,null,null,null,null,null,0,null,null,130,null,null,null,null,null,null,0,null,null,130,null,null,null,null,null,null,0,null,null,130,null,null,null,null,null,null,0,null,null,130,null,null,null,null,null,null,0,null,null,130,null,null,null,null,null,null,0,null,null,130,null,null,null,null,null,null,0,null,null,130,null,null,null,null,null,null,0,null,null,130,null,null,null,null,null,null,0,null,null,130,null,null,null,null,null,null,0,null,null,130,null,null,null,null,null,null,0,null,null,130,null,null,null,null,null,null,0,null,null,130,null,null,null,null,null,null,0,null,null,130,null,null,null,null,null,null,0,null,null,130,null,null,null,null,null,null,0,null,null,130,null,null,null,null,null,null,0,null,null,130,null,null,null,null,null,null,0,null,null,130,null,null,null,null,null,null,0,null,null,130,null,null,null,null,null,null,0,null,null,130,null,null,null,null,null,null,0,null,null,130,null,null,null,null,null,null,0,null,null,130,null,null,null,null,null,null,0,null,null,130,null,null,null,null,null,null,0,null,null,130,null,null,null,null,null,null,0,null,null,130,null,null,null,null,null,null,0,null,null,130,null,null,null,null,null,null,0,null,null,130,null,null,null,null,null,null,0,null,null,130,null,null,null,null,null,null,0,null,null,130,null,null,null,null,null,null,0,null,null,130,null,null,null,null,null,null,0,null,null,130,null,null,null,null,null,null,0,null,null,130,null,null,null,null,null,null,0,null,null,130,null,null,null,null,null,null,0,null,null,130,null,null,null,null,null,null,0,null,null,130,null,null,null,null,null,null,0,null,null,130,null,null,null,null,null,null,0,null,null,130,null,null,null,null,null,null,0,null,null,130,null,null,null,null,null,null,0,null,null,130,null,null,null,null,null,null,0,null,null,130,null,null,null,null,null,null,0,null,null,130,null,null,null,null,null,null,0,null,null,130,null,null,null,null,null,null,0]
[null,152,null,null,null,null,null,null,0,null,null,152,null,null,null,null,null,null,0,null,null,152,null,null,null,null,null,null,0,null,null,152,null,null,null,null,null,null,0,null,null,152,null,null,null,null,null,null,0,null,null,152,null,null,null,null,null,null,0,null,null,152,null,null,null,null,null,null,0,null,null,152,null,null,null,null,null,null,0,null,null,152,null,null,null,null,null,null,0,null,null,152,null,null,null,null,null,null,0,null,null,152,null,null,null,null,null,null,0,null,null,152,null,null,null,null,null,null,0,null,null,152,null,null,null,null,null,null,0,null,null,152,null,null,null,null,null,null,0,null,null,152,null,null,null,null,null,null,0,null,null,152,null,null,null,null,null,null,0,null,null,152,null,null,null,null,null,null,0,null,null,152,null,null,null,null,null,null,0,null,null,152,null,null,null,null,null,null,0,null,null,152,null,null,null,null,null,null,0,null,null,152,null,null,null,null,null,null,0,null,null,152,null,null,null,null,null,null,0,null,null,152,null,null,null,null,null,null,0,null,null,152,null,null,null,null,null,null,0,null,null,152,null,null,null,null,null,null,0,null,null,152,null,null,null,null,null,null,0,null,null,152,null,null,null,null,null,null,0,null,null,152,null,null,null,null,null,null,null,null,null,152,null,null,null,null,null,null,0,null,null,152,null,null,null,null,null,null,0,null,null,152,null,null,null,null,null,null,0,null,null,152,null,null,null,null,null,null,0,null,null,152,null,null,null,null,null,null,0,null,null,152,null,null,null,null,null,null,0,null,null,152,null,null,null,null,null,null,0,null,null,152,null,null,null,null,null,null,0,null,null,152,null,null,null,null,null,null,0,null,null,152,null,null,null,null,null,null,0,null,null,152,null,null,null,null,null,null,0,null,null,152,null,null,null,null,null,null,0,null,null,152,null,null,null,null,null,null,0,null,null,152,null,null,null,null,null,null,0,null,null,152,null,null,null,null,null,null,0,null,null,152,null,null,null,null,null,null,0,null,null,152,null,null,null,null,null,null,0,null,null,152,null,null,null,null,null,null,0,null,null,152,null,null,null,null,null,null,0,null,null,152,null,null,null,null,null,null,0,null,null,152,null,null,null,null,null,null,0,null,null,152,null,null,null,null,null,null,0,null,null,152,null,null,null,null,null,null,0,null,null,152,null,null,null,null,null,null,0,null,null,152,null,null,null,null,null,null,0,null,null,152,null,null,null,null,null,null,0,null,null,152,null,null,null,null,null,null,0,null,null,152,null,null,null,null,null,null,0,null,null,152,null,null,null,null,null,null,0,null,null,152,null,null,null,null,null,null,0,null,null,152,null,null,null,null,null,null,0,null,null,152,null,null,null,null,null,null,0,null,null,152,null,null,null,null,null,null,0,null,null,152,null,null,null,null,null,null,0,null,null,152,null,null,null,null,null,null,0,null,null,152,null,null,null,null,null,null,0,null,null,152,null,null,null,null,null,null,0,null,null,152,null,null,null,null,null,null,0,null,null,152,null,null,null,null,null,null,0,null,null,152,null,null,null,null,null,null,0,null,null,152,null,null,null,null,null,null,0,null,null,152,null,null,null,null,null,null,0,null,null,152,null,null,null,null,null,null,0,null,null,152,null,null,null,null,null,null,0,null,null,152,null,null,null,null,null,null,0,null,null,152,null,null,null,null,null,null,0,null,null,152,null,null,null,null,null,null,0,null,null,152,null,null,null,null,null,null,0,null,null,152,null,null,null,null,null,null,0,null,null,152,null,null,null,null,null,null,0,null,null,152,null,null,null,null,null,null,0,null,null,152,null,null,null,null,null,null,0,null,null,152,null,null,null,null,null,null,0,null,null,152,null,null,null,null,null,null,0,null,null,152,null,null,null,null,null,null,0,null,null,152,null,null,null,null,null,null,0,null,null,152,null,null,null,null,null,null,0,null,null,152,null,null,null,null,null,null,0,null,null,152,null,null,null,null,null,null,0,null,null,152,null,null,null,null,null,null,0,null,null,152,null,null,null,null,null,null,0,null,null,152,null,null,null,null,null,null,0,null,null,152,null,null,null,null,null,null,0,null,null,152,null,null,null,null,null,null,0,null,null,152,null,null,null,null,null,null,0,null,null,152,null,null,null,null,null,null,0,null,null,152,null,null,null,null,null,null,0,null,null,152,null,null,null,null,null,null,0,null,null,152,null,null,null,null,null,null,0,null,null,152,null,null,null,null,null,null,0,null,null,152,null,null,null,null,null,null,0,null,null,152,null,null,null,null,null,null,0]
[null,163,null,null,null,null,null,null,0,null,null,163,null,null,null,null,null,null,0,null,null,163,null,null,null,null,null,null,0,null,null,163,null,null,null,null,null,null,0,null,null,163,null,null,null,null,null,null,0,null,null,163,null,null,null,null,null,null,0,null,null,163,null,null,null,null,null,null,0,null,null,163,null,null,null,null,null,null,0,null,null,163,null,null,null,null,null,null,0,null,null,163,null,null,null,null,null,null,0,null,null,163,null,null,null,null,null,null,0,null,null,163,null,null,null,null,null,null,0,null,null,163,null,null,null,null,null,null,0,null,null,163,null,null,null,null,null,null,0,null,null,163,null,null,null,null,null,null,0,null,null,163,null,null,null,null,null,null,0,null,null,163,null,null,null,null,null,null,0,null,null,163,null,null,null,null,null,null,0,null,null,163,null,null,null,null,null,null,0,null,null,163,null,null,null,null,null,null,0,null,null,163,null,null,null,null,null,null,0,null,null,163,null,null,null,null,null,null,0,null,null,163,null,null,null,null,null,null,0,null,null,163,null,null,null,null,null,null,0,null,null,163,null,null,null,null,null,null,0,null,null,163,null,null,null,null,null,null,0,null,null,163,null,null,null,null,null,null,0,null,null,163,null,null,null,null,null,null,null,null,null,163,null,null,null,null,null,null,0,null,null,163,null,null,null,null,null,null,0,null,null,163,null,null,null,null,null,null,0,null,null,163,null,null,null,null,null,null,0,null,null,163,null,null,null,null,null,null,0,null,null,163,null,null,null,null,null,null,0,null,null,163,null,null,null,null,null,null,0,null,null,163,null,null,null,null,null,null,0,null,null,163,null,null,null,null,null,null,0,null,null,163,null,null,null,null,null,null,0,null,null,163,null,null,null,null,null,null,0,null,null,163,null,null,null,null,null,null,0,null,null,163,null,null,null,null,null,null,0,null,null,163,null,null,null,null,null,null,0,null,null,163,null,null,null,null,null,null,0,null,null,163,null,null,null,null,null,null,0,null,null,163,null,null,null,null,null,null,0,null,null,163,null,null,null,null,null,null,0,null,null,163,null,null,null,null,null,null,0,null,null,163,null,null,null,null,null,null,0,null,null,163,null,null,null,null,null,null,0,null,null,163,null,null,null,null,null,null,0,null,null,163,null,null,null,null,null,null,0,null,null,163,null,null,null,null,null,null,0,null,null,163,null,null,null,null,null,null,0,null,null,163,null,null,null,null,null,null,0,null,null,163,null,null,null,null,null,null,0,null,null,163,null,null,null,null,null,null,0,null,null,163,null,null,null,null,null,null,0,null,null,163,null,null,null,null,null,null,0,null,null,163,null,null,null,null,null,null,0,null,null,163,null,null,null,null,null,null,0,null,null,163,null,null,null,null,null,null,0,null,null,163,null,null,null,null,null,null,0,null,null,163,null,null,null,null,null,null,0,null,null,163,null,null,null,null,null,null,0,null,null,163,null,null,null,null,null,null,0,null,null,163,null,null,null,null,null,null,0,null,null,163,null,null,null,null,null,null,0,null,null,163,null,null,null,null,null,null,0,null,null,163,null,null,null,null,null,null,0,null,null,163,null,null,null,null,null,null,0,null,null,163,null,null,null,null,null,null,0,null,null,163,null,null,null,null,null,null,0,null,null,163,null,null,null,null,null,null,0,null,null,163,null,null,null,null,null,null,0,null,null,163,null,null,null,null,null,null,0,null,null,163,null,null,null,null,null,null,0,null,null,163,null,null,null,null,null,null,0,null,null,163,null,null,null,null,null,null,0,null,null,163,null,null,null,null,null,null,0,null,null,163,null,null,null,null,null,null,0,null,null,163,null,null,null,null,null,null,0,null,null,163,null,null,null,null,null,null,0,null,null,163,null,null,null,null,null,null,0,null,null,163,null,null,null,null,null,null,0,null,null,163,null,null,null,null,null,null,0,null,null,163,null,null,null,null,null,null,0,null,null,163,null,null,null,null,null,null,0,null,null,163,null,null,null,null,null,null,0,null,null,163,null,null,null,null,null,null,0,null,null,163,null,null,null,null,null,null,0,null,null,163,null,null,null,null,null,null,0,null,null,163,null,null,null,null,null,null,0,null,null,163,null,null,null,null,null,null,0,null,null,163,null,null,null,null,null,null,0,null,null,163,null,null,null,null,null,null,0,null,null,163,null,null,null,null,null,null,0,null,null,163,null,null,null,null,null,null,0,null,null,163,null,null,null,null,null,null,0,null,null,163,null,null,null,null,null,null,0,null,null,163,null,null,null,null,null,null,0]
[null,187,null,null,null,null,null,null,0,null,null,187,null,null,null,null,null,null,0,null,null,187,null,null,null,null,null,null,0,null,null,187,null,null,null,null,null,null,0,null,null,187,null,null,null,null,null,null,0,null,null,187,null,null,null,null,null,null,0,null,null,187,null,null,null,null,null,null,0,null,null,187,null,null,null,null,null,null,0,null,null,187,null,null,null,null,null,null,0,null,null,187,null,null,null,null,null,null,0,null,null,187,null,null,null,null,null,null,0,null,null,187,null,null,null,null,null,null,0,null,null,187,null,null,null,null,null,null,0,null,null,187,null,null,null,null,null,null,0,null,null,187,null,null,null,null,null,null,0,null,null,187,null,null,null,null,null,null,0,null,null,187,null,null,null,null,null,null,0,null,null,187,null,null,null,null,null,null,0,null,null,187,null,null,null,null,null,null,0,null,null,187,null,null,null,null,null,null,0,null,null,187,null,null,null,null,null,null,0,null,null,187,null,null,null,null,null,null,0,null,null,187,null,null,null,null,null,null,0,null,null,187,null,null,null,null,null,null,0,null,null,187,null,null,null,null,null,null,0,null,null,187,null,null,null,null,null,null,0,null,null,187,null,null,null,null,null,null,0,null,null,187,null,null,null,null,null,null,null,null,null,187,null,null,null,null,null,null,0,null,null,187,null,null,null,null,null,null,0,null,null,187,null,null,null,null,null,null,0,null,null,187,null,null,null,null,null,null,0,null,null,187,null,null,null,null,null,null,0,null,null,187,null,null,null,null,null,null,0,null,null,187,null,null,null,null,null,null,0,null,null,187,null,null,null,null,null,null,0,null,null,187,null,null,null,null,null,null,0,null,null,187,null,null,null,null,null,null,0,null,null,187,null,null,null,null,null,null,0,null,null,187,null,null,null,null,null,null,0,null,null,187,null,null,null,null,null,null,0,null,null,187,null,null,null,null,null,null,0,null,null,187,null,null,null,null,null,null,0,null,null,187,null,null,null,null,null,null,0,null,null,187,null,null,null,null,null,null,0,null,null,187,null,null,null,null,null,null,0,null,null,187,null,null,null,null,null,null,0,null,null,187,null,null,null,null,null,null,0,null,null,187,null,null,null,null,null,null,0,null,null,187,null,null,null,null,null,null,0,null,null,187,null,null,null,null,null,null,0,null,null,187,null,null,null,null,null,null,0,null,null,187,null,null,null,null,null,null,0,null,null,187,null,null,null,null,null,null,0,null,null,187,null,null,null,null,null,null,0,null,null,187,null,null,null,null,null,null,0,null,null,187,null,null,null,null,null,null,0,null,null,187,null,null,null,null,null,null,0,null,null,187,null,null,null,null,null,null,0,null,null,187,null,null,null,null,null,null,0,null,null,187,null,null,null,null,null,null,0,null,null,187,null,null,null,null,null,null,0,null,null,187,null,null,null,null,null,null,0,null,null,187,null,null,null,null,null,null,0,null,null,187,null,null,null,null,null,null,0,null,null,187,null,null,null,null,null,null,0,null,null,187,null,null,null,null,null,null,0,null,null,187,null,null,null,null,null,null,0,null,null,187,null,null,null,null,null,null,0,null,null,187,null,null,null,null,null,null,0,null,null,187,null,null,null,null,null,null,0,null,null,187,null,null,null,null,null,null,0,null,null,187,null,null,null,null,null,null,0,null,null,187,null,null,null,null,null,null,0,null,null,187,null,null,null,null,null,null,0,null,null,187,null,null,null,null,null,null,0,null,null,187,null,null,null,null,null,null,0,null,null,187,null,null,null,null,null,null,0,null,null,187,null,null,null,null,null,null,0,null,null,187,null,null,null,null,null,null,0,null,null,187,null,null,null,null,null,null,0,null,null,187,null,null,null,null,null,null,0,null,null,187,null,null,null,null,null,null,0,null,null,187,null,null,null,null,null,null,0,null,null,187,null,null,null,null,null,null,0,null,null,187,null,null,null,null,null,null,0,null,null,187,null,null,null,null,null,null,0,null,null,187,null,null,null,null,null,null,0,null,null,187,null,null,null,null,null,null,0,null,null,187,null,null,null,null,null,null,0,null,null,187,null,null,null,null,null,null,0,null,null,187,null,null,null,null,null,null,0,null,null,187,null,null,null,null,null,null,0,null,null,187,null,null,null,null,null,null,0,null,null,187,null,null,null,null,null,null,0,null,null,187,null,null,null,null,null,null,0,null,null,187,null,null,null,null,null,null,0,null,null,187,null,null,null,null,null,null,0,null,null,187,null,null,null,null,null,null,0,null,null,187,null,null,null,null,null,null,0]
[null,218,null,null,null,null,null,null,0,null,null,218,null,null,null,null,null,null,0,null,null,218,null,null,null,null,null,null,0,null,null,218,null,null,null,null,null,null,0,null,null,218,null,null,null,null,null,null,0,null,null,218,null,null,null,null,null,null,0,null,null,218,null,null,null,null,null,null,0,null,null,218,null,null,null,null,null,null,0,null,null,218,null,null,null,null,null,null,0,null,null,218,null,null,null,null,null,null,0,null,null,218,null,null,null,null,null,null,0,null,null,218,null,null,null,null,null,null,0,null,null,218,null,null,null,null,null,null,0,null,null,218,null,null,null,null,null,null,0,null,null,218,null,null,null,null,null,null,0,null,null,218,null,null,null,null,null,null,0,null,null,218,null,null,null,null,null,null,0,null,null,218,null,null,null,null,null,null,0,null,null,218,null,null,null,null,null,null,0,null,null,218,null,null,null,null,null,null,0,null,null,218,null,null,null,null,null,null,0,null,null,218,null,null,null,null,null,null,0,null,null,218,null,null,null,null,null,null,0,null,null,218,null,null,null,null,null,null,0,null,null,218,null,null,null,null,null,null,0,null,null,218,null,null,null,null,null,null,0,null,null,218,null,null,null,null,null,null,0,null,null,218,null,null,null,null,null,null,null,null,null,218,null,null,null,null,null,null,0,null,null,218,null,null,null,null,null,null,0,null,null,218,null,null,null,null,null,null,0,null,null,218,null,null,null,null,null,null,0,null,null,218,null,null,null,null,null,null,0,null,null,218,null,null,null,null,null,null,0,null,null,218,null,null,null,null,null,null,0,null,null,218,null,null,null,null,null,null,0,null,null,218,null,null,null,null,null,null,0,null,null,218,null,null,null,null,null,null,0,null,null,218,null,null,null,null,null,null,0,null,null,218,null,null,null,null,null,null,0,null,null,218,null,null,null,null,null,null,0,null,null,218,null,null,null,null,null,null,0,null,null,218,null,null,null,null,null,null,0,null,null,218,null,null,null,null,null,null,0,null,null,218,null,null,null,null,null,null,0,null,null,218,null,null,null,null,null,null,0,null,null,218,null,null,null,null,null,null,0,null,null,218,null,null,null,null,null,null,0,null,null,218,null,null,null,null,null,null,0,null,null,218,null,null,null,null,null,null,0,null,null,218,null,null,null,null,null,null,0,null,null,218,null,null,null,null,null,null,0,null,null,218,null,null,null,null,null,null,0,null,null,218,null,null,null,null,null,null,0,null,null,218,null,null,null,null,null,null,0,null,null,218,null,null,null,null,null,null,0,null,null,218,null,null,null,null,null,null,0,null,null,218,null,null,null,null,null,null,0,null,null,218,null,null,null,null,null,null,0,null,null,218,null,null,null,null,null,null,0,null,null,218,null,null,null,null,null,null,0,null,null,218,null,null,null,null,null,null,0,null,null,218,null,null,null,null,null,null,0,null,null,218,null,null,null,null,null,null,0,null,null,218,null,null,null,null,null,null,0,null,null,218,null,null,null,null,null,null,0,null,null,218,null,null,null,null,null,null,0,null,null,218,null,null,null,null,null,null,0,null,null,218,null,null,null,null,null,null,0,null,null,218,null,null,null,null,null,null,0,null,null,218,null,null,null,null,null,null,0,null,null,218,null,null,null,null,null,null,0,null,null,218,null,null,null,null,null,null,0,null,null,218,null,null,null,null,null,null,0,null,null,218,null,null,null,null,null,null,0,null,null,218,null,null,null,null,null,null,0,null,null,218,null,null,null,null,null,null,0,null,null,218,null,null,null,null,null,null,0,null,null,218,null,null,null,null,null,null,0,null,null,218,null,null,null,null,null,null,0,null,null,218,null,null,null,null,null,null,0,null,null,218,null,null,null,null,null,null,0,null,null,218,null,null,null,null,null,null,0,null,null,218,null,null,null,null,null,null,0,null,null,218,null,null,null,null,null,null,0,null,null,218,null,null,null,null,null,null,0,null,null,218,null,null,null,null,null,null,0,null,null,218,null,null,null,null,null,null,0,null,null,218,null,null,null,null,null,null,0,null,null,218,null,null,null,null,null,null,0,null,null,218,null,null,null,null,null,null,0,null,null,218,null,null,null,null,null,null,0,null,null,218,null,null,null,null,null,null,0,null,null,218,null,null,null,null,null,null,0,null,null,218,null,null,null,null,null,null,0,null,null,218,null,null,null,null,null,null,0,null,null,218,null,null,null,null,null,null,0,null,null,218,null,null,null,null,null,null,0,null,null,218,null,null,null,null,null,null,0,null,null,218,null,null,null,null,null,null,0]
[null,240,null,null,null,null,null,null,0,null,null,240,null,null,null,null,null,null,0,null,null,240,null,null,null,null,null,null,0,null,null,240,null,null,null,null,null,null,0,null,null,240,null,null,null,null,null,null,0,null,null,240,null,null,null,null,null,null,0,null,null,240,null,null,null,null,null,null,0,null,null,240,null,null,null,null,null,null,0,null,null,240,null,null,null,null,null,null,0,null,null,240,null,null,null,null,null,null,0,null,null,240,null,null,null,null,null,null,0,null,null,240,null,null,null,null,null,null,0,null,null,240,null,null,null,null,null,null,0,null,null,240,null,null,null,null,null,null,0,null,null,240,null,null,null,null,null,null,0,null,null,240,null,null,null,null,null,null,0,null,null,240,null,null,null,null,null,null,0,null,null,240,null,null,null,null,null,null,0,null,null,240,null,null,null,null,null,null,0,null,null,240,null,null,null,null,null,null,0,null,null,240,null,null,null,null,null,null,0,null,null,240,null,null,null,null,null,null,0,null,null,240,null,null,null,null,null,null,0,null,null,240,null,null,null,null,null,null,0,null,null,240,null,null,null,null,null,null,0,null,null,240,null,null,null,null,null,null,0,null,null,240,null,null,null,null,null,null,0,null,null,240,null,null,null,null,null,null,null,null,null,240,null,null,null,null,null,null,0,null,null,240,null,null,null,null,null,null,0,null,null,240,null,null,null,null,null,null,0,null,null,240,null,null,null,null,null,null,0,null,null,240,null,null,null,null,null,null,0,null,null,240,null,null,null,null,null,null,0,null,null,240,null,null,null,null,null,null,0,null,null,240,null,null,null,null,null,null,0,null,null,240,null,null,null,null,null,null,0,null,null,240,null,null,null,null,null,null,0,null,null,240,null,null,null,null,null,null,0,null,null,240,null,null,null,null,null,null,0,null,null,240,null,null,null,null,null,null,0,null,null,240,null,null,null,null,null,null,0,null,null,240,null,null,null,null,null,null,0,null,null,240,null,null,null,null,null,null,0,null,null,240,null,null,null,null,null,null,0,null,null,240,null,null,null,null,null,null,0,null,null,240,null,null,null,null,null,null,0,null,null,240,null,null,null,null,null,null,0,null,null,240,null,null,null,null,null,null,0,null,null,240,null,null,null,null,null,null,0,null,null,240,null,null,null,null,null,null,0,null,null,240,null,null,null,null,null,null,0,null,null,240,null,null,null,null,null,null,0,null,null,240,null,null,null,null,null,null,0,null,null,240,null,null,null,null,null,null,0,null,null,240,null,null,null,null,null,null,0,null,null,240,null,null,null,null,null,null,0,null,null,240,null,null,null,null,null,null,0,null,null,240,null,null,null,null,null,null,0,null,null,240,null,null,null,null,null,null,0,null,null,240,null,null,null,null,null,null,0,null,null,240,null,null,null,null,null,null,0,null,null,240,null,null,null,null,null,null,0,null,null,240,null,null,null,null,null,null,0,null,null,240,null,null,null,null,null,null,0,null,null,240,null,null,null,null,null,null,0,null,null,240,null,null,null,null,null,null,0,null,null,240,null,null,null,null,null,null,0,null,null,240,null,null,null,null,null,null,0,null,null,240,null,null,null,null,null,null,0,null,null,240,null,null,null,null,null,null,0,null,null,240,null,null,null,null,null,null,0,null,null,240,null,null,null,null,null,null,0,null,null,240,null,null,null,null,null,null,0,null,null,240,null,null,null,null,null,null,0,null,null,240,null,null,null,null,null,null,0,null,null,240,null,null,null,null,null,null,0,null,null,240,null,null,null,null,null,null,0,null,null,240,null,null,null,null,null,null,0,null,null,240,null,null,null,null,null,null,0,null,null,240,null,null,null,null,null,null,0,null,null,240,null,null,null,null,null,null,0,null,null,240,null,null,null,null,null,null,0,null,null,240,null,null,null,null,null,null,0,null,null,240,null,null,null,null,null,null,0,null,null,240,null,null,null,null,null,null,0,null,null,240,null,null,null,null,null,null,0,null,null,240,null,null,null,null,null,null,0,null,null,240,null,null,null,null,null,null,0,null,null,240,null,null,null,null,null,null,0,null,null,240,null,null,null,null,null,null,0,null,null,240,null,null,null,null,null,null,0,null,null,240,null,null,null,null,null,null,0,null,null,240,null,null,null,null,null,null,0,null,null,240,null,null,null,null,null,null,0,null,null,240,null,null,null,null,null,null,0,null,null,240,null,null,null,null,null,null,0,null,null,240,null,null,null,null,null,null,0,null,null,240,null,null,null,null,null,null,0,null,null,240,null,null,null,null,null,null,0]
[null,262,null,null,null,null,null,null,0,null,null,262,null,null,null,null,null,null,0,null,null,262,null,null,null,null,null,null,0,null,null,262,null,null,null,null,null,null,0,null,null,262,null,null,null,null,null,null,0,null,null,262,null,null,null,null,null,null,0,null,null,262,null,null,null,null,null,null,0,null,null,262,null,null,null,null,null,null,0,null,null,262,null,null,null,null,null,null,0,null,null,262,null,null,null,null,null,null,0,null,null,262,null,null,null,null,null,null,0,null,null,262,null,null,null,null,null,null,0,null,null,262,null,null,null,null,null,null,0,null,null,262,null,null,null,null,null,null,0,null,null,262,null,null,null,null,null,null,0,null,null,262,null,null,null,null,null,null,0,null,null,262,null,null,null,null,null,null,0,null,null,262,null,null,null,null,null,null,0,null,null,262,null,null,null,null,null,null,0,null,null,262,null,null,null,null,null,null,0,null,null,262,null,null,null,null,null,null,0,null,null,262,null,null,null,null,null,null,0,null,null,262,null,null,null,null,null,null,0,null,null,262,null,null,null,null,null,null,0,null,null,262,null,null,null,null,null,null,0,null,null,262,null,null,null,null,null,null,0,null,null,262,null,null,null,null,null,null,0,null,null,262,null,null,null,null,null,null,null,null,null,262,null,null,null,null,null,null,0,null,null,262,null,null,null,null,null,null,0,null,null,262,null,null,null,null,null,null,0,null,null,262,null,null,null,null,null,null,0,null,null,262,null,null,null,null,null,null,0,null,null,262,null,null,null,null,null,null,0,null,null,262,null,null,null,null,null,null,0,null,null,262,null,null,null,null,null,null,0,null,null,262,null,null,null,null,null,null,0,null,null,262,null,null,null,null,null,null,0,null,null,262,null,null,null,null,null,null,0,null,null,262,null,null,null,null,null,null,0,null,null,262,null,null,null,null,null,null,0,null,null,262,null,null,null,null,null,null,0,null,null,262,null,null,null,null,null,null,0,null,null,262,null,null,null,null,null,null,0,null,null,262,null,null,null,null,null,null,0,null,null,262,null,null,null,null,null,null,0,null,null,262,null,null,null,null,null,null,0,null,null,262,null,null,null,null,null,null,0,null,null,262,null,null,null,null,null,null,0,null,null,262,null,null,null,null,null,null,0,null,null,262,null,null,null,null,null,null,0,null,null,262,null,null,null,null,null,null,0,null,null,262,null,null,null,null,null,null,0,null,null,262,null,null,null,null,null,null,0,null,null,262,null,null,null,null,null,null,0,null,null,262,null,null,null,null,null,null,0,null,null,262,null,null,null,null,null,null,0,null,null,262,null,null,null,null,null,null,0,null,null,262,null,null,null,null,null,null,0,null,null,262,null,null,null,null,null,null,0,null,null,262,null,null,null,null,null,null,0,null,null,262,null,null,null,null,null,null,0,null,null,262,null,null,null,null,null,null,0,null,null,262,null,null,null,null,null,null,0,null,null,262,null,null,null,null,null,null,0,null,null,262,null,null,null,null,null,null,0,null,null,262,null,null,null,null,null,null,0,null,null,262,null,null,null,null,null,null,0,null,null,262,null,null,null,null,null,null,0,null,null,262,null,null,null,null,null,null,0,null,null,262,null,null,null,null,null,null,0,null,null,262,null,null,null,null,null,null,0,null,null,262,null,null,null,null,null,null,0,null,null,262,null,null,null,null,null,null,0,null,null,262,null,null,null,null,null,null,0,null,null,262,null,null,null,null,null,null,0,null,null,262,null,null,null,null,null,null,0,null,null,262,null,null,null,null,null,null,0,null,null,262,null,null,null,null,null,null,0,null,null,262,null,null,null,null,null,null,0,null,null,262,null,null,null,null,null,null,0,null,null,262,null,null,null,null,null,null,0,null,null,262,null,null,null,null,null,null,0,null,null,262,null,null,null,null,null,null,0,null,null,262,null,null,null,null,null,null,0,null,null,262,null,null,null,null,null,null,0,null,null,262,null,null,null,null,null,null,0,null,null,262,null,null,null,null,null,null,0,null,null,262,null,null,null,null,null,null,0,null,null,262,null,null,null,null,null,null,0,null,null,262,null,null,null,null,null,null,0,null,null,262,null,null,null,null,null,null,0,null,null,262,null,null,null,null,null,null,0,null,null,262,null,null,null,null,null,null,0,null,null,262,null,null,null,null,null,null,0,null,null,262,null,null,null,null,null,null,0,null,null,262,null,null,null,null,null,null,0,null,null,262,null,null,null,null,null,null,0,null,null,262,null,null,null,null,null,null,0,null,null,262,null,null,null,null,null,null,0]
[null,296,null,null,null,null,null,null,0,null,null,296,null,null,null,null,null,null,0,null,null,296,null,null,null,null,null,null,0,null,null,296,null,null,null,null,null,null,0,null,null,296,null,null,null,null,null,null,0,null,null,296,null,null,null,null,null,null,0,null,null,296,null,null,null,null,null,null,0,null,null,296,null,null,null,null,null,null,0,null,null,296,null,null,null,null,null,null,0,null,null,296,null,null,null,null,null,null,0,null,null,296,null,null,null,null,null,null,0,null,null,296,null,null,null,null,null,null,0,null,null,296,null,null,null,null,null,null,0,null,null,296,null,null,null,null,null,null,0,null,null,296,null,null,null,null,null,null,0,null,null,296,null,null,null,null,null,null,0,null,null,296,null,null,null,null,null,null,0,null,null,296,null,null,null,null,null,null,0,null,null,296,null,null,null,null,null,null,0,null,null,296,null,null,null,null,null,null,0,null,null,296,null,null,null,null,null,null,0,null,null,296,null,null,null,null,null,null,0,null,null,296,null,null,null,null,null,null,0,null,null,296,null,null,null,null,null,null,0,null,null,296,null,null,null,null,null,null,0,null,null,296,null,null,null,null,null,null,0,null,null,296,null,null,null,null,null,null,0,null,null,296,null,null,null,null,null,null,null,null,null,296,null,null,null,null,null,null,0,null,null,296,null,null,null,null,null,null,0,null,null,296,null,null,null,null,null,null,0,null,null,296,null,null,null,null,null,null,0,null,null,296,null,null,null,null,null,null,0,null,null,296,null,null,null,null,null,null,0,null,null,296,null,null,null,null,null,null,0,null,null,296,null,null,null,null,null,null,0,null,null,296,null,null,null,null,null,null,0,null,null,296,null,null,null,null,null,null,0,null,null,296,null,null,null,null,null,null,0,null,null,296,null,null,null,null,null,null,0,null,null,296,null,null,null,null,null,null,0,null,null,296,null,null,null,null,null,null,0,null,null,296,null,null,null,null,null,null,0,null,null,296,null,null,null,null,null,null,0,null,null,296,null,null,null,null,null,null,0,null,null,296,null,null,null,null,null,null,0,null,null,296,null,null,null,null,null,null,0,null,null,296,null,null,null,null,null,null,0,null,null,296,null,null,null,null,null,null,0,null,null,296,null,null,null,null,null,null,0,null,null,296,null,null,null,null,null,null,0,null,null,296,null,null,null,null,null,null,0,null,null,296,null,null,null,null,null,null,0,null,null,296,null,null,null,null,null,null,0,null,null,296,null,null,null,null,null,null,0,null,null,296,null,null,null,null,null,null,0,null,null,296,null,null,null,null,null,null,0,null,null,296,null,null,null,null,null,null,0,null,null,296,null,null,null,null,null,null,0,null,null,296,null,null,null,null,null,null,0,null,null,296,null,null,null,null,null,null,0,null,null,296,null,null,null,null,null,null,0,null,null,296,null,null,null,null,null,null,0,null,null,296,null,null,null,null,null,null,0,null,null,296,null,null,null,null,null,null,0,null,null,296,null,null,null,null,null,null,0,null,null,296,null,null,null,null,null,null,0,null,null,296,null,null,null,null,null,null,0,null,null,296,null,null,null,null,null,null,0,null,null,296,null,null,null,null,null,null,0,null,null,296,null,null,null,null,null,null,0,null,null,296,null,null,null,null,null,null,0,null,null,296,null,null,null,null,null,null,0,null,null,296,null,null,null,null,null,null,0,null,null,296,null,null,null,null,null,null,0,null,null,296,null,null,null,null,null,null,0,null,null,296,null,null,null,null,null,null,0,null,null,296,null,null,null,null,null,null,0,null,null,296,null,null,null,null,null,null,0,null,null,296,null,null,null,null,null,null,0,null,null,296,null,null,null,null,null,null,0,null,null,296,null,null,null,null,null,null,0,null,null,296,null,null,null,null,null,null,0,null,null,296,null,null,null,null,null,null,0,null,null,296,null,null,null,null,null,null,0,null,null,296,null,null,null,null,null,null,0,null,null,296,null,null,null,null,null,null,0,null,null,296,null,null,null,null,null,null,0,null,null,296,null,null,null,null,null,null,0,null,null,296,null,null,null,null,null,null,0,null,null,296,null,null,null,null,null,null,0,null,null,296,null,null,null,null,null,null,0,null,null,296,null,null,null,null,null,null,0,null,null,296,null,null,null,null,null,null,0,null,null,296,null,null,null,null,null,null,0,null,null,296,null,null,null,null,null,null,0,null,null,296,null,null,null,null,null,null,0,null,null,296,null,null,null,null,null,null,0,null,null,296,null,null,null,null,null,null,0,null,null,296,null,null,null,null,null,null,0]
[null,318,null,null,null,null,null,null,0,null,null,318,null,null,null,null,null,null,0,null,null,318,null,null,null,null,null,null,0,null,null,318,null,null,null,null,null,null,0,null,null,318,null,null,null,null,null,null,0,null,null,318,null,null,null,null,null,null,0,null,null,318,null,null,null,null,null,null,0,null,null,318,null,null,null,null,null,null,0,null,null,318,null,null,null,null,null,null,0,null,null,318,null,null,null,null,null,null,0,null,null,318,null,null,null,null,null,null,0,null,null,318,null,null,null,null,null,null,0,null,null,318,null,null,null,null,null,null,0,null,null,318,null,null,null,null,null,null,0,null,null,318,null,null,null,null,null,null,0,null,null,318,null,null,null,null,null,null,0,null,null,318,null,null,null,null,null,null,0,null,null,318,null,null,null,null,null,null,0,null,null,318,null,null,null,null,null,null,0,null,null,318,null,null,null,null,null,null,0,null,null,318,null,null,null,null,null,null,0,null,null,318,null,null,null,null,null,null,0,null,null,318,null,null,null,null,null,null,0,null,null,318,null,null,null,null,null,null,0,null,null,318,null,null,null,null,null,null,0,null,null,318,null,null,null,null,null,null,0,null,null,318,null,null,null,null,null,null,0,null,null,318,null,null,null,null,null,null,null,null,null,318,null,null,null,null,null,null,0,null,null,318,null,null,null,null,null,null,0,null,null,318,null,null,null,null,null,null,0,null,null,318,null,null,null,null,null,null,0,null,null,318,null,null,null,null,null,null,0,null,null,318,null,null,null,null,null,null,0,null,null,318,null,null,null,null,null,null,0,null,null,318,null,null,null,null,null,null,0,null,null,318,null,null,null,null,null,null,0,null,null,318,null,null,null,null,null,null,0,null,null,318,null,null,null,null,null,null,0,null,null,318,null,null,null,null,null,null,0,null,null,318,null,null,null,null,null,null,0,null,null,318,null,null,null,null,null,null,0,null,null,318,null,null,null,null,null,null,0,null,null,318,null,null,null,null,null,null,0,null,null,318,null,null,null,null,null,null,0,null,null,318,null,null,null,null,null,null,0,null,null,318,null,null,null,null,null,null,0,null,null,318,null,null,null,null,null,null,0,null,null,318,null,null,null,null,null,null,0,null,null,318,null,null,null,null,null,null,0,null,null,318,null,null,null,null,null,null,0,null,null,318,null,null,null,null,null,null,0,null,null,318,null,null,null,null,null,null,0,null,null,318,null,null,null,null,null,null,0,null,null,318,null,null,null,null,null,null,0,null,null,318,null,null,null,null,null,null,0,null,null,318,null,null,null,null,null,null,0,null,null,318,null,null,null,null,null,null,0,null,null,318,null,null,null,null,null,null,0,null,null,318,null,null,null,null,null,null,0,null,null,318,null,null,null,null,null,null,0,null,null,318,null,null,null,null,null,null,0,null,null,318,null,null,null,null,null,null,0,null,null,318,null,null,null,null,null,null,0,null,null,318,null,null,null,null,null,null,0,null,null,318,null,null,null,null,null,null,0,null,null,318,null,null,null,null,null,null,0,null,null,318,null,null,null,null,null,null,0,null,null,318,null,null,null,null,null,null,0,null,null,318,null,null,null,null,null,null,0,null,null,318,null,null,null,null,null,null,0,null,null,318,null,null,null,null,null,null,0,null,null,318,null,null,null,null,null,null,0,null,null,318,null,null,null,null,null,null,0,null,null,318,null,null,null,null,null,null,0,null,null,318,null,null,null,null,null,null,0,null,null,318,null,null,null,null,null,null,0,null,null,318,null,null,null,null,null,null,0,null,null,318,null,null,null,null,null,null,0,null,null,318,null,null,null,null,null,null,0,null,null,318,null,null,null,null,null,null,0,null,null,318,null,null,null,null,null,null,0,null,null,318,null,null,null,null,null,null,0,null,null,318,null,null,null,null,null,null,0,null,null,318,null,null,null,null,null,null,0,null,null,318,null,null,null,null,null,null,0,null,null,318,null,null,null,null,null,null,0,null,null,318,null,null,null,null,null,null,0,null,null,318,null,null,null,null,null,null,0,null,null,318,null,null,null,null,null,null,0,null,null,318,null,null,null,null,null,null,0,null,null,318,null,null,null,null,null,null,0,null,null,318,null,null,null,null,null,null,0,null,null,318,null,null,null,null,null,null,0,null,null,318,null,null,null,null,null,null,0,null,null,318,null,null,null,null,null,null,0,null,null,318,null,null,null,null,null,null,0,null,null,318,null,null,null,null,null,null,0,null,null,318,null,null,null,null,null,null,0,null,null,318,null,null,null,null,null,null,0]
[null,340,null,null,null,null,null,null,0,null,null,340,null,null,null,null,null,null,0,null,null,340,null,null,null,null,null,null,0,null,null,340,null,null,null,null,null,null,0,null,null,340,null,null,null,null,null,null,0,null,null,340,null,null,null,null,null,null,0,null,null,340,null,null,null,null,null,null,0,null,null,340,null,null,null,null,null,null,0,null,null,340,null,null,null,null,null,null,0,null,null,340,null,null,null,null,null,null,0,null,null,340,null,null,null,null,null,null,0,null,null,340,null,null,null,null,null,null,0,null,null,340,null,null,null,null,null,null,0,null,null,340,null,null,null,null,null,null,0,null,null,340,null,null,null,null,null,null,0,null,null,340,null,null,null,null,null,null,0,null,null,340,null,null,null,null,null,null,0,null,null,340,null,null,null,null,null,null,0,null,null,340,null,null,null,null,null,null,0,null,null,340,null,null,null,null,null,null,0,null,null,340,null,null,null,null,null,null,0,null,null,340,null,null,null,null,null,null,0,null,null,340,null,null,null,null,null,null,0,null,null,340,null,null,null,null,null,null,0,null,null,340,null,null,null,null,null,null,0,null,null,340,null,null,null,null,null,null,0,null,null,340,null,null,null,null,null,null,0,null,null,340,null,null,null,null,null,null,null,null,null,340,null,null,null,null,null,null,0,null,null,340,null,null,null,null,null,null,0,null,null,340,null,null,null,null,null,null,0,null,null,340,null,null,null,null,null,null,0,null,null,340,null,null,null,null,null,null,0,null,null,340,null,null,null,null,null,null,0,null,null,340,null,null,null,null,null,null,0,null,null,340,null,null,null,null,null,null,0,null,null,340,null,null,null,null,null,null,0,null,null,340,null,null,null,null,null,null,0,null,null,340,null,null,null,null,null,null,0,null,null,340,null,null,null,null,null,null,0,null,null,340,null,null,null,null,null,null,0,null,null,340,null,null,null,null,null,null,0,null,null,340,null,null,null,null,null,null,0,null,null,340,null,null,null,null,null,null,0,null,null,340,null,null,null,null,null,null,0,null,null,340,null,null,null,null,null,null,0,null,null,340,null,null,null,null,null,null,0,null,null,340,null,null,null,null,null,null,0,null,null,340,null,null,null,null,null,null,0,null,null,340,null,null,null,null,null,null,0,null,null,340,null,null,null,null,null,null,0,null,null,340,null,null,null,null,null,null,0,null,null,340,null,null,null,null,null,null,0,null,null,340,null,null,null,null,null,null,0,null,null,340,null,null,null,null,null,null,0,null,null,340,null,null,null,null,null,null,0,null,null,340,null,null,null,null,null,null,0,null,null,340,null,null,null,null,null,null,0,null,null,340,null,null,null,null,null,null,0,null,null,340,null,null,null,null,null,null,0,null,null,340,null,null,null,null,null,null,0,null,null,340,null,null,null,null,null,null,0,null,null,340,null,null,null,null,null,null,0,null,null,340,null,null,null,null,null,null,0,null,null,340,null,null,null,null,null,null,0,null,null,340,null,null,null,null,null,null,0,null,null,340,null,null,null,null,null,null,0,null,null,340,null,null,null,null,null,null,0,null,null,340,null,null,null,null,null,null,0,null,null,340,null,null,null,null,null,null,0,null,null,340,null,null,null,null,null,null,0,null,null,340,null,null,null,null,null,null,0,null,null,340,null,null,null,null,null,null,0,null,null,340,null,null,null,null,null,null,0,null,null,340,null,null,null,null,null,null,0,null,null,340,null,null,null,null,null,null,0,null,null,340,null,null,null,null,null,null,0,null,null,340,null,null,null,null,null,null,0,null,null,340,null,null,null,null,null,null,0,null,null,340,null,null,null,null,null,null,0,null,null,340,null,null,null,null,null,null,0,null,null,340,null,null,null,null,null,null,0,null,null,340,null,null,null,null,null,null,0,null,null,340,null,null,null,null,null,null,0,null,null,340,null,null,null,null,null,null,0,null,null,340,null,null,null,null,null,null,0,null,null,340,null,null,null,null,null,null,0,null,null,340,null,null,null,null,null,null,0,null,null,340,null,null,null,null,null,null,0,null,null,340,null,null,null,null,null,null,0,null,null,340,null,null,null,null,null,null,0,null,null,340,null,null,null,null,null,null,0,null,null,340,null,null,null,null,null,null,0,null,null,340,null,null,null,null,null,null,0,null,null,340,null,null,null,null,null,null,0,null,null,340,null,null,null,null,null,null,0,null,null,340,null,null,null,null,null,null,0,null,null,340,null,null,null,null,null,null,0,null,null,340,null,null,null,null,null,null,0,null,null,340,null,null,null,null,null,null,0]
[null,351,null,null,null,null,null,null,0,null,null,351,null,null,null,null,null,null,0,null,null,351,null,null,null,null,null,null,0,null,null,351,null,null,null,null,null,null,0,null,null,351,null,null,null,null,null,null,0,null,null,351,null,null,null,null,null,null,0,null,null,351,null,null,null,null,null,null,0,null,null,351,null,null,null,null,null,null,0,null,null,351,null,null,null,null,null,null,0,null,null,351,null,null,null,null,null,null,0,null,null,351,null,null,null,null,null,null,0,null,null,351,null,null,null,null,null,null,0,null,null,351,null,null,null,null,null,null,0,null,null,351,null,null,null,null,null,null,0,null,null,351,null,null,null,null,null,null,0,null,null,351,null,null,null,null,null,null,0,null,null,351,null,null,null,null,null,null,0,null,null,351,null,null,null,null,null,null,0,null,null,351,null,null,null,null,null,null,0,null,null,351,null,null,null,null,null,null,0,null,null,351,null,null,null,null,null,null,0,null,null,351,null,null,null,null,null,null,0,null,null,351,null,null,null,null,null,null,0,null,null,351,null,null,null,null,null,null,0,null,null,351,null,null,null,null,null,null,0,null,null,351,null,null,null,null,null,null,0,null,null,351,null,null,null,null,null,null,0,null,null,351,null,null,null,null,null,null,null,null,null,351,null,null,null,null,null,null,0,null,null,351,null,null,null,null,null,null,0,null,null,351,null,null,null,null,null,null,0,null,null,351,null,null,null,null,null,null,0,null,null,351,null,null,null,null,null,null,0,null,null,351,null,null,null,null,null,null,0,null,null,351,null,null,null,null,null,null,0,null,null,351,null,null,null,null,null,null,0,null,null,351,null,null,null,null,null,null,0,null,null,351,null,null,null,null,null,null,0,null,null,351,null,null,null,null,null,null,0,null,null,351,null,null,null,null,null,null,0,null,null,351,null,null,null,null,null,null,0,null,null,351,null,null,null,null,null,null,0,null,null,351,null,null,null,null,null,null,0,null,null,351,null,null,null,null,null,null,0,null,null,351,null,null,null,null,null,null,0,null,null,351,null,null,null,null,null,null,0,null,null,351,null,null,null,null,null,null,0,null,null,351,null,null,null,null,null,null,0,null,null,351,null,null,null,null,null,null,0,null,null,351,null,null,null,null,null,null,0,null,null,351,null,null,null,null,null,null,0,null,null,351,null,null,null,null,null,null,0,null,null,351,null,null,null,null,null,null,0,null,null,351,null,null,null,null,null,null,0,null,null,351,null,null,null,null,null,null,0,null,null,351,null,null,null,null,null,null,0,null,null,351,null,null,null,null,null,null,0,null,null,351,null,null,null,null,null,null,0,null,null,351,null,null,null,null,null,null,0,null,null,351,null,null,null,null,null,null,0,null,null,351,null,null,null,null,null,null,0,null,null,351,null,null,null,null,null,null,0,null,null,351,null,null,null,null,null,null,0,null,null,351,null,null,null,null,null,null,0,null,null,351,null,null,null,null,null,null,0,null,null,351,null,null,null,null,null,null,0,null,null,351,null,null,null,null,null,null,0,null,null,351,null,null,null,null,null,null,0,null,null,351,null,null,null,null,null,null,0,null,null,351,null,null,null,null,null,null,0,null,null,351,null,null,null,null,null,null,0,null,null,351,null,null,null,null,null,null,0,null,null,351,null,null,null,null,null,null,0,null,null,351,null,null,null,null,null,null,0,null,null,351,null,null,null,null,null,null,0,null,null,351,null,null,null,null,null,null,0,null,null,351,null,null,null,null,null,null,0,null,null,351,null,null,null,null,null,null,0,null,null,351,null,null,null,null,null,null,0,null,null,351,null,null,null,null,null,null,0,null,null,351,null,null,null,null,null,null,0,null,null,351,null,null,null,null,null,null,0,null,null,351,null,null,null,null,null,null,0,null,null,351,null,null,null,null,null,null,0,null,null,351,null,null,null,null,null,null,0,null,null,351,null,null,null,null,null,null,0,null,null,351,null,null,null,null,null,null,0,null,null,351,null,null,null,null,null,null,0,null,null,351,null,null,null,null,null,null,0,null,null,351,null,null,null,null,null,null,0,null,null,351,null,null,null,null,null,null,0,null,null,351,null,null,null,null,null,null,0,null,null,351,null,null,null,null,null,null,0,null,null,351,null,null,null,null,null,null,0,null,null,351,null,null,null,null,null,null,0,null,null,351,null,null,null,null,null,null,0,null,null,351,null,null,null,null,null,null,0,null,null,351,null,null,null,null,null,null,0,null,null,351,null,null,null,null,null,null,0,null,null,351,null,null,null,null,null,null,0]
[null,12,null,null,null,null,null,null,0,null,null,12,null,null,null,null,null,null,0,null,null,12,null,null,null,null,null,null,0,null,null,12,null,null,null,null,null,null,0,null,null,12,null,null,null,null,null,null,0,null,null,12,null,null,null,null,null,null,0,null,null,12,null,null,null,null,null,null,0,null,null,12,null,null,null,null,null,null,0,null,null,12,null,null,null,null,null,null,0,null,null,12,null,null,null,null,null,null,0,null,null,12,null,null,null,null,null,null,0,null,null,12,null,null,null,null,null,null,0,null,null,12,null,null,null,null,null,null,0,null,null,12,null,null,null,null,null,null,0,null,null,12,null,null,null,null,null,null,0,null,null,12,null,null,null,null,null,null,0,null,null,12,null,null,null,null,null,null,0,null,null,12,null,null,null,null,null,null,0,null,null,12,null,null,null,null,null,null,0,null,null,12,null,null,null,null,null,null,0,null,null,12,null,null,null,null,null,null,0,null,null,12,null,null,null,null,null,null,0,null,null,12,null,null,null,null,null,null,0,null,null,12,null,null,null,null,null,null,0,null,null,12,null,null,null,null,null,null,0,null,null,12,null,null,null,null,null,null,0,null,null,12,null,null,null,null,null,null,0,null,null,12,null,null,null,null,null,null,null,null,null,12,null,null,null,null,null,null,0,null,null,12,null,null,null,null,null,null,0,null,null,12,null,null,null,null,null,null,0,null,null,12,null,null,null,null,null,null,0,null,null,12,null,null,null,null,null,null,0,null,null,12,null,null,null,null,null,null,0,null,null,12,null,null,null,null,null,null,0,null,null,12,null,null,null,null,null,null,0,null,null,12,null,null,null,null,null,null,0,null,null,12,null,null,null,null,null,null,0,null,null,12,null,null,null,null,null,null,0,null,null,12,null,null,null,null,null,null,0,null,null,12,null,null,null,null,null,null,0,null,null,12,null,null,null,null,null,null,0,null,null,12,null,null,null,null,null,null,0,null,null,12,null,null,null,null,null,null,0,null,null,12,null,null,null,null,null,null,0,null,null,12,null,null,null,null,null,null,0,null,null,12,null,null,null,null,null,null,0,null,null,12,null,null,null,null,null,null,0,null,null,12,null,null,null,null,null,null,0,null,null,12,null,null,null,null,null,null,0,null,null,12,null,null,null,null,null,null,0,null,null,12,null,null,null,null,null,null,0,null,null,12,null,null,null,null,null,null,0,null,null,12,null,null,null,null,null,null,0,null,null,12,null,null,null,null,null,null,0,null,null,12,null,null,null,null,null,null,0,null,null,12,null,null,null,null,null,null,0,null,null,12,null,null,null,null,null,null,0,null,null,12,null,null,null,null,null,null,0,null,null,12,null,null,null,null,null,null,0,null,null,12,null,null,null,null,null,null,0,null,null,12,null,null,null,null,null,null,0,null,null,12,null,null,null,null,null,null,0,null,null,12,null,null,null,null,null,null,0,null,null,12,null,null,null,null,null,null,0,null,null,12,null,null,null,null,null,null,0,null,null,12,null,null,null,null,null,null,0,null,null,12,null,null,null,null,null,null,0,null,null,12,null,null,null,null,null,null,0,null,null,12,null,null,null,null,null,null,0,null,null,12,null,null,null,null,null,null,0,null,null,12,null,null,null,null,null,null,0,null,null,12,null,null,null,null,null,null,0,null,null,12,null,null,null,null,null,null,0,null,null,12,null,null,null,null,null,null,0,null,null,12,null,null,null,null,null,null,0,null,null,12,null,null,null,null,null,null,0,null,null,12,null,null,null,null,null,null,0,null,null,12,null,null,null,null,null,null,0,null,null,12,null,null,null,null,null,null,0,null,null,12,null,null,null,null,null,null,0,null,null,12,null,null,null,null,null,null,0,null,null,12,null,null,null,null,null,null,0,null,null,12,null,null,null,null,null,null,0,null,null,12,null,null,null,null,null,null,0,null,null,12,null,null,null,null,null,null,0,null,null,12,null,null,null,null,null,null,0,null,null,12,null,null,null,null,null,null,0,null,null,12,null,null,null,null,null,null,0,null,null,12,null,null,null,null,null,null,0,null,null,12,null,null,null,null,null,null,0,null,null,12,null,null,null,null,null,null,0,null,null,12,null,null,null,null,null,null,0,null,null,12,null,null,null,null,null,null,0,null,null,12,null,null,null,null,null,null,0,null,null,12,null,null,null,null,null,null,0,null,null,12,null,null,null,null,null,null,0,null,null,12,null,null,null,null,null,null,0,null,null,12,null,null,null,null,null,null,0,null,null,12,null,null,null,null,null,null,0]
[null,32,null,null,null,null,null,null,0,null,null,32,null,null,null,null,null,null,0,null,null,32,null,null,null,null,null,null,0,null,null,32,null,null,null,null,null,null,0,null,null,32,null,null,null,null,null,null,0,null,null,32,null,null,null,null,null,null,0,null,null,32,null,null,null,null,null,null,0,null,null,32,null,null,null,null,null,null,0,null,null,32,null,null,null,null,null,null,0,null,null,32,null,null,null,null,null,null,0,null,null,32,null,null,null,null,null,null,0,null,null,32,null,null,null,null,null,null,0,null,null,32,null,null,null,null,null,null,0,null,null,32,null,null,null,null,null,null,0,null,null,32,null,null,null,null,null,null,0,null,null,32,null,null,null,null,null,null,0,null,null,32,null,null,null,null,null,null,0,null,null,32,null,null,null,null,null,null,0,null,null,32,null,null,null,null,null,null,0,null,null,32,null,null,null,null,null,null,0,null,null,32,null,null,null,null,null,null,0,null,null,32,null,null,null,null,null,null,0,null,null,32,null,null,null,null,null,null,0,null,null,32,null,null,null,null,null,null,0,null,null,32,null,null,null,null,null,null,0,null,null,32,null,null,null,null,null,null,0,null,null,32,null,null,null,null,null,null,0,null,null,32,null,null,null,null,null,null,null,null,null,32,null,null,null,null,null,null,0,null,null,32,null,null,null,null,null,null,0,null,null,32,null,null,null,null,null,null,0,null,null,32,null,null,null,null,null,null,0,null,null,32,null,null,null,null,null,null,0,null,null,32,null,null,null,null,null,null,0,null,null,32,null,null,null,null,null,null,0,null,null,32,null,null,null,null,null,null,0,null,null,32,null,null,null,null,null,null,0,null,null,32,null,null,null,null,null,null,0,null,null,32,null,null,null,null,null,null,0,null,null,32,null,null,null,null,null,null,0,null,null,32,null,null,null,null,null,null,0,null,null,32,null,null,null,null,null,null,0,null,null,32,null,null,null,null,null,null,0,null,null,32,null,null,null,null,null,null,0,null,null,32,null,null,null,null,null,null,0,null,null,32,null,null,null,null,null,null,0,null,null,32,null,null,null,null,null,null,0,null,null,32,null,null,null,null,null,null,0,null,null,32,null,null,null,null,null,null,0,null,null,32,null,null,null,null,null,null,0,null,null,32,null,null,null,null,null,null,0,null,null,32,null,null,null,null,null,null,0,null,null,32,null,null,null,null,null,null,0,null,null,32,null,null,null,null,null,null,0,null,null,32,null,null,null,null,null,null,0,null,null,32,null,null,null,null,null,null,0,null,null,32,null,null,null,null,null,null,0,null,null,32,null,null,null,null,null,null,0,null,null,32,null,null,null,null,null,null,0,null,null,32,null,null,null,null,null,null,0,null,null,32,null,null,null,null,null,null,0,null,null,32,null,null,null,null,null,null,0,null,null,32,null,null,null,null,null,null,0,null,null,32,null,null,null,null,null,null,0,null,null,32,null,null,null,null,null,null,0,null,null,32,null,null,null,null,null,null,0,null,null,32,null,null,null,null,null,null,0,null,null,32,null,null,null,null,null,null,0,null,null,32,null,null,null,null,null,null,0,null,null,32,null,null,null,null,null,null,0,null,null,32,null,null,null,null,null,null,0,null,null,32,null,null,null,null,null,null,0,null,null,32,null,null,null,null,null,null,0,null,null,32,null,null,null,null,null,null,0,null,null,32,null,null,null,null,null,null,0,null,null,32,null,null,null,null,null,null,0,null,null,32,null,null,null,null,null,null,0,null,null,32,null,null,null,null,null,null,0,null,null,32,null,null,null,null,null,null,0,null,null,32,null,null,null,null,null,null,0,null,null,32,null,null,null,null,null,null,0,null,null,32,null,null,null,null,null,null,0,null,null,32,null,null,null,null,null,null,0,null,null,32,null,null,null,null,null,null,0,null,null,32,null,null,null,null,null,null,0,null,null,32,null,null,null,null,null,null,0,null,null,32,null,null,null,null,null,null,0,null,null,32,null,null,null,null,null,null,0,null,null,32,null,null,null,null,null,null,0,null,null,32,null,null,null,null,null,null,0,null,null,32,null,null,null,null,null,null,0,null,null,32,null,null,null,null,null,null,0,null,null,32,null,null,null,null,null,null,0,null,null,32,null,null,null,null,null,null,0,null,null,32,null,null,null,null,null,null,0,null,null,32,null,null,null,null,null,null,0,null,null,32,null,null,null,null,null,null,0,null,null,32,null,null,null,null,null,null,0,null,null,32,null,null,null,null,null,null,0,null,null,32,null,null,null,null,null,null,0]
[null,54,null,null,null,null,null,null,0,null,null,54,null,null,null,null,null,null,0,null,null,54,null,null,null,null,null,null,0,null,null,54,null,null,null,null,null,null,0,null,null,54,null,null,null,null,null,null,0,null,null,54,null,null,null,null,null,null,0,null,null,54,null,null,null,null,null,null,0,null,null,54,null,null,null,null,null,null,0,null,null,54,null,null,null,null,null,null,0,null,null,54,null,null,null,null,null,null,0,null,null,54,null,null,null,null,null,null,0,null,null,54,null,null,null,null,null,null,0,null,null,54,null,null,null,null,null,null,0,null,null,54,null,null,null,null,null,null,0,null,null,54,null,null,null,null,null,null,0,null,null,54,null,null,null,null,null,null,0,null,null,54,null,null,null,null,null,null,0,null,null,54,null,null,null,null,null,null,0,null,null,54,null,null,null,null,null,null,0,null,null,54,null,null,null,null,null,null,0,null,null,54,null,null,null,null,null,null,0,null,null,54,null,null,null,null,null,null,0,null,null,54,null,null,null,null,null,null,0,null,null,54,null,null,null,null,null,null,0,null,null,54,null,null,null,null,null,null,0,null,null,54,null,null,null,null,null,null,0,null,null,54,null,null,null,null,null,null,0,null,null,54,null,null,null,null,null,null,null,null,null,54,null,null,null,null,null,null,0,null,null,54,null,null,null,null,null,null,0,null,null,54,null,null,null,null,null,null,0,null,null,54,null,null,null,null,null,null,0,null,null,54,null,null,null,null,null,null,0,null,null,54,null,null,null,null,null,null,0,null,null,54,null,null,null,null,null,null,0,null,null,54,null,null,null,null,null,null,0,null,null,54,null,null,null,null,null,null,0,null,null,54,null,null,null,null,null,null,0,null,null,54,null,null,null,null,null,null,0,null,null,54,null,null,null,null,null,null,0,null,null,54,null,null,null,null,null,null,0,null,null,54,null,null,null,null,null,null,0,null,null,54,null,null,null,null,null,null,0,null,null,54,null,null,null,null,null,null,0,null,null,54,null,null,null,null,null,null,0,null,null,54,null,null,null,null,null,null,0,null,null,54,null,null,null,null,null,null,0,null,null,54,null,null,null,null,null,null,0,null,null,54,null,null,null,null,null,null,0,null,null,54,null,null,null,null,null,null,0,null,null,54,null,null,null,null,null,null,0,null,null,54,null,null,null,null,null,null,0,null,null,54,null,null,null,null,null,null,0,null,null,54,null,null,null,null,null,null,0,null,null,54,null,null,null,null,null,null,0,null,null,54,null,null,null,null,null,null,0,null,null,54,null,null,null,null,null,null,0,null,null,54,null,null,null,null,null,null,0,null,null,54,null,null,null,null,null,null,0,null,null,54,null,null,null,null,null,null,0,null,null,54,null,null,null,null,null,null,0,null,null,54,null,null,null,null,null,null,0,null,null,54,null,null,null,null,null,null,0,null,null,54,null,null,null,null,null,null,0,null,null,54,null,null,null,null,null,null,0,null,null,54,null,null,null,null,null,null,0,null,null,54,null,null,null,null,null,null,0,null,null,54,null,null,null,null,null,null,0,null,null,54,null,null,null,null,null,null,0,null,null,54,null,null,null,null,null,null,0,null,null,54,null,null,null,null,null,null,0,null,null,54,null,null,null,null,null,null,0,null,null,54,null,null,null,null,null,null,0,null,null,54,null,null,null,null,null,null,0,null,null,54,null,null,null,null,null,null,0,null,null,54,null,null,null,null,null,null,0,null,null,54,null,null,null,null,null,null,0,null,null,54,null,null,null,null,null,null,0,null,null,54,null,null,null,null,null,null,0,null,null,54,null,null,null,null,null,null,0,null,null,54,null,null,null,null,null,null,0,null,null,54,null,null,null,null,null,null,0,null,null,54,null,null,null,null,null,null,0,null,null,54,null,null,null,null,null,null,0,null,null,54,null,null,null,null,null,null,0,null,null,54,null,null,null,null,null,null,0,null,null,54,null,null,null,null,null,null,0,null,null,54,null,null,null,null,null,null,0,null,null,54,null,null,null,null,null,null,0,null,null,54,null,null,null,null,null,null,0,null,null,54,null,null,null,null,null,null,0,null,null,54,null,null,null,null,null,null,0,null,null,54,null,null,null,null,null,null,0,null,null,54,null,null,null,null,null,null,0,null,null,54,null,null,null,null,null,null,0,null,null,54,null,null,null,null,null,null,0,null,null,54,null,null,null,null,null,null,0,null,null,54,null,null,null,null,null,null,0,null,null,54,null,null,null,null,null,null,0,null,null,54,null,null,null,null,null,null,0]
[null,76,null,null,null,null,null,null,0,null,null,76,null,null,null,null,null,null,0,null,null,76,null,null,null,null,null,null,0,null,null,76,null,null,null,null,null,null,0,null,null,76,null,null,null,null,null,null,0,null,null,76,null,null,null,null,null,null,0,null,null,76,null,null,null,null,null,null,0,null,null,76,null,null,null,null,null,null,0,null,null,76,null,null,null,null,null,null,0,null,null,76,null,null,null,null,null,null,0,null,null,76,null,null,null,null,null,null,0,null,null,76,null,null,null,null,null,null,0,null,null,76,null,null,null,null,null,null,0,null,null,76,null,null,null,null,null,null,0,null,null,76,null,null,null,null,null,null,0,null,null,76,null,null,null,null,null,null,0,null,null,76,null,null,null,null,null,null,0,null,null,76,null,null,null,null,null,null,0,null,null,76,null,null,null,null,null,null,0,null,null,76,null,null,null,null,null,null,0,null,null,76,null,null,null,null,null,null,0,null,null,76,null,null,null,null,null,null,0,null,null,76,null,null,null,null,null,null,0,null,null,76,null,null,null,null,null,null,0,null,null,76,null,null,null,null,null,null,0,null,null,76,null,null,null,null,null,null,0,null,null,76,null,null,null,null,null,null,0,null,null,76,null,null,null,null,null,null,null,null,null,76,null,null,null,null,null,null,0,null,null,76,null,null,null,null,null,null,0,null,null,76,null,null,null,null,null,null,0,null,null,76,null,null,null,null,null,null,0,null,null,76,null,null,null,null,null,null,0,null,null,76,null,null,null,null,null,null,0,null,null,76,null,null,null,null,null,null,0,null,null,76,null,null,null,null,null,null,0,null,null,76,null,null,null,null,null,null,0,null,null,76,null,null,null,null,null,null,0,null,null,76,null,null,null,null,null,null,0,null,null,76,null,null,null,null,null,null,0,null,null,76,null,null,null,null,null,null,0,null,null,76,null,null,null,null,null,null,0,null,null,76,null,null,null,null,null,null,0,null,null,76,null,null,null,null,null,null,0,null,null,76,null,null,null,null,null,null,0,null,null,76,null,null,null,null,null,null,0,null,null,76,null,null,null,null,null,null,0,null,null,76,null,null,null,null,null,null,0,null,null,76,null,null,null,null,null,null,0,null,null,76,null,null,null,null,null,null,0,null,null,76,null,null,null,null,null,null,0,null,null,76,null,null,null,null,null,null,0,null,null,76,null,null,null,null,null,null,0,null,null,76,null,null,null,null,null,null,0,null,null,76,null,null,null,null,null,null,0,null,null,76,null,null,null,null,null,null,0,null,null,76,null,null,null,null,null,null,0,null,null,76,null,null,null,null,null,null,0,null,null,76,null,null,null,null,null,null,0,null,null,76,null,null,null,null,null,null,0,null,null,76,null,null,null,null,null,null,0,null,null,76,null,null,null,null,null,null,0,null,null,76,null,null,null,null,null,null,0,null,null,76,null,null,null,null,null,null,0,null,null,76,null,null,null,null,null,null,0,null,null,76,null,null,null,null,null,null,0,null,null,76,null,null,null,null,null,null,0,null,null,76,null,null,null,null,null,null,0,null,null,76,null,null,null,null,null,null,0,null,null,76,null,null,null,null,null,null,0,null,null,76,null,null,null,null,null,null,0,null,null,76,null,null,null,null,null,null,0,null,null,76,null,null,null,null,null,null,0,null,null,76,null,null,null,null,null,null,0,null,null,76,null,null,null,null,null,null,0,null,null,76,null,null,null,null,null,null,0,null,null,76,null,null,null,null,null,null,0,null,null,76,null,null,null,null,null,null,0,null,null,76,null,null,null,null,null,null,0,null,null,76,null,null,null,null,null,null,0,null,null,76,null,null,null,null,null,null,0,null,null,76,null,null,null,null,null,null,0,null,null,76,null,null,null,null,null,null,0,null,null,76,null,null,null,null,null,null,0,null,null,76,null,null,null,null,null,null,0,null,null,76,null,null,null,null,null,null,0,null,null,76,null,null,null,null,null,null,0,null,null,76,null,null,null,null,null,null,0,null,null,76,null,null,null,null,null,null,0,null,null,76,null,null,null,null,null,null,0,null,null,76,null,null,null,null,null,null,0,null,null,76,null,null,null,null,null,null,0,null,null,76,null,null,null,null,null,null,0,null,null,76,null,null,null,null,null,null,0,null,null,76,null,null,null,null,null,null,0,null,null,76,null,null,null,null,null,null,0,null,null,76,null,null,null,null,null,null,0,null,null,76,null,null,null,null,null,null,0,null,null,76,null,null,null,null,null,null,0,null,null,76,null,null,null,null,null,null,0]
[null,87,null,null,null,null,null,null,0,null,null,87,null,null,null,null,null,null,0,null,null,87,null,null,null,null,null,null,0,null,null,87,null,null,null,null,null,null,0,null,null,87,null,null,null,null,null,null,0,null,null,87,null,null,null,null,null,null,0,null,null,87,null,null,null,null,null,null,0,null,null,87,null,null,null,null,null,null,0,null,null,87,null,null,null,null,null,null,0,null,null,87,null,null,null,null,null,null,0,null,null,87,null,null,null,null,null,null,0,null,null,87,null,null,null,null,null,null,0,null,null,87,null,null,null,null,null,null,0,null,null,87,null,null,null,null,null,null,0,null,null,87,null,null,null,null,null,null,0,null,null,87,null,null,null,null,null,null,0,null,null,87,null,null,null,null,null,null,0,null,null,87,null,null,null,null,null,null,0,null,null,87,null,null,null,null,null,null,0,null,null,87,null,null,null,null,null,null,0,null,null,87,null,null,null,null,null,null,0,null,null,87,null,null,null,null,null,null,0,null,null,87,null,null,null,null,null,null,0,null,null,87,null,null,null,null,null,null,0,null,null,87,null,null,null,null,null,null,0,null,null,87,null,null,null,null,null,null,0,null,null,87,null,null,null,null,null,null,0,null,null,87,null,null,null,null,null,null,null,null,null,87,null,null,null,null,null,null,0,null,null,87,null,null,null,null,null,null,0,null,null,87,null,null,null,null,null,null,0,null,null,87,null,null,null,null,null,null,0,null,null,87,null,null,null,null,null,null,0,null,null,87,null,null,null,null,null,null,0,null,null,87,null,null,null,null,null,null,0,null,null,87,null,null,null,null,null,null,0,null,null,87,null,null,null,null,null,null,0,null,null,87,null,null,null,null,null,null,0,null,null,87,null,null,null,null,null,null,0,null,null,87,null,null,null,null,null,null,0,null,null,87,null,null,null,null,null,null,0,null,null,87,null,null,null,null,null,null,0,null,null,87,null,null,null,null,null,null,0,null,null,87,null,null,null,null,null,null,0,null,null,87,null,null,null,null,null,null,0,null,null,87,null,null,null,null,null,null,0,null,null,87,null,null,null,null,null,null,0,null,null,87,null,null,null,null,null,null,0,null,null,87,null,null,null,null,null,null,0,null,null,87,null,null,null,null,null,null,0,null,null,87,null,null,null,null,null,null,0,null,null,87,null,null,null,null,null,null,0,null,null,87,null,null,null,null,null,null,0,null,null,87,null,null,null,null,null,null,0,null,null,87,null,null,null,null,null,null,0,null,null,87,null,null,null,null,null,null,0,null,null,87,null,null,null,null,null,null,0,null,null,87,null,null,null,null,null,null,0,null,null,87,null,null,null,null,null,null,0,null,null,87,null,null,null,null,null,null,0,null,null,87,null,null,null,null,null,null,0,null,null,87,null,null,null,null,null,null,0,null,null,87,null,null,null,null,null,null,0,null,null,87,null,null,null,null,null,null,0,null,null,87,null,null,null,null,null,null,0,null,null,87,null,null,null,null,null,null,0,null,null,87,null,null,null,null,null,null,0,null,null,87,null,null,null,null,null,null,0,null,null,87,null,null,null,null,null,null,0,null,null,87,null,null,null,null,null,null,0,null,null,87,null,null,null,null,null,null,0,null,null,87,null,null,null,null,null,null,0,null,null,87,null,null,null,null,null,null,0,null,null,87,null,null,null,null,null,null,0,null,null,87,null,null,null,null,null,null,0,null,null,87,null,null,null,null,null,null,0,null,null,87,null,null,null,null,null,null,0,null,null,87,null,null,null,null,null,null,0,null,null,87,null,null,null,null,null,null,0,null,null,87,null,null,null,null,null,null,0,null,null,87,null,null,null,null,null,null,0,null,null,87,null,null,null,null,null,null,0,null,null,87,null,null,null,null,null,null,0,null,null,87,null,null,null,null,null,null,0,null,null,87,null,null,null,null,null,null,0,null,null,87,null,null,null,null,null,null,0,null,null,87,null,null,null,null,null,null,0,null,null,87,null,null,null,null,null,null,0,null,null,87,null,null,null,null,null,null,0,null,null,87,null,null,null,null,null,null,0,null,null,87,null,null,null,null,null,null,0,null,null,87,null,null,null,null,null,null,0,null,null,87,null,null,null,null,null,null,0,null,null,87,null,null,null,null,null,null,0,null,null,87,null,null,null,null,null,null,0,null,null,87,null,null,null,null,null,null,0,null,null,87,null,null,null,null,null,null,0,null,null,87,null,null,null,null,null,null,0,null,null,87,null,null,null,null,null,null,0,null,null,87,null,null,null,null,null,null,0]
[null,109,null,null,null,null,null,null,0,null,null,109,null,null,null,null,null,null,0,null,null,109,null,null,null,null,null,null,0,null,null,109,null,null,null,null,null,null,0,null,null,109,null,null,null,null,null,null,0,null,null,109,null,null,null,null,null,null,0,null,null,109,null,null,null,null,null,null,0,null,null,109,null,null,null,null,null,null,0,null,null,109,null,null,null,null,null,null,0,null,null,109,null,null,null,null,null,null,0,null,null,109,null,null,null,null,null,null,0,null,null,109,null,null,null,null,null,null,0,null,null,109,null,null,null,null,null,null,0,null,null,109,null,null,null,null,null,null,0,null,null,109,null,null,null,null,null,null,0,null,null,109,null,null,null,null,null,null,0,null,null,109,null,null,null,null,null,null,0,null,null,109,null,null,null,null,null,null,0,null,null,109,null,null,null,null,null,null,0,null,null,109,null,null,null,null,null,null,0,null,null,109,null,null,null,null,null,null,0,null,null,109,null,null,null,null,null,null,0,null,null,109,null,null,null,null,null,null,0,null,null,109,null,null,null,null,null,null,0,null,null,109,null,null,null,null,null,null,0,null,null,109,null,null,null,null,null,null,0,null,null,109,null,null,null,null,null,null,0,null,null,109,null,null,null,null,null,null,null,null,null,109,null,null,null,null,null,null,0,null,null,109,null,null,null,null,null,null,0,null,null,109,null,null,null,null,null,null,0,null,null,109,null,null,null,null,null,null,0,null,null,109,null,null,null,null,null,null,0,null,null,109,null,null,null,null,null,null,0,null,null,109,null,null,null,null,null,null,0,null,null,109,null,null,null,null,null,null,0,null,null,109,null,null,null,null,null,null,0,null,null,109,null,null,null,null,null,null,0,null,null,109,null,null,null,null,null,null,0,null,null,109,null,null,null,null,null,null,0,null,null,109,null,null,null,null,null,null,0,null,null,109,null,null,null,null,null,null,0,null,null,109,null,null,null,null,null,null,0,null,null,109,null,null,null,null,null,null,0,null,null,109,null,null,null,null,null,null,0,null,null,109,null,null,null,null,null,null,0,null,null,109,null,null,null,null,null,null,0,null,null,109,null,null,null,null,null,null,0,null,null,109,null,null,null,null,null,null,0,null,null,109,null,null,null,null,null,null,0,null,null,109,null,null,null,null,null,null,0,null,null,109,null,null,null,null,null,null,0,null,null,109,null,null,null,null,null,null,0,null,null,109,null,null,null,null,null,null,0,null,null,109,null,null,null,null,null,null,0,null,null,109,null,null,null,null,null,null,0,null,null,109,null,null,null,null,null,null,0,null,null,109,null,null,null,null,null,null,0,null,null,109,null,null,null,null,null,null,0,null,null,109,null,null,null,null,null,null,0,null,null,109,null,null,null,null,null,null,0,null,null,109,null,null,null,null,null,null,0,null,null,109,null,null,null,null,null,null,0,null,null,109,null,null,null,null,null,null,0,null,null,109,null,null,null,null,null,null,0,null,null,109,null,null,null,null,null,null,0,null,null,109,null,null,null,null,null,null,0,null,null,109,null,null,null,null,null,null,0,null,null,109,null,null,null,null,null,null,0,null,null,109,null,null,null,null,null,null,0,null,null,109,null,null,null,null,null,null,0,null,null,109,null,null,null,null,null,null,0,null,null,109,null,null,null,null,null,null,0,null,null,109,null,null,null,null,null,null,0,null,null,109,null,null,null,null,null,null,0,null,null,109,null,null,null,null,null,null,0,null,null,109,null,null,null,null,null,null,0,null,null,109,null,null,null,null,null,null,0,null,null,109,null,null,null,null,null,null,0,null,null,109,null,null,null,null,null,null,0,null,null,109,null,null,null,null,null,null,0,null,null,109,null,null,null,null,null,null,0,null,null,109,null,null,null,null,null,null,0,null,null,109,null,null,null,null,null,null,0,null,null,109,null,null,null,null,null,null,0,null,null,109,null,null,null,null,null,null,0,null,null,109,null,null,null,null,null,null,0,null,null,109,null,null,null,null,null,null,0,null,null,109,null,null,null,null,null,null,0,null,null,109,null,null,null,null,null,null,0,null,null,109,null,null,null,null,null,null,0,null,null,109,null,null,null,null,null,null,0,null,null,109,null,null,null,null,null,null,0,null,null,109,null,null,null,null,null,null,0,null,null,109,null,null,null,null,null,null,0,null,null,109,null,null,null,null,null,null,0,null,null,109,null,null,null,null,null,null,0,null,null,109,null,null,null,null,null,null,0,null,null,109,null,null,null,null,null,null,0,null,null,109,null,null,null,null,null,null,0]
[null,143,null,null,null,null,null,null,0,null,null,143,null,null,null,null,null,null,0,null,null,143,null,null,null,null,null,null,0,null,null,143,null,null,null,null,null,null,0,null,null,143,null,null,null,null,null,null,0,null,null,143,null,null,null,null,null,null,0,null,null,143,null,null,null,null,null,null,0,null,null,143,null,null,null,null,null,null,0,null,null,143,null,null,null,null,null,null,0,null,null,143,null,null,null,null,null,null,0,null,null,143,null,null,null,null,null,null,0,null,null,143,null,null,null,null,null,null,0,null,null,143,null,null,null,null,null,null,0,null,null,143,null,null,null,null,null,null,0,null,null,143,null,null,null,null,null,null,0,null,null,143,null,null,null,null,null,null,0,null,null,143,null,null,null,null,null,null,0,null,null,143,null,null,null,null,null,null,0,null,null,143,null,null,null,null,null,null,0,null,null,143,null,null,null,null,null,null,0,null,null,143,null,null,null,null,null,null,0,null,null,143,null,null,null,null,null,null,0,null,null,143,null,null,null,null,null,null,0,null,null,143,null,null,null,null,null,null,0,null,null,143,null,null,null,null,null,null,0,null,null,143,null,null,null,null,null,null,0,null,null,143,null,null,null,null,null,null,0,null,null,143,null,null,null,null,null,null,null,null,null,143,null,null,null,null,null,null,0,null,null,143,null,null,null,null,null,null,0,null,null,143,null,null,null,null,null,null,0,null,null,143,null,null,null,null,null,null,0,null,null,143,null,null,null,null,null,null,0,null,null,143,null,null,null,null,null,null,0,null,null,143,null,null,null,null,null,null,0,null,null,143,null,null,null,null,null,null,0,null,null,143,null,null,null,null,null,null,0,null,null,143,null,null,null,null,null,null,0,null,null,143,null,null,null,null,null,null,0,null,null,143,null,null,null,null,null,null,0,null,null,143,null,null,null,null,null,null,0,null,null,143,null,null,null,null,null,null,0,null,null,143,null,null,null,null,null,null,0,null,null,143,null,null,null,null,null,null,0,null,null,143,null,null,null,null,null,null,0,null,null,143,null,null,null,null,null,null,0,null,null,143,null,null,null,null,null,null,0,null,null,143,null,null,null,null,null,null,0,null,null,143,null,null,null,null,null,null,0,null,null,143,null,null,null,null,null,null,0,null,null,143,null,null,null,null,null,null,0,null,null,143,null,null,null,null,null,null,0,null,null,143,null,null,null,null,null,null,0,null,null,143,null,null,null,null,null,null,0,null,null,143,null,null,null,null,null,null,0,null,null,143,null,null,null,null,null,null,0,null,null,143,null,null,null,null,null,null,0,null,null,143,null,null,null,null,null,null,0,null,null,143,null,null,null,null,null,null,0,null,null,143,null,null,null,null,null,null,0,null,null,143,null,null,null,null,null,null,0,null,null,143,null,null,null,null,null,null,0,null,null,143,null,null,null,null,null,null,0,null,null,143,null,null,null,null,null,null,0,null,null,143,null,null,null,null,null,null,0,null,null,143,null,null,null,null,null,null,0,null,null,143,null,null,null,null,null,null,0,null,null,143,null,null,null,null,null,null,0,null,null,143,null,null,null,null,null,null,0,null,null,143,null,null,null,null,null,null,0,null,null,143,null,null,null,null,null,null,0,null,null,143,null,null,null,null,null,null,0,null,null,143,null,null,null,null,null,null,0,null,null,143,null,null,null,null,null,null,0,null,null,143,null,null,null,null,null,null,0,null,null,143,null,null,null,null,null,null,0,null,null,143,null,null,null,null,null,null,0,null,null,143,null,null,null,null,null,null,0,null,null,143,null,null,null,null,null,null,0,null,null,143,null,null,null,null,null,null,0,null,null,143,null,null,null,null,null,null,0,null,null,143,null,null,null,null,null,null,0,null,null,143,null,null,null,null,null,null,0,null,null,143,null,null,null,null,null,null,0,null,null,143,null,null,null,null,null,null,0,null,null,143,null,null,null,null,null,null,0,null,null,143,null,null,null,null,null,null,0,null,null,143,null,null,null,null,null,null,0,null,null,143,null,null,null,null,null,null,0,null,null,143,null,null,null,null,null,null,0,null,null,143,null,null,null,null,null,null,0,null,null,143,null,null,null,null,null,null,0,null,null,143,null,null,null,null,null,null,0,null,null,143,null,null,null,null,null,null,0,null,null,143,null,null,null,null,null,null,0,null,null,143,null,null,null,null,null,null,0,null,null,143,null,null,null,null,null,null,0,null,null,143,null,null,null,null,null,null,0,null,null,143,null,null,null,null,null,null,0,null,null,143,null,null,null,null,null,null,0]
[null,165,null,null,null,null,null,null,0,null,null,165,null,null,null,null,null,null,0,null,null,165,null,null,null,null,null,null,0,null,null,165,null,null,null,null,null,null,0,null,null,165,null,null,null,null,null,null,0,null,null,165,null,null,null,null,null,null,0,null,null,165,null,null,null,null,null,null,0,null,null,165,null,null,null,null,null,null,0,null,null,165,null,null,null,null,null,null,0,null,null,165,null,null,null,null,null,null,0,null,null,165,null,null,null,null,null,null,0,null,null,165,null,null,null,null,null,null,0,null,null,165,null,null,null,null,null,null,0,null,null,165,null,null,null,null,null,null,0,null,null,165,null,null,null,null,null,null,0,null,null,165,null,null,null,null,null,null,0,null,null,165,null,null,null,null,null,null,0,null,null,165,null,null,null,null,null,null,0,null,null,165,null,null,null,null,null,null,0,null,null,165,null,null,null,null,null,null,0,null,null,165,null,null,null,null,null,null,0,null,null,165,null,null,null,null,null,null,0,null,null,165,null,null,null,null,null,null,0,null,null,165,null,null,null,null,null,null,0,null,null,165,null,null,null,null,null,null,0,null,null,165,null,null,null,null,null,null,0,null,null,165,null,null,null,null,null,null,0,null,null,165,null,null,null,null,null,null,null,null,null,165,null,null,null,null,null,null,0,null,null,165,null,null,null,null,null,null,0,null,null,165,null,null,null,null,null,null,0,null,null,165,null,null,null,null,null,null,0,null,null,165,null,null,null,null,null,null,0,null,null,165,null,null,null,null,null,null,0,null,null,165,null,null,null,null,null,null,0,null,null,165,null,null,null,null,null,null,0,null,null,165,null,null,null,null,null,null,0,null,null,165,null,null,null,null,null,null,0,null,null,165,null,null,null,null,null,null,0,null,null,165,null,null,null,null,null,null,0,null,null,165,null,null,null,null,null,null,0,null,null,165,null,null,null,null,null,null,0,null,null,165,null,null,null,null,null,null,0,null,null,165,null,null,null,null,null,null,0,null,null,165,null,null,null,null,null,null,0,null,null,165,null,null,null,null,null,null,0,null,null,165,null,null,null,null,null,null,0,null,null,165,null,null,null,null,null,null,0,null,null,165,null,null,null,null,null,null,0,null,null,165,null,null,null,null,null,null,0,null,null,165,null,null,null,null,null,null,0,null,null,165,null,null,null,null,null,null,0,null,null,165,null,null,null,null,null,null,0,null,null,165,null,null,null,null,null,null,0,null,null,165,null,null,null,null,null,null,0,null,null,165,null,null,null,null,null,null,0,null,null,165,null,null,null,null,null,null,0,null,null,165,null,null,null,null,null,null,0,null,null,165,null,null,null,null,null,null,0,null,null,165,null,null,null,null,null,null,0,null,null,165,null,null,null,null,null,null,0,null,null,165,null,null,null,null,null,null,0,null,null,165,null,null,null,null,null,null,0,null,null,165,null,null,null,null,null,null,0,null,null,165,null,null,null,null,null,null,0,null,null,165,null,null,null,null,null,null,0,null,null,165,null,null,null,null,null,null,0,null,null,165,null,null,null,null,null,null,0,null,null,165,null,null,null,null,null,null,0,null,null,165,null,null,null,null,null,null,0,null,null,165,null,null,null,null,null,null,0,null,null,165,null,null,null,null,null,null,0,null,null,165,null,null,null,null,null,null,0,null,null,165,null,null,null,null,null,null,0,null,null,165,null,null,null,null,null,null,0,null,null,165,null,null,null,null,null,null,0,null,null,165,null,null,null,null,null,null,0,null,null,165,null,null,null,null,null,null,0,null,null,165,null,null,null,null,null,null,0,null,null,165,null,null,null,null,null,null,0,null,null,165,null,null,null,null,null,null,0,null,null,165,null,null,null,null,null,null,0,null,null,165,null,null,null,null,null,null,0,null,null,165,null,null,null,null,null,null,0,null,null,165,null,null,null,null,null,null,0,null,null,165,null,null,null,null,null,null,0,null,null,165,null,null,null,null,null,null,0,null,null,165,null,null,null,null,null,null,0,null,null,165,null,null,null,null,null,null,0,null,null,165,null,null,null,null,null,null,0,null,null,165,null,null,null,null,null,null,0,null,null,165,null,null,null,null,null,null,0,null,null,165,null,null,null,null,null,null,0,null,null,165,null,null,null,null,null,null,0,null,null,165,null,null,null,null,null,null,0,null,null,165,null,null,null,null,null,null,0,null,null,165,null,null,null,null,null,null,0,null,null,165,null,null,null,null,null,null,0,null,null,165,null,null,null,null,null,null,0,null,null,165,null,null,null,null,null,null,0]
[null,189,null,null,null,null,null,null,0,null,null,189,null,null,null,null,null,null,0,null,null,189,null,null,null,null,null,null,0,null,null,189,null,null,null,null,null,null,0,null,null,189,null,null,null,null,null,null,0,null,null,189,null,null,null,null,null,null,0,null,null,189,null,null,null,null,null,null,0,null,null,189,null,null,null,null,null,null,0,null,null,189,null,null,null,null,null,null,0,null,null,189,null,null,null,null,null,null,0,null,null,189,null,null,null,null,null,null,0,null,null,189,null,null,null,null,null,null,0,null,null,189,null,null,null,null,null,null,0,null,null,189,null,null,null,null,null,null,0,null,null,189,null,null,null,null,null,null,0,null,null,189,null,null,null,null,null,null,0,null,null,189,null,null,null,null,null,null,0,null,null,189,null,null,null,null,null,null,0,null,null,189,null,null,null,null,null,null,0,null,null,189,null,null,null,null,null,null,0,null,null,189,null,null,null,null,null,null,0,null,null,189,null,null,null,null,null,null,0,null,null,189,null,null,null,null,null,null,0,null,null,189,null,null,null,null,null,null,0,null,null,189,null,null,null,null,null,null,0,null,null,189,null,null,null,null,null,null,0,null,null,189,null,null,null,null,null,null,0,null,null,189,null,null,null,null,null,null,null,null,null,189,null,null,null,null,null,null,0,null,null,189,null,null,null,null,null,null,0,null,null,189,null,null,null,null,null,null,0,null,null,189,null,null,null,null,null,null,0,null,null,189,null,null,null,null,null,null,0,null,null,189,null,null,null,null,null,null,0,null,null,189,null,null,null,null,null,null,0,null,null,189,null,null,null,null,null,null,0,null,null,189,null,null,null,null,null,null,0,null,null,189,null,null,null,null,null,null,0,null,null,189,null,null,null,null,null,null,0,null,null,189,null,null,null,null,null,null,0,null,null,189,null,null,null,null,null,null,0,null,null,189,null,null,null,null,null,null,0,null,null,189,null,null,null,null,null,null,0,null,null,189,null,null,null,null,null,null,0,null,null,189,null,null,null,null,null,null,0,null,null,189,null,null,null,null,null,null,0,null,null,189,null,null,null,null,null,null,0,null,null,189,null,null,null,null,null,null,0,null,null,189,null,null,null,null,null,null,0,null,null,189,null,null,null,null,null,null,0,null,null,189,null,null,null,null,null,null,0,null,null,189,null,null,null,null,null,null,0,null,null,189,null,null,null,null,null,null,0,null,null,189,null,null,null,null,null,null,0,null,null,189,null,null,null,null,null,null,0,null,null,189,null,null,null,null,null,null,0,null,null,189,null,null,null,null,null,null,0,null,null,189,null,null,null,null,null,null,0,null,null,189,null,null,null,null,null,null,0,null,null,189,null,null,null,null,null,null,0,null,null,189,null,null,null,null,null,null,0,null,null,189,null,null,null,null,null,null,0,null,null,189,null,null,null,null,null,null,0,null,null,189,null,null,null,null,null,null,0,null,null,189,null,null,null,null,null,null,0,null,null,189,null,null,null,null,null,null,0,null,null,189,null,null,null,null,null,null,0,null,null,189,null,null,null,null,null,null,0,null,null,189,null,null,null,null,null,null,0,null,null,189,null,null,null,null,null,null,0,null,null,189,null,null,null,null,null,null,0,null,null,189,null,null,null,null,null,null,0,null,null,189,null,null,null,null,null,null,0,null,null,189,null,null,null,null,null,null,0,null,null,189,null,null,null,null,null,null,0,null,null,189,null,null,null,null,null,null,0,null,null,189,null,null,null,null,null,null,0,null,null,189,null,null,null,null,null,null,0,null,null,189,null,null,null,null,null,null,0,null,null,189,null,null,null,null,null,null,0,null,null,189,null,null,null,null,null,null,0,null,null,189,null,null,null,null,null,null,0,null,null,189,null,null,null,null,null,null,0,null,null,189,null,null,null,null,null,null,0,null,null,189,null,null,null,null,null,null,0,null,null,189,null,null,null,null,null,null,0,null,null,189,null,null,null,null,null,null,0,null,null,189,null,null,null,null,null,null,0,null,null,189,null,null,null,null,null,null,0,null,null,189,null,null,null,null,null,null,0,null,null,189,null,null,null,null,null,null,0,null,null,189,null,null,null,null,null,null,0,null,null,189,null,null,null,null,null,null,0,null,null,189,null,null,null,null,null,null,0,null,null,189,null,null,null,null,null,null,0,null,null,189,null,null,null,null,null,null,0,null,null,189,null,null,null,null,null,null,0,null,null,189,null,null,null,null,null,null,0,null,null,189,null,null,null,null,null,null,0,null,null,189,null,null,null,null,null,null,0]
[null,220,null,null,null,null,null,null,0,null,null,220,null,null,null,null,null,null,0,null,null,220,null,null,null,null,null,null,0,null,null,220,null,null,null,null,null,null,0,null,null,220,null,null,null,null,null,null,0,null,null,220,null,null,null,null,null,null,0,null,null,220,null,null,null,null,null,null,0,null,null,220,null,null,null,null,null,null,0,null,null,220,null,null,null,null,null,null,0,null,null,220,null,null,null,null,null,null,0,null,null,220,null,null,null,null,null,null,0,null,null,220,null,null,null,null,null,null,0,null,null,220,null,null,null,null,null,null,0,null,null,220,null,null,null,null,null,null,0,null,null,220,null,null,null,null,null,null,0,null,null,220,null,null,null,null,null,null,0,null,null,220,null,null,null,null,null,null,0,null,null,220,null,null,null,null,null,null,0,null,null,220,null,null,null,null,null,null,0,null,null,220,null,null,null,null,null,null,0,null,null,220,null,null,null,null,null,null,0,null,null,220,null,null,null,null,null,null,0,null,null,220,null,null,null,null,null,null,0,null,null,220,null,null,null,null,null,null,0,null,null,220,null,null,null,null,null,null,0,null,null,220,null,null,null,null,null,null,0,null,null,220,null,null,null,null,null,null,0,null,null,220,null,null,null,null,null,null,null,null,null,220,null,null,null,null,null,null,0,null,null,220,null,null,null,null,null,null,0,null,null,220,null,null,null,null,null,null,0,null,null,220,null,null,null,null,null,null,0,null,null,220,null,null,null,null,null,null,0,null,null,220,null,null,null,null,null,null,0,null,null,220,null,null,null,null,null,null,0,null,null,220,null,null,null,null,null,null,0,null,null,220,null,null,null,null,null,null,0,null,null,220,null,null,null,null,null,null,0,null,null,220,null,null,null,null,null,null,0,null,null,220,null,null,null,null,null,null,0,null,null,220,null,null,null,null,null,null,0,null,null,220,null,null,null,null,null,null,0,null,null,220,null,null,null,null,null,null,0,null,null,220,null,null,null,null,null,null,0,null,null,220,null,null,null,null,null,null,0,null,null,220,null,null,null,null,null,null,0,null,null,220,null,null,null,null,null,null,0,null,null,220,null,null,null,null,null,null,0,null,null,220,null,null,null,null,null,null,0,null,null,220,null,null,null,null,null,null,0,null,null,220,null,null,null,null,null,null,0,null,null,220,null,null,null,null,null,null,0,null,null,220,null,null,null,null,null,null,0,null,null,220,null,null,null,null,null,null,0,null,null,220,null,null,null,null,null,null,0,null,null,220,null,null,null,null,null,null,0,null,null,220,null,null,null,null,null,null,0,null,null,220,null,null,null,null,null,null,0,null,null,220,null,null,null,null,null,null,0,null,null,220,null,null,null,null,null,null,0,null,null,220,null,null,null,null,null,null,0,null,null,220,null,null,null,null,null,null,0,null,null,220,null,null,null,null,null,null,0,null,null,220,null,null,null,null,null,null,0,null,null,220,null,null,null,null,null,null,0,null,null,220,null,null,null,null,null,null,0,null,null,220,null,null,null,null,null,null,0,null,null,220,null,null,null,null,null,null,0,null,null,220,null,null,null,null,null,null,0,null,null,220,null,null,null,null,null,null,0,null,null,220,null,null,null,null,null,null,0,null,null,220,null,null,null,null,null,null,0,null,null,220,null,null,null,null,null,null,0,null,null,220,null,null,null,null,null,null,0,null,null,220,null,null,null,null,null,null,0,null,null,220,null,null,null,null,null,null,0,null,null,220,null,null,null,null,null,null,0,null,null,220,null,null,null,null,null,null,0,null,null,220,null,null,null,null,null,null,0,null,null,220,null,null,null,null,null,null,0,null,null,220,null,null,null,null,null,null,0,null,null,220,null,null,null,null,null,null,0,null,null,220,null,null,null,null,null,null,0,null,null,220,null,null,null,null,null,null,0,null,null,220,null,null,null,null,null,null,0,null,null,220,null,null,null,null,null,null,0,null,null,220,null,null,null,null,null,null,0,null,null,220,null,null,null,null,null,null,0,null,null,220,null,null,null,null,null,null,0,null,null,220,null,null,null,null,null,null,0,null,null,220,null,null,null,null,null,null,0,null,null,220,null,null,null,null,null,null,0,null,null,220,null,null,null,null,null,null,0,null,null,220,null,null,null,null,null,null,0,null,null,220,null,null,null,null,null,null,0,null,null,220,null,null,null,null,null,null,0,null,null,220,null,null,null,null,null,null,0,null,null,220,null,null,null,null,null,null,0,null,null,220,null,null,null,null,null,null,0,null,null,220,null,null,null,null,null,null,0]
[null,242,null,null,null,null,null,null,0,null,null,242,null,null,null,null,null,null,0,null,null,242,null,null,null,null,null,null,0,null,null,242,null,null,null,null,null,null,0,null,null,242,null,null,null,null,null,null,0,null,null,242,null,null,null,null,null,null,0,null,null,242,null,null,null,null,null,null,0,null,null,242,null,null,null,null,null,null,0,null,null,242,null,null,null,null,null,null,0,null,null,242,null,null,null,null,null,null,0,null,null,242,null,null,null,null,null,null,0,null,null,242,null,null,null,null,null,null,0,null,null,242,null,null,null,null,null,null,0,null,null,242,null,null,null,null,null,null,0,null,null,242,null,null,null,null,null,null,0,null,null,242,null,null,null,null,null,null,0,null,null,242,null,null,null,null,null,null,0,null,null,242,null,null,null,null,null,null,0,null,null,242,null,null,null,null,null,null,0,null,null,242,null,null,null,null,null,null,0,null,null,242,null,null,null,null,null,null,0,null,null,242,null,null,null,null,null,null,0,null,null,242,null,null,null,null,null,null,0,null,null,242,null,null,null,null,null,null,0,null,null,242,null,null,null,null,null,null,0,null,null,242,null,null,null,null,null,null,0,null,null,242,null,null,null,null,null,null,0,null,null,242,null,null,null,null,null,null,null,null,null,242,null,null,null,null,null,null,0,null,null,242,null,null,null,null,null,null,0,null,null,242,null,null,null,null,null,null,0,null,null,242,null,null,null,null,null,null,0,null,null,242,null,null,null,null,null,null,0,null,null,242,null,null,null,null,null,null,0,null,null,242,null,null,null,null,null,null,0,null,null,242,null,null,null,null,null,null,0,null,null,242,null,null,null,null,null,null,0,null,null,242,null,null,null,null,null,null,0,null,null,242,null,null,null,null,null,null,0,null,null,242,null,null,null,null,null,null,0,null,null,242,null,null,null,null,null,null,0,null,null,242,null,null,null,null,null,null,0,null,null,242,null,null,null,null,null,null,0,null,null,242,null,null,null,null,null,null,0,null,null,242,null,null,null,null,null,null,0,null,null,242,null,null,null,null,null,null,0,null,null,242,null,null,null,null,null,null,0,null,null,242,null,null,null,null,null,null,0,null,null,242,null,null,null,null,null,null,0,null,null,242,null,null,null,null,null,null,0,null,null,242,null,null,null,null,null,null,0,null,null,242,null,null,null,null,null,null,0,null,null,242,null,null,null,null,null,null,0,null,null,242,null,null,null,null,null,null,0,null,null,242,null,null,null,null,null,null,0,null,null,242,null,null,null,null,null,null,0,null,null,242,null,null,null,null,null,null,0,null,null,242,null,null,null,null,null,null,0,null,null,242,null,null,null,null,null,null,0,null,null,242,null,null,null,null,null,null,0,null,null,242,null,null,null,null,null,null,0,null,null,242,null,null,null,null,null,null,0,null,null,242,null,null,null,null,null,null,0,null,null,242,null,null,null,null,null,null,0,null,null,242,null,null,null,null,null,null,0,null,null,242,null,null,null,null,null,null,0,null,null,242,null,null,null,null,null,null,0,null,null,242,null,null,null,null,null,null,0,null,null,242,null,null,null,null,null,null,0,null,null,242,null,null,null,null,null,null,0,null,null,242,null,null,null,null,null,null,0,null,null,242,null,null,null,null,null,null,0,null,null,242,null,null,null,null,null,null,0,null,null,242,null,null,null,null,null,null,0,null,null,242,null,null,null,null,null,null,0,null,null,242,null,null,null,null,null,null,0,null,null,242,null,null,null,null,null,null,0,null,null,242,null,null,null,null,null,null,0,null,null,242,null,null,null,null,null,null,0,null,null,242,null,null,null,null,null,null,0,null,null,242,null,null,null,null,null,null,0,null,null,242,null,null,null,null,null,null,0,null,null,242,null,null,null,null,null,null,0,null,null,242,null,null,null,null,null,null,0,null,null,242,null,null,null,null,null,null,0,null,null,242,null,null,null,null,null,null,0,null,null,242,null,null,null,null,null,null,0,null,null,242,null,null,null,null,null,null,0,null,null,242,null,null,null,null,null,null,0,null,null,242,null,null,null,null,null,null,0,null,null,242,null,null,null,null,null,null,0,null,null,242,null,null,null,null,null,null,0,null,null,242,null,null,null,null,null,null,0,null,null,242,null,null,null,null,null,null,0,null,null,242,null,null,null,null,null,null,0,null,null,242,null,null,null,null,null,null,0,null,null,242,null,null,null,null,null,null,0,null,null,242,null,null,null,null,null,null,0,null,null,242,null,null,null,null,null,null,0,null,null,242,null,null,null,null,null,null,0]
[null,264,null,null,null,null,null,null,0,null,null,264,null,null,null,null,null,null,0,null,null,264,null,null,null,null,null,null,0,null,null,264,null,null,null,null,null,null,0,null,null,264,null,null,null,null,null,null,0,null,null,264,null,null,null,null,null,null,0,null,null,264,null,null,null,null,null,null,0,null,null,264,null,null,null,null,null,null,0,null,null,264,null,null,null,null,null,null,0,null,null,264,null,null,null,null,null,null,0,null,null,264,null,null,null,null,null,null,0,null,null,264,null,null,null,null,null,null,0,null,null,264,null,null,null,null,null,null,0,null,null,264,null,null,null,null,null,null,0,null,null,264,null,null,null,null,null,null,0,null,null,264,null,null,null,null,null,null,0,null,null,264,null,null,null,null,null,null,0,null,null,264,null,null,null,null,null,null,0,null,null,264,null,null,null,null,null,null,0,null,null,264,null,null,null,null,null,null,0,null,null,264,null,null,null,null,null,null,0,null,null,264,null,null,null,null,null,null,0,null,null,264,null,null,null,null,null,null,0,null,null,264,null,null,null,null,null,null,0,null,null,264,null,null,null,null,null,null,0,null,null,264,null,null,null,null,null,null,0,null,null,264,null,null,null,null,null,null,0,null,null,264,null,null,null,null,null,null,null,null,null,264,null,null,null,null,null,null,0,null,null,264,null,null,null,null,null,null,0,null,null,264,null,null,null,null,null,null,0,null,null,264,null,null,null,null,null,null,0,null,null,264,null,null,null,null,null,null,0,null,null,264,null,null,null,null,null,null,0,null,null,264,null,null,null,null,null,null,0,null,null,264,null,null,null,null,null,null,0,null,null,264,null,null,null,null,null,null,0,null,null,264,null,null,null,null,null,null,0,null,null,264,null,null,null,null,null,null,0,null,null,264,null,null,null,null,null,null,0,null,null,264,null,null,null,null,null,null,0,null,null,264,null,null,null,null,null,null,0,null,null,264,null,null,null,null,null,null,0,null,null,264,null,null,null,null,null,null,0,null,null,264,null,null,null,null,null,null,0,null,null,264,null,null,null,null,null,null,0,null,null,264,null,null,null,null,null,null,0,null,null,264,null,null,null,null,null,null,0,null,null,264,null,null,null,null,null,null,0,null,null,264,null,null,null,null,null,null,0,null,null,264,null,null,null,null,null,null,0,null,null,264,null,null,null,null,null,null,0,null,null,264,null,null,null,null,null,null,0,null,null,264,null,null,null,null,null,null,0,null,null,264,null,null,null,null,null,null,0,null,null,264,null,null,null,null,null,null,0,null,null,264,null,null,null,null,null,null,0,null,null,264,null,null,null,null,null,null,0,null,null,264,null,null,null,null,null,null,0,null,null,264,null,null,null,null,null,null,0,null,null,264,null,null,null,null,null,null,0,null,null,264,null,null,null,null,null,null,0,null,null,264,null,null,null,null,null,null,0,null,null,264,null,null,null,null,null,null,0,null,null,264,null,null,null,null,null,null,0,null,null,264,null,null,null,null,null,null,0,null,null,264,null,null,null,null,null,null,0,null,null,264,null,null,null,null,null,null,0,null,null,264,null,null,null,null,null,null,0,null,null,264,null,null,null,null,null,null,0,null,null,264,null,null,null,null,null,null,0,null,null,264,null,null,null,null,null,null,0,null,null,264,null,null,null,null,null,null,0,null,null,264,null,null,null,null,null,null,0,null,null,264,null,null,null,null,null,null,0,null,null,264,null,null,null,null,null,null,0,null,null,264,null,null,null,null,null,null,0,null,null,264,null,null,null,null,null,null,0,null,null,264,null,null,null,null,null,null,0,null,null,264,null,null,null,null,null,null,0,null,null,264,null,null,null,null,null,null,0,null,null,264,null,null,null,null,null,null,0,null,null,264,null,null,null,null,null,null,0,null,null,264,null,null,null,null,null,null,0,null,null,264,null,null,null,null,null,null,0,null,null,264,null,null,null,null,null,null,0,null,null,264,null,null,null,null,null,null,0,null,null,264,null,null,null,null,null,null,0,null,null,264,null,null,null,null,null,null,0,null,null,264,null,null,null,null,null,null,0,null,null,264,null,null,null,null,null,null,0,null,null,264,null,null,null,null,null,null,0,null,null,264,null,null,null,null,null,null,0,null,null,264,null,null,null,null,null,null,0,null,null,264,null,null,null,null,null,null,0,null,null,264,null,null,null,null,null,null,0,null,null,264,null,null,null,null,null,null,0,null,null,264,null,null,null,null,null,null,0,null,null,264,null,null,null,null,null,null,0,null,null,264,null,null,null,null,null,null,0]
[null,275,null,null,null,null,null,null,0,null,null,275,null,null,null,null,null,null,0,null,null,275,null,null,null,null,null,null,0,null,null,275,null,null,null,null,null,null,0,null,null,275,null,null,null,null,null,null,0,null,null,275,null,null,null,null,null,null,0,null,null,275,null,null,null,null,null,null,0,null,null,275,null,null,null,null,null,null,0,null,null,275,null,null,null,null,null,null,0,null,null,275,null,null,null,null,null,null,0,null,null,275,null,null,null,null,null,null,0,null,null,275,null,null,null,null,null,null,0,null,null,275,null,null,null,null,null,null,0,null,null,275,null,null,null,null,null,null,0,null,null,275,null,null,null,null,null,null,0,null,null,275,null,null,null,null,null,null,0,null,null,275,null,null,null,null,null,null,0,null,null,275,null,null,null,null,null,null,0,null,null,275,null,null,null,null,null,null,0,null,null,275,null,null,null,null,null,null,0,null,null,275,null,null,null,null,null,null,0,null,null,275,null,null,null,null,null,null,0,null,null,275,null,null,null,null,null,null,0,null,null,275,null,null,null,null,null,null,0,null,null,275,null,null,null,null,null,null,0,null,null,275,null,null,null,null,null,null,0,null,null,275,null,null,null,null,null,null,0,null,null,275,null,null,null,null,null,null,null,null,null,275,null,null,null,null,null,null,0,null,null,275,null,null,null,null,null,null,0,null,null,275,null,null,null,null,null,null,0,null,null,275,null,null,null,null,null,null,0,null,null,275,null,null,null,null,null,null,0,null,null,275,null,null,null,null,null,null,0,null,null,275,null,null,null,null,null,null,0,null,null,275,null,null,null,null,null,null,0,null,null,275,null,null,null,null,null,null,0,null,null,275,null,null,null,null,null,null,0,null,null,275,null,null,null,null,null,null,0,null,null,275,null,null,null,null,null,null,0,null,null,275,null,null,null,null,null,null,0,null,null,275,null,null,null,null,null,null,0,null,null,275,null,null,null,null,null,null,0,null,null,275,null,null,null,null,null,null,0,null,null,275,null,null,null,null,null,null,0,null,null,275,null,null,null,null,null,null,0,null,null,275,null,null,null,null,null,null,0,null,null,275,null,null,null,null,null,null,0,null,null,275,null,null,null,null,null,null,0,null,null,275,null,null,null,null,null,null,0,null,null,275,null,null,null,null,null,null,0,null,null,275,null,null,null,null,null,null,0,null,null,275,null,null,null,null,null,null,0,null,null,275,null,null,null,null,null,null,0,null,null,275,null,null,null,null,null,null,0,null,null,275,null,null,null,null,null,null,0,null,null,275,null,null,null,null,null,null,0,null,null,275,null,null,null,null,null,null,0,null,null,275,null,null,null,null,null,null,0,null,null,275,null,null,null,null,null,null,0,null,null,275,null,null,null,null,null,null,0,null,null,275,null,null,null,null,null,null,0,null,null,275,null,null,null,null,null,null,0,null,null,275,null,null,null,null,null,null,0,null,null,275,null,null,null,null,null,null,0,null,null,275,null,null,null,null,null,null,0,null,null,275,null,null,null,null,null,null,0,null,null,275,null,null,null,null,null,null,0,null,null,275,null,null,null,null,null,null,0,null,null,275,null,null,null,null,null,null,0,null,null,275,null,null,null,null,null,null,0,null,null,275,null,null,null,null,null,null,0,null,null,275,null,null,null,null,null,null,0,null,null,275,null,null,null,null,null,null,0,null,null,275,null,null,null,null,null,null,0,null,null,275,null,null,null,null,null,null,0,null,null,275,null,null,null,null,null,null,0,null,null,275,null,null,null,null,null,null,0,null,null,275,null,null,null,null,null,null,0,null,null,275,null,null,null,null,null,null,0,null,null,275,null,null,null,null,null,null,0,null,null,275,null,null,null,null,null,null,0,null,null,275,null,null,null,null,null,null,0,null,null,275,null,null,null,null,null,null,0,null,null,275,null,null,null,null,null,null,0,null,null,275,null,null,null,null,null,null,0,null,null,275,null,null,null,null,null,null,0,null,null,275,null,null,null,null,null,null,0,null,null,275,null,null,null,null,null,null,0,null,null,275,null,null,null,null,null,null,0,null,null,275,null,null,null,null,null,null,0,null,null,275,null,null,null,null,null,null,0,null,null,275,null,null,null,null,null,null,0,null,null,275,null,null,null,null,null,null,0,null,null,275,null,null,null,null,null,null,0,null,null,275,null,null,null,null,null,null,0,null,null,275,null,null,null,null,null,null,0,null,null,275,null,null,null,null,null,null,0,null,null,275,null,null,null,null,null,null,0,null,null,275,null,null,null,null,null,null,0]
[null,297,null,null,null,null,null,null,0,null,null,297,null,null,null,null,null,null,0,null,null,297,null,null,null,null,null,null,0,null,null,297,null,null,null,null,null,null,0,null,null,297,null,null,null,null,null,null,0,null,null,297,null,null,null,null,null,null,0,null,null,297,null,null,null,null,null,null,0,null,null,297,null,null,null,null,null,null,0,null,null,297,null,null,null,null,null,null,0,null,null,297,null,null,null,null,null,null,0,null,null,297,null,null,null,null,null,null,0,null,null,297,null,null,null,null,null,null,0,null,null,297,null,null,null,null,null,null,0,null,null,297,null,null,null,null,null,null,0,null,null,297,null,null,null,null,null,null,0,null,null,297,null,null,null,null,null,null,0,null,null,297,null,null,null,null,null,null,0,null,null,297,null,null,null,null,null,null,0,null,null,297,null,null,null,null,null,null,0,null,null,297,null,null,null,null,null,null,0,null,null,297,null,null,null,null,null,null,0,null,null,297,null,null,null,null,null,null,0,null,null,297,null,null,null,null,null,null,0,null,null,297,null,null,null,null,null,null,0,null,null,297,null,null,null,null,null,null,0,null,null,297,null,null,null,null,null,null,0,null,null,297,null,null,null,null,null,null,0,null,null,297,null,null,null,null,null,null,null,null,null,297,null,null,null,null,null,null,0,null,null,297,null,null,null,null,null,null,0,null,null,297,null,null,null,null,null,null,0,null,null,297,null,null,null,null,null,null,0,null,null,297,null,null,null,null,null,null,0,null,null,297,null,null,null,null,null,null,0,null,null,297,null,null,null,null,null,null,0,null,null,297,null,null,null,null,null,null,0,null,null,297,null,null,null,null,null,null,0,null,null,297,null,null,null,null,null,null,0,null,null,297,null,null,null,null,null,null,0,null,null,297,null,null,null,null,null,null,0,null,null,297,null,null,null,null,null,null,0,null,null,297,null,null,null,null,null,null,0,null,null,297,null,null,null,null,null,null,0,null,null,297,null,null,null,null,null,null,0,null,null,297,null,null,null,null,null,null,0,null,null,297,null,null,null,null,null,null,0,null,null,297,null,null,null,null,null,null,0,null,null,297,null,null,null,null,null,null,0,null,null,297,null,null,null,null,null,null,0,null,null,297,null,null,null,null,null,null,0,null,null,297,null,null,null,null,null,null,0,null,null,297,null,null,null,null,null,null,0,null,null,297,null,null,null,null,null,null,0,null,null,297,null,null,null,null,null,null,0,null,null,297,null,null,null,null,null,null,0,null,null,297,null,null,null,null,null,null,0,null,null,297,null,null,null,null,null,null,0,null,null,297,null,null,null,null,null,null,0,null,null,297,null,null,null,null,null,null,0,null,null,297,null,null,null,null,null,null,0,null,null,297,null,null,null,null,null,null,0,null,null,297,null,null,null,null,null,null,0,null,null,297,null,null,null,null,null,null,0,null,null,297,null,null,null,null,null,null,0,null,null,297,null,null,null,null,null,null,0,null,null,297,null,null,null,null,null,null,0,null,null,297,null,null,null,null,null,null,0,null,null,297,null,null,null,null,null,null,0,null,null,297,null,null,null,null,null,null,0,null,null,297,null,null,null,null,null,null,0,null,null,297,null,null,null,null,null,null,0,null,null,297,null,null,null,null,null,null,0,null,null,297,null,null,null,null,null,null,0,null,null,297,null,null,null,null,null,null,0,null,null,297,null,null,null,null,null,null,0,null,null,297,null,null,null,null,null,null,0,null,null,297,null,null,null,null,null,null,0,null,null,297,null,null,null,null,null,null,0,null,null,297,null,null,null,null,null,null,0,null,null,297,null,null,null,null,null,null,0,null,null,297,null,null,null,null,null,null,0,null,null,297,null,null,null,null,null,null,0,null,null,297,null,null,null,null,null,null,0,null,null,297,null,null,null,null,null,null,0,null,null,297,null,null,null,null,null,null,0,null,null,297,null,null,null,null,null,null,0,null,null,297,null,null,null,null,null,null,0,null,null,297,null,null,null,null,null,null,0,null,null,297,null,null,null,null,null,null,0,null,null,297,null,null,null,null,null,null,0,null,null,297,null,null,null,null,null,null,0,null,null,297,null,null,null,null,null,null,0,null,null,297,null,null,null,null,null,null,0,null,null,297,null,null,null,null,null,null,0,null,null,297,null,null,null,null,null,null,0,null,null,297,null,null,null,null,null,null,0,null,null,297,null,null,null,null,null,null,0,null,null,297,null,null,null,null,null,null,0,null,null,297,null,null,null,null,null,null,0,null,null,297,null,null,null,null,null,null,0]
[null,331,null,null,null,null,null,null,0,null,null,331,null,null,null,null,null,null,0,null,null,331,null,null,null,null,null,null,0,null,null,331,null,null,null,null,null,null,0,null,null,331,null,null,null,null,null,null,0,null,null,331,null,null,null,null,null,null,0,null,null,331,null,null,null,null,null,null,0,null,null,331,null,null,null,null,null,null,0,null,null,331,null,null,null,null,null,null,0,null,null,331,null,null,null,null,null,null,0,null,null,331,null,null,null,null,null,null,0,null,null,331,null,null,null,null,null,null,0,null,null,331,null,null,null,null,null,null,0,null,null,331,null,null,null,null,null,null,0,null,null,331,null,null,null,null,null,null,0,null,null,331,null,null,null,null,null,null,0,null,null,331,null,null,null,null,null,null,0,null,null,331,null,null,null,null,null,null,0,null,null,331,null,null,null,null,null,null,0,null,null,331,null,null,null,null,null,null,0,null,null,331,null,null,null,null,null,null,0,null,null,331,null,null,null,null,null,null,0,null,null,331,null,null,null,null,null,null,0,null,null,331,null,null,null,null,null,null,0,null,null,331,null,null,null,null,null,null,0,null,null,331,null,null,null,null,null,null,0,null,null,331,null,null,null,null,null,null,0,null,null,331,null,null,null,null,null,null,null,null,null,331,null,null,null,null,null,null,0,null,null,331,null,null,null,null,null,null,0,null,null,331,null,null,null,null,null,null,0,null,null,331,null,null,null,null,null,null,0,null,null,331,null,null,null,null,null,null,0,null,null,331,null,null,null,null,null,null,0,null,null,331,null,null,null,null,null,null,0,null,null,331,null,null,null,null,null,null,0,null,null,331,null,null,null,null,null,null,0,null,null,331,null,null,null,null,null,null,0,null,null,331,null,null,null,null,null,null,0,null,null,331,null,null,null,null,null,null,0,null,null,331,null,null,null,null,null,null,0,null,null,331,null,null,null,null,null,null,0,null,null,331,null,null,null,null,null,null,0,null,null,331,null,null,null,null,null,null,0,null,null,331,null,null,null,null,null,null,0,null,null,331,null,null,null,null,null,null,0,null,null,331,null,null,null,null,null,null,0,null,null,331,null,null,null,null,null,null,0,null,null,331,null,null,null,null,null,null,0,null,null,331,null,null,null,null,null,null,0,null,null,331,null,null,null,null,null,null,0,null,null,331,null,null,null,null,null,null,0,null,null,331,null,null,null,null,null,null,0,null,null,331,null,null,null,null,null,null,0,null,null,331,null,null,null,null,null,null,0,null,null,331,null,null,null,null,null,null,0,null,null,331,null,null,null,null,null,null,0,null,null,331,null,null,null,null,null,null,0,null,null,331,null,null,null,null,null,null,0,null,null,331,null,null,null,null,null,null,0,null,null,331,null,null,null,null,null,null,0,null,null,331,null,null,null,null,null,null,0,null,null,331,null,null,null,null,null,null,0,null,null,331,null,null,null,null,null,null,0,null,null,331,null,null,null,null,null,null,0,null,null,331,null,null,null,null,null,null,0,null,null,331,null,null,null,null,null,null,0,null,null,331,null,null,null,null,null,null,0,null,null,331,null,null,null,null,null,null,0,null,null,331,null,null,null,null,null,null,0,null,null,331,null,null,null,null,null,null,0,null,null,331,null,null,null,null,null,null,0,null,null,331,null,null,null,null,null,null,0,null,null,331,null,null,null,null,null,null,0,null,null,331,null,null,null,null,null,null,0,null,null,331,null,null,null,null,null,null,0,null,null,331,null,null,null,null,null,null,0,null,null,331,null,null,null,null,null,null,0,null,null,331,null,null,null,null,null,null,0,null,null,331,null,null,null,null,null,null,0,null,null,331,null,null,null,null,null,null,0,null,null,331,null,null,null,null,null,null,0,null,null,331,null,null,null,null,null,null,0,null,null,331,null,null,null,null,null,null,0,null,null,331,null,null,null,null,null,null,0,null,null,331,null,null,null,null,null,null,0,null,null,331,null,null,null,null,null,null,0,null,null,331,null,null,null,null,null,null,0,null,null,331,null,null,null,null,null,null,0,null,null,331,null,null,null,null,null,null,0,null,null,331,null,null,null,null,null,null,0,null,null,331,null,null,null,null,null,null,0,null,null,331,null,null,null,null,null,null,0,null,null,331,null,null,null,null,null,null,0,null,null,331,null,null,null,null,null,null,0,null,null,331,null,null,null,null,null,null,0,null,null,331,null,null,null,null,null,null,0,null,null,331,null,null,null,null,null,null,0,null,null,331,null,null,null,null,null,null,0,null,null,331,null,null,null,null,null,null,0]
[null,353,null,null,null,null,null,null,0,null,null,353,null,null,null,null,null,null,0,null,null,353,null,null,null,null,null,null,0,null,null,353,null,null,null,null,null,null,0,null,null,353,null,null,null,null,null,null,0,null,null,353,null,null,null,null,null,null,0,null,null,353,null,null,null,null,null,null,0,null,null,353,null,null,null,null,null,null,0,null,null,353,null,null,null,null,null,null,0,null,null,353,null,null,null,null,null,null,0,null,null,353,null,null,null,null,null,null,0,null,null,353,null,null,null,null,null,null,0,null,null,353,null,null,null,null,null,null,0,null,null,353,null,null,null,null,null,null,0,null,null,353,null,null,null,null,null,null,0,null,null,353,null,null,null,null,null,null,0,null,null,353,null,null,null,null,null,null,0,null,null,353,null,null,null,null,null,null,0,null,null,353,null,null,null,null,null,null,0,null,null,353,null,null,null,null,null,null,0,null,null,353,null,null,null,null,null,null,0,null,null,353,null,null,null,null,null,null,0,null,null,353,null,null,null,null,null,null,0,null,null,353,null,null,null,null,null,null,0,null,null,353,null,null,null,null,null,null,0,null,null,353,null,null,null,null,null,null,0,null,null,353,null,null,null,null,null,null,0,null,null,353,null,null,null,null,null,null,null,null,null,353,null,null,null,null,null,null,0,null,null,353,null,null,null,null,null,null,0,null,null,353,null,null,null,null,null,null,0,null,null,353,null,null,null,null,null,null,0,null,null,353,null,null,null,null,null,null,0,null,null,353,null,null,null,null,null,null,0,null,null,353,null,null,null,null,null,null,0,null,null,353,null,null,null,null,null,null,0,null,null,353,null,null,null,null,null,null,0,null,null,353,null,null,null,null,null,null,0,null,null,353,null,null,null,null,null,null,0,null,null,353,null,null,null,null,null,null,0,null,null,353,null,null,null,null,null,null,0,null,null,353,null,null,null,null,null,null,0,null,null,353,null,null,null,null,null,null,0,null,null,353,null,null,null,null,null,null,0,null,null,353,null,null,null,null,null,null,0,null,null,353,null,null,null,null,null,null,0,null,null,353,null,null,null,null,null,null,0,null,null,353,null,null,null,null,null,null,0,null,null,353,null,null,null,null,null,null,0,null,null,353,null,null,null,null,null,null,0,null,null,353,null,null,null,null,null,null,0,null,null,353,null,null,null,null,null,null,0,null,null,353,null,null,null,null,null,null,0,null,null,353,null,null,null,null,null,null,0,null,null,353,null,null,null,null,null,null,0,null,null,353,null,null,null,null,null,null,0,null,null,353,null,null,null,null,null,null,0,null,null,353,null,null,null,null,null,null,0,null,null,353,null,null,null,null,null,null,0,null,null,353,null,null,null,null,null,null,0,null,null,353,null,null,null,null,null,null,0,null,null,353,null,null,null,null,null,null,0,null,null,353,null,null,null,null,null,null,0,null,null,353,null,null,null,null,null,null,0,null,null,353,null,null,null,null,null,null,0,null,null,353,null,null,null,null,null,null,0,null,null,353,null,null,null,null,null,null,0,null,null,353,null,null,null,null,null,null,0,null,null,353,null,null,null,null,null,null,0,null,null,353,null,null,null,null,null,null,0,null,null,353,null,null,null,null,null,null,0,null,null,353,null,null,null,null,null,null,0,null,null,353,null,null,null,null,null,null,0,null,null,353,null,null,null,null,null,null,0,null,null,353,null,null,null,null,null,null,0,null,null,353,null,null,null,null,null,null,0,null,null,353,null,null,null,null,null,null,0,null,null,353,null,null,null,null,null,null,0,null,null,353,null,null,null,null,null,null,0,null,null,353,null,null,null,null,null,null,0,null,null,353,null,null,null,null,null,null,0,null,null,353,null,null,null,null,null,null,0,null,null,353,null,null,null,null,null,null,0,null,null,353,null,null,null,null,null,null,0,null,null,353,null,null,null,null,null,null,0,null,null,353,null,null,null,null,null,null,0,null,null,353,null,null,null,null,null,null,0,null,null,353,null,null,null,null,null,null,0,null,null,353,null,null,null,null,null,null,0,null,null,353,null,null,null,null,null,null,0,null,null,353,null,null,null,null,null,null,0,null,null,353,null,null,null,null,null,null,0,null,null,353,null,null,null,null,null,null,0,null,null,353,null,null,null,null,null,null,0,null,null,353,null,null,null,null,null,null,0,null,null,353,null,null,null,null,null,null,0,null,null,353,null,null,null,null,null,null,0,null,null,353,null,null,null,null,null,null,0,null,null,353,null,null,null,null,null,null,0,null,null,353,null,null,null,null,null,null,0]
[null,360,null,null,null,null,null,null,0,null,null,360,null,null,null,null,null,null,0,null,null,360,null,null,null,null,null,null,0,null,null,360,null,null,null,null,null,null,0,null,null,360,null,null,null,null,null,null,0,null,null,360,null,null,null,null,null,null,0,null,null,360,null,null,null,null,null,null,0,null,null,360,null,null,null,null,null,null,0,null,null,360,null,null,null,null,null,null,0,null,null,360,null,null,null,null,null,null,0,null,null,360,null,null,null,null,null,null,0,null,null,360,null,null,null,null,null,null,0,null,null,360,null,null,null,null,null,null,0,null,null,360,null,null,null,null,null,null,0,null,null,360,null,null,null,null,null,null,0,null,null,360,null,null,null,null,null,null,0,null,null,360,null,null,null,null,null,null,0,null,null,360,null,null,null,null,null,null,0,null,null,360,null,null,null,null,null,null,0,null,null,360,null,null,null,null,null,null,0,null,null,360,null,null,null,null,null,null,0,null,null,360,null,null,null,null,null,null,0,null,null,360,null,null,null,null,null,null,0,null,null,360,null,null,null,null,null,null,0,null,null,360,null,null,null,null,null,null,0,null,null,360,null,null,null,null,null,null,0,null,null,360,null,null,null,null,null,null,0,null,null,360,null,null,null,null,null,null,null,null,null,360,null,null,null,null,null,null,0,null,null,360,null,null,null,null,null,null,0,null,null,360,null,null,null,null,null,null,0,null,null,360,null,null,null,null,null,null,0,null,null,360,null,null,null,null,null,null,0,null,null,360,null,null,null,null,null,null,0,null,null,360,null,null,null,null,null,null,0,null,null,360,null,null,null,null,null,null,0,null,null,360,null,null,null,null,null,null,0,null,null,360,null,null,null,null,null,null,0,null,null,360,null,null,null,null,null,null,0,null,null,360,null,null,null,null,null,null,0,null,null,360,null,null,null,null,null,null,0,null,null,360,null,null,null,null,null,null,0,null,null,360,null,null,null,null,null,null,0,null,null,360,null,null,null,null,null,null,0,null,null,360,null,null,null,null,null,null,0,null,null,360,null,null,null,null,null,null,0,null,null,360,null,null,null,null,null,null,0,null,null,360,null,null,null,null,null,null,0,null,null,360,null,null,null,null,null,null,0,null,null,360,null,null,null,null,null,null,0,null,null,360,null,null,null,null,null,null,0,null,null,360,null,null,null,null,null,null,0,null,null,360,null,null,null,null,null,null,0,null,null,360,null,null,null,null,null,null,0,null,null,360,null,null,null,null,null,null,0,null,null,360,null,null,null,null,null,null,0,null,null,360,null,null,null,null,null,null,0,null,null,360,null,null,null,null,null,null,0,null,null,360,null,null,null,null,null,null,0,null,null,360,null,null,null,null,null,null,0,null,null,360,null,null,null,null,null,null,0,null,null,360,null,null,null,null,null,null,0,null,null,360,null,null,null,null,null,null,0,null,null,360,null,null,null,null,null,null,0,null,null,360,null,null,null,null,null,null,0,null,null,360,null,null,null,null,null,null,0,null,null,360,null,null,null,null,null,null,0,null,null,360,null,null,null,null,null,null,0,null,null,360,null,null,null,null,null,null,0,null,null,360,null,null,null,null,null,null,0,null,null,360,null,null,null,null,null,null,0,null,null,360,null,null,null,null,null,null,0,null,null,360,null,null,null,null,null,null,0,null,null,360,null,null,null,null,null,null,0,null,null,360,null,null,null,null,null,null,0,null,null,360,null,null,null,null,null,null,0,null,null,360,null,null,null,null,null,null,0,null,null,360,null,null,null,null,null,null,0,null,null,360,null,null,null,null,null,null,0,null,null,360,null,null,null,null,null,null,0,null,null,360,null,null,null,null,null,null,0,null,null,360,null,null,null,null,null,null,0,null,null,360,null,null,null,null,null,null,0,null,null,360,null,null,null,null,null,null,0,null,null,360,null,null,null,null,null,null,0,null,null,360,null,null,null,null,null,null,0,null,null,360,null,null,null,null,null,null,0,null,null,360,null,null,null,null,null,null,0,null,null,360,null,null,null,null,null,null,0,null,null,360,null,null,null,null,null,null,0,null,null,360,null,null,null,null,null,null,0,null,null,360,null,null,null,null,null,null,0,null,null,360,null,null,null,null,null,null,0,null,null,360,null,null,null,null,null,null,0,null,null,360,null,null,null,null,null,null,0,null,null,360,null,null,null,null,null,null,0,null,null,360,null,null,null,null,null,null,0,null,null,360,null,null,null,null,null,null,0,null,null,360,null,null,null,null,null,null,0,null,null,360,null,null,null,null,null,null,0]
[null,361,null,null,null,null,null,null,0,null,null,361,null,null,null,null,null,null,0,null,null,361,null,null,null,null,null,null,0,null,null,361,null,null,null,null,null,null,0,null,null,361,null,null,null,null,null,null,0,null,null,361,null,null,null,null,null,null,0,null,null,361,null,null,null,null,null,null,0,null,null,361,null,null,null,null,null,null,0,null,null,361,null,null,null,null,null,null,0,null,null,361,null,null,null,null,null,null,0,null,null,361,null,null,null,null,null,null,0,null,null,361,null,null,null,null,null,null,0,null,null,361,null,null,null,null,null,null,0,null,null,361,null,null,null,null,null,null,0,null,null,361,null,null,null,null,null,null,0,null,null,361,null,null,null,null,null,null,0,null,null,361,null,null,null,null,null,null,0,null,null,361,null,null,null,null,null,null,0,null,null,361,null,null,null,null,null,null,0,null,null,361,null,null,null,null,null,null,0,null,null,361,null,null,null,null,null,null,0,null,null,361,null,null,null,null,null,null,0,null,null,361,null,null,null,null,null,null,0,null,null,361,null,null,null,null,null,null,0,null,null,361,null,null,null,null,null,null,0,null,null,361,null,null,null,null,null,null,0,null,null,361,null,null,null,null,null,null,0,null,null,361,null,null,null,null,null,null,null,null,null,361,null,null,null,null,null,null,0,null,null,361,null,null,null,null,null,null,0,null,null,361,null,null,null,null,null,null,0,null,null,361,null,null,null,null,null,null,0,null,null,361,null,null,null,null,null,null,0,null,null,361,null,null,null,null,null,null,0,null,null,361,null,null,null,null,null,null,0,null,null,361,null,null,null,null,null,null,0,null,null,361,null,null,null,null,null,null,0,null,null,361,null,null,null,null,null,null,0,null,null,361,null,null,null,null,null,null,0,null,null,361,null,null,null,null,null,null,0,null,null,361,null,null,null,null,null,null,0,null,null,361,null,null,null,null,null,null,0,null,null,361,null,null,null,null,null,null,0,null,null,361,null,null,null,null,null,null,0,null,null,361,null,null,null,null,null,null,0,null,null,361,null,null,null,null,null,null,0,null,null,361,null,null,null,null,null,null,0,null,null,361,null,null,null,null,null,null,0,null,null,361,null,null,null,null,null,null,0,null,null,361,null,null,null,null,null,null,0,null,null,361,null,null,null,null,null,null,0,null,null,361,null,null,null,null,null,null,0,null,null,361,null,null,null,null,null,null,0,null,null,361,null,null,null,null,null,null,0,null,null,361,null,null,null,null,null,null,0,null,null,361,null,null,null,null,null,null,0,null,null,361,null,null,null,null,null,null,0,null,null,361,null,null,null,null,null,null,0,null,null,361,null,null,null,null,null,null,0,null,null,361,null,null,null,null,null,null,0,null,null,361,null,null,null,null,null,null,0,null,null,361,null,null,null,null,null,null,0,null,null,361,null,null,null,null,null,null,0,null,null,361,null,null,null,null,null,null,0,null,null,361,null,null,null,null,null,null,0,null,null,361,null,null,null,null,null,null,0,null,null,361,null,null,null,null,null,null,0,null,null,361,null,null,null,null,null,null,0,null,null,361,null,null,null,null,null,null,0,null,null,361,null,null,null,null,null,null,0,null,null,361,null,null,null,null,null,null,0,null,null,361,null,null,null,null,null,null,0,null,null,361,null,null,null,null,null,null,0,null,null,361,null,null,null,null,null,null,0,null,null,361,null,null,null,null,null,null,0,null,null,361,null,null,null,null,null,null,0,null,null,361,null,null,null,null,null,null,0,null,null,361,null,null,null,null,null,null,0,null,null,361,null,null,null,null,null,null,0,null,null,361,null,null,null,null,null,null,0,null,null,361,null,null,null,null,null,null,0,null,null,361,null,null,null,null,null,null,0,null,null,361,null,null,null,null,null,null,0,null,null,361,null,null,null,null,null,null,0,null,null,361,null,null,null,null,null,null,0,null,null,361,null,null,null,null,null,null,0,null,null,361,null,null,null,null,null,null,0,null,null,361,null,null,null,null,null,null,0,null,null,361,null,null,null,null,null,null,0,null,null,361,null,null,null,null,null,null,0,null,null,361,null,null,null,null,null,null,0,null,null,361,null,null,null,null,null,null,0,null,null,361,null,null,null,null,null,null,0,null,null,361,null,null,null,null,null,null,0,null,null,361,null,null,null,null,null,null,0,null,null,361,null,null,null,null,null,null,0,null,null,361,null,null,null,null,null,null,0,null,null,361,null,null,null,null,null,null,0,null,null,361,null,null,null,null,null,null,0,null,null,361,null,null,null,null,null,null,0]
[null,362,null,null,null,null,null,null,0,null,null,362,null,null,null,null,null,null,0,null,null,362,null,null,null,null,null,null,0,null,null,362,null,null,null,null,null,null,0,null,null,362,null,null,null,null,null,null,0,null,null,362,null,null,null,null,null,null,0,null,null,362,null,null,null,null,null,null,0,null,null,362,null,null,null,null,null,null,0,null,null,362,null,null,null,null,null,null,0,null,null,362,null,null,null,null,null,null,0,null,null,362,null,null,null,null,null,null,0,null,null,362,null,null,null,null,null,null,0,null,null,362,null,null,null,null,null,null,0,null,null,362,null,null,null,null,null,null,0,null,null,362,null,null,null,null,null,null,0,null,null,362,null,null,null,null,null,null,0,null,null,362,null,null,null,null,null,null,0,null,null,362,null,null,null,null,null,null,0,null,null,362,null,null,null,null,null,null,0,null,null,362,null,null,null,null,null,null,0,null,null,362,null,null,null,null,null,null,0,null,null,362,null,null,null,null,null,null,0,null,null,362,null,null,null,null,null,null,0,null,null,362,null,null,null,null,null,null,0,null,null,362,null,null,null,null,null,null,0,null,null,362,null,null,null,null,null,null,0,null,null,362,null,null,null,null,null,null,0,null,null,362,null,null,null,null,null,null,null,null,null,362,null,null,null,null,null,null,0,null,null,362,null,null,null,null,null,null,0,null,null,362,null,null,null,null,null,null,0,null,null,362,null,null,null,null,null,null,0,null,null,362,null,null,null,null,null,null,0,null,null,362,null,null,null,null,null,null,0,null,null,362,null,null,null,null,null,null,0,null,null,362,null,null,null,null,null,null,0,null,null,362,null,null,null,null,null,null,0,null,null,362,null,null,null,null,null,null,0,null,null,362,null,null,null,null,null,null,0,null,null,362,null,null,null,null,null,null,0,null,null,362,null,null,null,null,null,null,0,null,null,362,null,null,null,null,null,null,0,null,null,362,null,null,null,null,null,null,0,null,null,362,null,null,null,null,null,null,0,null,null,362,null,null,null,null,null,null,0,null,null,362,null,null,null,null,null,null,0,null,null,362,null,null,null,null,null,null,0,null,null,362,null,null,null,null,null,null,0,null,null,362,null,null,null,null,null,null,0,null,null,362,null,null,null,null,null,null,0,null,null,362,null,null,null,null,null,null,0,null,null,362,null,null,null,null,null,null,0,null,null,362,null,null,null,null,null,null,0,null,null,362,null,null,null,null,null,null,0,null,null,362,null,null,null,null,null,null,0,null,null,362,null,null,null,null,null,null,0,null,null,362,null,null,null,null,null,null,0,null,null,362,null,null,null,null,null,null,0,null,null,362,null,null,null,null,null,null,0,null,null,362,null,null,null,null,null,null,0,null,null,362,null,null,null,null,null,null,0,null,null,362,null,null,null,null,null,null,0,null,null,362,null,null,null,null,null,null,0,null,null,362,null,null,null,null,null,null,0,null,null,362,null,null,null,null,null,null,0,null,null,362,null,null,null,null,null,null,0,null,null,362,null,null,null,null,null,null,0,null,null,362,null,null,null,null,null,null,0,null,null,362,null,null,null,null,null,null,0,null,null,362,null,null,null,null,null,null,0,null,null,362,null,null,null,null,null,null,0,null,null,362,null,null,null,null,null,null,0,null,null,362,null,null,null,null,null,null,0,null,null,362,null,null,null,null,null,null,0,null,null,362,null,null,null,null,null,null,0,null,null,362,null,null,null,null,null,null,0,null,null,362,null,null,null,null,null,null,0,null,null,362,null,null,null,null,null,null,0,null,null,362,null,null,null,null,null,null,0,null,null,362,null,null,null,null,null,null,0,null,null,362,null,null,null,null,null,null,0,null,null,362,null,null,null,null,null,null,0,null,null,362,null,null,null,null,null,null,0,null,null,362,null,null,null,null,null,null,0,null,null,362,null,null,null,null,null,null,0,null,null,362,null,null,null,null,null,null,0,null,null,362,null,null,null,null,null,null,0,null,null,362,null,null,null,null,null,null,0,null,null,362,null,null,null,null,null,null,0,null,null,362,null,null,null,null,null,null,0,null,null,362,null,null,null,null,null,null,0,null,null,362,null,null,null,null,null,null,0,null,null,362,null,null,null,null,null,null,0,null,null,362,null,null,null,null,null,null,0,null,null,362,null,null,null,null,null,null,0,null,null,362,null,null,null,null,null,null,0,null,null,362,null,null,null,null,null,null,0,null,null,362,null,null,null,null,null,null,0,null,null,362,null,null,null,null,null,null,0,null,null,362,null,null,null,null,null,null,0]
[null,363,null,null,null,null,null,null,0,null,null,363,null,null,null,null,null,null,0,null,null,363,null,null,null,null,null,null,0,null,null,363,null,null,null,null,null,null,0,null,null,363,null,null,null,null,null,null,0,null,null,363,null,null,null,null,null,null,0,null,null,363,null,null,null,null,null,null,0,null,null,363,null,null,null,null,null,null,0,null,null,363,null,null,null,null,null,null,0,null,null,363,null,null,null,null,null,null,0,null,null,363,null,null,null,null,null,null,0,null,null,363,null,null,null,null,null,null,0,null,null,363,null,null,null,null,null,null,0,null,null,363,null,null,null,null,null,null,0,null,null,363,null,null,null,null,null,null,0,null,null,363,null,null,null,null,null,null,0,null,null,363,null,null,null,null,null,null,0,null,null,363,null,null,null,null,null,null,0,null,null,363,null,null,null,null,null,null,0,null,null,363,null,null,null,null,null,null,0,null,null,363,null,null,null,null,null,null,0,null,null,363,null,null,null,null,null,null,0,null,null,363,null,null,null,null,null,null,0,null,null,363,null,null,null,null,null,null,0,null,null,363,null,null,null,null,null,null,0,null,null,363,null,null,null,null,null,null,0,null,null,363,null,null,null,null,null,null,0,null,null,363,null,null,null,null,null,null,null,null,null,363,null,null,null,null,null,null,0,null,null,363,null,null,null,null,null,null,0,null,null,363,null,null,null,null,null,null,0,null,null,363,null,null,null,null,null,null,0,null,null,363,null,null,null,null,null,null,0,null,null,363,null,null,null,null,null,null,0,null,null,363,null,null,null,null,null,null,0,null,null,363,null,null,null,null,null,null,0,null,null,363,null,null,null,null,null,null,0,null,null,363,null,null,null,null,null,null,0,null,null,363,null,null,null,null,null,null,0,null,null,363,null,null,null,null,null,null,0,null,null,363,null,null,null,null,null,null,0,null,null,363,null,null,null,null,null,null,0,null,null,363,null,null,null,null,null,null,0,null,null,363,null,null,null,null,null,null,0,null,null,363,null,null,null,null,null,null,0,null,null,363,null,null,null,null,null,null,0,null,null,363,null,null,null,null,null,null,0,null,null,363,null,null,null,null,null,null,0,null,null,363,null,null,null,null,null,null,0,null,null,363,null,null,null,null,null,null,0,null,null,363,null,null,null,null,null,null,0,null,null,363,null,null,null,null,null,null,0,null,null,363,null,null,null,null,null,null,0,null,null,363,null,null,null,null,null,null,0,null,null,363,null,null,null,null,null,null,0,null,null,363,null,null,null,null,null,null,0,null,null,363,null,null,null,null,null,null,0,null,null,363,null,null,null,null,null,null,0,null,null,363,null,null,null,null,null,null,0,null,null,363,null,null,null,null,null,null,0,null,null,363,null,null,null,null,null,null,0,null,null,363,null,null,null,null,null,null,0,null,null,363,null,null,null,null,null,null,0,null,null,363,null,null,null,null,null,null,0,null,null,363,null,null,null,null,null,null,0,null,null,363,null,null,null,null,null,null,0,null,null,363,null,null,null,null,null,null,0,null,null,363,null,null,null,null,null,null,0,null,null,363,null,null,null,null,null,null,0,null,null,363,null,null,null,null,null,null,0,null,null,363,null,null,null,null,null,null,0,null,null,363,null,null,null,null,null,null,0,null,null,363,null,null,null,null,null,null,0,null,null,363,null,null,null,null,null,null,0,null,null,363,null,null,null,null,null,null,0,null,null,363,null,null,null,null,null,null,0,null,null,363,null,null,null,null,null,null,0,null,null,363,null,null,null,null,null,null,0,null,null,363,null,null,null,null,null,null,0,null,null,363,null,null,null,null,null,null,0,null,null,363,null,null,null,null,null,null,0,null,null,363,null,null,null,null,null,null,0,null,null,363,null,null,null,null,null,null,0,null,null,363,null,null,null,null,null,null,0,null,null,363,null,null,null,null,null,null,0,null,null,363,null,null,null,null,null,null,0,null,null,363,null,null,null,null,null,null,0,null,null,363,null,null,null,null,null,null,0,null,null,363,null,null,null,null,null,null,0,null,null,363,null,null,null,null,null,null,0,null,null,363,null,null,null,null,null,null,0,null,null,363,null,null,null,null,null,null,0,null,null,363,null,null,null,null,null,null,0,null,null,363,null,null,null,null,null,null,0,null,null,363,null,null,null,null,null,null,0,null,null,363,null,null,null,null,null,null,0,null,null,363,null,null,null,null,null,null,0,null,null,363,null,null,null,null,null,null,0,null,null,363,null,null,null,null,null,null,0,null,null,363,null,null,null,null,null,null,0]
[null,364,null,null,null,null,null,null,0,null,null,364,null,null,null,null,null,null,0,null,null,364,null,null,null,null,null,null,0,null,null,364,null,null,null,null,null,null,0,null,null,364,null,null,null,null,null,null,0,null,null,364,null,null,null,null,null,null,0,null,null,364,null,null,null,null,null,null,0,null,null,364,null,null,null,null,null,null,0,null,null,364,null,null,null,null,null,null,0,null,null,364,null,null,null,null,null,null,0,null,null,364,null,null,null,null,null,null,0,null,null,364,null,null,null,null,null,null,0,null,null,364,null,null,null,null,null,null,0,null,null,364,null,null,null,null,null,null,0,null,null,364,null,null,null,null,null,null,0,null,null,364,null,null,null,null,null,null,0,null,null,364,null,null,null,null,null,null,0,null,null,364,null,null,null,null,null,null,0,null,null,364,null,null,null,null,null,null,0,null,null,364,null,null,null,null,null,null,0,null,null,364,null,null,null,null,null,null,0,null,null,364,null,null,null,null,null,null,0,null,null,364,null,null,null,null,null,null,0,null,null,364,null,null,null,null,null,null,0,null,null,364,null,null,null,null,null,null,0,null,null,364,null,null,null,null,null,null,0,null,null,364,null,null,null,null,null,null,0,null,null,364,null,null,null,null,null,null,null,null,null,364,null,null,null,null,null,null,0,null,null,364,null,null,null,null,null,null,0,null,null,364,null,null,null,null,null,null,0,null,null,364,null,null,null,null,null,null,0,null,null,364,null,null,null,null,null,null,0,null,null,364,null,null,null,null,null,null,0,null,null,364,null,null,null,null,null,null,0,null,null,364,null,null,null,null,null,null,0,null,null,364,null,null,null,null,null,null,0,null,null,364,null,null,null,null,null,null,0,null,null,364,null,null,null,null,null,null,0,null,null,364,null,null,null,null,null,null,0,null,null,364,null,null,null,null,null,null,0,null,null,364,null,null,null,null,null,null,0,null,null,364,null,null,null,null,null,null,0,null,null,364,null,null,null,null,null,null,0,null,null,364,null,null,null,null,null,null,0,null,null,364,null,null,null,null,null,null,0,null,null,364,null,null,null,null,null,null,0,null,null,364,null,null,null,null,null,null,0,null,null,364,null,null,null,null,null,null,0,null,null,364,null,null,null,null,null,null,0,null,null,364,null,null,null,null,null,null,0,null,null,364,null,null,null,null,null,null,0,null,null,364,null,null,null,null,null,null,0,null,null,364,null,null,null,null,null,null,0,null,null,364,null,null,null,null,null,null,0,null,null,364,null,null,null,null,null,null,0,null,null,364,null,null,null,null,null,null,0,null,null,364,null,null,null,null,null,null,0,null,null,364,null,null,null,null,null,null,0,null,null,364,null,null,null,null,null,null,0,null,null,364,null,null,null,null,null,null,0,null,null,364,null,null,null,null,null,null,0,null,null,364,null,null,null,null,null,null,0,null,null,364,null,null,null,null,null,null,0,null,null,364,null,null,null,null,null,null,0,null,null,364,null,null,null,null,null,null,0,null,null,364,null,null,null,null,null,null,0,null,null,364,null,null,null,null,null,null,0,null,null,364,null,null,null,null,null,null,0,null,null,364,null,null,null,null,null,null,0,null,null,364,null,null,null,null,null,null,0,null,null,364,null,null,null,null,null,null,0,null,null,364,null,null,null,null,null,null,0,null,null,364,null,null,null,null,null,null,0,null,null,364,null,null,null,null,null,null,0,null,null,364,null,null,null,null,null,null,0,null,null,364,null,null,null,null,null,null,0,null,null,364,null,null,null,null,null,null,0,null,null,364,null,null,null,null,null,null,0,null,null,364,null,null,null,null,null,null,0,null,null,364,null,null,null,null,null,null,0,null,null,364,null,null,null,null,null,null,0,null,null,364,null,null,null,null,null,null,0,null,null,364,null,null,null,null,null,null,0,null,null,364,null,null,null,null,null,null,0,null,null,364,null,null,null,null,null,null,0,null,null,364,null,null,null,null,null,null,0,null,null,364,null,null,null,null,null,null,0,null,null,364,null,null,null,null,null,null,0,null,null,364,null,null,null,null,null,null,0,null,null,364,null,null,null,null,null,null,0,null,null,364,null,null,null,null,null,null,0,null,null,364,null,null,null,null,null,null,0,null,null,364,null,null,null,null,null,null,0,null,null,364,null,null,null,null,null,null,0,null,null,364,null,null,null,null,null,null,0,null,null,364,null,null,null,null,null,null,0,null,null,364,null,null,null,null,null,null,0,null,null,364,null,null,null,null,null,null,0,null,null,364,null,null,null,null,null,null,0]
[null,365,null,null,null,null,null,null,0,null,null,365,null,null,null,null,null,null,0,null,null,365,null,null,null,null,null,null,0,null,null,365,null,null,null,null,null,null,0,null,null,365,null,null,null,null,null,null,0,null,null,365,null,null,null,null,null,null,0,null,null,365,null,null,null,null,null,null,0,null,null,365,null,null,null,null,null,null,0,null,null,365,null,null,null,null,null,null,0,null,null,365,null,null,null,null,null,null,0,null,null,365,null,null,null,null,null,null,0,null,null,365,null,null,null,null,null,null,0,null,null,365,null,null,null,null,null,null,0,null,null,365,null,null,null,null,null,null,0,null,null,365,null,null,null,null,null,null,0,null,null,365,null,null,null,null,null,null,0,null,null,365,null,null,null,null,null,null,0,null,null,365,null,null,null,null,null,null,0,null,null,365,null,null,null,null,null,null,0,null,null,365,null,null,null,null,null,null,0,null,null,365,null,null,null,null,null,null,0,null,null,365,null,null,null,null,null,null,0,null,null,365,null,null,null,null,null,null,0,null,null,365,null,null,null,null,null,null,0,null,null,365,null,null,null,null,null,null,0,null,null,365,null,null,null,null,null,null,0,null,null,365,null,null,null,null,null,null,0,null,null,365,null,null,null,null,null,null,null,null,null,365,null,null,null,null,null,null,0,null,null,365,null,null,null,null,null,null,0,null,null,365,null,null,null,null,null,null,0,null,null,365,null,null,null,null,null,null,0,null,null,365,null,null,null,null,null,null,0,null,null,365,null,null,null,null,null,null,0,null,null,365,null,null,null,null,null,null,0,null,null,365,null,null,null,null,null,null,0,null,null,365,null,null,null,null,null,null,0,null,null,365,null,null,null,null,null,null,0,null,null,365,null,null,null,null,null,null,0,null,null,365,null,null,null,null,null,null,0,null,null,365,null,null,null,null,null,null,0,null,null,365,null,null,null,null,null,null,0,null,null,365,null,null,null,null,null,null,0,null,null,365,null,null,null,null,null,null,0,null,null,365,null,null,null,null,null,null,0,null,null,365,null,null,null,null,null,null,0,null,null,365,null,null,null,null,null,null,0,null,null,365,null,null,null,null,null,null,0,null,null,365,null,null,null,null,null,null,0,null,null,365,null,null,null,null,null,null,0,null,null,365,null,null,null,null,null,null,0,null,null,365,null,null,null,null,null,null,0,null,null,365,null,null,null,null,null,null,0,null,null,365,null,null,null,null,null,null,0,null,null,365,null,null,null,null,null,null,0,null,null,365,null,null,null,null,null,null,0,null,null,365,null,null,null,null,null,null,0,null,null,365,null,null,null,null,null,null,0,null,null,365,null,null,null,null,null,null,0,null,null,365,null,null,null,null,null,null,0,null,null,365,null,null,null,null,null,null,0,null,null,365,null,null,null,null,null,null,0,null,null,365,null,null,null,null,null,null,0,null,null,365,null,null,null,null,null,null,0,null,null,365,null,null,null,null,null,null,0,null,null,365,null,null,null,null,null,null,0,null,null,365,null,null,null,null,null,null,0,null,null,365,null,null,null,null,null,null,0,null,null,365,null,null,null,null,null,null,0,null,null,365,null,null,null,null,null,null,0,null,null,365,null,null,null,null,null,null,0,null,null,365,null,null,null,null,null,null,0,null,null,365,null,null,null,null,null,null,0,null,null,365,null,null,null,null,null,null,0,null,null,365,null,null,null,null,null,null,0,null,null,365,null,null,null,null,null,null,0,null,null,365,null,null,null,null,null,null,0,null,null,365,null,null,null,null,null,null,0,null,null,365,null,null,null,null,null,null,0,null,null,365,null,null,null,null,null,null,0,null,null,365,null,null,null,null,null,null,0,null,null,365,null,null,null,null,null,null,0,null,null,365,null,null,null,null,null,null,0,null,null,365,null,null,null,null,null,null,0,null,null,365,null,null,null,null,null,null,0,null,null,365,null,null,null,null,null,null,0,null,null,365,null,null,null,null,null,null,0,null,null,365,null,null,null,null,null,null,0,null,null,365,null,null,null,null,null,null,0,null,null,365,null,null,null,null,null,null,0,null,null,365,null,null,null,null,null,null,0,null,null,365,null,null,null,null,null,null,0,null,null,365,null,null,null,null,null,null,0,null,null,365,null,null,null,null,null,null,0,null,null,365,null,null,null,null,null,null,0,null,null,365,null,null,null,null,null,null,0,null,null,365,null,null,null,null,null,null,0,null,null,365,null,null,null,null,null,null,0,null,null,365,null,null,null,null,null,null,0,null,null,365,null,null,null,null,null,null,0]
[null,"جمع",null,null,null,null,{"$f":"SUM(G382:G746)","v":0},{"$f":"SUM(H382:H746)","v":0},{"$f":"G747-H747","v":0},null,null,"جمع",null,null,null,null,{"$f":"SUM(Q382:Q746)","v":0},{"$f":"SUM(R382:R746)","v":0},{"$f":"Q747-R747","v":0},null,null,"جمع",null,null,null,null,{"$f":"SUM(AA382:AA746)","v":0},{"$f":"SUM(AB382:AB746)","v":0},{"$f":"AA747-AB747","v":0},null,null,"جمع",null,null,null,null,{"$f":"SUM(AK382:AK746)","v":0},{"$f":"SUM(AL383:AL746)","v":0},{"$f":"AK747-AL747","v":0},null,null,"جمع",null,null,null,null,{"$f":"SUM(AU382:AU746)","v":0},{"$f":"SUM(AV382:AV746)","v":0},{"$f":"AU747-AV747","v":0},null,null,"جمع",null,null,null,null,{"$f":"SUM(BE382:BE746)","v":0},{"$f":"SUM(BF382:BF746)","v":0},{"$f":"BE747-BF747","v":0},null,null,"جمع",null,null,null,null,{"$f":"SUM(BO382:BO746)","v":0},{"$f":"SUM(BP382:BP746)","v":0},{"$f":"BO747-BP747","v":0},null,null,"جمع",null,null,null,null,{"$f":"SUM(BY382:BY746)","v":0},{"$f":"SUM(BZ382:BZ746)","v":0},{"$f":"BY747-BZ747","v":0},null,null,"جمع",null,null,null,null,{"$f":"SUM(CL382:CL746)","v":0},{"$f":"SUM(CJ382:CJ746)","v":0},{"$f":"CI747-CJ747","v":0},null,null,"جمع",null,null,null,null,{"$f":"SUM(CS382:CS746)","v":0},{"$f":"SUM(CT382:CT746)","v":0},{"$f":"CS747-CT747","v":0},null,null,"جمع",null,null,null,null,{"$f":"SUM(DC382:DC746)","v":0},{"$f":"SUM(DD382:DD746)","v":0},{"$f":"DC747-DD747","v":0},null,null,"جمع",null,null,null,null,{"$f":"SUM(DM382:DM746)","v":0},{"$f":"SUM(DN382:DN746)","v":0},{"$f":"DM747-DN747","v":0},null,null,"جمع",null,null,null,null,{"$f":"SUM(DW382:DW746)","v":0},{"$f":"SUM(DX382:DX746)","v":0},{"$f":"DW747-DX747","v":0},null,null,"جمع",null,null,null,null,{"$f":"SUM(EG382:EG746)","v":0},{"$f":"SUM(EH382:EH746)","v":0},{"$f":"EG747-EH747","v":0},null,null,"جمع",null,null,null,null,{"$f":"SUM(EQ382:EQ746)","v":0},{"$f":"SUM(ER382:ER746)","v":0},{"$f":"EQ747-ER747","v":0},null,null,"جمع",null,null,null,null,{"$f":"SUM(FA382:FA746)","v":0},{"$f":"SUM(FB382:FB746)","v":0},{"$f":"FA747-FB747","v":0},null,null,"جمع",null,null,null,null,{"$f":"SUM(FK382:FK746)","v":0},{"$f":"SUM(FL382:FL746)","v":0},{"$f":"FK747-FL747","v":0},null,null,"جمع",null,null,null,null,{"$f":"SUM(FU382:FU746)","v":0},{"$f":"SUM(FV382:FV746)","v":0},{"$f":"FU747-FV747","v":0},null,null,"جمع",null,null,null,null,{"$f":"SUM(GE382:GE746)","v":0},{"$f":"SUM(GF382:GF746)","v":0},{"$f":"GE747-GF747","v":0},null,null,"جمع",null,null,null,null,{"$f":"SUM(GO382:GO746)","v":0},{"$f":"SUM(GP382:GP746)","v":0},{"$f":"GO747-GP747","v":0},null,null,"جمع",null,null,null,null,{"$f":"SUM(GY382:GY746)","v":0},{"$f":"SUM(GZ382:GZ746)","v":0},{"$f":"GY747-GZ747","v":0},null,null,"جمع",null,null,null,null,{"$f":"SUM(HI382:HI746)","v":0},{"$f":"SUM(HJ382:HJ746)","v":0},{"$f":"HI747-HJ747","v":0},null,null,"جمع",null,null,null,null,{"$f":"SUM(HS382:HS746)","v":0},{"$f":"SUM(HT382:HT746)","v":0},{"$f":"HS747-HT747","v":0},null,null,"جمع",null,null,null,null,{"$f":"SUM(IC382:IC746)","v":0},{"$f":"SUM(ID382:ID746)","v":0},{"$f":"IC747-ID747","v":0},null,null,"جمع",null,null,null,null,{"$f":"SUM(IM382:IM746)","v":0},{"$f":"SUM(IN382:IN746)","v":0},{"$f":"IM747-IN747","v":0},null,null,"جمع",null,null,null,null,{"$f":"SUM(IW382:IW746)","v":0},{"$f":"SUM(IX382:IX746)","v":0},{"$f":"IW747-IX747","v":0},null,null,"جمع",null,null,null,null,{"$f":"SUM(JG382:JG746)","v":0},{"$f":"SUM(JH382:JH746)","v":0},{"$f":"JG747-JH747","v":0},null,null,"جمع",null,null,null,null,{"$f":"SUM(JQ382:JQ746)","v":0},{"$f":"SUM(JR382:JR746)","v":0},{"$f":"JQ747-JR747","v":0},null,null,"جمع",null,null,null,null,{"$f":"SUM(KA382:KA746)","v":0},{"$f":"SUM(KB382:KB746)","v":0},{"$f":"KA747-KB747","v":0},null,null,"جمع",null,null,null,null,{"$f":"SUM(KK382:KK746)","v":0},{"$f":"SUM(KL382:KL746)","v":0},{"$f":"KK747-KL747","v":0},null,null,"جمع",null,null,null,null,{"$f":"SUM(KU382:KU746)","v":0},{"$f":"SUM(KV382:KV746)","v":0},{"$f":"KU747-KV747","v":0},null,null,"جمع",null,null,null,null,{"$f":"SUM(LE382:LE746)","v":0},{"$f":"SUM(LF382:LF746)","v":0},{"$f":"LE747-LF747","v":0},null,null,"جمع",null,null,null,null,{"$f":"SUM(LO382:LO746)","v":0},{"$f":"SUM(LP382:LP746)","v":0},{"$f":"LO747-LP747","v":0},null,null,"جمع",null,null,null,null,{"$f":"SUM(LY382:LY746)","v":0},{"$f":"SUM(LZ382:LZ746)","v":0},{"$f":"LY747-LZ747","v":0},null,null,"جمع",null,null,null,null,{"$f":"SUM(MI382:MI746)","v":0},{"$f":"SUM(MJ382:MJ746)","v":0},{"$f":"MI747-MJ747","v":0},null,null,"جمع",null,null,null,null,{"$f":"SUM(MS382:MS746)","v":0},{"$f":"SUM(MT382:MT746)","v":0},{"$f":"MS747-MT747","v":0},null,null,"جمع",null,null,null,null,{"$f":"SUM(NC382:NC746)","v":0},{"$f":"SUM(ND382:ND746)","v":0},{"$f":"NC747-ND747","v":0},null,null,"جمع",null,null,null,null,{"$f":"SUM(NM382:NM746)","v":0},{"$f":"SUM(NN382:NN746)","v":0},{"$f":"NM747-NN747","v":0},null,null,"جمع",null,null,null,null,{"$f":"SUM(NW382:NW746)","v":0},{"$f":"SUM(NX382:NX746)","v":0},{"$f":"NW747-NX747","v":0},null,null,"جمع",null,null,null,null,{"$f":"SUM(OG382:OG746)","v":0},{"$f":"SUM(OH382:OH746)","v":0},{"$f":"OG747-OH747","v":0},null,null,"جمع",null,null,null,null,{"$f":"SUM(OQ382:OQ746)","v":0},{"$f":"SUM(OR382:OR746)","v":0},{"$f":"OQ747-OR747","v":0},null,null,"جمع",null,null,null,null,{"$f":"SUM(PA382:PA746)","v":0},{"$f":"SUM(PB382:PB746)","v":0},{"$f":"PA747-PB747","v":0},null,null,"جمع",null,null,null,null,{"$f":"SUM(PK382:PK746)","v":0},{"$f":"SUM(PL382:PL746)","v":0},{"$f":"PK747-PL747","v":0},null,null,"جمع",null,null,null,null,{"$f":"SUM(PU382:PU746)","v":0},{"$f":"SUM(PV382:PV746)","v":0},{"$f":"PU747-PV747","v":0},null,null,"جمع",null,null,null,null,{"$f":"SUM(QE382:QE746)","v":0},{"$f":"SUM(QF382:QF746)","v":0},{"$f":"QE747-QF747","v":0},null,null,"جمع",null,null,null,null,{"$f":"SUM(QO382:QO746)","v":0},{"$f":"SUM(QP382:QP746)","v":0},{"$f":"QO747-QP747","v":0},null,null,"جمع",null,null,null,null,{"$f":"SUM(QY382:QY746)","v":0},{"$f":"SUM(QZ382:QZ746)","v":0},{"$f":"QY747-QZ747","v":0},null,null,"جمع",null,null,null,null,{"$f":"SUM(RI382:RI746)","v":0},{"$f":"SUM(RJ382:RJ746)","v":0},{"$f":"RI747-RJ747","v":0},null,null,"جمع",null,null,null,null,{"$f":"SUM(RS382:RS746)","v":0},{"$f":"SUM(RT382:RT746)","v":0},{"$f":"RS747-RT747","v":0},null,null,"جمع",null,null,null,null,{"$f":"SUM(SC382:SC746)","v":0},{"$f":"SUM(SD382:SD746)","v":0},{"$f":"SC747-SD747","v":0},null,null,"جمع",null,null,null,null,{"$f":"SUM(SM382:SM746)","v":0},{"$f":"SUM(SN382:SN746)","v":0},{"$f":"SM747-SN747","v":0},null,null,"جمع",null,null,null,null,{"$f":"SUM(SW382:SW746)","v":0},{"$f":"SUM(SX382:SX746)","v":0},{"$f":"SW747-SX747","v":0},null,null,"جمع",null,null,null,null,{"$f":"SUM(TG382:TG746)","v":0},{"$f":"SUM(TH382:TH746)","v":0},{"$f":"TG747-TH747","v":0},null,null,"جمع",null,null,null,null,{"$f":"SUM(TQ382:TQ746)","v":0},{"$f":"SUM(TR382:TR746)","v":0},{"$f":"TQ747-TR747","v":0},null,null,"جمع",null,null,null,null,{"$f":"SUM(UA382:UA746)","v":0},{"$f":"SUM(UB382:UB746)","v":0},{"$f":"UA747-UB747","v":0},null,null,"جمع",null,null,null,null,{"$f":"SUM(UK382:UK746)","v":0},{"$f":"SUM(UL382:UL746)","v":0},{"$f":"UK747-UL747","v":0},null,null,"جمع",null,null,null,null,{"$f":"SUM(UU382:UU746)","v":0},{"$f":"SUM(UV382:UV746)","v":0},{"$f":"UU747-UV747","v":0},null,null,"جمع",null,null,null,null,{"$f":"SUM(VE382:VE746)","v":0},{"$f":"SUM(VF382:VF746)","v":0},{"$f":"VE747-VF747","v":0},null,null,"جمع",null,null,null,null,{"$f":"SUM(VO382:VO746)","v":0},{"$f":"SUM(VP382:VP746)","v":0},{"$f":"VO747-VP747","v":0},null,null,"جمع",null,null,null,null,{"$f":"SUM(VY382:VY746)","v":0},{"$f":"SUM(VZ382:VZ746)","v":0},{"$f":"VY747-VZ747","v":0},null,null,"جمع",null,null,null,null,{"$f":"SUM(WI382:WI746)","v":0},{"$f":"SUM(WJ382:WJ746)","v":0},{"$f":"WI747-WJ747","v":0},null,null,"جمع",null,null,null,null,{"$f":"SUM(WS382:WS746)","v":0},{"$f":"SUM(WT382:WT746)","v":0},{"$f":"WS747-WT747","v":0},null,null,"جمع",null,null,null,null,{"$f":"SUM(XC382:XC746)","v":0},{"$f":"SUM(XD382:XD746)","v":0},{"$f":"XC747-XD747","v":0},null,null,"جمع",null,null,null,null,{"$f":"SUM(XM382:XM746)","v":0},{"$f":"SUM(XN382:XN746)","v":0},{"$f":"XM747-XN747","v":0},null,null,"جمع",null,null,null,null,{"$f":"SUM(XW382:XW746)","v":0},{"$f":"SUM(XX382:XX746)","v":0},{"$f":"XW747-XX747","v":0},null,null,"جمع",null,null,null,null,{"$f":"SUM(YG382:YG746)","v":0},{"$f":"SUM(YH382:YH746)","v":0},{"$f":"YG747-YH747","v":0},null,null,"جمع",null,null,null,null,{"$f":"SUM(YQ382:YQ746)","v":0},{"$f":"SUM(YR382:YR746)","v":0},{"$f":"YQ747-YR747","v":0},null,null,"جمع",null,null,null,null,{"$f":"SUM(ZA382:ZA746)","v":0},{"$f":"SUM(ZB382:ZB746)","v":0},{"$f":"ZA747-ZB747","v":0},null,null,"جمع",null,null,null,null,{"$f":"SUM(ZK382:ZK746)","v":0},{"$f":"SUM(ZL382:ZL746)","v":0},{"$f":"ZK747-ZL747","v":0},null,null,"جمع",null,null,null,null,{"$f":"SUM(ZU382:ZU746)","v":0},{"$f":"SUM(ZV382:ZV746)","v":0},{"$f":"ZU747-ZV747","v":0},null,null,"جمع",null,null,null,null,{"$f":"SUM(AAE382:AAE746)","v":0},{"$f":"SUM(AAF382:AAF746)","v":0},{"$f":"AAE747-AAF747","v":0},null,null,"جمع",null,null,null,null,{"$f":"SUM(AAO382:AAO746)","v":0},{"$f":"SUM(AAP382:AAP746)","v":0},{"$f":"AAO747-AAP747","v":0},null,null,"جمع",null,null,null,null,{"$f":"SUM(AAY382:AAY746)","v":0},{"$f":"SUM(AAZ382:AAZ746)","v":0},{"$f":"AAY747-AAZ747","v":0},null,null,"جمع",null,null,null,null,{"$f":"SUM(ABI382:ABI746)","v":0},{"$f":"SUM(ABJ382:ABJ746)","v":0},{"$f":"ABI747-ABJ747","v":0},null,null,"جمع",null,null,null,null,{"$f":"SUM(ABS382:ABS746)","v":0},{"$f":"SUM(ABT382:ABT746)","v":0},{"$f":"ABS747-ABT747","v":0},null,null,"جمع",null,null,null,null,{"$f":"SUM(ACC382:ACC746)","v":0},{"$f":"SUM(ACD382:ACD746)","v":0},{"$f":"ACC747-ACD747","v":0},null,null,"جمع",null,null,null,null,{"$f":"SUM(ACM382:ACM746)","v":0},{"$f":"SUM(ACN382:ACN746)","v":0},{"$f":"ACM747-ACN747","v":0},null,null,"جمع",null,null,null,null,{"$f":"SUM(ACW382:ACW746)","v":0},{"$f":"SUM(ACX382:ACX746)","v":0},{"$f":"ACW747-ACX747","v":0},null,null,"جمع",null,null,null,null,{"$f":"SUM(ADG382:ADG746)","v":0},{"$f":"SUM(ADH383:ADH746)","v":0},{"$f":"ADG747-ADH747","v":0},null,null,"جمع",null,null,null,null,{"$f":"SUM(ADQ382:ADQ746)","v":0},{"$f":"SUM(ADR382:ADR746)","v":0},{"$f":"ADQ747-ADR747","v":0},null,null,"جمع",null,null,null,null,{"$f":"SUM(AEA382:AEA746)","v":0},{"$f":"SUM(AEB382:AEB746)","v":0},{"$f":"AEA747-AEB747","v":0},null,null,"جمع",null,null,null,null,{"$f":"SUM(AEK382:AEK746)","v":0},{"$f":"SUM(AEL382:AEL746)","v":0},{"$f":"AEK747-AEL747","v":0},null,null,"جمع",null,null,null,null,{"$f":"SUM(AEU382:AEU746)","v":0},{"$f":"SUM(AEV382:AEV746)","v":0},{"$f":"AEU747-AEV747","v":0},null,null,"جمع",null,null,null,null,{"$f":"SUM(AFH382:AFH746)","v":0},{"$f":"SUM(AFF382:AFF746)","v":0},{"$f":"AFE747-AFF747","v":0},null,null,"جمع",null,null,null,null,{"$f":"SUM(AFO382:AFO746)","v":0},{"$f":"SUM(AFP382:AFP746)","v":0},{"$f":"AFO747-AFP747","v":0},null,null,"جمع",null,null,null,null,{"$f":"SUM(AFY382:AFY746)","v":0},{"$f":"SUM(AFZ382:AFZ746)","v":0},{"$f":"AFY747-AFZ747","v":0},null,null,"جمع",null,null,null,null,{"$f":"SUM(AGI382:AGI746)","v":0},{"$f":"SUM(AGJ382:AGJ746)","v":0},{"$f":"AGI747-AGJ747","v":0},null,null,"جمع",null,null,null,null,{"$f":"SUM(AGS382:AGS746)","v":0},{"$f":"SUM(AGT382:AGT746)","v":0},{"$f":"AGS747-AGT747","v":0},null,null,"جمع",null,null,null,null,{"$f":"SUM(AHC382:AHC746)","v":0},{"$f":"SUM(AHD382:AHD746)","v":0},{"$f":"AHC747-AHD747","v":0},null,null,"جمع",null,null,null,null,{"$f":"SUM(AHM382:AHM746)","v":0},{"$f":"SUM(AHN382:AHN746)","v":0},{"$f":"AHM747-AHN747","v":0},null,null,"جمع",null,null,null,null,{"$f":"SUM(AHW382:AHW746)","v":0},{"$f":"SUM(AHX382:AHX746)","v":0},{"$f":"AHW747-AHX747","v":0},null,null,"جمع",null,null,null,null,{"$f":"SUM(AIG382:AIG746)","v":0},{"$f":"SUM(AIH382:AIH746)","v":0},{"$f":"AIG747-AIH747","v":0},null,null,"جمع",null,null,null,null,{"$f":"SUM(AIQ382:AIQ746)","v":0},{"$f":"SUM(AIR382:AIR746)","v":0},{"$f":"AIQ747-AIR747","v":0},null,null,"جمع",null,null,null,null,{"$f":"SUM(AJA382:AJA746)","v":0},{"$f":"SUM(AJB382:AJB746)","v":0},{"$f":"AJA747-AJB747","v":0},null,null,"جمع",null,null,null,null,{"$f":"SUM(AJK382:AJK746)","v":0},{"$f":"SUM(AJL382:AJL746)","v":0},{"$f":"AJK747-AJL747","v":0},null,null,"جمع",null,null,null,null,{"$f":"SUM(AJU382:AJU746)","v":0},{"$f":"SUM(AJV382:AJV746)","v":0},{"$f":"AJU747-AJV747","v":0},null,null,"جمع",null,null,null,null,{"$f":"SUM(AKE382:AKE746)","v":0},{"$f":"SUM(AKF382:AKF746)","v":0},{"$f":"AKE747-AKF747","v":0},null,null,"جمع",null,null,null,null,{"$f":"SUM(AKO382:AKO746)","v":0},{"$f":"SUM(AKP382:AKP746)","v":0},{"$f":"AKO747-AKP747","v":0},null,null,"جمع",null,null,null,null,{"$f":"SUM(AKY382:AKY746)","v":0},{"$f":"SUM(AKZ382:AKZ746)","v":0},{"$f":"AKY747-AKZ747","v":0},null,null,"جمع",null,null,null,null,{"$f":"SUM(ALI382:ALI746)","v":0},{"$f":"SUM(ALJ382:ALJ746)","v":0},{"$f":"ALI747-ALJ747","v":0}]

{"sheet":"ثبت چک","index":8,"n_rows":204,"n_cols":12,"rows_kept":204,"cut":false,"hidden":false,"merged":[]}
[]
[]
[]
["ردیف","شماره سند","شرح چک دریافتی","نام پرداخت کننده","سریال چک","نام بانک","شعبه بانک ","تاریخ سررسید چک","مبلغ",null,null,"صفحه اصلی"]
[1]
[2,null,null,null,null,null,null,null,null,null,null,"ورود اطلاعات اولیه"]
[3]
[4]
[5]
[6]
[7]
[8]
[9]
[10]
[11]
[12]
[13]
[14]
[15]
[16]
[17]
[18]
[19]
[20]
[21]
[22]
[23]
[24]
[25]
[26]
[27]
[28]
[29]
[30]
[31]
[32]
[33]
[34]
[35]
[36]
[37]
[38]
[39]
[40]
[41]
[42]
[43]
[44]
[45]
[46]
[47]
[48]
[49]
[50]
[51]
[52]
[53]
[54]
[55]
[56]
[57]
[58]
[59]
[60]
[61]
[62]
[63]
[64]
[65]
[66]
[67]
[68]
[69]
[70]
[71]
[72]
[73]
[74]
[75]
[76]
[77]
[78]
[79]
[80]
[81]
[82]
[83]
[84]
[85]
[86]
[87]
[88]
[89]
[90]
[91]
[92]
[93]
[94]
[95]
[96]
[97]
[98]
[99]
[100]
[101]
[102]
[103]
[104]
[105]
[106]
[107]
[108]
[109]
[110]
[111]
[112]
[113]
[114]
[115]
[116]
[117]
[118]
[119]
[120]
[121]
[122]
[123]
[124]
[125]
[126]
[127]
[128]
[129]
[130]
[131]
[132]
[133]
[134]
[135]
[136]
[137]
[138]
[139]
[140]
[141]
[142]
[143]
[144]
[145]
[146]
[147]
[148]
[149]
[150]
[151]
[152]
[153]
[154]
[155]
[156]
[157]
[158]
[159]
[160]
[161]
[162]
[163]
[164]
[165]
[166]
[167]
[168]
[169]
[170]
[171]
[172]
[173]
[174]
[175]
[176]
[177]
[178]
[179]
[180]
[181]
[182]
[183]
[184]
[185]
[186]
[187]
[188]
[189]
[190]
[191]
[192]
[193]
[194]
[195]
[196]
[197]
[198]
[199]
[200]

{"sheet":"چک پرداختنی","index":9,"n_rows":204,"n_cols":12,"rows_kept":204,"cut":false,"hidden":false,"merged":[]}
[]
[]
[]
["ردیف","شماره سند","شرح چک پرداختنی","نام دریافت کننده چک","سریال چک","نام بانک","شعبه بانک ","تاریخ سررسید چک","مبلغ",null,null,"صفحه اصلی"]
[1]
[2,null,null,null,null,null,null,null,null,null,null,"ورود اطلاعات اولیه"]
[3]
[4]
[5]
[6]
[7]
[8]
[9]
[10]
[11]
[12]
[13]
[14]
[15]
[16]
[17]
[18]
[19]
[20]
[21]
[22]
[23]
[24]
[25]
[26]
[27]
[28]
[29]
[30]
[31]
[32]
[33]
[34]
[35]
[36]
[37]
[38]
[39]
[40]
[41]
[42]
[43]
[44]
[45]
[46]
[47]
[48]
[49]
[50]
[51]
[52]
[53]
[54]
[55]
[56]
[57]
[58]
[59]
[60]
[61]
[62]
[63]
[64]
[65]
[66]
[67]
[68]
[69]
[70]
[71]
[72]
[73]
[74]
[75]
[76]
[77]
[78]
[79]
[80]
[81]
[82]
[83]
[84]
[85]
[86]
[87]
[88]
[89]
[90]
[91]
[92]
[93]
[94]
[95]
[96]
[97]
[98]
[99]
[100]
[101]
[102]
[103]
[104]
[105]
[106]
[107]
[108]
[109]
[110]
[111]
[112]
[113]
[114]
[115]
[116]
[117]
[118]
[119]
[120]
[121]
[122]
[123]
[124]
[125]
[126]
[127]
[128]
[129]
[130]
[131]
[132]
[133]
[134]
[135]
[136]
[137]
[138]
[139]
[140]
[141]
[142]
[143]
[144]
[145]
[146]
[147]
[148]
[149]
[150]
[151]
[152]
[153]
[154]
[155]
[156]
[157]
[158]
[159]
[160]
[161]
[162]
[163]
[164]
[165]
[166]
[167]
[168]
[169]
[170]
[171]
[172]
[173]
[174]
[175]
[176]
[177]
[178]
[179]
[180]
[181]
[182]
[183]
[184]
[185]
[186]
[187]
[188]
[189]
[190]
[191]
[192]
[193]
[194]
[195]
[196]
[197]
[198]
[199]
[200]

{"sheet":"موجودی کالا","index":10,"n_rows":204,"n_cols":10,"rows_kept":204,"cut":false,"hidden":false,"merged":[[2,0,2,2],[2,3,2,6]]}
[]
[]
["نام فروشگاه",null,null,{"$f":"'صفحه اصلی'!J4","v":0}]
["ردیف ","شماره کاردکس","کد","نام کالا","گروه بندی","واحد شمارش ","قیمت واحد","وارده","صادره","موجودی"]
[1,"کاردکس 1",{"$f":"'تعریف کالا'!C5","v":9011120},{"$f":"'تعریف کالا'!D5","v":"سی دی"},{"$f":"'تعریف کالا'!E5","v":"سخت افزار"},{"$f":"'تعریف کالا'!F5","v":"حلقه"},{"$f":"'تعریف کالا'!G5","v":3000},{"$f":"کاردکس!G373","v":0},{"$f":"کاردکس!H373","v":0},{"$f":"H5-I5","v":0}]
[2,"کاردکس 2",{"$f":"'تعریف کالا'!C6","v":9011121},{"$f":"'تعریف کالا'!D6","v":"دی وی دی"},{"$f":"'تعریف کالا'!E6","v":"سخت افزار"},{"$f":"'تعریف کالا'!F6","v":"حلقه"},{"$f":"'تعریف کالا'!G6","v":7000},{"$f":"کاردکس!Q373","v":0},{"$f":"کاردکس!R373","v":0},{"$f":"H6-I6","v":0}]
[3,"کاردکس 3",{"$f":"'تعریف کالا'!C7","v":9011122},{"$f":"'تعریف کالا'!D7","v":"نوت بوک"},{"$f":"'تعریف کالا'!E7","v":"سخت افزار"},{"$f":"'تعریف کالا'!F7","v":"دستگاه"},{"$f":"'تعریف کالا'!G7","v":10000000},{"$f":"کاردکس!AA373","v":0},{"$f":"کاردکس!AB373","v":0},0]
[4,"کاردکس 4",{"$f":"'تعریف کالا'!C8","v":0},{"$f":"'تعریف کالا'!D8","v":0},{"$f":"'تعریف کالا'!E8","v":0},{"$f":"'تعریف کالا'!F8","v":0},{"$f":"'تعریف کالا'!G8","v":0},{"$f":"کاردکس!AK373","v":0},{"$f":"کاردکس!AL373","v":0},0]
[5,"کاردکس 5",{"$f":"'تعریف کالا'!C9","v":0},{"$f":"'تعریف کالا'!D9","v":0},{"$f":"'تعریف کالا'!E9","v":0},{"$f":"'تعریف کالا'!F9","v":0},{"$f":"'تعریف کالا'!G9","v":0},{"$f":"کاردکس!AU373","v":0},{"$f":"کاردکس!AV373","v":0},0]
[6,"کاردکس 6",{"$f":"'تعریف کالا'!C10","v":0},{"$f":"'تعریف کالا'!D10","v":0},{"$f":"'تعریف کالا'!E10","v":0},{"$f":"'تعریف کالا'!F10","v":0},{"$f":"'تعریف کالا'!G10","v":0},{"$f":"کاردکس!BE373","v":0},{"$f":"کاردکس!BF373","v":0},0]
[7,"کاردکس 7",{"$f":"'تعریف کالا'!C11","v":0},{"$f":"'تعریف کالا'!D11","v":0},{"$f":"'تعریف کالا'!E11","v":0},{"$f":"'تعریف کالا'!F11","v":0},{"$f":"'تعریف کالا'!G11","v":0},{"$f":"کاردکس!BO373","v":0},{"$f":"کاردکس!BP373","v":0},0]
[8,"کاردکس 8",{"$f":"'تعریف کالا'!C12","v":0},{"$f":"'تعریف کالا'!D12","v":0},{"$f":"'تعریف کالا'!E12","v":0},{"$f":"'تعریف کالا'!F12","v":0},{"$f":"'تعریف کالا'!G12","v":0},{"$f":"کاردکس!BY373","v":0},{"$f":"کاردکس!BZ373","v":0},0]
[9,"کاردکس 9",{"$f":"'تعریف کالا'!C13","v":0},{"$f":"'تعریف کالا'!D13","v":0},{"$f":"'تعریف کالا'!E13","v":0},{"$f":"'تعریف کالا'!F13","v":0},{"$f":"'تعریف کالا'!G13","v":0},{"$f":"کاردکس!CI373","v":0},{"$f":"کاردکس!CJ373","v":0},0]
[10,"کاردکس 10",{"$f":"'تعریف کالا'!C14","v":0},{"$f":"'تعریف کالا'!D14","v":0},{"$f":"'تعریف کالا'!E14","v":0},{"$f":"'تعریف کالا'!F14","v":0},{"$f":"'تعریف کالا'!G14","v":0},{"$f":"کاردکس!CS373","v":0},{"$f":"کاردکس!CT373","v":0},0]
[11,"کاردکس 11",{"$f":"'تعریف کالا'!C15","v":0},{"$f":"'تعریف کالا'!D15","v":0},{"$f":"'تعریف کالا'!E15","v":0},{"$f":"'تعریف کالا'!F15","v":0},{"$f":"'تعریف کالا'!G15","v":0},{"$f":"کاردکس!DC373","v":0},{"$f":"کاردکس!DD373","v":0},0]
[12,"کاردکس 12",{"$f":"'تعریف کالا'!C16","v":0},{"$f":"'تعریف کالا'!D16","v":0},{"$f":"'تعریف کالا'!E16","v":0},{"$f":"'تعریف کالا'!F16","v":0},{"$f":"'تعریف کالا'!G16","v":0},{"$f":"کاردکس!DM373","v":0},{"$f":"کاردکس!DN373","v":0},0]
[13,"کاردکس 13",{"$f":"'تعریف کالا'!C17","v":0},{"$f":"'تعریف کالا'!D17","v":0},{"$f":"'تعریف کالا'!E17","v":0},{"$f":"'تعریف کالا'!F17","v":0},{"$f":"'تعریف کالا'!G17","v":0},{"$f":"کاردکس!DW373","v":0},{"$f":"کاردکس!DX373","v":0},0]
[14,"کاردکس 14",{"$f":"'تعریف کالا'!C18","v":0},{"$f":"'تعریف کالا'!D18","v":0},{"$f":"'تعریف کالا'!E18","v":0},{"$f":"'تعریف کالا'!F18","v":0},{"$f":"'تعریف کالا'!G18","v":0},{"$f":"کاردکس!EG373","v":0},{"$f":"کاردکس!EH373","v":0},0]
[15,"کاردکس 15",{"$f":"'تعریف کالا'!C19","v":0},{"$f":"'تعریف کالا'!D19","v":0},{"$f":"'تعریف کالا'!E19","v":0},{"$f":"'تعریف کالا'!F19","v":0},{"$f":"'تعریف کالا'!G19","v":0},{"$f":"کاردکس!EQ373","v":0},{"$f":"کاردکس!ER373","v":0},0]
[16,"کاردکس 16",{"$f":"'تعریف کالا'!C20","v":0},{"$f":"'تعریف کالا'!D20","v":0},{"$f":"'تعریف کالا'!E20","v":0},{"$f":"'تعریف کالا'!F20","v":0},{"$f":"'تعریف کالا'!G20","v":0},{"$f":"کاردکس!FA373","v":0},{"$f":"کاردکس!FB373","v":0},0]
[17,"کاردکس 17",{"$f":"'تعریف کالا'!C21","v":0},{"$f":"'تعریف کالا'!D21","v":0},{"$f":"'تعریف کالا'!E21","v":0},{"$f":"'تعریف کالا'!F21","v":0},{"$f":"'تعریف کالا'!G21","v":0},{"$f":"کاردکس!FK373","v":0},{"$f":"کاردکس!FL373","v":0},0]
[18,"کاردکس 18",{"$f":"'تعریف کالا'!C22","v":0},{"$f":"'تعریف کالا'!D22","v":0},{"$f":"'تعریف کالا'!E22","v":0},{"$f":"'تعریف کالا'!F22","v":0},{"$f":"'تعریف کالا'!G22","v":0},{"$f":"کاردکس!FU373","v":0},{"$f":"کاردکس!FV373","v":0},0]
[19,"کاردکس 19",{"$f":"'تعریف کالا'!C23","v":0},{"$f":"'تعریف کالا'!D23","v":0},{"$f":"'تعریف کالا'!E23","v":0},{"$f":"'تعریف کالا'!F23","v":0},{"$f":"'تعریف کالا'!G23","v":0},{"$f":"کاردکس!GE373","v":0},{"$f":"کاردکس!GF373","v":0},0]
[20,"کاردکس 20",{"$f":"'تعریف کالا'!C24","v":0},{"$f":"'تعریف کالا'!D24","v":0},{"$f":"'تعریف کالا'!E24","v":0},{"$f":"'تعریف کالا'!F24","v":0},{"$f":"'تعریف کالا'!G24","v":0},{"$f":"کاردکس!GO373","v":0},{"$f":"کاردکس!GP373","v":0},0]
[21,"کاردکس 21",{"$f":"'تعریف کالا'!C25","v":0},{"$f":"'تعریف کالا'!D25","v":0},{"$f":"'تعریف کالا'!E25","v":0},{"$f":"'تعریف کالا'!F25","v":0},{"$f":"'تعریف کالا'!G25","v":0},{"$f":"کاردکس!GY373","v":0},{"$f":"کاردکس!GZ373","v":0},0]
[22,"کاردکس 22",{"$f":"'تعریف کالا'!C26","v":0},{"$f":"'تعریف کالا'!D26","v":0},{"$f":"'تعریف کالا'!E26","v":0},{"$f":"'تعریف کالا'!F26","v":0},{"$f":"'تعریف کالا'!G26","v":0},{"$f":"کاردکس!HI373","v":0},{"$f":"کاردکس!HJ373","v":0},0]
[23,"کاردکس 23",{"$f":"'تعریف کالا'!C27","v":0},{"$f":"'تعریف کالا'!D27","v":0},{"$f":"'تعریف کالا'!E27","v":0},{"$f":"'تعریف کالا'!F27","v":0},{"$f":"'تعریف کالا'!G27","v":0},{"$f":"کاردکس!HS373","v":0},{"$f":"کاردکس!HT373","v":0},0]
[24,"کاردکس 24",{"$f":"'تعریف کالا'!C28","v":0},{"$f":"'تعریف کالا'!D28","v":0},{"$f":"'تعریف کالا'!E28","v":0},{"$f":"'تعریف کالا'!F28","v":0},{"$f":"'تعریف کالا'!G28","v":0},{"$f":"کاردکس!IC373","v":0},{"$f":"کاردکس!ID373","v":0},0]
[25,"کاردکس 25",{"$f":"'تعریف کالا'!C29","v":0},{"$f":"'تعریف کالا'!D29","v":0},{"$f":"'تعریف کالا'!E29","v":0},{"$f":"'تعریف کالا'!F29","v":0},{"$f":"'تعریف کالا'!G29","v":0},{"$f":"کاردکس!IM373","v":0},{"$f":"کاردکس!IN373","v":0},0]
[26,"کاردکس 26",{"$f":"'تعریف کالا'!C30","v":0},{"$f":"'تعریف کالا'!D30","v":0},{"$f":"'تعریف کالا'!E30","v":0},{"$f":"'تعریف کالا'!F30","v":0},{"$f":"'تعریف کالا'!G30","v":0},{"$f":"کاردکس!IW373","v":0},{"$f":"کاردکس!IX373","v":0},0]
[27,"کاردکس 27",{"$f":"'تعریف کالا'!C31","v":0},{"$f":"'تعریف کالا'!D31","v":0},{"$f":"'تعریف کالا'!E31","v":0},{"$f":"'تعریف کالا'!F31","v":0},{"$f":"'تعریف کالا'!G31","v":0},{"$f":"کاردکس!JG373","v":0},{"$f":"کاردکس!JH373","v":0},0]
[28,"کاردکس 28",{"$f":"'تعریف کالا'!C32","v":0},{"$f":"'تعریف کالا'!D32","v":0},{"$f":"'تعریف کالا'!E32","v":0},{"$f":"'تعریف کالا'!F32","v":0},{"$f":"'تعریف کالا'!G32","v":0},{"$f":"کاردکس!JQ373","v":0},{"$f":"کاردکس!JR373","v":0},0]
[29,"کاردکس 29",{"$f":"'تعریف کالا'!C33","v":0},{"$f":"'تعریف کالا'!D33","v":0},{"$f":"'تعریف کالا'!E33","v":0},{"$f":"'تعریف کالا'!F33","v":0},{"$f":"'تعریف کالا'!G33","v":0},{"$f":"کاردکس!KA373","v":0},{"$f":"کاردکس!KB373","v":0},0]
[30,"کاردکس 30",{"$f":"'تعریف کالا'!C34","v":0},{"$f":"'تعریف کالا'!D34","v":0},{"$f":"'تعریف کالا'!E34","v":0},{"$f":"'تعریف کالا'!F34","v":0},{"$f":"'تعریف کالا'!G34","v":0},{"$f":"کاردکس!KK373","v":0},{"$f":"کاردکس!KL373","v":0},0]
[31,"کاردکس 31",{"$f":"'تعریف کالا'!C35","v":0},{"$f":"'تعریف کالا'!D35","v":0},{"$f":"'تعریف کالا'!E35","v":0},{"$f":"'تعریف کالا'!F35","v":0},{"$f":"'تعریف کالا'!G35","v":0},{"$f":"کاردکس!KU373","v":0},{"$f":"کاردکس!KV373","v":0},0]
[32,"کاردکس 32",{"$f":"'تعریف کالا'!C36","v":0},{"$f":"'تعریف کالا'!D36","v":0},{"$f":"'تعریف کالا'!E36","v":0},{"$f":"'تعریف کالا'!F36","v":0},{"$f":"'تعریف کالا'!G36","v":0},{"$f":"کاردکس!LE373","v":0},{"$f":"کاردکس!LF373","v":0},0]
[33,"کاردکس 33",{"$f":"'تعریف کالا'!C37","v":0},{"$f":"'تعریف کالا'!D37","v":0},{"$f":"'تعریف کالا'!E37","v":0},{"$f":"'تعریف کالا'!F37","v":0},{"$f":"'تعریف کالا'!G37","v":0},{"$f":"کاردکس!LO373","v":0},{"$f":"کاردکس!LP373","v":0},0]
[34,"کاردکس 34",{"$f":"'تعریف کالا'!C38","v":0},{"$f":"'تعریف کالا'!D38","v":0},{"$f":"'تعریف کالا'!E38","v":0},{"$f":"'تعریف کالا'!F38","v":0},{"$f":"'تعریف کالا'!G38","v":0},{"$f":"کاردکس!LY373","v":0},{"$f":"کاردکس!LZ373","v":0},0]
[35,"کاردکس 35",{"$f":"'تعریف کالا'!C39","v":0},{"$f":"'تعریف کالا'!D39","v":0},{"$f":"'تعریف کالا'!E39","v":0},{"$f":"'تعریف کالا'!F39","v":0},{"$f":"'تعریف کالا'!G39","v":0},{"$f":"کاردکس!MI373","v":0},{"$f":"کاردکس!MJ373","v":0},0]
[36,"کاردکس 36",{"$f":"'تعریف کالا'!C40","v":0},{"$f":"'تعریف کالا'!D40","v":0},{"$f":"'تعریف کالا'!E40","v":0},{"$f":"'تعریف کالا'!F40","v":0},{"$f":"'تعریف کالا'!G40","v":0},{"$f":"کاردکس!MS373","v":0},{"$f":"کاردکس!MT373","v":0},0]
[37,"کاردکس 37",{"$f":"'تعریف کالا'!C41","v":0},{"$f":"'تعریف کالا'!D41","v":0},{"$f":"'تعریف کالا'!E41","v":0},{"$f":"'تعریف کالا'!F41","v":0},{"$f":"'تعریف کالا'!G41","v":0},{"$f":"کاردکس!NC373","v":0},{"$f":"کاردکس!ND373","v":0},0]
[38,"کاردکس 38",{"$f":"'تعریف کالا'!C42","v":0},{"$f":"'تعریف کالا'!D42","v":0},{"$f":"'تعریف کالا'!E42","v":0},{"$f":"'تعریف کالا'!F42","v":0},{"$f":"'تعریف کالا'!G42","v":0},{"$f":"کاردکس!NM373","v":0},{"$f":"کاردکس!NN373","v":0},0]
[39,"کاردکس 39",{"$f":"'تعریف کالا'!C43","v":0},{"$f":"'تعریف کالا'!D43","v":0},{"$f":"'تعریف کالا'!E43","v":0},{"$f":"'تعریف کالا'!F43","v":0},{"$f":"'تعریف کالا'!G43","v":0},{"$f":"کاردکس!NW373","v":0},{"$f":"کاردکس!NX373","v":0},0]
[40,"کاردکس 40",{"$f":"'تعریف کالا'!C44","v":0},{"$f":"'تعریف کالا'!D44","v":0},{"$f":"'تعریف کالا'!E44","v":0},{"$f":"'تعریف کالا'!F44","v":0},{"$f":"'تعریف کالا'!G44","v":0},{"$f":"کاردکس!OG373","v":0},{"$f":"کاردکس!OH373","v":0},0]
[41,"کاردکس 41",{"$f":"'تعریف کالا'!C45","v":0},{"$f":"'تعریف کالا'!D45","v":0},{"$f":"'تعریف کالا'!E45","v":0},{"$f":"'تعریف کالا'!F45","v":0},{"$f":"'تعریف کالا'!G45","v":0},{"$f":"کاردکس!OQ373","v":0},{"$f":"کاردکس!OR373","v":0},0]
[42,"کاردکس 42",{"$f":"'تعریف کالا'!C46","v":0},{"$f":"'تعریف کالا'!D46","v":0},{"$f":"'تعریف کالا'!E46","v":0},{"$f":"'تعریف کالا'!F46","v":0},{"$f":"'تعریف کالا'!G46","v":0},{"$f":"کاردکس!PA373","v":0},{"$f":"کاردکس!PB373","v":0},0]
[43,"کاردکس 43",{"$f":"'تعریف کالا'!C47","v":0},{"$f":"'تعریف کالا'!D47","v":0},{"$f":"'تعریف کالا'!E47","v":0},{"$f":"'تعریف کالا'!F47","v":0},{"$f":"'تعریف کالا'!G47","v":0},{"$f":"کاردکس!PK373","v":0},{"$f":"کاردکس!PL373","v":0},0]
[44,"کاردکس 44",{"$f":"'تعریف کالا'!C48","v":0},{"$f":"'تعریف کالا'!D48","v":0},{"$f":"'تعریف کالا'!E48","v":0},{"$f":"'تعریف کالا'!F48","v":0},{"$f":"'تعریف کالا'!G48","v":0},{"$f":"کاردکس!PU373","v":0},{"$f":"کاردکس!PV373","v":0},0]
[45,"کاردکس 45",{"$f":"'تعریف کالا'!C49","v":0},{"$f":"'تعریف کالا'!D49","v":0},{"$f":"'تعریف کالا'!E49","v":0},{"$f":"'تعریف کالا'!F49","v":0},{"$f":"'تعریف کالا'!G49","v":0},{"$f":"کاردکس!QE373","v":0},{"$f":"کاردکس!QF373","v":0},0]
[46,"کاردکس 46",{"$f":"'تعریف کالا'!C50","v":0},{"$f":"'تعریف کالا'!D50","v":0},{"$f":"'تعریف کالا'!E50","v":0},{"$f":"'تعریف کالا'!F50","v":0},{"$f":"'تعریف کالا'!G50","v":0},{"$f":"کاردکس!QO373","v":0},{"$f":"کاردکس!QP373","v":0},0]
[47,"کاردکس 47",{"$f":"'تعریف کالا'!C51","v":0},{"$f":"'تعریف کالا'!D51","v":0},{"$f":"'تعریف کالا'!E51","v":0},{"$f":"'تعریف کالا'!F51","v":0},{"$f":"'تعریف کالا'!G51","v":0},{"$f":"کاردکس!QY373","v":0},{"$f":"کاردکس!QZ373","v":0},0]
[48,"کاردکس 48",{"$f":"'تعریف کالا'!C52","v":0},{"$f":"'تعریف کالا'!D52","v":0},{"$f":"'تعریف کالا'!E52","v":0},{"$f":"'تعریف کالا'!F52","v":0},{"$f":"'تعریف کالا'!G52","v":0},{"$f":"کاردکس!RI373","v":0},{"$f":"کاردکس!RJ373","v":0},0]
[49,"کاردکس 49",{"$f":"'تعریف کالا'!C53","v":0},{"$f":"'تعریف کالا'!D53","v":0},{"$f":"'تعریف کالا'!E53","v":0},{"$f":"'تعریف کالا'!F53","v":0},{"$f":"'تعریف کالا'!G53","v":0},{"$f":"کاردکس!RS373","v":0},{"$f":"کاردکس!RT373","v":0},0]
[50,"کاردکس 50",{"$f":"'تعریف کالا'!C54","v":0},{"$f":"'تعریف کالا'!D54","v":0},{"$f":"'تعریف کالا'!E54","v":0},{"$f":"'تعریف کالا'!F54","v":0},{"$f":"'تعریف کالا'!G54","v":0},{"$f":"کاردکس!SC373","v":0},{"$f":"کاردکس!SD373","v":0},0]
[51,"کاردکس 51",{"$f":"'تعریف کالا'!C55","v":0},{"$f":"'تعریف کالا'!D55","v":0},{"$f":"'تعریف کالا'!E55","v":0},{"$f":"'تعریف کالا'!F55","v":0},{"$f":"'تعریف کالا'!G55","v":0},{"$f":"کاردکس!SM373","v":0},{"$f":"کاردکس!SN373","v":0},0]
[52,"کاردکس 52",{"$f":"'تعریف کالا'!C56","v":0},{"$f":"'تعریف کالا'!D56","v":0},{"$f":"'تعریف کالا'!E56","v":0},{"$f":"'تعریف کالا'!F56","v":0},{"$f":"'تعریف کالا'!G56","v":0},{"$f":"کاردکس!SW373","v":0},{"$f":"کاردکس!SX373","v":0},0]
[53,"کاردکس 53",{"$f":"'تعریف کالا'!C57","v":0},{"$f":"'تعریف کالا'!D57","v":0},{"$f":"'تعریف کالا'!E57","v":0},{"$f":"'تعریف کالا'!F57","v":0},{"$f":"'تعریف کالا'!G57","v":0},{"$f":"کاردکس!TG373","v":0},{"$f":"کاردکس!TH373","v":0},0]
[54,"کاردکس 54",{"$f":"'تعریف کالا'!C58","v":0},{"$f":"'تعریف کالا'!D58","v":0},{"$f":"'تعریف کالا'!E58","v":0},{"$f":"'تعریف کالا'!F58","v":0},{"$f":"'تعریف کالا'!G58","v":0},{"$f":"کاردکس!TQ373","v":0},{"$f":"کاردکس!TR373","v":0},0]
[55,"کاردکس 55",{"$f":"'تعریف کالا'!C59","v":0},{"$f":"'تعریف کالا'!D59","v":0},{"$f":"'تعریف کالا'!E59","v":0},{"$f":"'تعریف کالا'!F59","v":0},{"$f":"'تعریف کالا'!G59","v":0},{"$f":"کاردکس!UA373","v":0},{"$f":"کاردکس!UB373","v":0},0]
[56,"کاردکس 56",{"$f":"'تعریف کالا'!C60","v":0},{"$f":"'تعریف کالا'!D60","v":0},{"$f":"'تعریف کالا'!E60","v":0},{"$f":"'تعریف کالا'!F60","v":0},{"$f":"'تعریف کالا'!G60","v":0},{"$f":"کاردکس!UK373","v":0},{"$f":"کاردکس!UL373","v":0},0]
[57,"کاردکس 57",{"$f":"'تعریف کالا'!C61","v":0},{"$f":"'تعریف کالا'!D61","v":0},{"$f":"'تعریف کالا'!E61","v":0},{"$f":"'تعریف کالا'!F61","v":0},{"$f":"'تعریف کالا'!G61","v":0},{"$f":"کاردکس!UU373","v":0},{"$f":"کاردکس!UV373","v":0},0]
[58,"کاردکس 58",{"$f":"'تعریف کالا'!C62","v":0},{"$f":"'تعریف کالا'!D62","v":0},{"$f":"'تعریف کالا'!E62","v":0},{"$f":"'تعریف کالا'!F62","v":0},{"$f":"'تعریف کالا'!G62","v":0},{"$f":"کاردکس!VE373","v":0},{"$f":"کاردکس!VF373","v":0},0]
[59,"کاردکس 59",{"$f":"'تعریف کالا'!C63","v":0},{"$f":"'تعریف کالا'!D63","v":0},{"$f":"'تعریف کالا'!E63","v":0},{"$f":"'تعریف کالا'!F63","v":0},{"$f":"'تعریف کالا'!G63","v":0},{"$f":"کاردکس!VO373","v":0},{"$f":"کاردکس!VP373","v":0},0]
[60,"کاردکس 60",{"$f":"'تعریف کالا'!C64","v":0},{"$f":"'تعریف کالا'!D64","v":0},{"$f":"'تعریف کالا'!E64","v":0},{"$f":"'تعریف کالا'!F64","v":0},{"$f":"'تعریف کالا'!G64","v":0},{"$f":"کاردکس!VY373","v":0},{"$f":"کاردکس!VZ373","v":0},0]
[61,"کاردکس 61",{"$f":"'تعریف کالا'!C65","v":0},{"$f":"'تعریف کالا'!D65","v":0},{"$f":"'تعریف کالا'!E65","v":0},{"$f":"'تعریف کالا'!F65","v":0},{"$f":"'تعریف کالا'!G65","v":0},{"$f":"کاردکس!WI373","v":0},{"$f":"کاردکس!WJ373","v":0},0]
[62,"کاردکس 62",{"$f":"'تعریف کالا'!C66","v":0},{"$f":"'تعریف کالا'!D66","v":0},{"$f":"'تعریف کالا'!E66","v":0},{"$f":"'تعریف کالا'!F66","v":0},{"$f":"'تعریف کالا'!G66","v":0},{"$f":"کاردکس!WS373","v":0},{"$f":"کاردکس!WT373","v":0},0]
[63,"کاردکس 63",{"$f":"'تعریف کالا'!C67","v":0},{"$f":"'تعریف کالا'!D67","v":0},{"$f":"'تعریف کالا'!E67","v":0},{"$f":"'تعریف کالا'!F67","v":0},{"$f":"'تعریف کالا'!G67","v":0},{"$f":"کاردکس!XC373","v":0},{"$f":"کاردکس!XD373","v":0},0]
[64,"کاردکس 64",{"$f":"'تعریف کالا'!C68","v":0},{"$f":"'تعریف کالا'!D68","v":0},{"$f":"'تعریف کالا'!E68","v":0},{"$f":"'تعریف کالا'!F68","v":0},{"$f":"'تعریف کالا'!G68","v":0},{"$f":"کاردکس!XM373","v":0},{"$f":"کاردکس!XN373","v":0},0]
[65,"کاردکس 65",{"$f":"'تعریف کالا'!C69","v":0},{"$f":"'تعریف کالا'!D69","v":0},{"$f":"'تعریف کالا'!E69","v":0},{"$f":"'تعریف کالا'!F69","v":0},{"$f":"'تعریف کالا'!G69","v":0},{"$f":"کاردکس!XW373","v":0},{"$f":"کاردکس!XX373","v":0},0]
[66,"کاردکس 66",{"$f":"'تعریف کالا'!C70","v":0},{"$f":"'تعریف کالا'!D70","v":0},{"$f":"'تعریف کالا'!E70","v":0},{"$f":"'تعریف کالا'!F70","v":0},{"$f":"'تعریف کالا'!G70","v":0},{"$f":"کاردکس!YG373","v":0},{"$f":"کاردکس!YH373","v":0},{"$f":"H70-I70","v":0}]
[67,"کاردکس 67",{"$f":"'تعریف کالا'!C71","v":0},{"$f":"'تعریف کالا'!D71","v":0},{"$f":"'تعریف کالا'!E71","v":0},{"$f":"'تعریف کالا'!F71","v":0},{"$f":"'تعریف کالا'!G71","v":0},{"$f":"کاردکس!YQ373","v":0},{"$f":"کاردکس!YR373","v":0},0]
[68,"کاردکس 68",{"$f":"'تعریف کالا'!C72","v":0},{"$f":"'تعریف کالا'!D72","v":0},{"$f":"'تعریف کالا'!E72","v":0},{"$f":"'تعریف کالا'!F72","v":0},{"$f":"'تعریف کالا'!G72","v":0},{"$f":"کاردکس!ZA373","v":0},{"$f":"کاردکس!ZB373","v":0},0]
[69,"کاردکس 69",{"$f":"'تعریف کالا'!C73","v":0},{"$f":"'تعریف کالا'!D73","v":0},{"$f":"'تعریف کالا'!E73","v":0},{"$f":"'تعریف کالا'!F73","v":0},{"$f":"'تعریف کالا'!G73","v":0},{"$f":"کاردکس!ZK373","v":0},{"$f":"کاردکس!ZL373","v":0},0]
[70,"کاردکس 70",{"$f":"'تعریف کالا'!C74","v":0},{"$f":"'تعریف کالا'!D74","v":0},{"$f":"'تعریف کالا'!E74","v":0},{"$f":"'تعریف کالا'!F74","v":0},{"$f":"'تعریف کالا'!G74","v":0},{"$f":"کاردکس!ZU373","v":0},{"$f":"کاردکس!ZV373","v":0},0]
[71,"کاردکس 71",{"$f":"'تعریف کالا'!C75","v":0},{"$f":"'تعریف کالا'!D75","v":0},{"$f":"'تعریف کالا'!E75","v":0},{"$f":"'تعریف کالا'!F75","v":0},{"$f":"'تعریف کالا'!G75","v":0},{"$f":"کاردکس!AAE373","v":0},{"$f":"کاردکس!AAF373","v":0},0]
[72,"کاردکس 72",{"$f":"'تعریف کالا'!C76","v":0},{"$f":"'تعریف کالا'!D76","v":0},{"$f":"'تعریف کالا'!E76","v":0},{"$f":"'تعریف کالا'!F76","v":0},{"$f":"'تعریف کالا'!G76","v":0},{"$f":"کاردکس!AAO373","v":0},{"$f":"کاردکس!AAP373","v":0},0]
[73,"کاردکس 73",{"$f":"'تعریف کالا'!C77","v":0},{"$f":"'تعریف کالا'!D77","v":0},{"$f":"'تعریف کالا'!E77","v":0},{"$f":"'تعریف کالا'!F77","v":0},{"$f":"'تعریف کالا'!G77","v":0},{"$f":"کاردکس!AAY373","v":0},{"$f":"کاردکس!AAZ373","v":0},0]
[74,"کاردکس 74",{"$f":"'تعریف کالا'!C78","v":0},{"$f":"'تعریف کالا'!D78","v":0},{"$f":"'تعریف کالا'!E78","v":0},{"$f":"'تعریف کالا'!F78","v":0},{"$f":"'تعریف کالا'!G78","v":0},{"$f":"کاردکس!ABI373","v":0},{"$f":"کاردکس!ABJ373","v":0},0]
[75,"کاردکس 75",{"$f":"'تعریف کالا'!C79","v":0},{"$f":"'تعریف کالا'!D79","v":0},{"$f":"'تعریف کالا'!E79","v":0},{"$f":"'تعریف کالا'!F79","v":0},{"$f":"'تعریف کالا'!G79","v":0},{"$f":"کاردکس!ABS373","v":0},{"$f":"کاردکس!ABT373","v":0},0]
[76,"کاردکس 76",{"$f":"'تعریف کالا'!C80","v":0},{"$f":"'تعریف کالا'!D80","v":0},{"$f":"'تعریف کالا'!E80","v":0},{"$f":"'تعریف کالا'!F80","v":0},{"$f":"'تعریف کالا'!G80","v":0},{"$f":"کاردکس!ACC373","v":0},{"$f":"کاردکس!ACD373","v":0},0]
[77,"کاردکس 77",{"$f":"'تعریف کالا'!C81","v":0},{"$f":"'تعریف کالا'!D81","v":0},{"$f":"'تعریف کالا'!E81","v":0},{"$f":"'تعریف کالا'!F81","v":0},{"$f":"'تعریف کالا'!G81","v":0},{"$f":"کاردکس!ACM373","v":0},{"$f":"کاردکس!ACN373","v":0},0]
[78,"کاردکس 78",{"$f":"'تعریف کالا'!C82","v":0},{"$f":"'تعریف کالا'!D82","v":0},{"$f":"'تعریف کالا'!E82","v":0},{"$f":"'تعریف کالا'!F82","v":0},{"$f":"'تعریف کالا'!G82","v":0},{"$f":"کاردکس!ACW373","v":0},{"$f":"کاردکس!ACX373","v":0},0]
[79,"کاردکس 79",{"$f":"'تعریف کالا'!C83","v":0},{"$f":"'تعریف کالا'!D83","v":0},{"$f":"'تعریف کالا'!E83","v":0},{"$f":"'تعریف کالا'!F83","v":0},{"$f":"'تعریف کالا'!G83","v":0},{"$f":"کاردکس!ADG373","v":0},{"$f":"کاردکس!ADH373","v":0},0]
[80,"کاردکس 80",{"$f":"'تعریف کالا'!C84","v":0},{"$f":"'تعریف کالا'!D84","v":0},{"$f":"'تعریف کالا'!E84","v":0},{"$f":"'تعریف کالا'!F84","v":0},{"$f":"'تعریف کالا'!G84","v":0},{"$f":"کاردکس!ADQ373","v":0},{"$f":"کاردکس!ADR373","v":0},0]
[81,"کاردکس 81",{"$f":"'تعریف کالا'!C85","v":0},{"$f":"'تعریف کالا'!D85","v":0},{"$f":"'تعریف کالا'!E85","v":0},{"$f":"'تعریف کالا'!F85","v":0},{"$f":"'تعریف کالا'!G85","v":0},{"$f":"کاردکس!AEA373","v":0},{"$f":"کاردکس!AEB373","v":0},0]
[82,"کاردکس 82",{"$f":"'تعریف کالا'!C86","v":0},{"$f":"'تعریف کالا'!D86","v":0},{"$f":"'تعریف کالا'!E86","v":0},{"$f":"'تعریف کالا'!F86","v":0},{"$f":"'تعریف کالا'!G86","v":0},{"$f":"کاردکس!AEK373","v":0},{"$f":"کاردکس!AEL373","v":0},0]
[83,"کاردکس 83",{"$f":"'تعریف کالا'!C87","v":0},{"$f":"'تعریف کالا'!D87","v":0},{"$f":"'تعریف کالا'!E87","v":0},{"$f":"'تعریف کالا'!F87","v":0},{"$f":"'تعریف کالا'!G87","v":0},{"$f":"کاردکس!AEU373","v":0},{"$f":"کاردکس!AEV373","v":0},0]
[84,"کاردکس 84",{"$f":"'تعریف کالا'!C88","v":0},{"$f":"'تعریف کالا'!D88","v":0},{"$f":"'تعریف کالا'!E88","v":0},{"$f":"'تعریف کالا'!F88","v":0},{"$f":"'تعریف کالا'!G88","v":0},{"$f":"کاردکس!AFE373","v":0},{"$f":"کاردکس!AFF373","v":0},0]
[85,"کاردکس 85",{"$f":"'تعریف کالا'!C89","v":0},{"$f":"'تعریف کالا'!D89","v":0},{"$f":"'تعریف کالا'!E89","v":0},{"$f":"'تعریف کالا'!F89","v":0},{"$f":"'تعریف کالا'!G89","v":0},{"$f":"کاردکس!AFO373","v":0},{"$f":"کاردکس!AFP373","v":0},0]
[86,"کاردکس 86",{"$f":"'تعریف کالا'!C90","v":0},{"$f":"'تعریف کالا'!D90","v":0},{"$f":"'تعریف کالا'!E90","v":0},{"$f":"'تعریف کالا'!F90","v":0},{"$f":"'تعریف کالا'!G90","v":0},{"$f":"کاردکس!AFY373","v":0},{"$f":"کاردکس!AFZ373","v":0},0]
[87,"کاردکس 87",{"$f":"'تعریف کالا'!C91","v":0},{"$f":"'تعریف کالا'!D91","v":0},{"$f":"'تعریف کالا'!E91","v":0},{"$f":"'تعریف کالا'!F91","v":0},{"$f":"'تعریف کالا'!G91","v":0},{"$f":"کاردکس!AGI373","v":0},{"$f":"کاردکس!AGJ373","v":0},0]
[88,"کاردکس 88",{"$f":"'تعریف کالا'!C92","v":0},{"$f":"'تعریف کالا'!D92","v":0},{"$f":"'تعریف کالا'!E92","v":0},{"$f":"'تعریف کالا'!F92","v":0},{"$f":"'تعریف کالا'!G92","v":0},{"$f":"کاردکس!AGS373","v":0},{"$f":"کاردکس!AGT373","v":0},0]
[89,"کاردکس 89",{"$f":"'تعریف کالا'!C93","v":0},{"$f":"'تعریف کالا'!D93","v":0},{"$f":"'تعریف کالا'!E93","v":0},{"$f":"'تعریف کالا'!F93","v":0},{"$f":"'تعریف کالا'!G93","v":0},{"$f":"کاردکس!AHC373","v":0},{"$f":"کاردکس!AHD373","v":0},0]
[90,"کاردکس 90",{"$f":"'تعریف کالا'!C94","v":0},{"$f":"'تعریف کالا'!D94","v":0},{"$f":"'تعریف کالا'!E94","v":0},{"$f":"'تعریف کالا'!F94","v":0},{"$f":"'تعریف کالا'!G94","v":0},{"$f":"کاردکس!AHM373","v":0},{"$f":"کاردکس!AHN373","v":0},0]
[91,"کاردکس 91",{"$f":"'تعریف کالا'!C95","v":0},{"$f":"'تعریف کالا'!D95","v":0},{"$f":"'تعریف کالا'!E95","v":0},{"$f":"'تعریف کالا'!F95","v":0},{"$f":"'تعریف کالا'!G95","v":0},{"$f":"کاردکس!AHW373","v":0},{"$f":"کاردکس!AHX373","v":0},0]
[92,"کاردکس 92",{"$f":"'تعریف کالا'!C96","v":0},{"$f":"'تعریف کالا'!D96","v":0},{"$f":"'تعریف کالا'!E96","v":0},{"$f":"'تعریف کالا'!F96","v":0},{"$f":"'تعریف کالا'!G96","v":0},{"$f":"کاردکس!AIG373","v":0},{"$f":"کاردکس!AIH373","v":0},0]
[93,"کاردکس 93",{"$f":"'تعریف کالا'!C97","v":0},{"$f":"'تعریف کالا'!D97","v":0},{"$f":"'تعریف کالا'!E97","v":0},{"$f":"'تعریف کالا'!F97","v":0},{"$f":"'تعریف کالا'!G97","v":0},{"$f":"کاردکس!AIQ373","v":0},{"$f":"کاردکس!AIR373","v":0},0]
[94,"کاردکس 94",{"$f":"'تعریف کالا'!C98","v":0},{"$f":"'تعریف کالا'!D98","v":0},{"$f":"'تعریف کالا'!E98","v":0},{"$f":"'تعریف کالا'!F98","v":0},{"$f":"'تعریف کالا'!G98","v":0},{"$f":"کاردکس!AJA373","v":0},{"$f":"کاردکس!AJB373","v":0},0]
[95,"کاردکس 95",{"$f":"'تعریف کالا'!C99","v":0},{"$f":"'تعریف کالا'!D99","v":0},{"$f":"'تعریف کالا'!E99","v":0},{"$f":"'تعریف کالا'!F99","v":0},{"$f":"'تعریف کالا'!G99","v":0},{"$f":"کاردکس!AJK373","v":0},{"$f":"کاردکس!AJL373","v":0},0]
[96,"کاردکس 96",{"$f":"'تعریف کالا'!C100","v":0},{"$f":"'تعریف کالا'!D100","v":0},{"$f":"'تعریف کالا'!E100","v":0},{"$f":"'تعریف کالا'!F100","v":0},{"$f":"'تعریف کالا'!G100","v":0},{"$f":"کاردکس!AJU373","v":0},{"$f":"کاردکس!AJV373","v":0},0]
[97,"کاردکس 97",{"$f":"'تعریف کالا'!C101","v":0},{"$f":"'تعریف کالا'!D101","v":0},{"$f":"'تعریف کالا'!E101","v":0},{"$f":"'تعریف کالا'!F101","v":0},{"$f":"'تعریف کالا'!G101","v":0},{"$f":"کاردکس!AKE373","v":0},{"$f":"کاردکس!AKF373","v":0},0]
[98,"کاردکس 98",{"$f":"'تعریف کالا'!C102","v":0},{"$f":"'تعریف کالا'!D102","v":0},{"$f":"'تعریف کالا'!E102","v":0},{"$f":"'تعریف کالا'!F102","v":0},{"$f":"'تعریف کالا'!G102","v":0},{"$f":"کاردکس!AKO373","v":0},{"$f":"کاردکس!AKP373","v":0},0]
[99,"کاردکس 99",{"$f":"'تعریف کالا'!C103","v":0},{"$f":"'تعریف کالا'!D103","v":0},{"$f":"'تعریف کالا'!E103","v":0},{"$f":"'تعریف کالا'!F103","v":0},{"$f":"'تعریف کالا'!G103","v":0},{"$f":"کاردکس!AKY373","v":0},{"$f":"کاردکس!AKZ373","v":0},0]
[100,"کاردکس 100",{"$f":"'تعریف کالا'!C104","v":0},{"$f":"'تعریف کالا'!D104","v":0},{"$f":"'تعریف کالا'!E104","v":0},{"$f":"'تعریف کالا'!F104","v":0},{"$f":"'تعریف کالا'!G104","v":0},{"$f":"کاردکس!ALI373","v":0},{"$f":"کاردکس!ALJ373","v":0},0]
[101,"کاردکس 101",{"$f":"'تعریف کالا'!C105","v":0},{"$f":"'تعریف کالا'!D105","v":0},{"$f":"'تعریف کالا'!E105","v":0},{"$f":"'تعریف کالا'!F105","v":0},{"$f":"'تعریف کالا'!G105","v":0},{"$f":"کاردکس!G747","v":0},{"$f":"کاردکس!H747","v":0},0]
[102,"کاردکس 102",{"$f":"'تعریف کالا'!C106","v":0},{"$f":"'تعریف کالا'!D106","v":0},{"$f":"'تعریف کالا'!E106","v":0},{"$f":"'تعریف کالا'!F106","v":0},{"$f":"'تعریف کالا'!G106","v":0},{"$f":"کاردکس!Q747","v":0},{"$f":"کاردکس!R747","v":0},0]
[103,"کاردکس 103",{"$f":"'تعریف کالا'!C107","v":0},{"$f":"'تعریف کالا'!D107","v":0},{"$f":"'تعریف کالا'!E107","v":0},{"$f":"'تعریف کالا'!F107","v":0},{"$f":"'تعریف کالا'!G107","v":0},{"$f":"کاردکس!AA747","v":0},{"$f":"کاردکس!AB747","v":0},0]
[104,"کاردکس 104",{"$f":"'تعریف کالا'!C108","v":0},{"$f":"'تعریف کالا'!D108","v":0},{"$f":"'تعریف کالا'!E108","v":0},{"$f":"'تعریف کالا'!F108","v":0},{"$f":"'تعریف کالا'!G108","v":0},{"$f":"کاردکس!AK747","v":0},{"$f":"کاردکس!AL747","v":0},0]
[105,"کاردکس 105",{"$f":"'تعریف کالا'!C109","v":0},{"$f":"'تعریف کالا'!D109","v":0},{"$f":"'تعریف کالا'!E109","v":0},{"$f":"'تعریف کالا'!F109","v":0},{"$f":"'تعریف کالا'!G109","v":0},{"$f":"کاردکس!AU747","v":0},{"$f":"کاردکس!AV747","v":0},0]
[106,"کاردکس 106",{"$f":"'تعریف کالا'!C110","v":0},{"$f":"'تعریف کالا'!D110","v":0},{"$f":"'تعریف کالا'!E110","v":0},{"$f":"'تعریف کالا'!F110","v":0},{"$f":"'تعریف کالا'!G110","v":0},{"$f":"کاردکس!BE747","v":0},{"$f":"کاردکس!BF747","v":0},0]
[107,"کاردکس 107",{"$f":"'تعریف کالا'!C111","v":0},{"$f":"'تعریف کالا'!D111","v":0},{"$f":"'تعریف کالا'!E111","v":0},{"$f":"'تعریف کالا'!F111","v":0},{"$f":"'تعریف کالا'!G111","v":0},{"$f":"کاردکس!BO747","v":0},{"$f":"کاردکس!BP747","v":0},0]
[108,"کاردکس 108",{"$f":"'تعریف کالا'!C112","v":0},{"$f":"'تعریف کالا'!D112","v":0},{"$f":"'تعریف کالا'!E112","v":0},{"$f":"'تعریف کالا'!F112","v":0},{"$f":"'تعریف کالا'!G112","v":0},{"$f":"کاردکس!BY747","v":0},{"$f":"کاردکس!BZ747","v":0},0]
[109,"کاردکس 109",{"$f":"'تعریف کالا'!C113","v":0},{"$f":"'تعریف کالا'!D113","v":0},{"$f":"'تعریف کالا'!E113","v":0},{"$f":"'تعریف کالا'!F113","v":0},{"$f":"'تعریف کالا'!G113","v":0},{"$f":"کاردکس!CI747","v":0},{"$f":"کاردکس!CJ747","v":0},0]
[110,"کاردکس 110",{"$f":"'تعریف کالا'!C114","v":0},{"$f":"'تعریف کالا'!D114","v":0},{"$f":"'تعریف کالا'!E114","v":0},{"$f":"'تعریف کالا'!F114","v":0},{"$f":"'تعریف کالا'!G114","v":0},{"$f":"کاردکس!CS747","v":0},{"$f":"کاردکس!CT747","v":0},0]
[111,"کاردکس 111",{"$f":"'تعریف کالا'!C115","v":0},{"$f":"'تعریف کالا'!D115","v":0},{"$f":"'تعریف کالا'!E115","v":0},{"$f":"'تعریف کالا'!F115","v":0},{"$f":"'تعریف کالا'!G115","v":0},{"$f":"کاردکس!DC747","v":0},{"$f":"کاردکس!DD747","v":0},0]
[112,"کاردکس 112",{"$f":"'تعریف کالا'!C116","v":0},{"$f":"'تعریف کالا'!D116","v":0},{"$f":"'تعریف کالا'!E116","v":0},{"$f":"'تعریف کالا'!F116","v":0},{"$f":"'تعریف کالا'!G116","v":0},{"$f":"کاردکس!DM747","v":0},{"$f":"کاردکس!DN747","v":0},0]
[113,"کاردکس 113",{"$f":"'تعریف کالا'!C117","v":0},{"$f":"'تعریف کالا'!D117","v":0},{"$f":"'تعریف کالا'!E117","v":0},{"$f":"'تعریف کالا'!F117","v":0},{"$f":"'تعریف کالا'!G117","v":0},{"$f":"کاردکس!DW747","v":0},{"$f":"کاردکس!DX747","v":0},0]
[114,"کاردکس 114",{"$f":"'تعریف کالا'!C118","v":0},{"$f":"'تعریف کالا'!D118","v":0},{"$f":"'تعریف کالا'!E118","v":0},{"$f":"'تعریف کالا'!F118","v":0},{"$f":"'تعریف کالا'!G118","v":0},{"$f":"کاردکس!EG747","v":0},{"$f":"کاردکس!EH747","v":0},0]
[115,"کاردکس 115",{"$f":"'تعریف کالا'!C119","v":0},{"$f":"'تعریف کالا'!D119","v":0},{"$f":"'تعریف کالا'!E119","v":0},{"$f":"'تعریف کالا'!F119","v":0},{"$f":"'تعریف کالا'!G119","v":0},{"$f":"کاردکس!EQ747","v":0},{"$f":"کاردکس!ER747","v":0},0]
[116,"کاردکس 116",{"$f":"'تعریف کالا'!C120","v":0},{"$f":"'تعریف کالا'!D120","v":0},{"$f":"'تعریف کالا'!E120","v":0},{"$f":"'تعریف کالا'!F120","v":0},{"$f":"'تعریف کالا'!G120","v":0},{"$f":"کاردکس!FA747","v":0},{"$f":"کاردکس!FB747","v":0},0]
[117,"کاردکس 117",{"$f":"'تعریف کالا'!C121","v":0},{"$f":"'تعریف کالا'!D121","v":0},{"$f":"'تعریف کالا'!E121","v":0},{"$f":"'تعریف کالا'!F121","v":0},{"$f":"'تعریف کالا'!G121","v":0},{"$f":"کاردکس!FK747","v":0},{"$f":"کاردکس!FL747","v":0},0]
[118,"کاردکس 118",{"$f":"'تعریف کالا'!C122","v":0},{"$f":"'تعریف کالا'!D122","v":0},{"$f":"'تعریف کالا'!E122","v":0},{"$f":"'تعریف کالا'!F122","v":0},{"$f":"'تعریف کالا'!G122","v":0},{"$f":"کاردکس!FU747","v":0},{"$f":"کاردکس!FV747","v":0},0]
[119,"کاردکس 119",{"$f":"'تعریف کالا'!C123","v":0},{"$f":"'تعریف کالا'!D123","v":0},{"$f":"'تعریف کالا'!E123","v":0},{"$f":"'تعریف کالا'!F123","v":0},{"$f":"'تعریف کالا'!G123","v":0},{"$f":"کاردکس!GE747","v":0},{"$f":"کاردکس!GF747","v":0},0]
[120,"کاردکس 120",{"$f":"'تعریف کالا'!C124","v":0},{"$f":"'تعریف کالا'!D124","v":0},{"$f":"'تعریف کالا'!E124","v":0},{"$f":"'تعریف کالا'!F124","v":0},{"$f":"'تعریف کالا'!G124","v":0},{"$f":"کاردکس!GO747","v":0},{"$f":"کاردکس!GP747","v":0},0]
[121,"کاردکس 121",{"$f":"'تعریف کالا'!C125","v":0},{"$f":"'تعریف کالا'!D125","v":0},{"$f":"'تعریف کالا'!E125","v":0},{"$f":"'تعریف کالا'!F125","v":0},{"$f":"'تعریف کالا'!G125","v":0},{"$f":"کاردکس!GY747","v":0},{"$f":"کاردکس!GZ747","v":0},0]
[122,"کاردکس 122",{"$f":"'تعریف کالا'!C126","v":0},{"$f":"'تعریف کالا'!D126","v":0},{"$f":"'تعریف کالا'!E126","v":0},{"$f":"'تعریف کالا'!F126","v":0},{"$f":"'تعریف کالا'!G126","v":0},{"$f":"کاردکس!HI747","v":0},{"$f":"کاردکس!HJ747","v":0},0]
[123,"کاردکس 123",{"$f":"'تعریف کالا'!C127","v":0},{"$f":"'تعریف کالا'!D127","v":0},{"$f":"'تعریف کالا'!E127","v":0},{"$f":"'تعریف کالا'!F127","v":0},{"$f":"'تعریف کالا'!G127","v":0},{"$f":"کاردکس!HS747","v":0},{"$f":"کاردکس!HT747","v":0},0]
[124,"کاردکس 124",{"$f":"'تعریف کالا'!C128","v":0},{"$f":"'تعریف کالا'!D128","v":0},{"$f":"'تعریف کالا'!E128","v":0},{"$f":"'تعریف کالا'!F128","v":0},{"$f":"'تعریف کالا'!G128","v":0},{"$f":"کاردکس!IC747","v":0},{"$f":"کاردکس!ID747","v":0},0]
[125,"کاردکس 125",{"$f":"'تعریف کالا'!C129","v":0},{"$f":"'تعریف کالا'!D129","v":0},{"$f":"'تعریف کالا'!E129","v":0},{"$f":"'تعریف کالا'!F129","v":0},{"$f":"'تعریف کالا'!G129","v":0},{"$f":"کاردکس!IM747","v":0},{"$f":"کاردکس!IN747","v":0},0]
[126,"کاردکس 126",{"$f":"'تعریف کالا'!C130","v":0},{"$f":"'تعریف کالا'!D130","v":0},{"$f":"'تعریف کالا'!E130","v":0},{"$f":"'تعریف کالا'!F130","v":0},{"$f":"'تعریف کالا'!G130","v":0},{"$f":"کاردکس!IW747","v":0},{"$f":"کاردکس!IX747","v":0},0]
[127,"کاردکس 127",{"$f":"'تعریف کالا'!C131","v":0},{"$f":"'تعریف کالا'!D131","v":0},{"$f":"'تعریف کالا'!E131","v":0},{"$f":"'تعریف کالا'!F131","v":0},{"$f":"'تعریف کالا'!G131","v":0},{"$f":"کاردکس!JG747","v":0},{"$f":"کاردکس!JH747","v":0},0]
[128,"کاردکس 128",{"$f":"'تعریف کالا'!C132","v":0},{"$f":"'تعریف کالا'!D132","v":0},{"$f":"'تعریف کالا'!E132","v":0},{"$f":"'تعریف کالا'!F132","v":0},{"$f":"'تعریف کالا'!G132","v":0},{"$f":"کاردکس!JQ747","v":0},{"$f":"کاردکس!JR747","v":0},0]
[129,"کاردکس 129",{"$f":"'تعریف کالا'!C133","v":0},{"$f":"'تعریف کالا'!D133","v":0},{"$f":"'تعریف کالا'!E133","v":0},{"$f":"'تعریف کالا'!F133","v":0},{"$f":"'تعریف کالا'!G133","v":0},{"$f":"کاردکس!KA747","v":0},{"$f":"کاردکس!KB747","v":0},0]
[130,"کاردکس 130",{"$f":"'تعریف کالا'!C134","v":0},{"$f":"'تعریف کالا'!D134","v":0},{"$f":"'تعریف کالا'!E134","v":0},{"$f":"'تعریف کالا'!F134","v":0},{"$f":"'تعریف کالا'!G134","v":0},{"$f":"کاردکس!KK747","v":0},{"$f":"کاردکس!KL747","v":0},{"$f":"H134-I134","v":0}]
[131,"کاردکس 131",{"$f":"'تعریف کالا'!C135","v":0},{"$f":"'تعریف کالا'!D135","v":0},{"$f":"'تعریف کالا'!E135","v":0},{"$f":"'تعریف کالا'!F135","v":0},{"$f":"'تعریف کالا'!G135","v":0},{"$f":"کاردکس!KU747","v":0},{"$f":"کاردکس!KU738","v":0},0]
[132,"کاردکس 132",{"$f":"'تعریف کالا'!C136","v":0},{"$f":"'تعریف کالا'!D136","v":0},{"$f":"'تعریف کالا'!E136","v":0},{"$f":"'تعریف کالا'!F136","v":0},{"$f":"'تعریف کالا'!G136","v":0},{"$f":"کاردکس!LE747","v":0},{"$f":"کاردکس!LF747","v":0},0]
[133,"کاردکس 133",{"$f":"'تعریف کالا'!C137","v":0},{"$f":"'تعریف کالا'!D137","v":0},{"$f":"'تعریف کالا'!E137","v":0},{"$f":"'تعریف کالا'!F137","v":0},{"$f":"'تعریف کالا'!G137","v":0},{"$f":"کاردکس!LO747","v":0},{"$f":"کاردکس!LP747","v":0},0]
[134,"کاردکس 134",{"$f":"'تعریف کالا'!C138","v":0},{"$f":"'تعریف کالا'!D138","v":0},{"$f":"'تعریف کالا'!E138","v":0},{"$f":"'تعریف کالا'!F138","v":0},{"$f":"'تعریف کالا'!G138","v":0},{"$f":"کاردکس!LY747","v":0},{"$f":"کاردکس!LZ747","v":0},0]
[135,"کاردکس 135",{"$f":"'تعریف کالا'!C139","v":0},{"$f":"'تعریف کالا'!D139","v":0},{"$f":"'تعریف کالا'!E139","v":0},{"$f":"'تعریف کالا'!F139","v":0},{"$f":"'تعریف کالا'!G139","v":0},{"$f":"کاردکس!MI747","v":0},{"$f":"کاردکس!MJ747","v":0},0]
[136,"کاردکس 136",{"$f":"'تعریف کالا'!C140","v":0},{"$f":"'تعریف کالا'!D140","v":0},{"$f":"'تعریف کالا'!E140","v":0},{"$f":"'تعریف کالا'!F140","v":0},{"$f":"'تعریف کالا'!G140","v":0},{"$f":"کاردکس!MS747","v":0},{"$f":"کاردکس!MT747","v":0},0]
[137,"کاردکس 137",{"$f":"'تعریف کالا'!C141","v":0},{"$f":"'تعریف کالا'!D141","v":0},{"$f":"'تعریف کالا'!E141","v":0},{"$f":"'تعریف کالا'!F141","v":0},{"$f":"'تعریف کالا'!G141","v":0},{"$f":"کاردکس!NC747","v":0},{"$f":"کاردکس!ND747","v":0},0]
[138,"کاردکس 138",{"$f":"'تعریف کالا'!C142","v":0},{"$f":"'تعریف کالا'!D142","v":0},{"$f":"'تعریف کالا'!E142","v":0},{"$f":"'تعریف کالا'!F142","v":0},{"$f":"'تعریف کالا'!G142","v":0},{"$f":"کاردکس!NM747","v":0},{"$f":"کاردکس!NN747","v":0},0]
[139,"کاردکس 139",{"$f":"'تعریف کالا'!C143","v":0},{"$f":"'تعریف کالا'!D143","v":0},{"$f":"'تعریف کالا'!E143","v":0},{"$f":"'تعریف کالا'!F143","v":0},{"$f":"'تعریف کالا'!G143","v":0},{"$f":"کاردکس!NW747","v":0},{"$f":"کاردکس!NX747","v":0},0]
[140,"کاردکس 140",{"$f":"'تعریف کالا'!C144","v":0},{"$f":"'تعریف کالا'!D144","v":0},{"$f":"'تعریف کالا'!E144","v":0},{"$f":"'تعریف کالا'!F144","v":0},{"$f":"'تعریف کالا'!G144","v":0},{"$f":"کاردکس!OG747","v":0},{"$f":"کاردکس!OH747","v":0},0]
[141,"کاردکس 141",{"$f":"'تعریف کالا'!C145","v":0},{"$f":"'تعریف کالا'!D145","v":0},{"$f":"'تعریف کالا'!E145","v":0},{"$f":"'تعریف کالا'!F145","v":0},{"$f":"'تعریف کالا'!G145","v":0},{"$f":"کاردکس!OQ747","v":0},{"$f":"کاردکس!OR747","v":0},0]
[142,"کاردکس 142",{"$f":"'تعریف کالا'!C146","v":0},{"$f":"'تعریف کالا'!D146","v":0},{"$f":"'تعریف کالا'!E146","v":0},{"$f":"'تعریف کالا'!F146","v":0},{"$f":"'تعریف کالا'!G146","v":0},{"$f":"کاردکس!PA747","v":0},{"$f":"کاردکس!PB747","v":0},0]
[143,"کاردکس 143",{"$f":"'تعریف کالا'!C147","v":0},{"$f":"'تعریف کالا'!D147","v":0},{"$f":"'تعریف کالا'!E147","v":0},{"$f":"'تعریف کالا'!F147","v":0},{"$f":"'تعریف کالا'!G147","v":0},{"$f":"کاردکس!PK747","v":0},{"$f":"کاردکس!PL747","v":0},0]
[144,"کاردکس 144",{"$f":"'تعریف کالا'!C148","v":0},{"$f":"'تعریف کالا'!D148","v":0},{"$f":"'تعریف کالا'!E148","v":0},{"$f":"'تعریف کالا'!F148","v":0},{"$f":"'تعریف کالا'!G148","v":0},{"$f":"کاردکس!PU747","v":0},{"$f":"کاردکس!PV747","v":0},0]
[145,"کاردکس 145",{"$f":"'تعریف کالا'!C149","v":0},{"$f":"'تعریف کالا'!D149","v":0},{"$f":"'تعریف کالا'!E149","v":0},{"$f":"'تعریف کالا'!F149","v":0},{"$f":"'تعریف کالا'!G149","v":0},{"$f":"کاردکس!QE747","v":0},{"$f":"کاردکس!QF747","v":0},0]
[146,"کاردکس 146",{"$f":"'تعریف کالا'!C150","v":0},{"$f":"'تعریف کالا'!D150","v":0},{"$f":"'تعریف کالا'!E150","v":0},{"$f":"'تعریف کالا'!F150","v":0},{"$f":"'تعریف کالا'!G150","v":0},{"$f":"کاردکس!QO747","v":0},{"$f":"کاردکس!QP747","v":0},0]
[147,"کاردکس 147",{"$f":"'تعریف کالا'!C151","v":0},{"$f":"'تعریف کالا'!D151","v":0},{"$f":"'تعریف کالا'!E151","v":0},{"$f":"'تعریف کالا'!F151","v":0},{"$f":"'تعریف کالا'!G151","v":0},{"$f":"کاردکس!QY747","v":0},{"$f":"کاردکس!QZ747","v":0},0]
[148,"کاردکس 148",{"$f":"'تعریف کالا'!C152","v":0},{"$f":"'تعریف کالا'!D152","v":0},{"$f":"'تعریف کالا'!E152","v":0},{"$f":"'تعریف کالا'!F152","v":0},{"$f":"'تعریف کالا'!G152","v":0},{"$f":"کاردکس!RI747","v":0},{"$f":"کاردکس!RJ747","v":0},0]
[149,"کاردکس 149",{"$f":"'تعریف کالا'!C153","v":0},{"$f":"'تعریف کالا'!D153","v":0},{"$f":"'تعریف کالا'!E153","v":0},{"$f":"'تعریف کالا'!F153","v":0},{"$f":"'تعریف کالا'!G153","v":0},{"$f":"کاردکس!RS747","v":0},{"$f":"کاردکس!RT747","v":0},0]
[150,"کاردکس 150",{"$f":"'تعریف کالا'!C154","v":0},{"$f":"'تعریف کالا'!D154","v":0},{"$f":"'تعریف کالا'!E154","v":0},{"$f":"'تعریف کالا'!F154","v":0},{"$f":"'تعریف کالا'!G154","v":0},{"$f":"کاردکس!SC747","v":0},{"$f":"کاردکس!SD747","v":0},0]
[151,"کاردکس 151",{"$f":"'تعریف کالا'!C155","v":0},{"$f":"'تعریف کالا'!D155","v":0},{"$f":"'تعریف کالا'!E155","v":0},{"$f":"'تعریف کالا'!F155","v":0},{"$f":"'تعریف کالا'!G155","v":0},{"$f":"کاردکس!SM747","v":0},{"$f":"کاردکس!SN747","v":0},0]
[152,"کاردکس 152",{"$f":"'تعریف کالا'!C156","v":0},{"$f":"'تعریف کالا'!D156","v":0},{"$f":"'تعریف کالا'!E156","v":0},{"$f":"'تعریف کالا'!F156","v":0},{"$f":"'تعریف کالا'!G156","v":0},{"$f":"کاردکس!SW747","v":0},{"$f":"کاردکس!SX747","v":0},0]
[153,"کاردکس 153",{"$f":"'تعریف کالا'!C157","v":0},{"$f":"'تعریف کالا'!D157","v":0},{"$f":"'تعریف کالا'!E157","v":0},{"$f":"'تعریف کالا'!F157","v":0},{"$f":"'تعریف کالا'!G157","v":0},{"$f":"کاردکس!TG747","v":0},{"$f":"کاردکس!TH747","v":0},0]
[154,"کاردکس 154",{"$f":"'تعریف کالا'!C158","v":0},{"$f":"'تعریف کالا'!D158","v":0},{"$f":"'تعریف کالا'!E158","v":0},{"$f":"'تعریف کالا'!F158","v":0},{"$f":"'تعریف کالا'!G158","v":0},{"$f":"کاردکس!TQ747","v":0},{"$f":"کاردکس!TR747","v":0},0]
[155,"کاردکس 155",{"$f":"'تعریف کالا'!C159","v":0},{"$f":"'تعریف کالا'!D159","v":0},{"$f":"'تعریف کالا'!E159","v":0},{"$f":"'تعریف کالا'!F159","v":0},{"$f":"'تعریف کالا'!G159","v":0},{"$f":"کاردکس!UA747","v":0},{"$f":"کاردکس!UB747","v":0},0]
[156,"کاردکس 156",{"$f":"'تعریف کالا'!C160","v":0},{"$f":"'تعریف کالا'!D160","v":0},{"$f":"'تعریف کالا'!E160","v":0},{"$f":"'تعریف کالا'!F160","v":0},{"$f":"'تعریف کالا'!G160","v":0},{"$f":"کاردکس!UK747","v":0},{"$f":"کاردکس!UL747","v":0},0]
[157,"کاردکس 157",{"$f":"'تعریف کالا'!C161","v":0},{"$f":"'تعریف کالا'!D161","v":0},{"$f":"'تعریف کالا'!E161","v":0},{"$f":"'تعریف کالا'!F161","v":0},{"$f":"'تعریف کالا'!G161","v":0},{"$f":"کاردکس!UU747","v":0},{"$f":"کاردکس!UV747","v":0},0]
[158,"کاردکس 158",{"$f":"'تعریف کالا'!C162","v":0},{"$f":"'تعریف کالا'!D162","v":0},{"$f":"'تعریف کالا'!E162","v":0},{"$f":"'تعریف کالا'!F162","v":0},{"$f":"'تعریف کالا'!G162","v":0},{"$f":"کاردکس!VE747","v":0},{"$f":"کاردکس!VF747","v":0},0]
[159,"کاردکس 159",{"$f":"'تعریف کالا'!C163","v":0},{"$f":"'تعریف کالا'!D163","v":0},{"$f":"'تعریف کالا'!E163","v":0},{"$f":"'تعریف کالا'!F163","v":0},{"$f":"'تعریف کالا'!G163","v":0},{"$f":"کاردکس!VO747","v":0},{"$f":"کاردکس!VP747","v":0},0]
[160,"کاردکس 160",{"$f":"'تعریف کالا'!C164","v":0},{"$f":"'تعریف کالا'!D164","v":0},{"$f":"'تعریف کالا'!E164","v":0},{"$f":"'تعریف کالا'!F164","v":0},{"$f":"'تعریف کالا'!G164","v":0},{"$f":"کاردکس!VY747","v":0},{"$f":"کاردکس!VZ747","v":0},0]
[161,"کاردکس 161",{"$f":"'تعریف کالا'!C165","v":0},{"$f":"'تعریف کالا'!D165","v":0},{"$f":"'تعریف کالا'!E165","v":0},{"$f":"'تعریف کالا'!F165","v":0},{"$f":"'تعریف کالا'!G165","v":0},{"$f":"کاردکس!WI747","v":0},{"$f":"کاردکس!WJ747","v":0},0]
[162,"کاردکس 162",{"$f":"'تعریف کالا'!C166","v":0},{"$f":"'تعریف کالا'!D166","v":0},{"$f":"'تعریف کالا'!E166","v":0},{"$f":"'تعریف کالا'!F166","v":0},{"$f":"'تعریف کالا'!G166","v":0},{"$f":"کاردکس!WS747","v":0},{"$f":"کاردکس!WT747","v":0},0]
[163,"کاردکس 163",{"$f":"'تعریف کالا'!C167","v":0},{"$f":"'تعریف کالا'!D167","v":0},{"$f":"'تعریف کالا'!E167","v":0},{"$f":"'تعریف کالا'!F167","v":0},{"$f":"'تعریف کالا'!G167","v":0},{"$f":"کاردکس!XC747","v":0},{"$f":"کاردکس!XD747","v":0},0]
[164,"کاردکس 164",{"$f":"'تعریف کالا'!C168","v":0},{"$f":"'تعریف کالا'!D168","v":0},{"$f":"'تعریف کالا'!E168","v":0},{"$f":"'تعریف کالا'!F168","v":0},{"$f":"'تعریف کالا'!G168","v":0},{"$f":"کاردکس!XM747","v":0},{"$f":"کاردکس!XN747","v":0},0]
[165,"کاردکس 165",{"$f":"'تعریف کالا'!C169","v":0},{"$f":"'تعریف کالا'!D169","v":0},{"$f":"'تعریف کالا'!E169","v":0},{"$f":"'تعریف کالا'!F169","v":0},{"$f":"'تعریف کالا'!G169","v":0},{"$f":"کاردکس!XW747","v":0},{"$f":"کاردکس!XX747","v":0},0]
[166,"کاردکس 166",{"$f":"'تعریف کالا'!C170","v":0},{"$f":"'تعریف کالا'!D170","v":0},{"$f":"'تعریف کالا'!E170","v":0},{"$f":"'تعریف کالا'!F170","v":0},{"$f":"'تعریف کالا'!G170","v":0},{"$f":"کاردکس!YG747","v":0},{"$f":"کاردکس!YH747","v":0},0]
[167,"کاردکس 167",{"$f":"'تعریف کالا'!C171","v":0},{"$f":"'تعریف کالا'!D171","v":0},{"$f":"'تعریف کالا'!E171","v":0},{"$f":"'تعریف کالا'!F171","v":0},{"$f":"'تعریف کالا'!G171","v":0},{"$f":"کاردکس!YQ747","v":0},{"$f":"کاردکس!YR747","v":0},0]
[168,"کاردکس 168",{"$f":"'تعریف کالا'!C172","v":0},{"$f":"'تعریف کالا'!D172","v":0},{"$f":"'تعریف کالا'!E172","v":0},{"$f":"'تعریف کالا'!F172","v":0},{"$f":"'تعریف کالا'!G172","v":0},{"$f":"کاردکس!ZA747","v":0},{"$f":"کاردکس!ZB747","v":0},0]
[169,"کاردکس 169",{"$f":"'تعریف کالا'!C173","v":0},{"$f":"'تعریف کالا'!D173","v":0},{"$f":"'تعریف کالا'!E173","v":0},{"$f":"'تعریف کالا'!F173","v":0},{"$f":"'تعریف کالا'!G173","v":0},{"$f":"کاردکس!ZK747","v":0},{"$f":"کاردکس!ZL747","v":0},0]
[170,"کاردکس 170",{"$f":"'تعریف کالا'!C174","v":0},{"$f":"'تعریف کالا'!D174","v":0},{"$f":"'تعریف کالا'!E174","v":0},{"$f":"'تعریف کالا'!F174","v":0},{"$f":"'تعریف کالا'!G174","v":0},{"$f":"کاردکس!ZU747","v":0},{"$f":"کاردکس!ZV747","v":0},0]
[171,"کاردکس 171",{"$f":"'تعریف کالا'!C175","v":0},{"$f":"'تعریف کالا'!D175","v":0},{"$f":"'تعریف کالا'!E175","v":0},{"$f":"'تعریف کالا'!F175","v":0},{"$f":"'تعریف کالا'!G175","v":0},{"$f":"کاردکس!AAE747","v":0},{"$f":"کاردکس!AAF747","v":0},0]
[172,"کاردکس 172",{"$f":"'تعریف کالا'!C176","v":0},{"$f":"'تعریف کالا'!D176","v":0},{"$f":"'تعریف کالا'!E176","v":0},{"$f":"'تعریف کالا'!F176","v":0},{"$f":"'تعریف کالا'!G176","v":0},{"$f":"کاردکس!AAO747","v":0},{"$f":"کاردکس!AAP747","v":0},0]
[173,"کاردکس 173",{"$f":"'تعریف کالا'!C177","v":0},{"$f":"'تعریف کالا'!D177","v":0},{"$f":"'تعریف کالا'!E177","v":0},{"$f":"'تعریف کالا'!F177","v":0},{"$f":"'تعریف کالا'!G177","v":0},{"$f":"کاردکس!AAY747","v":0},{"$f":"کاردکس!AAZ747","v":0},0]
[174,"کاردکس 174",{"$f":"'تعریف کالا'!C178","v":0},{"$f":"'تعریف کالا'!D178","v":0},{"$f":"'تعریف کالا'!E178","v":0},{"$f":"'تعریف کالا'!F178","v":0},{"$f":"'تعریف کالا'!G178","v":0},{"$f":"کاردکس!ABI747","v":0},{"$f":"کاردکس!ABJ747","v":0},0]
[175,"کاردکس 175",{"$f":"'تعریف کالا'!C179","v":0},{"$f":"'تعریف کالا'!D179","v":0},{"$f":"'تعریف کالا'!E179","v":0},{"$f":"'تعریف کالا'!F179","v":0},{"$f":"'تعریف کالا'!G179","v":0},{"$f":"کاردکس!ABS747","v":0},{"$f":"کاردکس!ABT747","v":0},0]
[176,"کاردکس 176",{"$f":"'تعریف کالا'!C180","v":0},{"$f":"'تعریف کالا'!D180","v":0},{"$f":"'تعریف کالا'!E180","v":0},{"$f":"'تعریف کالا'!F180","v":0},{"$f":"'تعریف کالا'!G180","v":0},{"$f":"کاردکس!ACC747","v":0},{"$f":"کاردکس!ACD747","v":0},0]
[177,"کاردکس 177",{"$f":"'تعریف کالا'!C181","v":0},{"$f":"'تعریف کالا'!D181","v":0},{"$f":"'تعریف کالا'!E181","v":0},{"$f":"'تعریف کالا'!F181","v":0},{"$f":"'تعریف کالا'!G181","v":0},{"$f":"کاردکس!ACM747","v":0},{"$f":"کاردکس!ACN747","v":0},0]
[178,"کاردکس 178",{"$f":"'تعریف کالا'!C182","v":0},{"$f":"'تعریف کالا'!D182","v":0},{"$f":"'تعریف کالا'!E182","v":0},{"$f":"'تعریف کالا'!F182","v":0},{"$f":"'تعریف کالا'!G182","v":0},{"$f":"کاردکس!ACW747","v":0},{"$f":"کاردکس!ACX747","v":0},0]
[179,"کاردکس 179",{"$f":"'تعریف کالا'!C183","v":0},{"$f":"'تعریف کالا'!D183","v":0},{"$f":"'تعریف کالا'!E183","v":0},{"$f":"'تعریف کالا'!F183","v":0},{"$f":"'تعریف کالا'!G183","v":0},{"$f":"کاردکس!ADG747","v":0},{"$f":"کاردکس!ADH747","v":0},0]
[180,"کاردکس 180",{"$f":"'تعریف کالا'!C184","v":0},{"$f":"'تعریف کالا'!D184","v":0},{"$f":"'تعریف کالا'!E184","v":0},{"$f":"'تعریف کالا'!F184","v":0},{"$f":"'تعریف کالا'!G184","v":0},{"$f":"کاردکس!ADQ747","v":0},{"$f":"کاردکس!ADR747","v":0},0]
[181,"کاردکس 181",{"$f":"'تعریف کالا'!C185","v":0},{"$f":"'تعریف کالا'!D185","v":0},{"$f":"'تعریف کالا'!E185","v":0},{"$f":"'تعریف کالا'!F185","v":0},{"$f":"'تعریف کالا'!G185","v":0},{"$f":"کاردکس!AEA747","v":0},{"$f":"کاردکس!AEB747","v":0},0]
[182,"کاردکس 182",{"$f":"'تعریف کالا'!C186","v":0},{"$f":"'تعریف کالا'!D186","v":0},{"$f":"'تعریف کالا'!E186","v":0},{"$f":"'تعریف کالا'!F186","v":0},{"$f":"'تعریف کالا'!G186","v":0},{"$f":"کاردکس!AEK747","v":0},{"$f":"کاردکس!AEL747","v":0},0]
[183,"کاردکس 183",{"$f":"'تعریف کالا'!C187","v":0},{"$f":"'تعریف کالا'!D187","v":0},{"$f":"'تعریف کالا'!E187","v":0},{"$f":"'تعریف کالا'!F187","v":0},{"$f":"'تعریف کالا'!G187","v":0},{"$f":"کاردکس!AEU747","v":0},{"$f":"کاردکس!AEV747","v":0},0]
[184,"کاردکس 184",{"$f":"'تعریف کالا'!C188","v":0},{"$f":"'تعریف کالا'!D188","v":0},{"$f":"'تعریف کالا'!E188","v":0},{"$f":"'تعریف کالا'!F188","v":0},{"$f":"'تعریف کالا'!G188","v":0},{"$f":"کاردکس!AFE747","v":0},{"$f":"کاردکس!AFF747","v":0},0]
[185,"کاردکس 185",{"$f":"'تعریف کالا'!C189","v":0},{"$f":"'تعریف کالا'!D189","v":0},{"$f":"'تعریف کالا'!E189","v":0},{"$f":"'تعریف کالا'!F189","v":0},{"$f":"'تعریف کالا'!G189","v":0},{"$f":"کاردکس!AFO747","v":0},{"$f":"کاردکس!AFP747","v":0},0]
[186,"کاردکس 186",{"$f":"'تعریف کالا'!C190","v":0},{"$f":"'تعریف کالا'!D190","v":0},{"$f":"'تعریف کالا'!E190","v":0},{"$f":"'تعریف کالا'!F190","v":0},{"$f":"'تعریف کالا'!G190","v":0},{"$f":"کاردکس!AFY747","v":0},{"$f":"کاردکس!AFZ747","v":0},0]
[187,"کاردکس 187",{"$f":"'تعریف کالا'!C191","v":0},{"$f":"'تعریف کالا'!D191","v":0},{"$f":"'تعریف کالا'!E191","v":0},{"$f":"'تعریف کالا'!F191","v":0},{"$f":"'تعریف کالا'!G191","v":0},{"$f":"کاردکس!AGI747","v":0},{"$f":"کاردکس!AGJ747","v":0},0]
[188,"کاردکس 188",{"$f":"'تعریف کالا'!C192","v":0},{"$f":"'تعریف کالا'!D192","v":0},{"$f":"'تعریف کالا'!E192","v":0},{"$f":"'تعریف کالا'!F192","v":0},{"$f":"'تعریف کالا'!G192","v":0},{"$f":"کاردکس!AGS747","v":0},{"$f":"کاردکس!AGT747","v":0},0]
[189,"کاردکس 189",{"$f":"'تعریف کالا'!C193","v":0},{"$f":"'تعریف کالا'!D193","v":0},{"$f":"'تعریف کالا'!E193","v":0},{"$f":"'تعریف کالا'!F193","v":0},{"$f":"'تعریف کالا'!G193","v":0},{"$f":"کاردکس!AHC747","v":0},{"$f":"کاردکس!AHD747","v":0},0]
[190,"کاردکس 190",{"$f":"'تعریف کالا'!C194","v":0},{"$f":"'تعریف کالا'!D194","v":0},{"$f":"'تعریف کالا'!E194","v":0},{"$f":"'تعریف کالا'!F194","v":0},{"$f":"'تعریف کالا'!G194","v":0},{"$f":"کاردکس!AHM747","v":0},{"$f":"کاردکس!AHN747","v":0},0]
[191,"کاردکس 191",{"$f":"'تعریف کالا'!C195","v":0},{"$f":"'تعریف کالا'!D195","v":0},{"$f":"'تعریف کالا'!E195","v":0},{"$f":"'تعریف کالا'!F195","v":0},{"$f":"'تعریف کالا'!G195","v":0},{"$f":"کاردکس!AHW747","v":0},{"$f":"کاردکس!AHX747","v":0},0]
[192,"کاردکس 192",{"$f":"'تعریف کالا'!C196","v":0},{"$f":"'تعریف کالا'!D196","v":0},{"$f":"'تعریف کالا'!E196","v":0},{"$f":"'تعریف کالا'!F196","v":0},{"$f":"'تعریف کالا'!G196","v":0},{"$f":"کاردکس!AIG747","v":0},{"$f":"کاردکس!AIH747","v":0},0]
[193,"کاردکس 193",{"$f":"'تعریف کالا'!C197","v":0},{"$f":"'تعریف کالا'!D197","v":0},{"$f":"'تعریف کالا'!E197","v":0},{"$f":"'تعریف کالا'!F197","v":0},{"$f":"'تعریف کالا'!G197","v":0},{"$f":"کاردکس!AIQ747","v":0},{"$f":"کاردکس!AIR747","v":0},0]
[194,"کاردکس 194",{"$f":"'تعریف کالا'!C198","v":0},{"$f":"'تعریف کالا'!D198","v":0},{"$f":"'تعریف کالا'!E198","v":0},{"$f":"'تعریف کالا'!F198","v":0},{"$f":"'تعریف کالا'!G198","v":0},{"$f":"کاردکس!AJA747","v":0},{"$f":"کاردکس!AJB747","v":0},{"$f":"H198-I198","v":0}]
[195,"کاردکس 195",{"$f":"'تعریف کالا'!C199","v":0},{"$f":"'تعریف کالا'!D199","v":0},{"$f":"'تعریف کالا'!E199","v":0},{"$f":"'تعریف کالا'!F199","v":0},{"$f":"'تعریف کالا'!G199","v":0},{"$f":"کاردکس!AJK747","v":0},{"$f":"کاردکس!AJL747","v":0},0]
[196,"کاردکس 196",{"$f":"'تعریف کالا'!C200","v":0},{"$f":"'تعریف کالا'!D200","v":0},{"$f":"'تعریف کالا'!E200","v":0},{"$f":"'تعریف کالا'!F200","v":0},{"$f":"'تعریف کالا'!G200","v":0},{"$f":"کاردکس!AJU747","v":0},{"$f":"کاردکس!AJV747","v":0},0]
[197,"کاردکس 197",{"$f":"'تعریف کالا'!C201","v":0},{"$f":"'تعریف کالا'!D201","v":0},{"$f":"'تعریف کالا'!E201","v":0},{"$f":"'تعریف کالا'!F201","v":0},{"$f":"'تعریف کالا'!G201","v":0},{"$f":"کاردکس!AKE747","v":0},{"$f":"کاردکس!AKF747","v":0},0]
[198,"کاردکس 198",{"$f":"'تعریف کالا'!C202","v":0},{"$f":"'تعریف کالا'!D202","v":0},{"$f":"'تعریف کالا'!E202","v":0},{"$f":"'تعریف کالا'!F202","v":0},{"$f":"'تعریف کالا'!G202","v":0},{"$f":"کاردکس!AKO747","v":0},{"$f":"کاردکس!AKP747","v":0},0]
[199,"کاردکس 199",{"$f":"'تعریف کالا'!C203","v":0},{"$f":"'تعریف کالا'!D203","v":0},{"$f":"'تعریف کالا'!E203","v":0},{"$f":"'تعریف کالا'!F203","v":0},{"$f":"'تعریف کالا'!G203","v":0},{"$f":"کاردکس!AKY747","v":0},{"$f":"کاردکس!AKZ747","v":0},0]
[200,"کاردکس 200",{"$f":"'تعریف کالا'!C204","v":0},{"$f":"'تعریف کالا'!D204","v":0},{"$f":"'تعریف کالا'!E204","v":0},{"$f":"'تعریف کالا'!F204","v":0},{"$f":"'تعریف کالا'!G204","v":0},{"$f":"کاردکس!ALI747","v":0},{"$f":"کاردکس!ALJ747","v":0},0]

{"sheet":"دانلود فایل های حسابداری","index":11,"n_rows":14,"n_cols":5,"rows_kept":14,"cut":false,"hidden":false,"merged":[[0,4,5,12],[6,4,12,12],[13,4,18,12]]}
[null,null,null,null,"برای دانلود رایگان فایل های حسابداری روی لینک زیر کلیک کنید"]
[]
[]
[]
[]
[]
[null,null,null,null,"www.irhesabdaran.ir"]
[]
[]
[]
[]
[]
[]
[null,null,null,null,"سایت تخصصی دانشجویان و دانش آموزان حسابداری ایران"]